{"text_format":"1","workbook":"xlsx","n_sheets":36,"sheets":["Fehler","Menü","Betrieb","Flächennutzung","Tiere","BüB, BaB","InLeist","InvGetrVieh","KoSteRe","Grundfutteraufteilung","BetriebszweigAuswertung","AuswEinh","BZA1","BZA2","BZA3","BZA4","BZA5","BZA6","BZA7","Grafik1","Grafik2","Maschinen","Gebäude","Dieselverbrauch","Gemeinleistungen","Arbeitszeit","BZweige","Schlüssel","WurzelHDWD","ImportTiere","WurzelFrucht","WurzelTiere","WurzelBZweige","KoSteReWurzel","Tank","AZ_Berechnung"],"not_rendered":{"charts":4,"images":89,"macros":1,"external_links":0,"defined_names":245,"comments":25,"pivot_tables":2},"unopened":[],"bounds":{"document_bytes":16777216,"sheet_cells":100000,"rows_first":2000,"rows_last":500,"rows_between":2000,"halvings":0,"cell_chars":16384,"cell_head_chars":4096},"cells_cut":0,"cells_raw":0,"read":"whole","date_system":"1900"}

{"sheet":"Fehler","index":0,"n_rows":3,"n_cols":3,"rows_kept":3,"cut":false,"hidden":true,"merged":[]}
[]
[]
[null,null,"Bitte Makros aktivieren um mit der Anwendung arbeiten zu können !!!"]

{"sheet":"Menü","index":1,"n_rows":48,"n_cols":16,"rows_kept":48,"cut":false,"hidden":false,"merged":[[7,0,8,0],[2,2,2,5],[3,2,3,5]]}
[]
[null,"Vollkostenauswertung - Arbeitskreis Unternehmensführung"]
[null,null,"Version 2022 (28. Februar 2022)"]
[null,"Fachliche Leitung:  DI Franz Hunger, LK OÖ"]
[null,"EDV Umsetzung: Ing. Christoph Schneiderbauer"]
[]
[]
["Excel-Tabellenblatt-bezeichnung","Arbeitsblätter","Beschreibung"]
[]
["Betrieb","Betrieb","Allgemein Betriebsdaten"]
["Bzweige","Betriebszweige","Auswahl - Festlegung der Hauptkostenstellen"]
["Flächennutzung","Flächennutzung","Angaben zur Flächennutzung"]
["Tiere","Tiere","Eingabe von Tierbestand, Handelsdünger, Wirtschaftsdünger"]
["Grundfutteraufteilung","Grundfutteraufteilung","Aufteilung des Grundfutters (inkl. Silomais) zu den Hauptkostenstellen"]
["BüB, Bab","BÜB +  BAB","Betriebsüberleitungsbogen, Betriebsabrechnungsbogen"]
["InLeist","Innerbetriebliche Leistungen","Eingabe der innerbetrieblichen Leistungen zwischen den Betriebszweigen"]
["InvSelbstGetr","Inventur selbsterzeugtes Getreide","Hilfsblatt zur Errechnung der Mehr-/Minderwerten von selbsterzeugten Getreide"]
["KoSteRe","Kostenstellenrechnung","Kostenarten und Kostenstellenrechnung"]
["BetriebszweigAuswertung","Betriebszweigabrechnung","Kostenstellenrechnung nach Auflösung der Umlagekostenstellen"]
[]
[null,"Auswertungen"]
["AuswEinh","Auswertungseinheiten","Erfassung des Betriebszweigumfanges"]
["BZA1",{"$f":"\" \"& _Zw1","v":" Sonstiges"},"Auswertungsblatt 1",null,false]
["BZA2",{"$f":"\" \"& _Zw2","v":" 0"},"Auswertungsblatt 2",null,false]
["BZA3",{"$f":"\" \"& _Zw3","v":" 0"},"Auswertungsblatt 3",null,false,null,null,null,null,null,null,null,null,null,null,"Aktives Blatt"]
["BZA4",{"$f":"\" \"& _Zw4","v":" 0"},"Auswertungsblatt 4",null,false,null,null,null,null,null,null,null,null,null,null,"Betrieb"]
["BZA5",{"$f":"\" \"& _Zw5","v":" 0"},"Auswertungsblatt 5",null,false,null,null,null,null,null,null,null,null,null,null,"WurzelFrucht"]
["BZA6",{"$f":"\" \"& _Zw6","v":" 0"},"Auswertungsblatt 6",null,false]
["BZA7",{"$f":"\" \"& _Zw7","v":" 0"},"Auswertungsblatt 7",null,false]
["Grafik1","Grafik 1","Leistungen und Kosten der Betriebszweige 1 - 7"]
["Grafik2","Grafik 2","Leistungen und Kosten der Umlagekostenstellen 1 und 2"]
[]
[null,"Hilfsblätter"]
["Maschinen","Maschinen","Inventar Maschinen"]
["Gebäude","Gebäude","Inventar Gebäude"]
["Dieselverbrauch","Dieselverbrauch","Eingabe und Korrektur des Dieselverbrauches und der Verteilung auf die Hauptkostenstellen"]
["Gemeinleistungen","Gemeinleistungen","Gemeinleistungen (z.B.: nicht direkt zuordenbare ÖPUL-Prämien und sonstige Ausgleichzahlungen)"]
["Arbeitszeit","Arbeitszeit","Ermittlung der Arbeitszeit"]
["Grundfutteraufteilung","Grundfutteraufteilung","Aufteilung des Grundfutters (Silomais und Grundfutter ohne Silomais) zu den Hauptkostenstellen"]
["WurzelHDWD","Düngermitteleingabe","Nährstoffgehalte von Handels- und Wirtschaftsdünger - Eingabe für Handelsdünger und Wirtschaftsdünger"]
[]
[null,"Benutzerhinweise"]
[null,"Schrift in blauer Farbe","Link zu einem anderen Tabellenblatt"]
[null,"Weiße Felder","Verknüpfung mit einer Formel bzw. Daten aus einem anderen Tabellenblatt bzw. Berechnungsformel (keine Eingabe)"]
[null,"Gelbe Felder","Drop down Auswahl nötig bzw. möglich"]
[null,"Grüne Felder","Eingabe nötig bzw. möglich",null,null,null,true]
[null,"Goldfarbene Felder","Admineingaben ",null,null,null,false]
[null,"Schlüsselliste"]

{"sheet":"Betrieb","index":2,"n_rows":107,"n_cols":10,"rows_kept":107,"cut":false,"hidden":false,"merged":[[14,1,14,5],[15,1,15,5],[20,1,20,5],[19,1,19,5],[18,1,18,5],[17,1,17,5],[16,1,16,5],[7,2,7,5],[6,2,6,5],[2,2,2,5],[3,2,3,5],[4,2,4,5],[5,2,5,5]]}
["Betriebsdaten",null,null,null,null,"Menü"]
[]
[null,"Vor- und Nachname"]
[null,"Straße und Haus-Nr."]
[null,"PLZ und Ort"]
[null,"Telefon"]
[null,"Mobil"]
[null,"E-Mail"]
[]
[]
[null,"LFBIS",1,null,{"$f":"IF(LEN(LFBISNr)>7,\"Nr. zu lang\",\"\")","v":""},null,{"$f":"IF(WurzelBZweige!$B$187=TRUE,\"brutto\",\"netto\")","v":"brutto"}]
[null,"AK-Nummer",1,null,null,null,{"$f":"IF(WurzelBZweige!$B$183=TRUE,\"konv\",\"bio\")","v":"konv"}]
[]
["Ausgewählte Betriebszweige",null,null,"Betriebszweige auswählen",null,null,null,"Zweigfarbe","TierZweig","IST-Zweigname"]
[1,{"$f":"BZw_1","v":"Sonstiges"},"Sonstiges","Sonstiges","Sonstiges","Sonstiges","Sonstiges",{"$f":"WurzelBZweige!I164","v":3},{"$f":"WurzelBZweige!J164","v":"Ja"},{"$f":"B15","v":"Sonstiges"}]
[2,{"$f":"BZw_2","v":0},0,0,0,0,0,{"$f":"WurzelBZweige!I165","v":0},{"$f":"WurzelBZweige!J165","v":"Nein"},{"$f":"B16","v":0}]
[3,{"$f":"BZw_3","v":0},0,0,0,0,0,{"$f":"WurzelBZweige!I166","v":0},{"$f":"WurzelBZweige!J166","v":"Nein"},0]
[4,{"$f":"BZw_4","v":0},0,0,0,0,0,{"$f":"WurzelBZweige!I167","v":0},{"$f":"WurzelBZweige!J167","v":"Nein"},0]
[5,{"$f":"BZw_5","v":0},0,0,0,0,0,{"$f":"WurzelBZweige!I168","v":0},{"$f":"WurzelBZweige!J168","v":"Nein"},0]
[6,{"$f":"BZw_6","v":0},0,0,0,0,0,{"$f":"WurzelBZweige!I169","v":0},{"$f":"WurzelBZweige!J169","v":"Nein"},0]
[7,{"$f":"BZw_7","v":0},0,0,0,0,0,{"$f":"WurzelBZweige!I170","v":0},{"$f":"WurzelBZweige!J170","v":"Nein"},0]
[]
[null,"Wirtschaftsjahr","Anfang","2021-01-01","Ende","2021-12-31",{"$f":"YEAR(WirtschaftsjahrAnfang)","v":2021}]
[null,null,null,null,null,{"$f":"+WJahrEnde+1","v":"2022-01-01"}]
[null,"Flächen",null,"laut Tabellenblatt \"Flächennutzung\""]
[null,"Ackerfläche",{"$f":"Acker","v":0},"ha"]
[null,null,null,"ha davon gepachtet bzw. zur Nutzung überlassen "]
[null,"Grünland",{"$f":"Grünland","v":0},"ha"]
[null,null,null,"ha davon gepachtet bzw. zur Nutzung überlassen "]
[null,"Landwirtschaftlich genutzte Fläche (LF) ohne Alm"]
[null,null,null,{"$f":"Acker+Grünland","v":0},"ha"]
[null,null,"Hutweiden und Streuwiesen",{"$f":"Flächennutzung!B8","v":0},"ha"]
[null,null,"Eigene Almen, Bergmähder",{"$f":"Flächennutzung!B7","v":0},"ha"]
[null,null,"Alm Fördereinheiten laut AZ Mitteilung",0,"Einheiten"]
[null,"Wald",{"$f":"Wald","v":0},"ha"]
[]
[null,"Erschwernispunkte",null,null,0,"Punkte"]
[]
[null,"Milchproduktion"]
[null,null,"Produzierte Milchmenge",null,"kg"]
[null,null,"Verkaufte Milch",null,"kg"]
[]
[null,null,"davon eigene (ohne Alm A-Quote) ",null,"kg"]
[null,null,"D-Quote zum 31.03. (ohne Almquote)",null,"kg"]
[null,null,"davon eigene (ohne Alm D-Quote) ",null,"kg"]
[]
[null,"Einheitswert laut Einheitswertbescheid"]
[null,null,"Einheitswert Landwirtschaft",0,"inkl. Zuschlag aus öffentlichen Geldern"]
[null,null,"Einheitswert Forstwirtschaft",0]
[null,null,"Tierzuschlag bei Einheitswert",0]
[null,null,null,"Einheitswert Eigenfläche",{"$f":"EinheitswertLN+Einheitswertzuschlag+EinheitswertFW","v":0}]
[null,null,"Ha-Satz landwirtschaftlich genutzte Fläche",0]
[null,null,null,"Errechneter Einheitswert der zugepachten Fläche",{"$f":"(AckerPacht+GrünlandPacht)*HaSatz","v":0}]
[null,null,null,"Einheitswert gesamt (Eigen- und Pachtfläche)",{"$f":"EinheitswertEigenfläche+EHWZupacht","v":0}]
[]
[null,"Quoten, Nutzungsrechte, Dauerkulturen, Geschäfts- bzw. Genossenschaftsanteile"]
[null,null,"A-Quote zum 31.03.",null,"kg"]
[null,null,"Alm- und Weidenutzungsrechte",null,"€"]
[null,null,"Pflanzenbestand Weinbau",null,"€"]
[null,null,"Pflanzenbestand Obstbau",null,"€"]
[null,null,"Geschäfts- bzw. Genossenschaftsanteile","(Ge.-Anteil)",null,"Zuteilung"]
[null,null,"Ge.-Anteil 1",null,"€   BZW"]
[null,null,"Ge.-Anteil 2",null,"€   BZW"]
[null,null,"Ge.-Anteil 3",null,"€   BZW"]
[null,null,"Ge.-Anteil 4",null,"€   Schlüssel","DfL Schlüssel"]
[null,null,"Ge.-Anteil 5",null,"€   Schlüssel"]
[null,null,"Ge.-Anteil 6",null,"€   Schlüssel"]
[]
[null,"Kalkulatorische Wertansätze (für eigene Produktionsfaktoren)"]
[null,"Kalkulationszinssatz",null,3.5000000000000003E-2]
[null,"Lohnansatz (netto - SVB-Beiträge gesondert)",null,12.4,"€/Akh"]
[null,"Wertansatz je kg A-Quote (bei 4% Fett)",null,0,"€/kg "]
[null,"Wertansatz für …"]
[null,"Pachtansatz Ackerfläche",null,0,"€/ha"]
[null,"Pachtansatz Grünlandfläche",null,0,"€/ha"]
[]
[]
[]
[]
[]
[]
[]
["Admineingabe"]
[null,"Bio",null,null,"Prämiensatz"]
[null,"Prämie Grünland und Ackerfutter für Tiere",null,null,225]
[null,"Prämie für Acker ohne Ackerfutter",null,null,230]
[null,"Prämie Grünland und Ackerfutter ohne Tiere",null,null,70]
[null,"UBB"]
[null,"Prämie Grünland und Ackerfutter für Tiere",null,null,45]
[null,"Prämie für Acker ohne Ackerfutter",null,null,45]
[null,"Prämie Grünland und Ackerfutter ohne Tiere",null,null,15]
[null,"Silageverzicht"]
[null,"Prämie Grünland und Ackerfutter für Milch",null,null,150]
[null,"PrämieTiere ohne Milch",null,null,80]
[null,"Düngemittel"]
[null,null,{"$f":"\"Rein N im \"&C104","v":"Rein N im NAC 27"},"in %",0.27]
[null,null,{"$f":"\"Rein P im \"&C105","v":"Rein P im DAP"},"in %",0.46]
[null,null,{"$f":"\"Rein K im \"&C106","v":"Rein K im Kali 60"},"in %",0.6]
[null,null,"Rein N im DAP","in %",0.18]
[null,"EBB"]
[null,"Prämie für Acker ohne Ackerfutter",null,null,60]
[null,"Prämie Grünland und Ackerfutter für Tiere",null,null,60]
[null,"Referenzpreise Düngemittel",null,null,"Rein NPK "]
[null,"N:","NAC 27",null,1.36,"€ / kg"]
[null,"P:","DAP",null,1.23,"€ / kg"]
[null,"K:","Kali 60",null,0.9,"€ / kg"]
[null,null,null,null,"Preisbasis September 2021"]

{"sheet":"Flächennutzung","index":3,"n_rows":148,"n_cols":39,"rows_kept":148,"cut":false,"hidden":false,"merged":[[112,10,112,14],[112,15,112,16],[126,10,126,16]]}
[{"$f":"CONCATENATE(\"Flächennutzungsliste\",\" \",YEAR(WirtschaftsjahrAnfang))","v":"Flächennutzungsliste 2021"},"Zurück",null,null,"Menü"]
[]
[]
["Kulturart","Fläche","Ertragsniveau","Kostenstelle","N-Bedarf","P-Bedarf","K-Bedarf","Acker","Grünland","Wald-fläche","Futterfläche Acker Grünland","Futterfläche Grünland, Acker ohne Silomais","ÖPUL\nΣ Grünland + AF","ÖPUL\nΣ Ackerfläche","Σ Grundfutter","Grundfutter ohne Silomais","Silomais","FF ohne Silomais","Ackerfläche kein Grundfutter","Standard dieselverbrauch","prämienfähige Fläche für Direktzahlungen","AZ \nHeimgutflä.","AZ \nSonstige Fläche","Diesel GF o.SM","TM Silomais"]
[null,"ha","t/ha, Schnitte",null,"kg Rein N/ha","kg Rein P/ha","kg Rein K/ha","ja = 1;\nnein = 0","ja = 1;\nnein = 0","ja = 1;\nnein = 0","ja = 1;\nnein = 0","ja = 1;\nnein = 0","ja = 1;\nnein = 0","ja = 1;\nnein = 0","ja = 1;\nnein = 0","ja = 1;\nnein = 0","ja = 1;\nnein = 0","ja = 1;\nnein = 0","ja = 1;\nnein = 0","Liter / Schlag","ja = 1;\nnein = 0","ja = 1;\nnein = 0","ja = 1;\nnein = 0","ja = 1;\nnein = 0","Σ kg Trockenmasse",null,"Anmerkungen",null,"N/Kultur","P/Kultur","K/Kultur","EBP-ha","AZ \nFutterfläche","AZ \nsonstige Fläche","Acker\nha","Grünland\nha","UBAG/BIO/SilageV Grünland und FF","UBAG/BIO/\nSilageVAcker","Diesel je Kultur"]
["Wald",null,"Standard",null,0,0,0,{"$f":"IF($A6=\"\",\"\",VLOOKUP($A6,Fruchtdaten,COLUMN(W6)-1,FALSE))","v":0},0,1,0,0,0,0,0,0,0,0,0,4,{"$f":"IF($A6=\"\",\"\",VLOOKUP($A6,Fruchtdaten,COLUMN(AM6)-1,FALSE))","v":0},{"$f":"IF($A6=\"\",\"\",VLOOKUP($A6,Fruchtdaten,COLUMN(AJ6)-1,FALSE))","v":0},{"$f":"IF($A6=\"\",\"\",VLOOKUP($A6,Fruchtdaten,COLUMN(AK6)-1,FALSE))","v":0},{"$f":"IF($A6=\"\",\"\",VLOOKUP($A6,Fruchtdaten,COLUMN(AL6)-1,FALSE))","v":0},{"$f":"IF(A6=\"Silomais (FM)\",B6*HLOOKUP(C6,SMErtrag,2,FALSE),IF(A6=\"Silohirse/ -sorghum FM\",B6*HLOOKUP(C6,WurzelFrucht!$B$121:$F$122,2,FALSE),\"\"))","v":""},null,null,null,{"$f":"$B6*E6","v":0},{"$f":"$B6*F6","v":0},{"$f":"$B6*G6","v":0},{"$f":"IF(B6=\"\",0,B6*U6)","v":0},{"$f":"IF(B6=\"\",0,B6*V6)","v":0},{"$f":"IF(B6=\"\",0,B6*W6)","v":0},{"$f":"IF(B6=\"\",0,B6*H6)","v":0},{"$f":"IF(B6=\"\",0,B6*I6)","v":0},{"$f":"IF(B6=\"\",0,M6*B6)","v":0},{"$f":"IF(B6=\"\",0,N6*B6)","v":0},{"$f":"IF(OR(B6=0,B6=\"\"),0,B6*T6)","v":0}]
["Eigene Alm, Bergmähder",null,"Standard",null,0,0,0,{"$f":"IF($A7=\"\",\"\",VLOOKUP($A7,Fruchtdaten,COLUMN(W7)-1,FALSE))","v":0},{"$f":"IF($A7=\"\",\"\",VLOOKUP($A7,Fruchtdaten,COLUMN(X7)-1,FALSE))","v":0},{"$f":"IF($A7=\"\",\"\",VLOOKUP($A7,Fruchtdaten,COLUMN(Y7)-1,FALSE))","v":0},{"$f":"IF($A7=\"\",\"\",VLOOKUP($A7,Fruchtdaten,COLUMN(Z7)-1,FALSE))","v":0},{"$f":"IF($A7=\"\",\"\",VLOOKUP($A7,Fruchtdaten,COLUMN(AA7)-1,FALSE))","v":0},{"$f":"IF($A7=\"\",\"\",VLOOKUP($A7,Fruchtdaten,COLUMN(AB7)-1,FALSE))","v":0},{"$f":"IF($A7=\"\",\"\",VLOOKUP($A7,Fruchtdaten,COLUMN(AC7)-1,FALSE))","v":0},{"$f":"IF($A7=\"\",\"\",VLOOKUP($A7,Fruchtdaten,COLUMN(AD7)-1,FALSE))","v":0},{"$f":"IF($A7=\"\",\"\",VLOOKUP($A7,Fruchtdaten,COLUMN(AE7)-1,FALSE))","v":0},{"$f":"IF($A7=\"\",\"\",VLOOKUP($A7,Fruchtdaten,COLUMN(AF7)-1,FALSE))","v":0},{"$f":"IF($A7=\"\",\"\",VLOOKUP($A7,Fruchtdaten,COLUMN(AG7)-1,FALSE))","v":0},{"$f":"IF($A7=\"\",\"\",VLOOKUP($A7,Fruchtdaten,COLUMN(AH7)-1,FALSE))","v":0},{"$f":"IF($A7=\"\",\"\",VLOOKUP($A7,Fruchtdaten,COLUMN(AI7)-1,FALSE))","v":4},1,0,0,1,{"$f":"IF(A7=\"Silomais (FM)\",B7*HLOOKUP(C7,SMErtrag,2,FALSE),IF(A7=\"Silohirse/ -sorghum FM\",B7*HLOOKUP(C7,WurzelFrucht!$B$121:$F$122,2,FALSE),\"\"))","v":""},null,null,null,{"$f":"$B7*E7","v":0},{"$f":"$B7*F7","v":0},{"$f":"$B7*G7","v":0},{"$f":"IF(B7=\"\",0,B7*U7)","v":0},{"$f":"IF(B7=\"\",0,B7*V7)","v":0},{"$f":"IF(B7=\"\",0,B7*W7)","v":0},{"$f":"IF(B7=\"\",0,B7*H7)","v":0},{"$f":"IF(B7=\"\",0,B7*I7)","v":0},{"$f":"IF(B7=\"\",0,M7*B7)","v":0},{"$f":"IF(B7=\"\",0,N7*B7)","v":0},{"$f":"IF(OR(B7=0,B7=\"\"),0,B7*T7)","v":0}]
["Hutweiden, Streuwiesen",null,"Standard",null,0,0,0,0,0,0,0,0,0,0,0,0,0,0,0,4,1,0,0,1,{"$f":"IF(A8=\"Silomais (FM)\",B8*HLOOKUP(C8,SMErtrag,2,FALSE),IF(A8=\"Silohirse/ -sorghum FM\",B8*HLOOKUP(C8,WurzelFrucht!$B$121:$F$122,2,FALSE),\"\"))","v":""},null,null,null,0,0,0,0,{"$f":"IF(B8=\"\",0,B8*V8)","v":0},0,0,0,0,0,0]
[null,null,null,null,null,null,null,"","","","","","","","","","","","","","","","","",{"$f":"IF(A9=\"Silomais (FM)\",B9*HLOOKUP(C9,SMErtrag,2,FALSE),IF(A9=\"Silohirse/ -sorghum FM\",B9*HLOOKUP(C9,WurzelFrucht!$B$121:$F$122,2,FALSE),\"\"))","v":""},null,null,null,0,0,0,0,{"$f":"IF(B9=\"\",0,B9*V9)","v":0},0,0,0,0,0,0]
[null,null,null,null,null,null,null,"","","","","","","","","","","","","","","","","",{"$f":"IF(A10=\"Silomais (FM)\",B10*HLOOKUP(C10,SMErtrag,2,FALSE),IF(A10=\"Silohirse/ -sorghum FM\",B10*HLOOKUP(C10,WurzelFrucht!$B$121:$F$122,2,FALSE),\"\"))","v":""},null,null,null,0,0,0,0,0,0,0,0,0,0,0]
[null,null,null,null,null,null,null,"","","","","","","","","","","","","","","","","",{"$f":"IF(A11=\"Silomais (FM)\",B11*HLOOKUP(C11,SMErtrag,2,FALSE),IF(A11=\"Silohirse/ -sorghum FM\",B11*HLOOKUP(C11,WurzelFrucht!$B$121:$F$122,2,FALSE),\"\"))","v":""},null,null,null,0,0,0,0,0,0,0,0,0,0,0]
[null,null,null,null,null,null,null,"","","","","","","","","","","","","","","","","",{"$f":"IF(A12=\"Silomais (FM)\",B12*HLOOKUP(C12,SMErtrag,2,FALSE),IF(A12=\"Silohirse/ -sorghum FM\",B12*HLOOKUP(C12,WurzelFrucht!$B$121:$F$122,2,FALSE),\"\"))","v":""},null,null,null,0,0,0,0,0,0,0,0,0,0,0]
[null,null,null,null,null,null,null,"","","","","","","","","","","","","","","","","",{"$f":"IF(A13=\"Silomais (FM)\",B13*HLOOKUP(C13,SMErtrag,2,FALSE),IF(A13=\"Silohirse/ -sorghum FM\",B13*HLOOKUP(C13,WurzelFrucht!$B$121:$F$122,2,FALSE),\"\"))","v":""},null,null,null,0,0,0,0,0,0,0,0,0,0,0]
[null,null,null,null,null,null,null,"","","","","","","","","","","","","","","","","",{"$f":"IF(A14=\"Silomais (FM)\",B14*HLOOKUP(C14,SMErtrag,2,FALSE),IF(A14=\"Silohirse/ -sorghum FM\",B14*HLOOKUP(C14,WurzelFrucht!$B$121:$F$122,2,FALSE),\"\"))","v":""},null,null,null,0,0,0,0,0,0,0,0,0,0,0]
[null,null,null,null,null,null,null,"","","","","","","","","","","","","","","","","",{"$f":"IF(A15=\"Silomais (FM)\",B15*HLOOKUP(C15,SMErtrag,2,FALSE),IF(A15=\"Silohirse/ -sorghum FM\",B15*HLOOKUP(C15,WurzelFrucht!$B$121:$F$122,2,FALSE),\"\"))","v":""},null,null,null,0,0,0,0,0,0,0,0,0,0,0]
[null,null,null,null,null,null,null,"","","","","","","","","","","","","","","","","",{"$f":"IF(A16=\"Silomais (FM)\",B16*HLOOKUP(C16,SMErtrag,2,FALSE),IF(A16=\"Silohirse/ -sorghum FM\",B16*HLOOKUP(C16,WurzelFrucht!$B$121:$F$122,2,FALSE),\"\"))","v":""},null,null,null,{"$f":"$B16*E16","v":0},{"$f":"$B16*F16","v":0},{"$f":"$B16*G16","v":0},0,0,0,0,0,0,0,0]
[null,null,null,null,null,null,null,"","","","","","","","","","","","","","","","","",{"$f":"IF(A17=\"Silomais (FM)\",B17*HLOOKUP(C17,SMErtrag,2,FALSE),IF(A17=\"Silohirse/ -sorghum FM\",B17*HLOOKUP(C17,WurzelFrucht!$B$121:$F$122,2,FALSE),\"\"))","v":""},null,null,null,0,0,0,0,0,0,0,0,0,0,0]
[null,null,null,null,null,null,null,"","","","","","","","","","","","","","","","","",{"$f":"IF(A18=\"Silomais (FM)\",B18*HLOOKUP(C18,SMErtrag,2,FALSE),IF(A18=\"Silohirse/ -sorghum FM\",B18*HLOOKUP(C18,WurzelFrucht!$B$121:$F$122,2,FALSE),\"\"))","v":""},null,null,null,0,0,0,0,0,0,0,0,0,0,0]
[null,null,null,null,null,null,null,"","","","","","","","","","","","","","","","","",{"$f":"IF(A19=\"Silomais (FM)\",B19*HLOOKUP(C19,SMErtrag,2,FALSE),IF(A19=\"Silohirse/ -sorghum FM\",B19*HLOOKUP(C19,WurzelFrucht!$B$121:$F$122,2,FALSE),\"\"))","v":""},null,null,null,0,0,0,0,0,0,0,0,0,0,0]
[null,null,null,null,null,null,null,"","","","","","","","","","","","","","","","","",{"$f":"IF(A20=\"Silomais (FM)\",B20*HLOOKUP(C20,SMErtrag,2,FALSE),IF(A20=\"Silohirse/ -sorghum FM\",B20*HLOOKUP(C20,WurzelFrucht!$B$121:$F$122,2,FALSE),\"\"))","v":""},null,null,null,0,0,0,0,0,0,0,0,0,0,0]
[null,null,null,null,null,null,null,"","","","","","","","","","","","","","","","","",{"$f":"IF(A21=\"Silomais (FM)\",B21*HLOOKUP(C21,SMErtrag,2,FALSE),IF(A21=\"Silohirse/ -sorghum FM\",B21*HLOOKUP(C21,WurzelFrucht!$B$121:$F$122,2,FALSE),\"\"))","v":""},null,null,null,0,0,0,0,0,0,0,0,0,0,0]
[null,null,null,null,null,null,null,"","","","","","","","","","","","","","","","","",{"$f":"IF(A22=\"Silomais (FM)\",B22*HLOOKUP(C22,SMErtrag,2,FALSE),IF(A22=\"Silohirse/ -sorghum FM\",B22*HLOOKUP(C22,WurzelFrucht!$B$121:$F$122,2,FALSE),\"\"))","v":""},null,null,null,0,0,0,0,0,0,0,0,0,0,0]
[null,null,null,null,null,null,null,"","","","","","","","","","","","","","","","","",{"$f":"IF(A23=\"Silomais (FM)\",B23*HLOOKUP(C23,SMErtrag,2,FALSE),IF(A23=\"Silohirse/ -sorghum FM\",B23*HLOOKUP(C23,WurzelFrucht!$B$121:$F$122,2,FALSE),\"\"))","v":""},null,null,null,0,0,0,0,0,0,0,0,0,0,0]
[null,null,null,null,null,null,null,"","","","","","","","","","","","","","","","","",{"$f":"IF(A24=\"Silomais (FM)\",B24*HLOOKUP(C24,SMErtrag,2,FALSE),IF(A24=\"Silohirse/ -sorghum FM\",B24*HLOOKUP(C24,WurzelFrucht!$B$121:$F$122,2,FALSE),\"\"))","v":""},null,null,null,0,0,0,0,0,0,0,0,0,0,0]
[null,null,null,null,null,null,null,"","","","","","","","","","","","","","","","","",{"$f":"IF(A25=\"Silomais (FM)\",B25*HLOOKUP(C25,SMErtrag,2,FALSE),IF(A25=\"Silohirse/ -sorghum FM\",B25*HLOOKUP(C25,WurzelFrucht!$B$121:$F$122,2,FALSE),\"\"))","v":""},null,null,null,0,0,0,0,0,0,0,0,0,0,0]
[null,null,null,null,null,null,null,"","","","","","","","","","","","","","","","","",{"$f":"IF(A26=\"Silomais (FM)\",B26*HLOOKUP(C26,SMErtrag,2,FALSE),IF(A26=\"Silohirse/ -sorghum FM\",B26*HLOOKUP(C26,WurzelFrucht!$B$121:$F$122,2,FALSE),\"\"))","v":""},null,null,null,0,0,0,0,0,0,0,0,0,0,0]
[null,null,null,null,null,null,null,"","","","","","","","","","","","","","","","","",{"$f":"IF(A27=\"Silomais (FM)\",B27*HLOOKUP(C27,SMErtrag,2,FALSE),IF(A27=\"Silohirse/ -sorghum FM\",B27*HLOOKUP(C27,WurzelFrucht!$B$121:$F$122,2,FALSE),\"\"))","v":""},null,null,null,0,0,0,0,0,0,0,0,0,0,0]
[null,null,null,null,null,null,null,"","","","","","","","","","","","","","","","","",{"$f":"IF(A28=\"Silomais (FM)\",B28*HLOOKUP(C28,SMErtrag,2,FALSE),IF(A28=\"Silohirse/ -sorghum FM\",B28*HLOOKUP(C28,WurzelFrucht!$B$121:$F$122,2,FALSE),\"\"))","v":""},null,null,null,0,0,0,0,0,0,0,0,0,0,0]
[null,null,null,null,null,null,null,"","","","","","","","","","","","","","","","","",{"$f":"IF(A29=\"Silomais (FM)\",B29*HLOOKUP(C29,SMErtrag,2,FALSE),IF(A29=\"Silohirse/ -sorghum FM\",B29*HLOOKUP(C29,WurzelFrucht!$B$121:$F$122,2,FALSE),\"\"))","v":""},null,null,null,0,0,0,0,0,0,0,0,0,0,0]
[null,null,null,null,null,null,null,"","","","","","","","","","","","","","","","","",{"$f":"IF(A30=\"Silomais (FM)\",B30*HLOOKUP(C30,SMErtrag,2,FALSE),IF(A30=\"Silohirse/ -sorghum FM\",B30*HLOOKUP(C30,WurzelFrucht!$B$121:$F$122,2,FALSE),\"\"))","v":""},null,null,null,0,0,0,0,0,0,0,0,0,0,0]
[null,null,null,null,null,null,null,"","","","","","","","","","","","","","","","","",{"$f":"IF(A31=\"Silomais (FM)\",B31*HLOOKUP(C31,SMErtrag,2,FALSE),IF(A31=\"Silohirse/ -sorghum FM\",B31*HLOOKUP(C31,WurzelFrucht!$B$121:$F$122,2,FALSE),\"\"))","v":""},null,null,null,0,0,0,0,{"$f":"IF(B31=\"\",0,B31*V31)","v":0},0,0,0,0,0,0]
[null,null,null,null,null,null,null,"","","","","","","","","","","","","","","","","",{"$f":"IF(A32=\"Silomais (FM)\",B32*HLOOKUP(C32,SMErtrag,2,FALSE),IF(A32=\"Silohirse/ -sorghum FM\",B32*HLOOKUP(C32,WurzelFrucht!$B$121:$F$122,2,FALSE),\"\"))","v":""},null,null,null,0,0,0,0,{"$f":"IF(B32=\"\",0,B32*V32)","v":0},0,0,0,0,0,0]
[null,null,null,null,null,null,null,"","","","","","","","","","","","","","","","","",{"$f":"IF(A33=\"Silomais (FM)\",B33*HLOOKUP(C33,SMErtrag,2,FALSE),IF(A33=\"Silohirse/ -sorghum FM\",B33*HLOOKUP(C33,WurzelFrucht!$B$121:$F$122,2,FALSE),\"\"))","v":""},null,null,null,0,0,0,0,{"$f":"IF(B33=\"\",0,B33*V33)","v":0},0,0,0,0,0,0]
[null,null,null,null,null,null,null,"","","","","","","","","","","","","","","","","",{"$f":"IF(A34=\"Silomais (FM)\",B34*HLOOKUP(C34,SMErtrag,2,FALSE),IF(A34=\"Silohirse/ -sorghum FM\",B34*HLOOKUP(C34,WurzelFrucht!$B$121:$F$122,2,FALSE),\"\"))","v":""},null,null,null,0,0,0,0,{"$f":"IF(B34=\"\",0,B34*V34)","v":0},0,0,0,0,0,0]
[null,null,null,null,null,null,null,"","","","","","","","","","","","","","","","","",{"$f":"IF(A35=\"Silomais (FM)\",B35*HLOOKUP(C35,SMErtrag,2,FALSE),IF(A35=\"Silohirse/ -sorghum FM\",B35*HLOOKUP(C35,WurzelFrucht!$B$121:$F$122,2,FALSE),\"\"))","v":""},null,null,null,0,0,0,0,{"$f":"IF(B35=\"\",0,B35*V35)","v":0},0,0,0,0,0,0]
[null,null,null,null,0,0,0,{"$f":"IF($A36=\"\",\"\",VLOOKUP($A36,Fruchtdaten,COLUMN(W36)-1,FALSE))","v":""},{"$f":"IF($A36=\"\",\"\",VLOOKUP($A36,Fruchtdaten,COLUMN(X36)-1,FALSE))","v":""},{"$f":"IF($A36=\"\",\"\",VLOOKUP($A36,Fruchtdaten,COLUMN(Y36)-1,FALSE))","v":""},{"$f":"IF($A36=\"\",\"\",VLOOKUP($A36,Fruchtdaten,COLUMN(Z36)-1,FALSE))","v":""},{"$f":"IF($A36=\"\",\"\",VLOOKUP($A36,Fruchtdaten,COLUMN(AA36)-1,FALSE))","v":""},"","","","","","","","","","","","",{"$f":"IF(A36=\"Silomais (FM)\",B36*HLOOKUP(C36,SMErtrag,2,FALSE),\"\")","v":""},null,null,null,0,0,0,0,{"$f":"IF(B36=\"\",0,B36*V36)","v":0},{"$f":"IF(B36=\"\",0,B36*W36)","v":0},{"$f":"IF(B36=\"\",0,B36*H36)","v":0},{"$f":"IF(B36=\"\",0,B36*I36)","v":0},{"$f":"IF(B36=\"\",0,M36*B36)","v":0},{"$f":"IF(B36=\"\",0,N36*B36)","v":0},0]
[null,null,null,null,0,0,0,"","","","","","","","","","","","","","","","","","",null,null,null,0,0,0,0,0,0,0,0,0,0,0]
[null,null,null,null,0,0,0,"","","","","","","","","","","","","",{"$f":"IF($A38=\"\",\"\",VLOOKUP($A38,Fruchtdaten,COLUMN(AM38)-1,FALSE))","v":""},{"$f":"IF($A38=\"\",\"\",VLOOKUP($A38,Fruchtdaten,COLUMN(AJ38)-1,FALSE))","v":""},{"$f":"IF($A38=\"\",\"\",VLOOKUP($A38,Fruchtdaten,COLUMN(AK38)-1,FALSE))","v":""},{"$f":"IF($A38=\"\",\"\",VLOOKUP($A38,Fruchtdaten,COLUMN(AL38)-1,FALSE))","v":""},"",null,null,null,0,0,0,0,0,0,0,0,0,0,0]
[null,null,null,null,0,0,0,"","","","","",{"$f":"IF($A39=\"\",\"\",VLOOKUP($A39,Fruchtdaten,COLUMN(AB39)-1,FALSE))","v":""},{"$f":"IF($A39=\"\",\"\",VLOOKUP($A39,Fruchtdaten,COLUMN(AC39)-1,FALSE))","v":""},{"$f":"IF($A39=\"\",\"\",VLOOKUP($A39,Fruchtdaten,COLUMN(AD39)-1,FALSE))","v":""},{"$f":"IF($A39=\"\",\"\",VLOOKUP($A39,Fruchtdaten,COLUMN(AE39)-1,FALSE))","v":""},{"$f":"IF($A39=\"\",\"\",VLOOKUP($A39,Fruchtdaten,COLUMN(AF39)-1,FALSE))","v":""},{"$f":"IF($A39=\"\",\"\",VLOOKUP($A39,Fruchtdaten,COLUMN(AG39)-1,FALSE))","v":""},{"$f":"IF($A39=\"\",\"\",VLOOKUP($A39,Fruchtdaten,COLUMN(AH39)-1,FALSE))","v":""},{"$f":"IF($A39=\"\",\"\",VLOOKUP($A39,Fruchtdaten,COLUMN(AI39)-1,FALSE))","v":""},"","","","","",null,null,null,0,0,0,0,0,0,0,0,0,0,0]
[null,null,null,null,0,0,0,"","","","","","","","","","","","","","","","","","",null,null,null,0,0,0,0,0,0,0,0,0,0,0]
[null,null,null,null,0,0,0,"","","","","","","","","","","","","","","","","","",null,null,null,0,0,0,0,0,0,0,0,0,0,0]
[null,null,null,null,0,0,0,"","","","","","","","","","","","","","","","","","",null,null,null,0,0,0,0,0,0,0,0,0,0,0]
[null,null,null,null,0,0,0,"","","","","","","","","","","","","","","","","","",null,null,null,0,0,0,0,0,0,0,0,0,0,0]
[null,null,null,null,0,0,0,"","","","","","","","","","","","","","","","","","",null,null,null,0,0,0,0,0,0,0,0,0,0,0]
[null,null,null,null,0,0,0,"","","","","","","","","","","","","","","","","","",null,null,null,0,0,0,0,0,0,0,0,0,0,0]
[null,null,null,null,0,0,0,"","","","","","","","","","","","","","","","","","",null,null,null,0,0,0,0,0,0,0,0,0,0,0]
[null,null,null,null,0,0,0,"","","","","","","","","","","","","","","","","","",null,null,null,0,0,0,0,0,0,0,0,0,0,0]
[null,null,null,null,0,0,0,"","","","","","","","","","","","","","","","","","",null,null,null,0,0,0,0,0,0,0,0,0,0,0]
[null,null,null,null,0,0,0,"","","","","","","","","","","","","","","","","","",null,null,null,0,0,0,0,0,0,0,0,0,0,0]
[null,null,null,null,0,0,0,"","","","","","","","","","","","","","","","","","",null,null,null,0,0,0,0,0,0,0,0,0,0,0]
[null,null,null,null,0,0,0,"","","","","","","","","","","","","","","","","","",null,null,null,0,0,0,0,0,0,0,0,0,0,0]
[null,null,null,null,0,0,0,"","","","","","","","","","","","","","","","","","",null,null,null,0,0,0,0,0,0,0,0,0,0,0]
[null,null,null,null,0,0,0,"","","","","","","","","","","","","","","","","","",null,null,null,0,0,0,0,0,0,0,0,0,0,0]
[null,null,null,null,0,0,0,"","","","","","","","","","","","","","","","","","",null,null,null,0,0,0,0,0,0,0,0,0,0,0]
[null,null,null,null,0,0,0,"","","","","","","","","","","","","","","","","","",null,null,null,0,0,0,0,0,0,0,0,0,0,0]
[null,null,null,null,0,0,0,"","","","","","","","","","","","","","","","","","",null,null,null,0,0,0,0,0,0,0,0,0,0,0]
[null,null,null,null,0,0,0,"","","","","","","","","","","","","","","","","","",null,null,null,0,0,0,0,0,0,0,0,0,0,0]
[null,null,null,null,0,0,0,"","","","","","","","","","","","","","","","","","",null,null,null,0,0,0,0,0,0,0,0,0,0,0]
[null,null,null,null,0,0,0,"","","","","","","","","","","","","","","","","","",null,null,null,0,0,0,0,0,0,0,0,0,0,0]
[null,null,null,null,0,0,0,"","","","","","","","","","","","","","","","","","",null,null,null,0,0,0,0,0,0,0,0,0,0,0]
[null,null,null,null,0,0,0,"","","","","","","","","","","","","","","","","","",null,null,null,0,0,0,0,0,0,0,0,0,0,0]
[null,null,null,null,0,0,0,"","","","","","","","","","","","","","","","","","",null,null,null,0,0,0,0,{"$f":"IF(B62=\"\",0,B62*V62)","v":0},{"$f":"IF(B62=\"\",0,B62*W62)","v":0},{"$f":"IF(B62=\"\",0,B62*H62)","v":0},{"$f":"IF(B62=\"\",0,B62*I62)","v":0},{"$f":"IF(B62=\"\",0,M62*B62)","v":0},{"$f":"IF(B62=\"\",0,N62*B62)","v":0},0]
[null,null,null,null,0,0,0,"","","","","","","","","","","","","","","","","","",null,null,null,0,0,0,0,0,0,0,0,0,0,0]
[null,null,null,null,0,0,0,"","","","","","","","","","","","","","","","","","",null,null,null,0,0,0,0,0,0,0,0,0,0,0]
[null,null,null,null,0,0,0,"","","","","","","","","","","","","","","","","","",null,null,null,0,0,0,0,0,0,0,0,0,0,0]
[null,null,null,null,0,0,0,"","","","","","","","","","","","","","","","","","",null,null,null,0,0,0,0,0,0,0,0,0,0,0]
[null,null,null,null,0,0,0,"","","","","","","","","","","","","","","","","","",null,null,null,0,0,0,0,0,0,0,0,0,0,0]
[null,null,null,null,0,0,0,"","","","","","","","","","","","","","","","","","",null,null,null,0,0,0,0,0,0,0,0,0,0,0]
[null,null,null,null,0,0,0,"","","","","","","","","","","","","","","","","","",null,null,null,0,0,0,0,0,0,0,0,0,0,0]
[null,null,null,null,0,0,0,"","","","","","","","","","","","","",{"$f":"IF($A70=\"\",\"\",VLOOKUP($A70,Fruchtdaten,COLUMN(AM70)-1,FALSE))","v":""},{"$f":"IF($A70=\"\",\"\",VLOOKUP($A70,Fruchtdaten,COLUMN(AJ70)-1,FALSE))","v":""},{"$f":"IF($A70=\"\",\"\",VLOOKUP($A70,Fruchtdaten,COLUMN(AK70)-1,FALSE))","v":""},{"$f":"IF($A70=\"\",\"\",VLOOKUP($A70,Fruchtdaten,COLUMN(AL70)-1,FALSE))","v":""},"",null,null,null,0,0,0,0,0,0,0,0,0,0,0]
[null,null,null,null,0,0,0,"","","","","",{"$f":"IF($A71=\"\",\"\",VLOOKUP($A71,Fruchtdaten,COLUMN(AB71)-1,FALSE))","v":""},{"$f":"IF($A71=\"\",\"\",VLOOKUP($A71,Fruchtdaten,COLUMN(AC71)-1,FALSE))","v":""},{"$f":"IF($A71=\"\",\"\",VLOOKUP($A71,Fruchtdaten,COLUMN(AD71)-1,FALSE))","v":""},{"$f":"IF($A71=\"\",\"\",VLOOKUP($A71,Fruchtdaten,COLUMN(AE71)-1,FALSE))","v":""},{"$f":"IF($A71=\"\",\"\",VLOOKUP($A71,Fruchtdaten,COLUMN(AF71)-1,FALSE))","v":""},{"$f":"IF($A71=\"\",\"\",VLOOKUP($A71,Fruchtdaten,COLUMN(AG71)-1,FALSE))","v":""},{"$f":"IF($A71=\"\",\"\",VLOOKUP($A71,Fruchtdaten,COLUMN(AH71)-1,FALSE))","v":""},{"$f":"IF($A71=\"\",\"\",VLOOKUP($A71,Fruchtdaten,COLUMN(AI71)-1,FALSE))","v":""},"","","","","",null,null,null,0,0,0,{"$f":"IF(B71=\"\",0,B71*U71)","v":0},0,0,0,0,0,0,{"$f":"IF(OR(B71=0,B71=\"\"),0,B71*T71)","v":0}]
[null,null,null,null,0,0,0,"","","","","","","","","","","","","","","","","","",null,null,null,0,0,0,0,0,0,0,0,0,0,0]
[null,null,null,null,0,0,0,"","","","","","","","","","","","","","","","","","",null,null,null,0,0,0,0,0,0,0,0,0,0,0]
[null,null,null,null,0,0,0,"","","","","","","","","","","","","","","","","","",null,null,null,0,0,0,0,0,0,0,0,0,0,0]
[null,null,null,null,0,0,0,"","","","","","","","","","","","","","","","","","",null,null,null,0,0,0,0,0,0,0,0,0,0,0]
[null,null,null,null,0,0,0,"","","","","","","","","","","","","","","","","","",null,null,null,0,0,0,0,0,0,0,0,0,0,0]
[null,null,null,null,0,0,0,"","","","","","","","","","","","","","","","","","",null,null,null,0,0,0,0,0,0,0,0,0,0,0]
[null,null,null,null,0,0,0,"","","","","","","","","","","","","","","","","","",null,null,null,0,0,0,0,0,0,0,0,0,0,0]
[null,null,null,null,0,0,0,"","","","","","","","","","","","","","","","","","",null,null,null,0,0,0,0,0,0,0,0,0,0,0]
[null,null,null,null,0,0,0,"","","","","","","","","","","","","","","","","","",null,null,null,{"$f":"$B80*E80","v":0},{"$f":"$B80*F80","v":0},{"$f":"$B80*G80","v":0},0,0,0,0,0,0,0,0]
[null,null,null,null,0,0,0,"","","","","","","","","","","","","","","","","","",null,null,null,0,0,0,0,0,0,0,0,0,0,0]
[null,null,null,null,0,0,0,"","","","","","","","","","","","","","","","","","",null,null,null,0,0,0,0,0,0,0,0,0,0,0]
[null,null,null,null,0,0,0,"","","","","","","","","","","","","","","","","","",null,null,null,0,0,0,0,0,0,0,0,0,0,0]
[null,null,null,null,0,0,0,"","","","","","","","","","","","","","","","","","",null,null,null,0,0,0,0,0,0,0,0,0,0,0]
[null,null,null,null,0,0,0,"","","","","","","","","","","","","","","","","","",null,null,null,0,0,0,0,0,0,0,0,0,0,0]
[null,null,null,null,0,0,0,"","","","","","","","","","","","","","","","","","",null,null,null,0,0,0,0,0,0,0,0,0,0,0]
[null,null,null,null,0,0,0,"","","","","","","","","","","","","","","","","","",null,null,null,0,0,0,0,0,0,0,0,0,0,0]
[null,null,null,null,0,0,0,"","","","","","","","","","","","","","","","","","",null,null,null,0,0,0,0,0,0,0,0,0,0,0]
[null,null,null,null,0,0,0,"","","","","","","","","","","","","","","","","","",null,null,null,0,0,0,0,0,0,0,0,0,0,0]
[null,null,null,null,0,0,0,"","","","","","","","","","","","","","","","","","",null,null,null,0,0,0,0,0,0,0,0,0,0,0]
[null,null,null,null,0,0,0,"","","","","","","","","","","","","","","","","","",null,null,null,0,0,0,0,0,0,0,0,0,0,0]
[null,null,null,null,0,0,0,"","","","","","","","","","","","","","","","","","",null,null,null,0,0,0,0,0,0,0,0,0,0,0]
[null,null,null,null,0,0,0,"","","","","","","","","","","","","","","","","","",null,null,null,0,0,0,0,0,0,0,0,0,0,0]
[null,null,null,null,0,0,0,"","","","","","","","","","","","","","","","","","",null,null,null,0,0,0,0,0,0,0,0,0,0,0]
[null,null,null,null,0,0,0,"","","","","","","","","","","","","","","","","","",null,null,null,0,0,0,0,0,0,0,0,0,0,0]
[null,null,null,null,0,0,0,"","","","","","","","","","","","","","","","","","",null,null,null,0,0,0,0,0,0,0,0,0,0,0]
[null,null,null,null,0,0,0,"","","","","","","","","","","","","","","","","","",null,null,null,0,0,0,0,0,0,0,0,0,0,0]
[null,null,null,null,0,0,0,"","","","","","","","","","","","","","","","","","",null,null,null,0,0,0,0,0,0,0,0,0,0,0]
[null,null,null,null,0,0,0,"","","","","","","","","","","","","","","","","","",null,null,null,0,0,0,0,0,0,0,0,0,0,0]
[null,null,null,null,0,0,0,{"$f":"IF($A100=\"\",\"\",VLOOKUP($A100,Fruchtdaten,COLUMN(W100)-1,FALSE))","v":""},{"$f":"IF($A100=\"\",\"\",VLOOKUP($A100,Fruchtdaten,COLUMN(X100)-1,FALSE))","v":""},{"$f":"IF($A100=\"\",\"\",VLOOKUP($A100,Fruchtdaten,COLUMN(Y100)-1,FALSE))","v":""},{"$f":"IF($A100=\"\",\"\",VLOOKUP($A100,Fruchtdaten,COLUMN(Z100)-1,FALSE))","v":""},{"$f":"IF($A100=\"\",\"\",VLOOKUP($A100,Fruchtdaten,COLUMN(AA100)-1,FALSE))","v":""},"","","","","","","","","","","","",{"$f":"IF(A100=\"Silomais (FM)\",B100*HLOOKUP(C100,SMErtrag,2,FALSE),\"\")","v":""},null,null,null,0,0,0,0,0,0,0,0,0,0,0]
[null,null,null,null,0,0,0,"","","","","","","","","","","","","","","","","","",null,null,null,0,0,0,0,0,0,0,0,0,0,0]
[null,null,null,null,0,0,0,"","","","","","","","","","","","","","","","","","",null,null,null,0,0,0,0,0,0,0,0,0,0,0]
[null,null,null,null,0,0,0,"","","","","","","","","","","","","","","","","","",null,null,null,0,0,0,0,0,0,0,0,0,0,0]
[null,null,null,null,0,0,0,"","","","","","","","","","","","","","","","","","",null,null,null,0,0,0,0,0,0,0,0,0,0,0]
[null,null,null,null,0,0,0,"","","","","","","","","","","","","","","","","","",null,null,null,0,0,0,0,0,0,0,0,0,0,0]
[]
["Σ bzw. Σprodukt:",{"$f":"SUM(B8:B105)","v":0},null,null,{"$f":"SUMPRODUCT($B$6:$B$105,E6:E105)","v":0},0,0,0,0,0,0,0,0,0,0,0,0,0,0,{"$f":"SUMPRODUCT(T6:T105,B6:B105)","v":0},0,0,0,null,{"$f":"SUM(Y7:Y105)","v":0}]
[]
[]
[]
[]
[]
[null,null,null,null,null,"Flächenbasierte Schüssel"]
[null,null,null,null,null,null,null,null,null,null,{"$f":"_Zw1","v":"Sonstiges"},{"$f":"_Zw2","v":0},{"$f":"_Zw3","v":0},{"$f":"_Zw4","v":0},{"$f":"_Zw5","v":0},{"$f":"_Zw6","v":0},{"$f":"_Zw7","v":0}]
[]
[null,null,null,null,null,null,null,null,null,"Σ LN",{"$f":"SUMIF($D$7:$D$105,K$114,$B$7:$B$105)","v":0},{"$f":"SUMIF($D$7:$D$105,L$114,$B$7:$B$105)","v":0},0,0,0,0,0,{"$f":"SUM(K116:Q116)","v":0},"ha"]
[null,null,null,null,null,null,null,null,null,"Wald Schlüssel",{"$f":"IF(K$114=0,0,IF(K$114=$D$6,$B$6/Wald,0))","v":0},0,0,0,0,0,0,{"$f":"SUM(K117:Q117)","v":0}]
[null,null,null,null,null,null,null,null,null,"Landwirtschaftliche Nutzfläche Schlüssel",{"$f":"IF($R$116=0,0,K116/$R$116)","v":0},{"$f":"IF($R$116=0,0,L116/$R$116)","v":0},0,0,0,0,0,0]
[null,null,null,null,null,null,null,null,null,"Standarddieselverbrauch Flächen",{"$f":"SUMIF($D$6:$D$105,K$114,$AM$6:$AM$105)","v":0},{"$f":"SUMIF($D$6:$D$105,L$114,$AM$6:$AM$105)","v":0},0,0,0,0,0,{"$f":"SUM(K119:Q119)","v":0},"Liter"]
[null,null,null,null,null,null,null,null,null,"Dieselverbrauch Innen plus MR",{"$f":"Dieselverbrauch!E24","v":0},{"$f":"Dieselverbrauch!F24","v":0},{"$f":"Dieselverbrauch!G24","v":0},{"$f":"Dieselverbrauch!H24","v":0},{"$f":"Dieselverbrauch!I24","v":0},{"$f":"Dieselverbrauch!J24","v":0},{"$f":"Dieselverbrauch!K24","v":0},{"$f":"SUM(K120:Q120)","v":0},"Liter"]
[null,null,null,null,null,null,null,null,null,"Σ Diesel",{"$f":"SUM(K119:K120)","v":0},0,0,0,0,0,0,0,"Liter"]
[null,null,null,null,null,null,null,null,null,"Dieselverbrauch Schlüssel",{"$f":"IF($R$121=0,0,K121/$R$121)","v":0},{"$f":"IF($R$121=0,0,L121/$R$121)","v":0},0,0,0,0,0,0]
[null,null,null,null,null,null,null,null,null,"Standarddieselverbrauch Schlüssel",{"$f":"IF($R$119=0,0,K119/$R$119)","v":0},{"$f":"IF($R$119=0,0,L119/$R$119)","v":0},0,0,0,0,0,0]
[null,null,null,null,null,null,null,null,null,"Flächeneinheitswert",{"$f":"(EinheitswertSumme-Einheitswertzuschlag-EinheitswertFW)*K118+EinheitswertFW*K117","v":0},0,0,0,0,0,0,{"$f":"SUM(K124:Q124)","v":0},"€"]
[null,null,null,null,null,null,null,null,null,"Flächeneinheitswert Schlüssel",{"$f":"IF($R$124=0,0,K124/$R$124)","v":0},{"$f":"IF($R$124=0,0,L124/$R$124)","v":0},0,0,0,0,0,0]
[]
[null,null,null,null,null,null,"Standarddüngerkosten",null,null,null,"Menge"]
[null,null,null,null,null,null,null,null,null,"N:",{"$f":"SUMIF($D$6:$D$105,K$114,$AC$6:$AC$105)","v":0},0,0,0,0,0,0,{"$f":"SUM(K128:Q128)","v":0},"kg rein N",{"$f":"R128*PreisNrein","v":0},"€"]
[null,null,null,null,null,null,null,null,null,"P:",{"$f":"SUMIF($D$6:$D$105,K$114,$AD$6:$AD$105)","v":0},0,0,0,0,0,0,{"$f":"SUM(K129:Q129)","v":0},"kg rein P",{"$f":"R129*PreisPrein","v":0},"€"]
[null,null,null,null,null,null,null,null,null,"K:",{"$f":"SUMIF($D$6:$D$105,K$114,$AE$6:$AE$105)","v":0},0,0,0,0,0,0,{"$f":"SUM(K130:Q130)","v":0},"kg rein K",{"$f":"R130*PreisKrein","v":0},"€"]
[null,null,null,null,null,null,null,null,null,"Wert:",{"$f":"K128*PreisNrein+K129*PreisPrein+K130*PreisKrein","v":0},0,0,0,0,0,0,0,"€",{"$f":"SUM(T128:T130)","v":0},"€"]
[null,null,null,null,null,null,null,null,null,"Standarddüngekosten Schlüssel",{"$f":"IF($T$131=0,0,K131/$T$131)","v":0},{"$f":"IF($T$131=0,0,L131/$T$131)","v":0},0,0,0,0,0,{"$f":"SUM(K132:Q132)","v":0}]
[]
[null,null,null,null,null,null,"Einheitliche Betriebsprämie"]
[null,null,null,null,null,null,null,null,null,"Σ EBP ha",{"$f":"SUMIF($D$6:$D$105,K$114,$AF$6:$AF$105)","v":0},0,0,0,0,0,0,{"$f":"SUM(K135:Q135)","v":0},"ha"]
[null,null,null,null,null,null,null,null,null,"Betriebsprämienfähige Fläche Schlüssel",{"$f":"IF($R$135=0,0,K135/$R$135)","v":0},{"$f":"IF($R$135=0,0,L135/$R$135)","v":0},0,0,0,0,0,{"$f":"SUM(K136:Q136)","v":0}]
[]
[null,null,null,null,null,null,"Az-Schlüssel",null,"AZ-Futterfläche",null,{"$f":"SUMIF($D$6:$D$105,K$114,$AG$6:$AG$105)","v":0},0,0,0,0,0,0,0,{"$f":"SUM(K138:R138)","v":0}]
[null,null,null,null,null,null,null,null,"AZ-sonstige Fläche",null,{"$f":"SUMIF($D$6:$D$105,K$114,$AH$6:$AH$105)","v":0},0,0,0,0,0,0,0,{"$f":"SUM(K139:R139)","v":0}]
[null,null,null,null,null,null,null,null,"Anteil an AZ-Futterfläche",null,{"$f":"IF($S$138=0,0,K138/$S$138)","v":0},{"$f":"IF($S$138=0,0,L138/$S$138)","v":0},0,0,0,0,0,0]
[null,null,null,null,null,null,null,null,"Anteil an sFF",null,{"$f":"IF($S$139=0,0,K139/$S$139)","v":0},{"$f":"IF($S$139=0,0,L139/$S$139)","v":0},0,0,0,0,0,0]
[null,null,null,null,null,null,null,null,"Anteil an AZ Fläche",null,{"$f":"IF(($S$138+$S$139)=0,0,SUM(K138:K139)/SUM($S$138:$S$139))","v":0},{"$f":"IF(($S$138+$S$139)=0,0,SUM(L138:L139)/SUM($S$138:$S$139))","v":0},0,0,0,0,0,0]
[]
[null,null,null,null,null,null,null,null,null,"Acker",{"$f":"SUMIF($D$6:$D$105,K$114,$AI$6:$AI$105)","v":0},0,0,0,0,0,0]
[null,null,null,null,null,null,null,null,null,"Grünland",{"$f":"SUMIF($D$6:$D$105,K$114,$AJ$6:$AJ$105)","v":0},0,0,0,0,0,0]
[null,null,null,null,null,null,null,"Flächen UBAG/BIO/SilageV"]
[null,null,null,null,null,null,null,null,"Grünland + FF",null,{"$f":"SUMIF($D$6:$D$105,K$114,$AK$6:$AK$105)","v":0},0,0,0,0,0,0,{"$f":"SUM(K147:Q147)","v":0}]
[null,null,null,null,null,null,null,null,"Acker + SM",null,{"$f":"SUMIF($D$6:$D$105,K$114,$AL$6:$AL$105)","v":0},0,0,0,0,0,0,{"$f":"SUM(K148:Q148)","v":0}]

{"sheet":"Tiere","index":4,"n_rows":95,"n_cols":36,"rows_kept":95,"cut":false,"hidden":false,"merged":[[39,1,40,1],[39,2,39,4],[60,22,60,23],[1,22,1,25],[1,20,2,20],[1,21,2,21],[50,2,50,3],[1,2,1,4],[1,17,1,19],[55,2,55,3],[54,2,54,3],[57,2,57,3],[56,2,56,3],[51,2,51,3],[52,2,52,3],[53,2,53,3],[1,33,2,33],[82,9,82,15],[1,32,2,32],[1,28,2,28],[1,29,2,29],[1,30,2,30],[1,31,2,31],[1,9,1,15]]}
[{"$f":"CONCATENATE(\"Tierbestandliste\",\" \",YEAR(WirtschaftsjahrAnfang))","v":"Tierbestandliste 2021"},null,null,"Menü",null,null,null,null,null,{"$f":"Betrieb!$I15","v":"Ja"},{"$f":"Betrieb!$I16","v":"Nein"},{"$f":"Betrieb!$I17","v":"Nein"},{"$f":"Betrieb!$I18","v":"Nein"},{"$f":"Betrieb!$I19","v":"Nein"},{"$f":"Betrieb!$I20","v":"Nein"},{"$f":"Betrieb!$I21","v":"Nein"},null,{"$f":"COLUMN()","v":18},null,null,null,null,null,null,null,null,null,null,null,null,null,null,null,".",null,"Anmerkungen"]
[null,"Ø Bestand","Aufteilung in %",null,null,null,null,"%Jahr","%Jahr","Aufteilung in %",null,null,null,null,null,null,null,"N-Anfall (jahreswirksam nach ÖPUL) in kg je Jahr",null,null,"P-Anfall\nkg je Betrieb, Jahr","K-Anfall\nkg je Betrieb, Jahr","WD-Anfall im m³ je Betrieb, Jahr",null,null,null,"RGVE","GVE","Σ Grundfutter-bedarf kg TM","Viehvermögen\nEuro je Betrieb","Bewertungssätze lt. LGB (Euro je Stück)","Σ N","Σ Mist","Milchkühe Stk."]
["siehe auch:\nwww.eama.at \nFlächen/GVE-Rechner","Jahresdurch-schnitt in Stück","Gülle","Mist/ Jauche","Tiefstall mist","davon gealpte Tiere (Stück)","Tage Alpung","daheim","Alm",{"$f":"_Zw1","v":"Sonstiges"},{"$f":"_Zw2","v":0},{"$f":"_Zw3","v":0},{"$f":"_Zw4","v":0},{"$f":"_Zw5","v":0},{"$f":"_Zw6","v":0},{"$f":"_Zw7","v":0},null,"Gülle","Mist/Jauche","Tiefstallmist",null,null,"Gülle","Jauche","Mist","Mist",null,null,null,null,null,null,null,"Kühe"]
[null,null,null,null,null,null,null,{"$f":"1-I4","v":1},{"$f":"IF(OR(B4=0,B4=\"\"),0,(G4*F4)/(365*B4))","v":0},null,null,null,null,null,null,null,{"$f":"IF(SUM(J4:P4)>1,\"!!!\",\"\")","v":""},{"$f":"IF($A4=\"\",\"\",VLOOKUP($A4,Tierdaten,COLUMN()-16,FALSE)*$B4*C4*$H4)","v":""},{"$f":"IF($A4=\"\",\"\",VLOOKUP($A4,Tierdaten,COLUMN()-16,FALSE)*$B4*D4*$H4)","v":""},{"$f":"IF($A4=\"\",\"\",VLOOKUP($A4,Tierdaten,COLUMN()-16,FALSE)*$B4*E4*$H4)","v":""},{"$f":"IF($A4=\"\",\"\",VLOOKUP($A4,Tierdaten,COLUMN()-16,FALSE)*$B4*$H4)","v":""},"",{"$f":"IF($A4=\"\",\"\",VLOOKUP($A4,Tierdaten,COLUMN()-16,FALSE)*$B4*C4*$H4*2)","v":""},{"$f":"IF($A4=\"\",\"\",VLOOKUP($A4,Tierdaten,COLUMN()-16,FALSE)*$B4*D4*$H4*2)","v":""},{"$f":"IF($A4=\"\",\"\",VLOOKUP($A4,Tierdaten,COLUMN()-16,FALSE)*$B4*D4*$H4*2)","v":""},{"$f":"IF($A4=\"\",\"\",VLOOKUP($A4,Tierdaten,COLUMN()-16,FALSE)*$B4*E4*$H4*2)","v":""},{"$f":"IF($A4=\"\",\"\",VLOOKUP($A4,Tierdaten,COLUMN()-16,FALSE)*$B4*$H4)","v":""},"",{"$f":"IF($A4=\"\",\"\",VLOOKUP($A4,Tierdaten,COLUMN()-11,FALSE)*$B4*$H4*365)","v":""},{"$f":"IF($A4=\"\",\"\",VLOOKUP($A4,Tierdaten,COLUMN()-11,FALSE)*$B4)","v":""},{"$f":"IF($A4=\"\",\"\",VLOOKUP($A4,Tierdaten,COLUMN()-12,FALSE))","v":""},{"$f":"SUM(R4:T4)","v":0},{"$f":"SUM(Y4:Z4)","v":0},{"$f":"IF($A4=\"\",\"\",VLOOKUP($A4,Tierdaten,COLUMN()-14,FALSE)*$B4*$H4)","v":""}]
[null,null,null,null,null,null,null,1,0,null,null,null,null,null,null,null,"","","","","","","","","","","","","","","",{"$f":"SUM(R5:T5)","v":0},{"$f":"SUM(Y5:Z5)","v":0},""]
[null,null,null,null,null,null,null,1,0,null,null,null,null,null,null,null,"","","","","","","","","","","","","","","",0,0,""]
[null,null,null,null,null,null,null,1,0,null,null,null,null,null,null,null,"","","","","","","","","","","","","","","",0,0,""]
[null,null,null,null,null,null,null,1,0,null,null,null,null,null,null,null,"","","","","","","","","","","","","","","",0,0,""]
[null,null,null,null,null,null,null,1,0,null,null,null,null,null,null,null,"","","","","","","","","","","","","","","",0,0,""]
[null,null,null,null,null,null,null,1,0,null,null,null,null,null,null,null,"","","","","","","","","","","","","","","",0,0,""]
[null,null,null,null,null,null,null,1,0,null,null,null,null,null,null,null,"","","","","","","","","","","","","","","",0,0,""]
[null,null,null,null,null,null,null,1,0,null,null,null,null,null,null,null,"","","","","","","","","","","","","","","",0,0,""]
[null,null,null,null,null,null,null,1,0,null,null,null,null,null,null,null,"","","","","","","","","","","","","","","",0,0,""]
[null,null,null,null,null,null,null,1,0,null,null,null,null,null,null,null,"","","","","","","","","","","","","","","",0,0,""]
[null,null,null,null,null,null,null,1,0,null,null,null,null,null,null,null,"","","","","","","","","","","","","","","",0,0,""]
[null,null,null,null,null,null,null,1,0,null,null,null,null,null,null,null,"","","","","","","","","","","","","","","",0,0,""]
[null,null,null,null,null,null,null,1,0,null,null,null,null,null,null,null,"","","","","","","","","","","","","","","",0,0,""]
[null,null,null,null,null,null,null,1,0,null,null,null,null,null,null,null,"","","","","","","","","","","","","","","",0,0,""]
[null,null,null,null,null,null,null,1,0,null,null,null,null,null,null,null,"","","","","","","","","","","","","","","",0,0,""]
[null,null,null,null,null,null,null,1,0,null,null,null,null,null,null,null,"","","","","","","","","","","","","","","",0,0,""]
[null,null,null,null,null,null,null,1,0,null,null,null,null,null,null,null,"","","","","","","","","","","","","","","",0,0,""]
[null,null,null,null,null,null,null,1,0,null,null,null,null,null,null,null,"","","","","","","","","","","","","","","",0,0,""]
[null,null,null,null,null,null,null,1,0,null,null,null,null,null,null,null,"","","","","","","","","","","","","","","",0,0,""]
[null,null,null,null,null,null,null,1,0,null,null,null,null,null,null,null,"","","","","","","","","","","","","","","",0,0,""]
[null,null,null,null,null,null,null,1,0,null,null,null,null,null,null,null,"","","","","","","","","","","","","","","",0,0,""]
[null,null,null,null,null,null,null,1,0,null,null,null,null,null,null,null,"","","","","","","","","","","","","","","",0,0,""]
[null,null,null,null,null,null,null,1,0,null,null,null,null,null,null,null,"","","","","","","","","","","","","","","",0,0,""]
[null,null,null,null,null,null,null,1,0,null,null,null,null,null,null,null,"","","","","","","","","","","","","","","",0,0,""]
[null,null,null,null,null,null,null,null,null,{"$f":"IF($A29=\"\",\"\",IF(ISNA(MATCH(J$3,Tierzweige,0))=TRUE,0,\"\"))","v":""},{"$f":"IF($A29=\"\",\"\",IF(ISNA(MATCH(K$3,Tierzweige,0))=TRUE,0,\"\"))","v":""},{"$f":"IF($A29=\"\",\"\",IF(ISNA(MATCH(L$3,Tierzweige,0))=TRUE,0,\"\"))","v":""},{"$f":"IF($A29=\"\",\"\",IF(ISNA(MATCH(M$3,Tierzweige,0))=TRUE,0,\"\"))","v":""},null,null,{"$f":"IF($A29=\"\",\"\",IF(ISNA(MATCH(P$3,Tierzweige,0))=TRUE,0,\"\"))","v":""},null,{"$f":"SUM(R4:R28)","v":0},0,0,0,0,0,0,0,0,0,0,0,0,null,{"$f":"SUM(R29:T29)","v":0},{"$f":"SUM(Y29:Z29)","v":0},{"$f":"SUM(AH4:AH28)","v":0}]
["Σ Mutter- u. Milchkühe + extra Kalbinnen",{"$f":"SUMIF(A12:B28,\"Milchkühe*\",B12:B28)+SUMIF(A12:B28,\"Mutterkühe*\",B12:B28)+SUMIF(A12:B28,\"Kalbinnen über 2 Jahre\",B12:B28)","v":0}]
["Anzahl eingegebener Milchkühe für Kennzahlen je Einheit",{"$f":"SUMIF(A12:B28,\"Milchkühe*\",B12:B28)","v":0},null,null,null,null,null,null,null,null,null,null,null,null,null,null,null,null,{"$f":"SUM(R29:T29)","v":0}]
[null,null,"N","P","K"]
[null,"Nährstoffentzug laut Flächennutzung",{"$f":"T65","v":0},{"$f":"U65","v":0},{"$f":"V65","v":0}]
[null,"Nährstoffanfall aus Tierhaltung",{"$f":"SummeNTier","v":0},{"$f":"SummePTier","v":0},{"$f":"SummeKTier","v":0}]
[null,"Nährstoffe aus Handelsdüngerzukauf",{"$f":"HDüngerN","v":0},{"$f":"HDüngerP","v":0},{"$f":"HDüngerK","v":0}]
[null,"Nährstoffsaldo aus Wirtschaftsdüngerzu-verkauf",{"$f":"S61","v":0},{"$f":"U61","v":0},{"$f":"V61","v":0}]
[null,"Überdeckung/Unterdeckung",{"$f":"SUM(C34:C36)-C33","v":0},{"$f":"SUM(D34:D36)-D33","v":0},{"$f":"SUM(E34:E36)-E33","v":0}]
[null,"Bewertete Wirtschaftsdüngernährstoffe",{"$f":"SummeN","v":0},{"$f":"SummeP","v":0},{"$f":"SummeK","v":0}]
[]
["Handelsdüngerzukauf","Menge in 1000 kg","Nährstoffgehalte Dünger in %"]
["Düngerart",null,"N","P","K",null,null,null,null,null,null,null,null,null,null,null,null,null,null,"Stickstoff","Phosphor","Kali"]
[null,null,{"$f":"IF($A42=\"\",0,VLOOKUP($A42,HDüngerdaten,COLUMN(B42),FALSE))","v":0},0,0,null,null,null,null,null,null,null,null,null,null,null,null,null,null,{"$f":"IF($A42=\"\",\"\",VLOOKUP($A42,HDüngerdaten,COLUMN(B42),FALSE)*$B42*10)","v":""},"",""]
[null,null,0,0,0,null,null,null,null,null,null,null,null,null,null,null,null,null,null,"","",""]
[null,null,0,0,0,null,null,null,null,null,null,null,null,null,null,null,null,null,null,"","",""]
[null,null,0,0,0,null,null,null,null,null,null,null,null,null,null,null,null,null,null,"","",""]
[null,null,0,0,0,null,null,null,null,null,null,null,null,null,null,null,null,null,null,"","",""]
[null,null,0,0,0,null,null,null,null,null,null,null,null,null,null,null,null,null,null,"","",""]
[null,null,0,0,0,null,null,null,null,null,null,null,null,null,null,null,null,null,null,"","",""]
[null,null,null,null,null,null,null,null,null,null,null,null,null,null,null,null,"Nährstoffe aus Handelsdünger",null,null,{"$f":"SUM(T42:T48)","v":0},{"$f":"SUM(U42:U48)","v":0},{"$f":"SUM(V42:V48)","v":0}]
["Zu-, Verkauf von Wirtschaftsdünger"]
["Düngerart","Menge (m³, t)","Zukauf/Verkauf",null,"+/- Menge"]
[null,null,"Zukauf",null,{"$f":"IF(C52=\"Zukauf\",B52*1,IF(C52=\"Verkauf\",B52*(-1),\"\"))","v":0},null,null,null,null,null,null,null,null,null,null,null,null,{"$f":"IF($A52=\"\",\"\",VLOOKUP($A52,Düngerdaten,COLUMN(B52),FALSE)*$E52)","v":""},"","","","","","","",null,null,null,null,null,null,{"$f":"SUM(R52:T52)","v":0},{"$f":"SUM(Y52:Z52)","v":0}]
[null,null,null,null,{"$f":"IF(C53=\"Zukauf\",B53*1,IF(C53=\"Verkauf\",B53*(-1),\"\"))","v":""},null,null,null,null,null,null,null,null,null,null,null,null,"","","","","","","","",null,null,null,null,null,null,0,0]
[null,null,null,null,"",null,null,null,null,null,null,null,null,null,null,null,null,"","","","","","","","",null,null,null,null,null,null,0,0]
[null,null,null,null,"",null,null,null,null,null,null,null,null,null,null,null,null,"","","","","","","","",null,null,null,null,null,null,0,0]
[null,null,null,null,"",null,null,null,null,null,null,null,null,null,null,null,null,"","","","","","","","",null,null,null,null,null,null,0,0]
[null,null,null,null,"",null,null,null,null,null,null,null,null,null,null,null,null,"","","","","","","","",null,null,null,null,null,null,0,0]
[null,null,null,null,"",null,null,null,null,null,null,null,null,null,null,null,null,"","","","","","","","",null,null,null,null,null,null,0,0]
[null,null,null,null,null,null,null,null,null,null,null,null,null,null,null,null,null,{"$f":"SUM(R52:R58)","v":0},{"$f":"SUM(S52:S58)","v":0},{"$f":"SUM(T52:T58)","v":0},{"$f":"SUM(U52:U58)","v":0},{"$f":"SUM(V52:V58)","v":0},{"$f":"SUM(W52:W58)+W29","v":0},{"$f":"SUM(X52:X58)+X29","v":0},{"$f":"SUM(Y52:Y58)+Y29+Z29","v":0},null,null,null,null,null,null,{"$f":"SUM(AF57:AF58)","v":0},{"$f":"SUM(AG57:AG58)","v":0}]
[]
[null,null,null,null,null,null,null,null,null,null,null,null,null,null,null,null,"Nährstoffe aus Wirtschaftsdünger Zu-,Verkauf (kg)",null,{"$f":"SUM(R59:T59)","v":0},null,{"$f":"U59","v":0},{"$f":"V59","v":0},{"$f":"SUM(W59:X59)","v":0},null,{"$f":"Y59","v":0}]
[]
[]
[null,null,null,null,null,null,null,null,null,null,null,null,null,null,null,null,"Betriebssaldo Gesamtnährstofflieferung",null,null,{"$f":"SummeNTier+S61+T49","v":0},{"$f":"SummePTier+U61+U49","v":0},{"$f":"SummeKTier+V61+V49","v":0}]
[null,null,null,null,null,null,null,null,null,null,null,null,null,null,null,null,"Gesamtnährstoffbedarf",null,null,{"$f":"BedarfN","v":0},{"$f":"BedarfP","v":0},{"$f":"BedarfK","v":0}]
[null,null,null,null,null,null,null,null,null,null,null,null,null,null,null,null,null,null,"Minderbewertungsmengen",{"$f":"IF(T65>=T64,0,T64-T65)","v":0},{"$f":"IF(U65>=U64,0,U64-U65)","v":0},{"$f":"IF(V65>=V64,0,V64-V65)","v":0}]
[null,null,null,null,null,null,null,null,null,null,null,null,null,null,null,null,null,null,"Nährstoffverkauf / -abgabe",{"$f":"SUMIF($C$52:$D$58,\"Verkauf\",T$52:T$58)+SUMIF($C$52:$D$58,\"Verkauf\",S$52:S$58)+SUMIF($C$52:$D$58,\"Verkauf\",R$52:R$58)","v":0},{"$f":"SUMIF($C$52:$D$58,\"Verkauf\",U$52:U$58)","v":0},{"$f":"SUMIF($C$52:$D$58,\"Verkauf\",V$52:V$58)","v":0}]
[null,null,null,null,null,null,null,null,null,null,null,null,null,null,null,null,"Betriebssaldo bewertete Nährstoffe",null,null,{"$f":"IF((SummeNTier-T66)<0,0,SummeNTier-T66)","v":0},{"$f":"IF((SummePTier-U66)<0,0,SummePTier-U66)","v":0},{"$f":"IF((SummeKTier-V66)<0,0,SummeKTier-V66)","v":0}]
[]
[]
[null,null,null,"Schlüsselungen",null,null,null,null,null,{"$f":"J3","v":"Sonstiges"},0,0,0,0,0,0]
[null,null,null,null,null,null,"GVE ",null,null,{"$f":"SUMPRODUCT(J4:J28,$AB$4:$AB$28)","v":0},0,0,0,0,0,0,null,{"$f":"SUM(J72:P72)","v":0},"GVE"]
[null,null,null,null,null,null,"GVE Schlüssel",null,null,{"$f":"IF($R$72=0,0,J72/$R$72)","v":0},0,0,0,0,0,0,null,{"$f":"SUM(J73:P73)","v":0}]
[null,null,null,null,null,null,"RGVE",null,null,{"$f":"SUMPRODUCT(J$4:J$28,$AA$4:$AA$28)","v":0},0,0,0,0,0,0,null,{"$f":"SUM(J74:P74)","v":0},"RGVE"]
[null,null,null,null,null,null,"RGVE Schlüssel",null,null,{"$f":"IF($R$74=0,0,J74/$R$74)","v":0},0,0,0,0,0,0,null,{"$f":"SUM(J75:P75)","v":0}]
[null,null,null,null,null,null,"ALM RGVE",null,null,{"$f":"SUMPRODUCT($I$4:$I$28,J$4:J$28,$AA$4:$AA$28)","v":0},0,0,0,0,0,0,null,{"$f":"SUM(J76:P76)","v":0},"Alm RGVE"]
[null,null,null,null,null,null,"Alm RGVE Schlüssel",null,null,{"$f":"IF($R$76=0,0,J76/$R$76)","v":0},0,0,0,0,0,0,null,{"$f":"IF($R$76=0,0,R76/$R$76)","v":0}]
[null,null,null,null,null,null,"Milchkühe",null,null,{"$f":"SUMPRODUCT(J$4:J$28,$AH$4:$AH$28)","v":0},0,0,0,0,0,0,null,{"$f":"SUM(J78:P78)","v":0},"Stück"]
[null,null,null,null,null,null,"Milchkuh Schlüssel",null,null,{"$f":"IF($R$78=0,0,J78/$R$78)","v":0},0,0,0,0,0,0,null,{"$f":"SUM(J79:P79)","v":0}]
[null,null,null,null,null,null,"Grundfutter TM-Bedarf",null,null,{"$f":"SUMPRODUCT(J$4:J$28,$AC$4:$AC$28)","v":0},0,0,0,0,0,0,null,{"$f":"SUM(J80:P80)","v":0},"kg"]
[null,null,null,null,null,null,"GF Bedarf Schlüssel",null,null,{"$f":"IF($R$80=0,0,J80/$R$80)","v":0},0,0,0,0,0,0,null,{"$f":"SUM(J81:P81)","v":0}]
[null,null,null,null,null,"Bestandeswert",null,null,null,{"$f":"IF(WertTiere=0,0,SUMPRODUCT(Tiere!J4:J28,Tiere!$AD$4:$AD$28)/WertTiere)","v":0},{"$f":"IF(WertTiere=0,0,SUMPRODUCT(Tiere!K4:K28,Tiere!$AD$4:$AD$28)/WertTiere)","v":0},{"$f":"IF(WertTiere=0,0,SUMPRODUCT(Tiere!L4:L28,Tiere!$AD$4:$AD$28)/WertTiere)","v":0},{"$f":"IF(WertTiere=0,0,SUMPRODUCT(Tiere!M4:M28,Tiere!$AD$4:$AD$28)/WertTiere)","v":0},{"$f":"IF(WertTiere=0,0,SUMPRODUCT(Tiere!N4:N28,Tiere!$AD$4:$AD$28)/WertTiere)","v":0},{"$f":"IF(WertTiere=0,0,SUMPRODUCT(Tiere!O4:O28,Tiere!$AD$4:$AD$28)/WertTiere)","v":0},{"$f":"IF(WertTiere=0,0,SUMPRODUCT(Tiere!P4:P28,Tiere!$AD$4:$AD$28)/WertTiere)","v":0},null,{"$f":"SUM(J82:P82)","v":0}]
[null,null,null,null,null,null,"Wirtschaftsdüngeraufteilung, -bewertung",null,null,"Menge",null,null,null,null,null,null,null,"Σ Menge","Σ Wert"]
[null,null,null,null,null,null,"N: ",null,null,{"$f":"(SUMPRODUCT(J$4:J$28,$AF$4:$AF$28)*($R$84/SummeNTier))/$R$84","v":{"$error":"#DIV/0!"}},{"$error":"#DIV/0!"},{"$error":"#DIV/0!"},{"$error":"#DIV/0!"},{"$error":"#DIV/0!"},{"$error":"#DIV/0!"},{"$error":"#DIV/0!"},null,{"$f":"SummeNTier-T66+IF(S61<0,S61,0)","v":0},{"$f":"IF(TRUNC(R84*PreisNrein,2)<0,0,TRUNC(R84*PreisNrein,2))","v":0}]
[null,null,null,null,null,null,"P: ",null,null,{"$f":"(SUMPRODUCT(J$4:J$28,$U$4:$U$28)*($R$85/SummePTier))/$R$85","v":{"$error":"#DIV/0!"}},{"$error":"#DIV/0!"},{"$error":"#DIV/0!"},{"$error":"#DIV/0!"},{"$error":"#DIV/0!"},{"$error":"#DIV/0!"},{"$error":"#DIV/0!"},null,{"$f":"SummePTier-U59-U66","v":0},{"$f":"IF(TRUNC(R85*PreisPrein,2)<0,0,TRUNC(R85*PreisPrein,2))","v":0}]
[null,null,null,null,null,null,"K: ",null,null,{"$f":"(SUMPRODUCT(J$4:J$28,$V$4:$V$28)*($R$86/SummeKTier))/$R$86","v":{"$error":"#DIV/0!"}},{"$error":"#DIV/0!"},{"$error":"#DIV/0!"},{"$error":"#DIV/0!"},{"$error":"#DIV/0!"},{"$error":"#DIV/0!"},{"$error":"#DIV/0!"},null,{"$f":"SummeKTier-V59-V66","v":0},{"$f":"IF(TRUNC(R86*PreisKrein,2)<0,0,TRUNC(R86*PreisKrein,2))","v":0}]
[null,null,null,null,null,null,"Wert:",null,null,{"$f":"IF(SUM($S$84:$S$86)=0,0,SUMPRODUCT(J84:J86,$S$84:$S$86))","v":0},0,0,0,0,0,0,null,null,{"$f":"IF(SUM(J87:P87)<=0,0,SUM(J87:P87))","v":0}]
[null,null,null,null,null,null,"Wirtschaftsdüngerwertschlüssel",null,null,{"$f":"IF($S$87=0,0,J87/$S$87)","v":0},0,0,0,0,0,0,null,{"$f":"SUM(J88:P88)","v":0}]
[null,null,null,null,null,null,"Mist:",null,null,{"$f":"SUMPRODUCT(J4:J28,$AG$4:$AG$28)","v":0},0,0,0,0,0,0,null,0,"m³"]
[null,null,null,null,null,null,"Viehvermögen",null,null,{"$f":"SUMPRODUCT(J4:J28,$AD$4:$AD$28)","v":0},0,0,0,0,0,0]
[]
[null,null,null,null,null,null,"Festmist Schlüssel",null,null,{"$f":"IF($R$89=0,0,J89/$R$89)","v":0},0,0,0,0,0,0,null,0,"%"]
[null,null,null,null,null,null,"Jauche:",null,null,{"$f":"SUMPRODUCT(J4:J28,$X$4:$X$28)","v":0},0,0,0,0,0,0,null,0,"m³"]
[null,null,null,null,null,null,"Gülle:",null,null,{"$f":"SUMPRODUCT(J4:J28,$W$4:$W$28)","v":0},0,0,0,0,0,0,null,0,"m³"]
[null,null,null,null,null,null,"Flüssigmist Schlüssel",null,null,{"$f":"IF(SUM($R$93:$R$94)=0,0,(J93+J94)/SUM($R$93:$R$94))","v":0},0,0,0,0,0,0,null,0]

{"sheet":"BüB, BaB","index":5,"n_rows":508,"n_cols":19,"rows_kept":508,"cut":false,"hidden":false,"merged":[[1,3,5,3],[0,4,1,5],[3,6,5,6],[2,11,6,11],[2,8,6,8],[2,9,6,9],[2,10,6,10],[2,4,2,5],[2,16,5,16],[3,15,6,15],[2,12,6,12],[2,13,6,13],[2,14,6,14]]}
[null,"Kontosummen",null,"Menü",null,null,null,null,"Kostenstellen - Betriebszweige",null,null,null,null,null,null,null,"Menü","plausiSummen"]
[null,null,null,"davon \nPrivat /\nNeutral \nbzw.\nAnpassungen\n(z.B. -250)"]
[null,{"$f":"SUMIF($A$8:$A$508,\"E\",$C$8:$C$508)","v":0},null,null,null,null,null,null,{"$f":"_Zw1","v":"Sonstiges"},{"$f":"_Zw2","v":0},{"$f":"_Zw3","v":0},{"$f":"_Zw4","v":0},{"$f":"_Zw5","v":0},{"$f":"_Zw6","v":0},{"$f":"_Zw7","v":0},null,"Fehlbetrag"]
[null,{"$f":"SUMIF($A$8:$A$508,\"A\",$C$8:$C$508)","v":0},null,null,null,null,"Schlüssel",null,null,null,null,null,null,null,null,"Schlüssel"]
[null,{"$f":"B3-B4","v":0}]
[null,"Kontoname","Konto- summe",null,"Leistungs- bzw. Kostenarten- gruppe","Leistungs- bzw. Kostenart",null,"Aufteilungs-\nbetrag",null,null,null,null,null,null,null,null,null,{"$f":"SUM(H8:H508)-SUM(R8:R508)","v":0},"Anmerkungen"]
[null,null,null,null,null,null,null,null,null,null,null,null,null,null,null,"Schlüssel",null,"Summe aufgeteilte Beträge"]
[null,null,null,null,null,null,{"$f":"IF(F8=\"\",\"\",VLOOKUP($F8,WurzelBZweige!$B$6:$AL$116,37,FALSE))","v":""},{"$f":"IF(AND(C8=\"\",D8=\"\"),\"\",C8+D8)","v":""},null,null,null,null,null,null,null,{"$f":"IF(OR(G8=\"\",G8=\"Nein\"),0,H8)","v":0},{"$f":"IF(OR(H8=0,H8=\"\",G8=\"JA\"),\"\",H8-SUM(I8:O8))","v":""},{"$f":"SUM(I8:P8)","v":0}]
[null,null,null,null,null,null,{"$f":"IF(F9=\"\",\"\",VLOOKUP($F9,WurzelBZweige!$B$6:$AL$116,37,FALSE))","v":""},{"$f":"IF(AND(C9=\"\",D9=\"\"),\"\",C9+D9)","v":""},null,null,null,null,null,null,null,{"$f":"IF(OR(G9=\"\",G9=\"Nein\"),0,H9)","v":0},{"$f":"IF(OR(H9=0,H9=\"\",G9=\"JA\"),\"\",H9-SUM(I9:O9))","v":""},{"$f":"SUM(I9:P9)","v":0}]
[null,null,null,null,null,null,{"$f":"IF(F10=\"\",\"\",VLOOKUP($F10,WurzelBZweige!$B$6:$AL$116,37,FALSE))","v":""},"",null,null,null,null,null,null,null,0,"",0]
[null,null,null,null,null,null,{"$f":"IF(F11=\"\",\"\",VLOOKUP($F11,WurzelBZweige!$B$6:$AL$116,37,FALSE))","v":""},"",null,null,null,null,null,null,null,0,"",0]
[null,null,null,null,null,null,{"$f":"IF(F12=\"\",\"\",VLOOKUP($F12,WurzelBZweige!$B$6:$AL$116,37,FALSE))","v":""},"",null,null,null,null,null,null,null,0,"",0]
[null,null,null,null,null,null,{"$f":"IF(F13=\"\",\"\",VLOOKUP($F13,WurzelBZweige!$B$6:$AL$116,37,FALSE))","v":""},"",null,null,null,null,null,null,null,0,{"$f":"IF(OR(H13=0,H13=\"\",G13=\"JA\"),\"\",H13-SUM(I13:O13))","v":""},0]
[null,null,null,null,null,null,{"$f":"IF(F14=\"\",\"\",VLOOKUP($F14,WurzelBZweige!$B$6:$AL$116,37,FALSE))","v":""},"",null,null,null,null,null,null,null,0,"",0]
[null,null,null,null,null,null,{"$f":"IF(F15=\"\",\"\",VLOOKUP($F15,WurzelBZweige!$B$6:$AL$116,37,FALSE))","v":""},"",null,null,null,null,null,null,null,0,"",0]
[null,null,null,null,null,null,{"$f":"IF(F16=\"\",\"\",VLOOKUP($F16,WurzelBZweige!$B$6:$AL$116,37,FALSE))","v":""},"",null,null,null,null,null,null,null,0,"",0]
[null,null,null,null,null,null,{"$f":"IF(F17=\"\",\"\",VLOOKUP($F17,WurzelBZweige!$B$6:$AL$116,37,FALSE))","v":""},"",null,null,null,null,null,null,null,0,"",0]
[null,null,null,null,null,null,{"$f":"IF(F18=\"\",\"\",VLOOKUP($F18,WurzelBZweige!$B$6:$AL$116,37,FALSE))","v":""},"",null,null,null,null,null,null,null,0,"",0]
[null,null,null,null,null,null,{"$f":"IF(F19=\"\",\"\",VLOOKUP($F19,WurzelBZweige!$B$6:$AL$116,37,FALSE))","v":""},"",null,null,null,null,null,null,null,0,"",0]
[null,null,null,null,null,null,{"$f":"IF(F20=\"\",\"\",VLOOKUP($F20,WurzelBZweige!$B$6:$AL$116,37,FALSE))","v":""},"",null,null,null,null,null,null,null,0,"",0]
[null,null,null,null,null,null,{"$f":"IF(F21=\"\",\"\",VLOOKUP($F21,WurzelBZweige!$B$6:$AL$116,37,FALSE))","v":""},"",null,null,null,null,null,null,null,0,"",0]
[null,null,null,null,null,null,{"$f":"IF(F22=\"\",\"\",VLOOKUP($F22,WurzelBZweige!$B$6:$AL$116,37,FALSE))","v":""},"",null,null,null,null,null,null,null,0,"",0]
[null,null,null,null,null,null,{"$f":"IF(F23=\"\",\"\",VLOOKUP($F23,WurzelBZweige!$B$6:$AL$116,37,FALSE))","v":""},"",null,null,null,null,null,null,null,0,"",0]
[null,null,null,null,null,null,{"$f":"IF(F24=\"\",\"\",VLOOKUP($F24,WurzelBZweige!$B$6:$AL$116,37,FALSE))","v":""},"",null,null,null,null,null,null,null,0,"",0]
[null,null,null,null,null,null,{"$f":"IF(F25=\"\",\"\",VLOOKUP($F25,WurzelBZweige!$B$6:$AL$116,37,FALSE))","v":""},"",null,null,null,null,null,null,null,0,"",0]
[null,null,null,null,null,null,{"$f":"IF(F26=\"\",\"\",VLOOKUP($F26,WurzelBZweige!$B$6:$AL$116,37,FALSE))","v":""},"",null,null,null,null,null,null,null,0,"",0]
[null,null,null,null,null,null,{"$f":"IF(F27=\"\",\"\",VLOOKUP($F27,WurzelBZweige!$B$6:$AL$116,37,FALSE))","v":""},"",null,null,null,null,null,null,null,0,"",0]
[null,null,null,null,null,null,{"$f":"IF(F28=\"\",\"\",VLOOKUP($F28,WurzelBZweige!$B$6:$AL$116,37,FALSE))","v":""},"",null,null,null,null,null,null,null,0,"",0]
[null,null,null,null,null,null,{"$f":"IF(F29=\"\",\"\",VLOOKUP($F29,WurzelBZweige!$B$6:$AL$116,37,FALSE))","v":""},"",null,null,null,null,null,null,null,0,"",0]
[null,null,null,null,null,null,{"$f":"IF(F30=\"\",\"\",VLOOKUP($F30,WurzelBZweige!$B$6:$AL$116,37,FALSE))","v":""},"",null,null,null,null,null,null,null,0,"",0]
[null,null,null,null,null,null,{"$f":"IF(F31=\"\",\"\",VLOOKUP($F31,WurzelBZweige!$B$6:$AL$116,37,FALSE))","v":""},"",null,null,null,null,null,null,null,0,"",0]
[null,null,null,null,null,null,{"$f":"IF(F32=\"\",\"\",VLOOKUP($F32,WurzelBZweige!$B$6:$AL$116,37,FALSE))","v":""},"",null,null,null,null,null,null,null,0,"",0]
[null,null,null,null,null,null,{"$f":"IF(F33=\"\",\"\",VLOOKUP($F33,WurzelBZweige!$B$6:$AL$116,37,FALSE))","v":""},"",null,null,null,null,null,null,null,0,"",0]
[null,null,null,null,null,null,{"$f":"IF(F34=\"\",\"\",VLOOKUP($F34,WurzelBZweige!$B$6:$AL$116,37,FALSE))","v":""},"",null,null,null,null,null,null,null,0,"",0]
[null,null,null,null,null,null,{"$f":"IF(F35=\"\",\"\",VLOOKUP($F35,WurzelBZweige!$B$6:$AL$116,37,FALSE))","v":""},"",null,null,null,null,null,null,null,0,"",0]
[null,null,null,null,null,null,{"$f":"IF(F36=\"\",\"\",VLOOKUP($F36,WurzelBZweige!$B$6:$AL$116,37,FALSE))","v":""},"",null,null,null,null,null,null,null,0,"",0]
[null,null,null,null,null,null,{"$f":"IF(F37=\"\",\"\",VLOOKUP($F37,WurzelBZweige!$B$6:$AL$116,37,FALSE))","v":""},"",null,null,null,null,null,null,null,0,"",0]
[null,null,null,null,null,null,{"$f":"IF(F38=\"\",\"\",VLOOKUP($F38,WurzelBZweige!$B$6:$AL$116,37,FALSE))","v":""},"",null,null,null,null,null,null,null,0,"",0]
[null,null,null,null,null,null,{"$f":"IF(F39=\"\",\"\",VLOOKUP($F39,WurzelBZweige!$B$6:$AL$116,37,FALSE))","v":""},"",null,null,null,null,null,null,null,0,"",0]
[null,null,null,null,null,null,{"$f":"IF(F40=\"\",\"\",VLOOKUP($F40,WurzelBZweige!$B$6:$AL$116,37,FALSE))","v":""},"",null,null,null,null,null,null,null,0,"",0]
[null,null,null,null,null,null,{"$f":"IF(F41=\"\",\"\",VLOOKUP($F41,WurzelBZweige!$B$6:$AL$116,37,FALSE))","v":""},"",null,null,null,null,null,null,null,0,"",0]
[null,null,null,null,null,null,{"$f":"IF(F42=\"\",\"\",VLOOKUP($F42,WurzelBZweige!$B$6:$AL$116,37,FALSE))","v":""},"",null,null,null,null,null,null,null,0,"",0]
[null,null,null,null,null,null,{"$f":"IF(F43=\"\",\"\",VLOOKUP($F43,WurzelBZweige!$B$6:$AL$116,37,FALSE))","v":""},"",null,null,null,null,null,null,null,0,"",0]
[null,null,null,null,null,null,{"$f":"IF(F44=\"\",\"\",VLOOKUP($F44,WurzelBZweige!$B$6:$AL$116,37,FALSE))","v":""},"",null,null,null,null,null,null,null,0,"",0]
[null,null,null,null,null,null,{"$f":"IF(F45=\"\",\"\",VLOOKUP($F45,WurzelBZweige!$B$6:$AL$116,37,FALSE))","v":""},"",null,null,null,null,null,null,null,0,"",0]
[null,null,null,null,null,null,{"$f":"IF(F46=\"\",\"\",VLOOKUP($F46,WurzelBZweige!$B$6:$AL$116,37,FALSE))","v":""},"",null,null,null,null,null,null,null,0,"",0]
[null,null,null,null,null,null,{"$f":"IF(F47=\"\",\"\",VLOOKUP($F47,WurzelBZweige!$B$6:$AL$116,37,FALSE))","v":""},"",null,null,null,null,null,null,null,0,"",0]
[null,null,null,null,null,null,{"$f":"IF(F48=\"\",\"\",VLOOKUP($F48,WurzelBZweige!$B$6:$AL$116,37,FALSE))","v":""},"",null,null,null,null,null,null,null,0,"",0]
[null,null,null,null,null,null,{"$f":"IF(F49=\"\",\"\",VLOOKUP($F49,WurzelBZweige!$B$6:$AL$116,37,FALSE))","v":""},"",null,null,null,null,null,null,null,0,"",0]
[null,null,null,null,null,null,{"$f":"IF(F50=\"\",\"\",VLOOKUP($F50,WurzelBZweige!$B$6:$AL$116,37,FALSE))","v":""},"",null,null,null,null,null,null,null,0,"",0]
[null,null,null,null,null,null,{"$f":"IF(F51=\"\",\"\",VLOOKUP($F51,WurzelBZweige!$B$6:$AL$116,37,FALSE))","v":""},"",null,null,null,null,null,null,null,0,"",0]
[null,null,null,null,null,null,{"$f":"IF(F52=\"\",\"\",VLOOKUP($F52,WurzelBZweige!$B$6:$AL$116,37,FALSE))","v":""},{"$f":"IF(AND(C52=\"\",D52=\"\"),\"\",C52+D52)","v":""},null,null,null,null,null,null,null,0,"",0]
[null,null,null,null,null,null,{"$f":"IF(F53=\"\",\"\",VLOOKUP($F53,WurzelBZweige!$B$6:$AL$116,37,FALSE))","v":""},{"$f":"IF(AND(C53=\"\",D53=\"\"),\"\",C53+D53)","v":""},null,null,null,null,null,null,null,0,"",0]
[null,null,null,null,null,null,{"$f":"IF(F54=\"\",\"\",VLOOKUP($F54,WurzelBZweige!$B$6:$AL$116,37,FALSE))","v":""},{"$f":"IF(AND(C54=\"\",D54=\"\"),\"\",C54+D54)","v":""},null,null,null,null,null,null,null,0,"",0]
[null,null,null,null,null,null,{"$f":"IF(F55=\"\",\"\",VLOOKUP($F55,WurzelBZweige!$B$6:$AL$116,37,FALSE))","v":""},{"$f":"IF(AND(C55=\"\",D55=\"\"),\"\",C55+D55)","v":""},null,null,null,null,null,null,null,0,"",0]
[null,null,null,null,null,null,{"$f":"IF(F56=\"\",\"\",VLOOKUP($F56,WurzelBZweige!$B$6:$AL$116,37,FALSE))","v":""},"",null,null,null,null,null,null,null,0,"",0]
[null,null,null,null,null,null,{"$f":"IF(F57=\"\",\"\",VLOOKUP($F57,WurzelBZweige!$B$6:$AL$116,37,FALSE))","v":""},{"$f":"IF(AND(C57=\"\",D57=\"\"),\"\",C57+D57)","v":""},null,null,null,null,null,null,null,0,"",0]
[null,null,null,null,null,null,{"$f":"IF(F58=\"\",\"\",VLOOKUP($F58,WurzelBZweige!$B$6:$AL$116,37,FALSE))","v":""},{"$f":"IF(AND(C58=\"\",D58=\"\"),\"\",C58+D58)","v":""},null,null,null,null,null,null,null,0,"",0]
[null,null,null,null,null,null,{"$f":"IF(F59=\"\",\"\",VLOOKUP($F59,WurzelBZweige!$B$6:$AL$116,37,FALSE))","v":""},{"$f":"IF(AND(C59=\"\",D59=\"\"),\"\",C59+D59)","v":""},null,null,null,null,null,null,null,0,"",0]
[null,null,null,null,null,null,{"$f":"IF(F60=\"\",\"\",VLOOKUP($F60,WurzelBZweige!$B$6:$AL$116,37,FALSE))","v":""},{"$f":"IF(AND(C60=\"\",D60=\"\"),\"\",C60+D60)","v":""},null,null,null,null,null,null,null,0,"",0]
[null,null,null,null,null,null,{"$f":"IF(F61=\"\",\"\",VLOOKUP($F61,WurzelBZweige!$B$6:$AL$116,37,FALSE))","v":""},"",null,null,null,null,null,null,null,0,"",0]
[null,null,null,null,null,null,{"$f":"IF(F62=\"\",\"\",VLOOKUP($F62,WurzelBZweige!$B$6:$AL$116,37,FALSE))","v":""},"",null,null,null,null,null,null,null,0,"",0]
[null,null,null,null,null,null,{"$f":"IF(F63=\"\",\"\",VLOOKUP($F63,WurzelBZweige!$B$6:$AL$116,37,FALSE))","v":""},"",null,null,null,null,null,null,null,0,"",0]
[null,null,null,null,null,null,{"$f":"IF(F64=\"\",\"\",VLOOKUP($F64,WurzelBZweige!$B$6:$AL$116,37,FALSE))","v":""},"",null,null,null,null,null,null,null,0,"",0]
[null,null,null,null,null,null,{"$f":"IF(F65=\"\",\"\",VLOOKUP($F65,WurzelBZweige!$B$6:$AL$116,37,FALSE))","v":""},"",null,null,null,null,null,null,null,0,"",0]
[null,null,null,null,null,null,{"$f":"IF(F66=\"\",\"\",VLOOKUP($F66,WurzelBZweige!$B$6:$AL$116,37,FALSE))","v":""},"",null,null,null,null,null,null,null,0,"",0]
[null,null,null,null,null,null,{"$f":"IF(F67=\"\",\"\",VLOOKUP($F67,WurzelBZweige!$B$6:$AL$116,37,FALSE))","v":""},"",null,null,null,null,null,null,null,0,"",0]
[null,null,null,null,null,null,{"$f":"IF(F68=\"\",\"\",VLOOKUP($F68,WurzelBZweige!$B$6:$AL$116,37,FALSE))","v":""},"",null,null,null,null,null,null,null,0,"",0]
[null,null,null,null,null,null,{"$f":"IF(F69=\"\",\"\",VLOOKUP($F69,WurzelBZweige!$B$6:$AL$116,37,FALSE))","v":""},"",null,null,null,null,null,null,null,0,"",0]
[null,null,null,null,null,null,{"$f":"IF(F70=\"\",\"\",VLOOKUP($F70,WurzelBZweige!$B$6:$AL$116,37,FALSE))","v":""},"",null,null,null,null,null,null,null,0,"",0]
[null,null,null,null,null,null,{"$f":"IF(F71=\"\",\"\",VLOOKUP($F71,WurzelBZweige!$B$6:$AL$116,37,FALSE))","v":""},"",null,null,null,null,null,null,null,0,"",0]
[null,null,null,null,null,null,{"$f":"IF(F72=\"\",\"\",VLOOKUP($F72,WurzelBZweige!$B$6:$AL$116,37,FALSE))","v":""},"",null,null,null,null,null,null,null,0,"",0]
[null,null,null,null,null,null,{"$f":"IF(F73=\"\",\"\",VLOOKUP($F73,WurzelBZweige!$B$6:$AL$116,37,FALSE))","v":""},{"$f":"IF(AND(C73=\"\",D73=\"\"),\"\",C73+D73)","v":""},null,null,null,null,null,null,null,{"$f":"IF(OR(G73=\"\",G73=\"Nein\"),0,H73)","v":0},{"$f":"IF(OR(H73=0,H73=\"\",G73=\"JA\"),\"\",H73-SUM(I73:O73))","v":""},{"$f":"SUM(I73:P73)","v":0}]
[null,null,null,null,null,null,{"$f":"IF(F74=\"\",\"\",VLOOKUP($F74,WurzelBZweige!$B$6:$AL$116,37,FALSE))","v":""},"",null,null,null,null,null,null,null,0,"",0]
[null,null,null,null,null,null,{"$f":"IF(F75=\"\",\"\",VLOOKUP($F75,WurzelBZweige!$B$6:$AL$116,37,FALSE))","v":""},"",null,null,null,null,null,null,null,0,"",0]
[null,null,null,null,null,null,{"$f":"IF(F76=\"\",\"\",VLOOKUP($F76,WurzelBZweige!$B$6:$AL$116,37,FALSE))","v":""},"",null,null,null,null,null,null,null,0,"",0]
[null,null,null,null,null,null,{"$f":"IF(F77=\"\",\"\",VLOOKUP($F77,WurzelBZweige!$B$6:$AL$116,37,FALSE))","v":""},"",null,null,null,null,null,null,null,0,"",0]
[null,null,null,null,null,null,{"$f":"IF(F78=\"\",\"\",VLOOKUP($F78,WurzelBZweige!$B$6:$AL$116,37,FALSE))","v":""},"",null,null,null,null,null,null,null,0,"",0]
[null,null,null,null,null,null,{"$f":"IF(F79=\"\",\"\",VLOOKUP($F79,WurzelBZweige!$B$6:$AL$116,37,FALSE))","v":""},"",null,null,null,null,null,null,null,0,"",0]
[null,null,null,null,null,null,{"$f":"IF(F80=\"\",\"\",VLOOKUP($F80,WurzelBZweige!$B$6:$AL$116,37,FALSE))","v":""},"",null,null,null,null,null,null,null,0,"",0]
[null,null,null,null,null,null,{"$f":"IF(F81=\"\",\"\",VLOOKUP($F81,WurzelBZweige!$B$6:$AL$116,37,FALSE))","v":""},"",null,null,null,null,null,null,null,0,"",0]
[null,null,null,null,null,null,{"$f":"IF(F82=\"\",\"\",VLOOKUP($F82,WurzelBZweige!$B$6:$AL$116,37,FALSE))","v":""},"",null,null,null,null,null,null,null,0,"",0]
[null,null,null,null,null,null,{"$f":"IF(F83=\"\",\"\",VLOOKUP($F83,WurzelBZweige!$B$6:$AL$116,37,FALSE))","v":""},"",null,null,null,null,null,null,null,0,"",0]
[null,null,null,null,null,null,{"$f":"IF(F84=\"\",\"\",VLOOKUP($F84,WurzelBZweige!$B$6:$AL$116,37,FALSE))","v":""},"",null,null,null,null,null,null,null,0,"",0]
[null,null,null,null,null,null,{"$f":"IF(F85=\"\",\"\",VLOOKUP($F85,WurzelBZweige!$B$6:$AL$116,37,FALSE))","v":""},"",null,null,null,null,null,null,null,0,"",0]
[null,null,null,null,null,null,{"$f":"IF(F86=\"\",\"\",VLOOKUP($F86,WurzelBZweige!$B$6:$AL$116,37,FALSE))","v":""},"",null,null,null,null,null,null,null,0,"",0]
[null,null,null,null,null,null,{"$f":"IF(F87=\"\",\"\",VLOOKUP($F87,WurzelBZweige!$B$6:$AL$116,37,FALSE))","v":""},"",null,null,null,null,null,null,null,0,"",0]
[null,null,null,null,null,null,{"$f":"IF(F88=\"\",\"\",VLOOKUP($F88,WurzelBZweige!$B$6:$AL$116,37,FALSE))","v":""},"",null,null,null,null,null,null,null,0,"",0]
[null,null,null,null,null,null,{"$f":"IF(F89=\"\",\"\",VLOOKUP($F89,WurzelBZweige!$B$6:$AL$116,37,FALSE))","v":""},"",null,null,null,null,null,null,null,0,"",0]
[null,null,null,null,null,null,{"$f":"IF(F90=\"\",\"\",VLOOKUP($F90,WurzelBZweige!$B$6:$AL$116,37,FALSE))","v":""},"",null,null,null,null,null,null,null,0,"",0]
[null,null,null,null,null,null,{"$f":"IF(F91=\"\",\"\",VLOOKUP($F91,WurzelBZweige!$B$6:$AL$116,37,FALSE))","v":""},"",null,null,null,null,null,null,null,0,"",0]
[null,null,null,null,null,null,{"$f":"IF(F92=\"\",\"\",VLOOKUP($F92,WurzelBZweige!$B$6:$AL$116,37,FALSE))","v":""},"",null,null,null,null,null,null,null,0,"",0]
[null,null,null,null,null,null,{"$f":"IF(F93=\"\",\"\",VLOOKUP($F93,WurzelBZweige!$B$6:$AL$116,37,FALSE))","v":""},"",null,null,null,null,null,null,null,0,"",0]
[null,null,null,null,null,null,{"$f":"IF(F94=\"\",\"\",VLOOKUP($F94,WurzelBZweige!$B$6:$AL$116,37,FALSE))","v":""},"",null,null,null,null,null,null,null,0,"",0]
[null,null,null,null,null,null,{"$f":"IF(F95=\"\",\"\",VLOOKUP($F95,WurzelBZweige!$B$6:$AL$116,37,FALSE))","v":""},"",null,null,null,null,null,null,null,0,"",0]
[null,null,null,null,null,null,{"$f":"IF(F96=\"\",\"\",VLOOKUP($F96,WurzelBZweige!$B$6:$AL$116,37,FALSE))","v":""},"",null,null,null,null,null,null,null,0,"",0]
[null,null,null,null,null,null,{"$f":"IF(F97=\"\",\"\",VLOOKUP($F97,WurzelBZweige!$B$6:$AL$116,37,FALSE))","v":""},"",null,null,null,null,null,null,null,0,"",0]
[null,null,null,null,null,null,{"$f":"IF(F98=\"\",\"\",VLOOKUP($F98,WurzelBZweige!$B$6:$AL$116,37,FALSE))","v":""},"",null,null,null,null,null,null,null,0,"",0]
[null,null,null,null,null,null,{"$f":"IF(F99=\"\",\"\",VLOOKUP($F99,WurzelBZweige!$B$6:$AL$116,37,FALSE))","v":""},"",null,null,null,null,null,null,null,0,"",0]
[null,null,null,null,null,null,{"$f":"IF(F100=\"\",\"\",VLOOKUP($F100,WurzelBZweige!$B$6:$AL$116,37,FALSE))","v":""},"",null,null,null,null,null,null,null,0,"",0]
[null,null,null,null,null,null,{"$f":"IF(F101=\"\",\"\",VLOOKUP($F101,WurzelBZweige!$B$6:$AL$116,37,FALSE))","v":""},"",null,null,null,null,null,null,null,0,"",0]
[null,null,null,null,null,null,{"$f":"IF(F102=\"\",\"\",VLOOKUP($F102,WurzelBZweige!$B$6:$AL$116,37,FALSE))","v":""},"",null,null,null,null,null,null,null,0,"",0]
[null,null,null,null,null,null,{"$f":"IF(F103=\"\",\"\",VLOOKUP($F103,WurzelBZweige!$B$6:$AL$116,37,FALSE))","v":""},"",null,null,null,null,null,null,null,0,"",0]
[null,null,null,null,null,null,{"$f":"IF(F104=\"\",\"\",VLOOKUP($F104,WurzelBZweige!$B$6:$AL$116,37,FALSE))","v":""},"",null,null,null,null,null,null,null,0,"",0]
[null,null,null,null,null,null,{"$f":"IF(F105=\"\",\"\",VLOOKUP($F105,WurzelBZweige!$B$6:$AL$116,37,FALSE))","v":""},"",null,null,null,null,null,null,null,0,"",0]
[null,null,null,null,null,null,{"$f":"IF(F106=\"\",\"\",VLOOKUP($F106,WurzelBZweige!$B$6:$AL$116,37,FALSE))","v":""},"",null,null,null,null,null,null,null,0,"",0]
[null,null,null,null,null,null,{"$f":"IF(F107=\"\",\"\",VLOOKUP($F107,WurzelBZweige!$B$6:$AL$116,37,FALSE))","v":""},"",null,null,null,null,null,null,null,0,"",0]
[null,null,null,null,null,null,{"$f":"IF(F108=\"\",\"\",VLOOKUP($F108,WurzelBZweige!$B$6:$AL$116,37,FALSE))","v":""},"",null,null,null,null,null,null,null,0,"",0]
[null,null,null,null,null,null,{"$f":"IF(F109=\"\",\"\",VLOOKUP($F109,WurzelBZweige!$B$6:$AL$116,37,FALSE))","v":""},"",null,null,null,null,null,null,null,0,"",0]
[null,null,null,null,null,null,{"$f":"IF(F110=\"\",\"\",VLOOKUP($F110,WurzelBZweige!$B$6:$AL$116,37,FALSE))","v":""},"",null,null,null,null,null,null,null,0,"",0]
[null,null,null,null,null,null,{"$f":"IF(F111=\"\",\"\",VLOOKUP($F111,WurzelBZweige!$B$6:$AL$116,37,FALSE))","v":""},"",null,null,null,null,null,null,null,0,"",0]
[null,null,null,null,null,null,{"$f":"IF(F112=\"\",\"\",VLOOKUP($F112,WurzelBZweige!$B$6:$AL$116,37,FALSE))","v":""},"",null,null,null,null,null,null,null,0,"",0]
[null,null,null,null,null,null,{"$f":"IF(F113=\"\",\"\",VLOOKUP($F113,WurzelBZweige!$B$6:$AL$116,37,FALSE))","v":""},"",null,null,null,null,null,null,null,0,"",0]
[null,null,null,null,null,null,{"$f":"IF(F114=\"\",\"\",VLOOKUP($F114,WurzelBZweige!$B$6:$AL$116,37,FALSE))","v":""},"",null,null,null,null,null,null,null,0,"",0]
[null,null,null,null,null,null,{"$f":"IF(F115=\"\",\"\",VLOOKUP($F115,WurzelBZweige!$B$6:$AL$116,37,FALSE))","v":""},"",null,null,null,null,null,null,null,0,"",0]
[null,null,null,null,null,null,{"$f":"IF(F116=\"\",\"\",VLOOKUP($F116,WurzelBZweige!$B$6:$AL$116,37,FALSE))","v":""},"",null,null,null,null,null,null,null,0,"",0]
[null,null,null,null,null,null,{"$f":"IF(F117=\"\",\"\",VLOOKUP($F117,WurzelBZweige!$B$6:$AL$116,37,FALSE))","v":""},"",null,null,null,null,null,null,null,0,"",0]
[null,null,null,null,null,null,{"$f":"IF(F118=\"\",\"\",VLOOKUP($F118,WurzelBZweige!$B$6:$AL$116,37,FALSE))","v":""},"",null,null,null,null,null,null,null,0,"",0]
[null,null,null,null,null,null,{"$f":"IF(F119=\"\",\"\",VLOOKUP($F119,WurzelBZweige!$B$6:$AL$116,37,FALSE))","v":""},"",null,null,null,null,null,null,null,0,"",0]
[null,null,null,null,null,null,{"$f":"IF(F120=\"\",\"\",VLOOKUP($F120,WurzelBZweige!$B$6:$AL$116,37,FALSE))","v":""},"",null,null,null,null,null,null,null,0,"",0]
[null,null,null,null,null,null,{"$f":"IF(F121=\"\",\"\",VLOOKUP($F121,WurzelBZweige!$B$6:$AL$116,37,FALSE))","v":""},"",null,null,null,null,null,null,null,0,"",0]
[null,null,null,null,null,null,{"$f":"IF(F122=\"\",\"\",VLOOKUP($F122,WurzelBZweige!$B$6:$AL$116,37,FALSE))","v":""},"",null,null,null,null,null,null,null,0,"",0]
[null,null,null,null,null,null,{"$f":"IF(F123=\"\",\"\",VLOOKUP($F123,WurzelBZweige!$B$6:$AL$116,37,FALSE))","v":""},"",null,null,null,null,null,null,null,0,"",0]
[null,null,null,null,null,null,{"$f":"IF(F124=\"\",\"\",VLOOKUP($F124,WurzelBZweige!$B$6:$AL$116,37,FALSE))","v":""},"",null,null,null,null,null,null,null,0,"",0]
[null,null,null,null,null,null,{"$f":"IF(F125=\"\",\"\",VLOOKUP($F125,WurzelBZweige!$B$6:$AL$116,37,FALSE))","v":""},"",null,null,null,null,null,null,null,0,"",0]
[null,null,null,null,null,null,{"$f":"IF(F126=\"\",\"\",VLOOKUP($F126,WurzelBZweige!$B$6:$AL$116,37,FALSE))","v":""},"",null,null,null,null,null,null,null,0,"",0]
[null,null,null,null,null,null,{"$f":"IF(F127=\"\",\"\",VLOOKUP($F127,WurzelBZweige!$B$6:$AL$116,37,FALSE))","v":""},"",null,null,null,null,null,null,null,0,"",0]
[null,null,null,null,null,null,{"$f":"IF(F128=\"\",\"\",VLOOKUP($F128,WurzelBZweige!$B$6:$AL$116,37,FALSE))","v":""},"",null,null,null,null,null,null,null,0,"",0]
[null,null,null,null,null,null,{"$f":"IF(F129=\"\",\"\",VLOOKUP($F129,WurzelBZweige!$B$6:$AL$116,37,FALSE))","v":""},"",null,null,null,null,null,null,null,0,"",0]
[null,null,null,null,null,null,{"$f":"IF(F130=\"\",\"\",VLOOKUP($F130,WurzelBZweige!$B$6:$AL$116,37,FALSE))","v":""},"",null,null,null,null,null,null,null,0,"",0]
[null,null,null,null,null,null,{"$f":"IF(F131=\"\",\"\",VLOOKUP($F131,WurzelBZweige!$B$6:$AL$116,37,FALSE))","v":""},"",null,null,null,null,null,null,null,0,"",0]
[null,null,null,null,null,null,{"$f":"IF(F132=\"\",\"\",VLOOKUP($F132,WurzelBZweige!$B$6:$AL$116,37,FALSE))","v":""},"",null,null,null,null,null,null,null,0,"",0]
[null,null,null,null,null,null,{"$f":"IF(F133=\"\",\"\",VLOOKUP($F133,WurzelBZweige!$B$6:$AL$116,37,FALSE))","v":""},"",null,null,null,null,null,null,null,0,"",0]
[null,null,null,null,null,null,{"$f":"IF(F134=\"\",\"\",VLOOKUP($F134,WurzelBZweige!$B$6:$AL$116,37,FALSE))","v":""},"",null,null,null,null,null,null,null,0,"",0]
[null,null,null,null,null,null,{"$f":"IF(F135=\"\",\"\",VLOOKUP($F135,WurzelBZweige!$B$6:$AL$116,37,FALSE))","v":""},"",null,null,null,null,null,null,null,0,"",0]
[null,null,null,null,null,null,{"$f":"IF(F136=\"\",\"\",VLOOKUP($F136,WurzelBZweige!$B$6:$AL$116,37,FALSE))","v":""},"",null,null,null,null,null,null,null,0,"",0]
[null,null,null,null,null,null,{"$f":"IF(F137=\"\",\"\",VLOOKUP($F137,WurzelBZweige!$B$6:$AL$116,37,FALSE))","v":""},{"$f":"IF(AND(C137=\"\",D137=\"\"),\"\",C137+D137)","v":""},null,null,null,null,null,null,null,{"$f":"IF(OR(G137=\"\",G137=\"Nein\"),0,H137)","v":0},{"$f":"IF(OR(H137=0,H137=\"\",G137=\"JA\"),\"\",H137-SUM(I137:O137))","v":""},{"$f":"SUM(I137:P137)","v":0}]
[null,null,null,null,null,null,{"$f":"IF(F138=\"\",\"\",VLOOKUP($F138,WurzelBZweige!$B$6:$AL$116,37,FALSE))","v":""},"",null,null,null,null,null,null,null,0,"",0]
[null,null,null,null,null,null,{"$f":"IF(F139=\"\",\"\",VLOOKUP($F139,WurzelBZweige!$B$6:$AL$116,37,FALSE))","v":""},"",null,null,null,null,null,null,null,0,"",0]
[null,null,null,null,null,null,{"$f":"IF(F140=\"\",\"\",VLOOKUP($F140,WurzelBZweige!$B$6:$AL$116,37,FALSE))","v":""},"",null,null,null,null,null,null,null,0,"",0]
[null,null,null,null,null,null,{"$f":"IF(F141=\"\",\"\",VLOOKUP($F141,WurzelBZweige!$B$6:$AL$116,37,FALSE))","v":""},"",null,null,null,null,null,null,null,0,"",0]
[null,null,null,null,null,null,{"$f":"IF(F142=\"\",\"\",VLOOKUP($F142,WurzelBZweige!$B$6:$AL$116,37,FALSE))","v":""},"",null,null,null,null,null,null,null,0,"",0]
[null,null,null,null,null,null,{"$f":"IF(F143=\"\",\"\",VLOOKUP($F143,WurzelBZweige!$B$6:$AL$116,37,FALSE))","v":""},"",null,null,null,null,null,null,null,0,"",0]
[null,null,null,null,null,null,{"$f":"IF(F144=\"\",\"\",VLOOKUP($F144,WurzelBZweige!$B$6:$AL$116,37,FALSE))","v":""},"",null,null,null,null,null,null,null,0,"",0]
[null,null,null,null,null,null,{"$f":"IF(F145=\"\",\"\",VLOOKUP($F145,WurzelBZweige!$B$6:$AL$116,37,FALSE))","v":""},"",null,null,null,null,null,null,null,0,"",0]
[null,null,null,null,null,null,{"$f":"IF(F146=\"\",\"\",VLOOKUP($F146,WurzelBZweige!$B$6:$AL$116,37,FALSE))","v":""},"",null,null,null,null,null,null,null,0,"",0]
[null,null,null,null,null,null,{"$f":"IF(F147=\"\",\"\",VLOOKUP($F147,WurzelBZweige!$B$6:$AL$116,37,FALSE))","v":""},"",null,null,null,null,null,null,null,0,"",0]
[null,null,null,null,null,null,{"$f":"IF(F148=\"\",\"\",VLOOKUP($F148,WurzelBZweige!$B$6:$AL$116,37,FALSE))","v":""},"",null,null,null,null,null,null,null,0,"",0]
[null,null,null,null,null,null,{"$f":"IF(F149=\"\",\"\",VLOOKUP($F149,WurzelBZweige!$B$6:$AL$116,37,FALSE))","v":""},"",null,null,null,null,null,null,null,0,"",0]
[null,null,null,null,null,null,{"$f":"IF(F150=\"\",\"\",VLOOKUP($F150,WurzelBZweige!$B$6:$AL$116,37,FALSE))","v":""},"",null,null,null,null,null,null,null,0,"",0]
[null,null,null,null,null,null,{"$f":"IF(F151=\"\",\"\",VLOOKUP($F151,WurzelBZweige!$B$6:$AL$116,37,FALSE))","v":""},"",null,null,null,null,null,null,null,0,"",0]
[null,null,null,null,null,null,{"$f":"IF(F152=\"\",\"\",VLOOKUP($F152,WurzelBZweige!$B$6:$AL$116,37,FALSE))","v":""},"",null,null,null,null,null,null,null,0,"",0]
[null,null,null,null,null,null,{"$f":"IF(F153=\"\",\"\",VLOOKUP($F153,WurzelBZweige!$B$6:$AL$116,37,FALSE))","v":""},"",null,null,null,null,null,null,null,0,"",0]
[null,null,null,null,null,null,{"$f":"IF(F154=\"\",\"\",VLOOKUP($F154,WurzelBZweige!$B$6:$AL$116,37,FALSE))","v":""},"",null,null,null,null,null,null,null,0,"",0]
[null,null,null,null,null,null,{"$f":"IF(F155=\"\",\"\",VLOOKUP($F155,WurzelBZweige!$B$6:$AL$116,37,FALSE))","v":""},"",null,null,null,null,null,null,null,0,"",0]
[null,null,null,null,null,null,{"$f":"IF(F156=\"\",\"\",VLOOKUP($F156,WurzelBZweige!$B$6:$AL$116,37,FALSE))","v":""},"",null,null,null,null,null,null,null,0,"",0]
[null,null,null,null,null,null,{"$f":"IF(F157=\"\",\"\",VLOOKUP($F157,WurzelBZweige!$B$6:$AL$116,37,FALSE))","v":""},"",null,null,null,null,null,null,null,0,"",0]
[null,null,null,null,null,null,{"$f":"IF(F158=\"\",\"\",VLOOKUP($F158,WurzelBZweige!$B$6:$AL$116,37,FALSE))","v":""},"",null,null,null,null,null,null,null,0,"",0]
[null,null,null,null,null,null,{"$f":"IF(F159=\"\",\"\",VLOOKUP($F159,WurzelBZweige!$B$6:$AL$116,37,FALSE))","v":""},"",null,null,null,null,null,null,null,0,"",0]
[null,null,null,null,null,null,{"$f":"IF(F160=\"\",\"\",VLOOKUP($F160,WurzelBZweige!$B$6:$AL$116,37,FALSE))","v":""},"",null,null,null,null,null,null,null,0,"",0]
[null,null,null,null,null,null,{"$f":"IF(F161=\"\",\"\",VLOOKUP($F161,WurzelBZweige!$B$6:$AL$116,37,FALSE))","v":""},"",null,null,null,null,null,null,null,0,"",0]
[null,null,null,null,null,null,{"$f":"IF(F162=\"\",\"\",VLOOKUP($F162,WurzelBZweige!$B$6:$AL$116,37,FALSE))","v":""},"",null,null,null,null,null,null,null,0,"",0]
[null,null,null,null,null,null,{"$f":"IF(F163=\"\",\"\",VLOOKUP($F163,WurzelBZweige!$B$6:$AL$116,37,FALSE))","v":""},"",null,null,null,null,null,null,null,0,"",0]
[null,null,null,null,null,null,{"$f":"IF(F164=\"\",\"\",VLOOKUP($F164,WurzelBZweige!$B$6:$AL$116,37,FALSE))","v":""},"",null,null,null,null,null,null,null,0,"",0]
[null,null,null,null,null,null,{"$f":"IF(F165=\"\",\"\",VLOOKUP($F165,WurzelBZweige!$B$6:$AL$116,37,FALSE))","v":""},"",null,null,null,null,null,null,null,0,"",0]
[null,null,null,null,null,null,{"$f":"IF(F166=\"\",\"\",VLOOKUP($F166,WurzelBZweige!$B$6:$AL$116,37,FALSE))","v":""},"",null,null,null,null,null,null,null,0,"",0]
[null,null,null,null,null,null,{"$f":"IF(F167=\"\",\"\",VLOOKUP($F167,WurzelBZweige!$B$6:$AL$116,37,FALSE))","v":""},"",null,null,null,null,null,null,null,0,"",0]
[null,null,null,null,null,null,{"$f":"IF(F168=\"\",\"\",VLOOKUP($F168,WurzelBZweige!$B$6:$AL$116,37,FALSE))","v":""},"",null,null,null,null,null,null,null,0,"",0]
[null,null,null,null,null,null,{"$f":"IF(F169=\"\",\"\",VLOOKUP($F169,WurzelBZweige!$B$6:$AL$116,37,FALSE))","v":""},"",null,null,null,null,null,null,null,0,"",0]
[null,null,null,null,null,null,{"$f":"IF(F170=\"\",\"\",VLOOKUP($F170,WurzelBZweige!$B$6:$AL$116,37,FALSE))","v":""},"",null,null,null,null,null,null,null,0,"",0]
[null,null,null,null,null,null,{"$f":"IF(F171=\"\",\"\",VLOOKUP($F171,WurzelBZweige!$B$6:$AL$116,37,FALSE))","v":""},"",null,null,null,null,null,null,null,0,"",0]
[null,null,null,null,null,null,{"$f":"IF(F172=\"\",\"\",VLOOKUP($F172,WurzelBZweige!$B$6:$AL$116,37,FALSE))","v":""},"",null,null,null,null,null,null,null,0,"",0]
[null,null,null,null,null,null,{"$f":"IF(F173=\"\",\"\",VLOOKUP($F173,WurzelBZweige!$B$6:$AL$116,37,FALSE))","v":""},"",null,null,null,null,null,null,null,0,"",0]
[null,null,null,null,null,null,{"$f":"IF(F174=\"\",\"\",VLOOKUP($F174,WurzelBZweige!$B$6:$AL$116,37,FALSE))","v":""},"",null,null,null,null,null,null,null,0,"",0]
[null,null,null,null,null,null,{"$f":"IF(F175=\"\",\"\",VLOOKUP($F175,WurzelBZweige!$B$6:$AL$116,37,FALSE))","v":""},"",null,null,null,null,null,null,null,0,"",0]
[null,null,null,null,null,null,{"$f":"IF(F176=\"\",\"\",VLOOKUP($F176,WurzelBZweige!$B$6:$AL$116,37,FALSE))","v":""},"",null,null,null,null,null,null,null,0,"",0]
[null,null,null,null,null,null,{"$f":"IF(F177=\"\",\"\",VLOOKUP($F177,WurzelBZweige!$B$6:$AL$116,37,FALSE))","v":""},"",null,null,null,null,null,null,null,0,"",0]
[null,null,null,null,null,null,{"$f":"IF(F178=\"\",\"\",VLOOKUP($F178,WurzelBZweige!$B$6:$AL$116,37,FALSE))","v":""},"",null,null,null,null,null,null,null,0,"",0]
[null,null,null,null,null,null,{"$f":"IF(F179=\"\",\"\",VLOOKUP($F179,WurzelBZweige!$B$6:$AL$116,37,FALSE))","v":""},"",null,null,null,null,null,null,null,0,"",0]
[null,null,null,null,null,null,{"$f":"IF(F180=\"\",\"\",VLOOKUP($F180,WurzelBZweige!$B$6:$AL$116,37,FALSE))","v":""},"",null,null,null,null,null,null,null,0,"",0]
[null,null,null,null,null,null,{"$f":"IF(F181=\"\",\"\",VLOOKUP($F181,WurzelBZweige!$B$6:$AL$116,37,FALSE))","v":""},"",null,null,null,null,null,null,null,0,"",0]
[null,null,null,null,null,null,{"$f":"IF(F182=\"\",\"\",VLOOKUP($F182,WurzelBZweige!$B$6:$AL$116,37,FALSE))","v":""},"",null,null,null,null,null,null,null,0,"",0]
[null,null,null,null,null,null,{"$f":"IF(F183=\"\",\"\",VLOOKUP($F183,WurzelBZweige!$B$6:$AL$116,37,FALSE))","v":""},"",null,null,null,null,null,null,null,0,"",0]
[null,null,null,null,null,null,{"$f":"IF(F184=\"\",\"\",VLOOKUP($F184,WurzelBZweige!$B$6:$AL$116,37,FALSE))","v":""},"",null,null,null,null,null,null,null,0,"",0]
[null,null,null,null,null,null,{"$f":"IF(F185=\"\",\"\",VLOOKUP($F185,WurzelBZweige!$B$6:$AL$116,37,FALSE))","v":""},"",null,null,null,null,null,null,null,0,"",0]
[null,null,null,null,null,null,{"$f":"IF(F186=\"\",\"\",VLOOKUP($F186,WurzelBZweige!$B$6:$AL$116,37,FALSE))","v":""},"",null,null,null,null,null,null,null,0,"",0]
[null,null,null,null,null,null,{"$f":"IF(F187=\"\",\"\",VLOOKUP($F187,WurzelBZweige!$B$6:$AL$116,37,FALSE))","v":""},"",null,null,null,null,null,null,null,0,"",0]
[null,null,null,null,null,null,{"$f":"IF(F188=\"\",\"\",VLOOKUP($F188,WurzelBZweige!$B$6:$AL$116,37,FALSE))","v":""},"",null,null,null,null,null,null,null,0,"",0]
[null,null,null,null,null,null,{"$f":"IF(F189=\"\",\"\",VLOOKUP($F189,WurzelBZweige!$B$6:$AL$116,37,FALSE))","v":""},"",null,null,null,null,null,null,null,0,"",0]
[null,null,null,null,null,null,{"$f":"IF(F190=\"\",\"\",VLOOKUP($F190,WurzelBZweige!$B$6:$AL$116,37,FALSE))","v":""},"",null,null,null,null,null,null,null,0,"",0]
[null,null,null,null,null,null,{"$f":"IF(F191=\"\",\"\",VLOOKUP($F191,WurzelBZweige!$B$6:$AL$116,37,FALSE))","v":""},"",null,null,null,null,null,null,null,0,"",0]
[null,null,null,null,null,null,{"$f":"IF(F192=\"\",\"\",VLOOKUP($F192,WurzelBZweige!$B$6:$AL$116,37,FALSE))","v":""},"",null,null,null,null,null,null,null,0,"",0]
[null,null,null,null,null,null,{"$f":"IF(F193=\"\",\"\",VLOOKUP($F193,WurzelBZweige!$B$6:$AL$116,37,FALSE))","v":""},"",null,null,null,null,null,null,null,0,"",0]
[null,null,null,null,null,null,{"$f":"IF(F194=\"\",\"\",VLOOKUP($F194,WurzelBZweige!$B$6:$AL$116,37,FALSE))","v":""},"",null,null,null,null,null,null,null,0,"",0]
[null,null,null,null,null,null,{"$f":"IF(F195=\"\",\"\",VLOOKUP($F195,WurzelBZweige!$B$6:$AL$116,37,FALSE))","v":""},"",null,null,null,null,null,null,null,0,"",0]
[null,null,null,null,null,null,{"$f":"IF(F196=\"\",\"\",VLOOKUP($F196,WurzelBZweige!$B$6:$AL$116,37,FALSE))","v":""},"",null,null,null,null,null,null,null,0,"",0]
[null,null,null,null,null,null,{"$f":"IF(F197=\"\",\"\",VLOOKUP($F197,WurzelBZweige!$B$6:$AL$116,37,FALSE))","v":""},"",null,null,null,null,null,null,null,0,"",0]
[null,null,null,null,null,null,{"$f":"IF(F198=\"\",\"\",VLOOKUP($F198,WurzelBZweige!$B$6:$AL$116,37,FALSE))","v":""},"",null,null,null,null,null,null,null,0,"",0]
[null,null,null,null,null,null,{"$f":"IF(F199=\"\",\"\",VLOOKUP($F199,WurzelBZweige!$B$6:$AL$116,37,FALSE))","v":""},"",null,null,null,null,null,null,null,0,"",0]
[null,null,null,null,null,null,{"$f":"IF(F200=\"\",\"\",VLOOKUP($F200,WurzelBZweige!$B$6:$AL$116,37,FALSE))","v":""},"",null,null,null,null,null,null,null,0,"",0]
[null,null,null,null,null,null,{"$f":"IF(F201=\"\",\"\",VLOOKUP($F201,WurzelBZweige!$B$6:$AL$116,37,FALSE))","v":""},{"$f":"IF(AND(C201=\"\",D201=\"\"),\"\",C201+D201)","v":""},null,null,null,null,null,null,null,{"$f":"IF(OR(G201=\"\",G201=\"Nein\"),0,H201)","v":0},{"$f":"IF(OR(H201=0,H201=\"\",G201=\"JA\"),\"\",H201-SUM(I201:O201))","v":""},{"$f":"SUM(I201:P201)","v":0}]
[null,null,null,null,null,null,{"$f":"IF(F202=\"\",\"\",VLOOKUP($F202,WurzelBZweige!$B$6:$AL$116,37,FALSE))","v":""},"",null,null,null,null,null,null,null,0,"",0]
[null,null,null,null,null,null,{"$f":"IF(F203=\"\",\"\",VLOOKUP($F203,WurzelBZweige!$B$6:$AL$116,37,FALSE))","v":""},"",null,null,null,null,null,null,null,0,"",0]
[null,null,null,null,null,null,{"$f":"IF(F204=\"\",\"\",VLOOKUP($F204,WurzelBZweige!$B$6:$AL$116,37,FALSE))","v":""},"",null,null,null,null,null,null,null,0,"",0]
[null,null,null,null,null,null,{"$f":"IF(F205=\"\",\"\",VLOOKUP($F205,WurzelBZweige!$B$6:$AL$116,37,FALSE))","v":""},"",null,null,null,null,null,null,null,0,"",0]
[null,null,null,null,null,null,{"$f":"IF(F206=\"\",\"\",VLOOKUP($F206,WurzelBZweige!$B$6:$AL$116,37,FALSE))","v":""},"",null,null,null,null,null,null,null,0,"",0]
[null,null,null,null,null,null,{"$f":"IF(F207=\"\",\"\",VLOOKUP($F207,WurzelBZweige!$B$6:$AL$116,37,FALSE))","v":""},"",null,null,null,null,null,null,null,0,"",0]
[null,null,null,null,null,null,{"$f":"IF(F208=\"\",\"\",VLOOKUP($F208,WurzelBZweige!$B$6:$AL$116,37,FALSE))","v":""},"",null,null,null,null,null,null,null,0,"",0]
[null,null,null,null,null,null,{"$f":"IF(F209=\"\",\"\",VLOOKUP($F209,WurzelBZweige!$B$6:$AL$116,37,FALSE))","v":""},"",null,null,null,null,null,null,null,0,"",0]
[null,null,null,null,null,null,{"$f":"IF(F210=\"\",\"\",VLOOKUP($F210,WurzelBZweige!$B$6:$AL$116,37,FALSE))","v":""},"",null,null,null,null,null,null,null,0,"",0]
[null,null,null,null,null,null,{"$f":"IF(F211=\"\",\"\",VLOOKUP($F211,WurzelBZweige!$B$6:$AL$116,37,FALSE))","v":""},"",null,null,null,null,null,null,null,0,"",0]
[null,null,null,null,null,null,{"$f":"IF(F212=\"\",\"\",VLOOKUP($F212,WurzelBZweige!$B$6:$AL$116,37,FALSE))","v":""},"",null,null,null,null,null,null,null,0,"",0]
[null,null,null,null,null,null,{"$f":"IF(F213=\"\",\"\",VLOOKUP($F213,WurzelBZweige!$B$6:$AL$116,37,FALSE))","v":""},"",null,null,null,null,null,null,null,0,"",0]
[null,null,null,null,null,null,{"$f":"IF(F214=\"\",\"\",VLOOKUP($F214,WurzelBZweige!$B$6:$AL$116,37,FALSE))","v":""},"",null,null,null,null,null,null,null,0,"",0]
[null,null,null,null,null,null,{"$f":"IF(F215=\"\",\"\",VLOOKUP($F215,WurzelBZweige!$B$6:$AL$116,37,FALSE))","v":""},"",null,null,null,null,null,null,null,0,"",0]
[null,null,null,null,null,null,{"$f":"IF(F216=\"\",\"\",VLOOKUP($F216,WurzelBZweige!$B$6:$AL$116,37,FALSE))","v":""},"",null,null,null,null,null,null,null,0,"",0]
[null,null,null,null,null,null,{"$f":"IF(F217=\"\",\"\",VLOOKUP($F217,WurzelBZweige!$B$6:$AL$116,37,FALSE))","v":""},"",null,null,null,null,null,null,null,0,"",0]
[null,null,null,null,null,null,{"$f":"IF(F218=\"\",\"\",VLOOKUP($F218,WurzelBZweige!$B$6:$AL$116,37,FALSE))","v":""},"",null,null,null,null,null,null,null,0,"",0]
[null,null,null,null,null,null,{"$f":"IF(F219=\"\",\"\",VLOOKUP($F219,WurzelBZweige!$B$6:$AL$116,37,FALSE))","v":""},"",null,null,null,null,null,null,null,0,"",0]
[null,null,null,null,null,null,{"$f":"IF(F220=\"\",\"\",VLOOKUP($F220,WurzelBZweige!$B$6:$AL$116,37,FALSE))","v":""},"",null,null,null,null,null,null,null,0,"",0]
[null,null,null,null,null,null,{"$f":"IF(F221=\"\",\"\",VLOOKUP($F221,WurzelBZweige!$B$6:$AL$116,37,FALSE))","v":""},"",null,null,null,null,null,null,null,0,"",0]
[null,null,null,null,null,null,{"$f":"IF(F222=\"\",\"\",VLOOKUP($F222,WurzelBZweige!$B$6:$AL$116,37,FALSE))","v":""},"",null,null,null,null,null,null,null,0,"",0]
[null,null,null,null,null,null,{"$f":"IF(F223=\"\",\"\",VLOOKUP($F223,WurzelBZweige!$B$6:$AL$116,37,FALSE))","v":""},"",null,null,null,null,null,null,null,0,"",0]
[null,null,null,null,null,null,{"$f":"IF(F224=\"\",\"\",VLOOKUP($F224,WurzelBZweige!$B$6:$AL$116,37,FALSE))","v":""},"",null,null,null,null,null,null,null,0,"",0]
[null,null,null,null,null,null,{"$f":"IF(F225=\"\",\"\",VLOOKUP($F225,WurzelBZweige!$B$6:$AL$116,37,FALSE))","v":""},"",null,null,null,null,null,null,null,0,"",0]
[null,null,null,null,null,null,{"$f":"IF(F226=\"\",\"\",VLOOKUP($F226,WurzelBZweige!$B$6:$AL$116,37,FALSE))","v":""},"",null,null,null,null,null,null,null,0,"",0]
[null,null,null,null,null,null,{"$f":"IF(F227=\"\",\"\",VLOOKUP($F227,WurzelBZweige!$B$6:$AL$116,37,FALSE))","v":""},"",null,null,null,null,null,null,null,0,"",0]
[null,null,null,null,null,null,{"$f":"IF(F228=\"\",\"\",VLOOKUP($F228,WurzelBZweige!$B$6:$AL$116,37,FALSE))","v":""},"",null,null,null,null,null,null,null,0,"",0]
[null,null,null,null,null,null,{"$f":"IF(F229=\"\",\"\",VLOOKUP($F229,WurzelBZweige!$B$6:$AL$116,37,FALSE))","v":""},"",null,null,null,null,null,null,null,0,"",0]
[null,null,null,null,null,null,{"$f":"IF(F230=\"\",\"\",VLOOKUP($F230,WurzelBZweige!$B$6:$AL$116,37,FALSE))","v":""},"",null,null,null,null,null,null,null,0,"",0]
[null,null,null,null,null,null,{"$f":"IF(F231=\"\",\"\",VLOOKUP($F231,WurzelBZweige!$B$6:$AL$116,37,FALSE))","v":""},"",null,null,null,null,null,null,null,0,"",0]
[null,null,null,null,null,null,{"$f":"IF(F232=\"\",\"\",VLOOKUP($F232,WurzelBZweige!$B$6:$AL$116,37,FALSE))","v":""},"",null,null,null,null,null,null,null,0,"",0]
[null,null,null,null,null,null,{"$f":"IF(F233=\"\",\"\",VLOOKUP($F233,WurzelBZweige!$B$6:$AL$116,37,FALSE))","v":""},"",null,null,null,null,null,null,null,0,"",0]
[null,null,null,null,null,null,{"$f":"IF(F234=\"\",\"\",VLOOKUP($F234,WurzelBZweige!$B$6:$AL$116,37,FALSE))","v":""},"",null,null,null,null,null,null,null,0,"",0]
[null,null,null,null,null,null,{"$f":"IF(F235=\"\",\"\",VLOOKUP($F235,WurzelBZweige!$B$6:$AL$116,37,FALSE))","v":""},"",null,null,null,null,null,null,null,0,"",0]
[null,null,null,null,null,null,{"$f":"IF(F236=\"\",\"\",VLOOKUP($F236,WurzelBZweige!$B$6:$AL$116,37,FALSE))","v":""},"",null,null,null,null,null,null,null,0,"",0]
[null,null,null,null,null,null,{"$f":"IF(F237=\"\",\"\",VLOOKUP($F237,WurzelBZweige!$B$6:$AL$116,37,FALSE))","v":""},"",null,null,null,null,null,null,null,0,"",0]
[null,null,null,null,null,null,{"$f":"IF(F238=\"\",\"\",VLOOKUP($F238,WurzelBZweige!$B$6:$AL$116,37,FALSE))","v":""},"",null,null,null,null,null,null,null,0,"",0]
[null,null,null,null,null,null,{"$f":"IF(F239=\"\",\"\",VLOOKUP($F239,WurzelBZweige!$B$6:$AL$116,37,FALSE))","v":""},"",null,null,null,null,null,null,null,0,"",0]
[null,null,null,null,null,null,{"$f":"IF(F240=\"\",\"\",VLOOKUP($F240,WurzelBZweige!$B$6:$AL$116,37,FALSE))","v":""},"",null,null,null,null,null,null,null,0,"",0]
[null,null,null,null,null,null,{"$f":"IF(F241=\"\",\"\",VLOOKUP($F241,WurzelBZweige!$B$6:$AL$116,37,FALSE))","v":""},"",null,null,null,null,null,null,null,0,"",0]
[null,null,null,null,null,null,{"$f":"IF(F242=\"\",\"\",VLOOKUP($F242,WurzelBZweige!$B$6:$AL$116,37,FALSE))","v":""},"",null,null,null,null,null,null,null,0,"",0]
[null,null,null,null,null,null,{"$f":"IF(F243=\"\",\"\",VLOOKUP($F243,WurzelBZweige!$B$6:$AL$116,37,FALSE))","v":""},"",null,null,null,null,null,null,null,0,"",0]
[null,null,null,null,null,null,{"$f":"IF(F244=\"\",\"\",VLOOKUP($F244,WurzelBZweige!$B$6:$AL$116,37,FALSE))","v":""},"",null,null,null,null,null,null,null,0,"",0]
[null,null,null,null,null,null,{"$f":"IF(F245=\"\",\"\",VLOOKUP($F245,WurzelBZweige!$B$6:$AL$116,37,FALSE))","v":""},"",null,null,null,null,null,null,null,0,"",0]
[null,null,null,null,null,null,{"$f":"IF(F246=\"\",\"\",VLOOKUP($F246,WurzelBZweige!$B$6:$AL$116,37,FALSE))","v":""},"",null,null,null,null,null,null,null,0,"",0]
[null,null,null,null,null,null,{"$f":"IF(F247=\"\",\"\",VLOOKUP($F247,WurzelBZweige!$B$6:$AL$116,37,FALSE))","v":""},"",null,null,null,null,null,null,null,0,"",0]
[null,null,null,null,null,null,{"$f":"IF(F248=\"\",\"\",VLOOKUP($F248,WurzelBZweige!$B$6:$AL$116,37,FALSE))","v":""},"",null,null,null,null,null,null,null,0,"",0]
[null,null,null,null,null,null,{"$f":"IF(F249=\"\",\"\",VLOOKUP($F249,WurzelBZweige!$B$6:$AL$116,37,FALSE))","v":""},"",null,null,null,null,null,null,null,0,"",0]
[null,null,null,null,null,null,{"$f":"IF(F250=\"\",\"\",VLOOKUP($F250,WurzelBZweige!$B$6:$AL$116,37,FALSE))","v":""},"",null,null,null,null,null,null,null,0,"",0]
[null,null,null,null,null,null,{"$f":"IF(F251=\"\",\"\",VLOOKUP($F251,WurzelBZweige!$B$6:$AL$116,37,FALSE))","v":""},"",null,null,null,null,null,null,null,0,"",0]
[null,null,null,null,null,null,{"$f":"IF(F252=\"\",\"\",VLOOKUP($F252,WurzelBZweige!$B$6:$AL$116,37,FALSE))","v":""},"",null,null,null,null,null,null,null,0,"",0]
[null,null,null,null,null,null,{"$f":"IF(F253=\"\",\"\",VLOOKUP($F253,WurzelBZweige!$B$6:$AL$116,37,FALSE))","v":""},"",null,null,null,null,null,null,null,0,"",0]
[null,null,null,null,null,null,{"$f":"IF(F254=\"\",\"\",VLOOKUP($F254,WurzelBZweige!$B$6:$AL$116,37,FALSE))","v":""},"",null,null,null,null,null,null,null,0,"",0]
[null,null,null,null,null,null,{"$f":"IF(F255=\"\",\"\",VLOOKUP($F255,WurzelBZweige!$B$6:$AL$116,37,FALSE))","v":""},"",null,null,null,null,null,null,null,0,"",0]
[null,null,null,null,null,null,{"$f":"IF(F256=\"\",\"\",VLOOKUP($F256,WurzelBZweige!$B$6:$AL$116,37,FALSE))","v":""},"",null,null,null,null,null,null,null,0,"",0]
[null,null,null,null,null,null,{"$f":"IF(F257=\"\",\"\",VLOOKUP($F257,WurzelBZweige!$B$6:$AL$116,37,FALSE))","v":""},"",null,null,null,null,null,null,null,0,"",0]
[null,null,null,null,null,null,{"$f":"IF(F258=\"\",\"\",VLOOKUP($F258,WurzelBZweige!$B$6:$AL$116,37,FALSE))","v":""},"",null,null,null,null,null,null,null,0,"",0]
[null,null,null,null,null,null,{"$f":"IF(F259=\"\",\"\",VLOOKUP($F259,WurzelBZweige!$B$6:$AL$116,37,FALSE))","v":""},"",null,null,null,null,null,null,null,0,"",0]
[null,null,null,null,null,null,{"$f":"IF(F260=\"\",\"\",VLOOKUP($F260,WurzelBZweige!$B$6:$AL$116,37,FALSE))","v":""},"",null,null,null,null,null,null,null,0,"",0]
[null,null,null,null,null,null,{"$f":"IF(F261=\"\",\"\",VLOOKUP($F261,WurzelBZweige!$B$6:$AL$116,37,FALSE))","v":""},"",null,null,null,null,null,null,null,0,"",0]
[null,null,null,null,null,null,{"$f":"IF(F262=\"\",\"\",VLOOKUP($F262,WurzelBZweige!$B$6:$AL$116,37,FALSE))","v":""},"",null,null,null,null,null,null,null,0,"",0]
[null,null,null,null,null,null,{"$f":"IF(F263=\"\",\"\",VLOOKUP($F263,WurzelBZweige!$B$6:$AL$116,37,FALSE))","v":""},"",null,null,null,null,null,null,null,0,"",0]
[null,null,null,null,null,null,{"$f":"IF(F264=\"\",\"\",VLOOKUP($F264,WurzelBZweige!$B$6:$AL$116,37,FALSE))","v":""},"",null,null,null,null,null,null,null,0,"",0]
[null,null,null,null,null,null,{"$f":"IF(F265=\"\",\"\",VLOOKUP($F265,WurzelBZweige!$B$6:$AL$116,37,FALSE))","v":""},{"$f":"IF(AND(C265=\"\",D265=\"\"),\"\",C265+D265)","v":""},null,null,null,null,null,null,null,{"$f":"IF(OR(G265=\"\",G265=\"Nein\"),0,H265)","v":0},{"$f":"IF(OR(H265=0,H265=\"\",G265=\"JA\"),\"\",H265-SUM(I265:O265))","v":""},{"$f":"SUM(I265:P265)","v":0}]
[null,null,null,null,null,null,{"$f":"IF(F266=\"\",\"\",VLOOKUP($F266,WurzelBZweige!$B$6:$AL$116,37,FALSE))","v":""},"",null,null,null,null,null,null,null,0,"",0]
[null,null,null,null,null,null,{"$f":"IF(F267=\"\",\"\",VLOOKUP($F267,WurzelBZweige!$B$6:$AL$116,37,FALSE))","v":""},"",null,null,null,null,null,null,null,0,"",0]
[null,null,null,null,null,null,{"$f":"IF(F268=\"\",\"\",VLOOKUP($F268,WurzelBZweige!$B$6:$AL$116,37,FALSE))","v":""},"",null,null,null,null,null,null,null,0,"",0]
[null,null,null,null,null,null,{"$f":"IF(F269=\"\",\"\",VLOOKUP($F269,WurzelBZweige!$B$6:$AL$116,37,FALSE))","v":""},"",null,null,null,null,null,null,null,0,"",0]
[null,null,null,null,null,null,{"$f":"IF(F270=\"\",\"\",VLOOKUP($F270,WurzelBZweige!$B$6:$AL$116,37,FALSE))","v":""},"",null,null,null,null,null,null,null,0,"",0]
[null,null,null,null,null,null,{"$f":"IF(F271=\"\",\"\",VLOOKUP($F271,WurzelBZweige!$B$6:$AL$116,37,FALSE))","v":""},"",null,null,null,null,null,null,null,0,"",0]
[null,null,null,null,null,null,{"$f":"IF(F272=\"\",\"\",VLOOKUP($F272,WurzelBZweige!$B$6:$AL$116,37,FALSE))","v":""},"",null,null,null,null,null,null,null,0,"",0]
[null,null,null,null,null,null,{"$f":"IF(F273=\"\",\"\",VLOOKUP($F273,WurzelBZweige!$B$6:$AL$116,37,FALSE))","v":""},"",null,null,null,null,null,null,null,0,"",0]
[null,null,null,null,null,null,{"$f":"IF(F274=\"\",\"\",VLOOKUP($F274,WurzelBZweige!$B$6:$AL$116,37,FALSE))","v":""},"",null,null,null,null,null,null,null,0,"",0]
[null,null,null,null,null,null,{"$f":"IF(F275=\"\",\"\",VLOOKUP($F275,WurzelBZweige!$B$6:$AL$116,37,FALSE))","v":""},"",null,null,null,null,null,null,null,0,"",0]
[null,null,null,null,null,null,{"$f":"IF(F276=\"\",\"\",VLOOKUP($F276,WurzelBZweige!$B$6:$AL$116,37,FALSE))","v":""},"",null,null,null,null,null,null,null,0,"",0]
[null,null,null,null,null,null,{"$f":"IF(F277=\"\",\"\",VLOOKUP($F277,WurzelBZweige!$B$6:$AL$116,37,FALSE))","v":""},"",null,null,null,null,null,null,null,0,"",0]
[null,null,null,null,null,null,{"$f":"IF(F278=\"\",\"\",VLOOKUP($F278,WurzelBZweige!$B$6:$AL$116,37,FALSE))","v":""},"",null,null,null,null,null,null,null,0,"",0]
[null,null,null,null,null,null,{"$f":"IF(F279=\"\",\"\",VLOOKUP($F279,WurzelBZweige!$B$6:$AL$116,37,FALSE))","v":""},"",null,null,null,null,null,null,null,0,"",0]
[null,null,null,null,null,null,{"$f":"IF(F280=\"\",\"\",VLOOKUP($F280,WurzelBZweige!$B$6:$AL$116,37,FALSE))","v":""},"",null,null,null,null,null,null,null,0,"",0]
[null,null,null,null,null,null,{"$f":"IF(F281=\"\",\"\",VLOOKUP($F281,WurzelBZweige!$B$6:$AL$116,37,FALSE))","v":""},"",null,null,null,null,null,null,null,0,"",0]
[null,null,null,null,null,null,{"$f":"IF(F282=\"\",\"\",VLOOKUP($F282,WurzelBZweige!$B$6:$AL$116,37,FALSE))","v":""},"",null,null,null,null,null,null,null,0,"",0]
[null,null,null,null,null,null,{"$f":"IF(F283=\"\",\"\",VLOOKUP($F283,WurzelBZweige!$B$6:$AL$116,37,FALSE))","v":""},"",null,null,null,null,null,null,null,0,"",0]
[null,null,null,null,null,null,{"$f":"IF(F284=\"\",\"\",VLOOKUP($F284,WurzelBZweige!$B$6:$AL$116,37,FALSE))","v":""},"",null,null,null,null,null,null,null,0,"",0]
[null,null,null,null,null,null,{"$f":"IF(F285=\"\",\"\",VLOOKUP($F285,WurzelBZweige!$B$6:$AL$116,37,FALSE))","v":""},"",null,null,null,null,null,null,null,0,"",0]
[null,null,null,null,null,null,{"$f":"IF(F286=\"\",\"\",VLOOKUP($F286,WurzelBZweige!$B$6:$AL$116,37,FALSE))","v":""},"",null,null,null,null,null,null,null,0,"",0]
[null,null,null,null,null,null,{"$f":"IF(F287=\"\",\"\",VLOOKUP($F287,WurzelBZweige!$B$6:$AL$116,37,FALSE))","v":""},"",null,null,null,null,null,null,null,0,"",0]
[null,null,null,null,null,null,{"$f":"IF(F288=\"\",\"\",VLOOKUP($F288,WurzelBZweige!$B$6:$AL$116,37,FALSE))","v":""},"",null,null,null,null,null,null,null,0,"",0]
[null,null,null,null,null,null,{"$f":"IF(F289=\"\",\"\",VLOOKUP($F289,WurzelBZweige!$B$6:$AL$116,37,FALSE))","v":""},"",null,null,null,null,null,null,null,0,"",0]
[null,null,null,null,null,null,{"$f":"IF(F290=\"\",\"\",VLOOKUP($F290,WurzelBZweige!$B$6:$AL$116,37,FALSE))","v":""},"",null,null,null,null,null,null,null,0,"",0]
[null,null,null,null,null,null,{"$f":"IF(F291=\"\",\"\",VLOOKUP($F291,WurzelBZweige!$B$6:$AL$116,37,FALSE))","v":""},"",null,null,null,null,null,null,null,0,"",0]
[null,null,null,null,null,null,{"$f":"IF(F292=\"\",\"\",VLOOKUP($F292,WurzelBZweige!$B$6:$AL$116,37,FALSE))","v":""},"",null,null,null,null,null,null,null,0,"",0]
[null,null,null,null,null,null,{"$f":"IF(F293=\"\",\"\",VLOOKUP($F293,WurzelBZweige!$B$6:$AL$116,37,FALSE))","v":""},"",null,null,null,null,null,null,null,0,"",0]
[null,null,null,null,null,null,{"$f":"IF(F294=\"\",\"\",VLOOKUP($F294,WurzelBZweige!$B$6:$AL$116,37,FALSE))","v":""},"",null,null,null,null,null,null,null,0,"",0]
[null,null,null,null,null,null,{"$f":"IF(F295=\"\",\"\",VLOOKUP($F295,WurzelBZweige!$B$6:$AL$116,37,FALSE))","v":""},"",null,null,null,null,null,null,null,0,"",0]
[null,null,null,null,null,null,{"$f":"IF(F296=\"\",\"\",VLOOKUP($F296,WurzelBZweige!$B$6:$AL$116,37,FALSE))","v":""},"",null,null,null,null,null,null,null,0,"",0]
[null,null,null,null,null,null,{"$f":"IF(F297=\"\",\"\",VLOOKUP($F297,WurzelBZweige!$B$6:$AL$116,37,FALSE))","v":""},"",null,null,null,null,null,null,null,0,"",0]
[null,null,null,null,null,null,{"$f":"IF(F298=\"\",\"\",VLOOKUP($F298,WurzelBZweige!$B$6:$AL$116,37,FALSE))","v":""},"",null,null,null,null,null,null,null,0,"",0]
[null,null,null,null,null,null,{"$f":"IF(F299=\"\",\"\",VLOOKUP($F299,WurzelBZweige!$B$6:$AL$116,37,FALSE))","v":""},"",null,null,null,null,null,null,null,0,"",0]
[null,null,null,null,null,null,{"$f":"IF(F300=\"\",\"\",VLOOKUP($F300,WurzelBZweige!$B$6:$AL$116,37,FALSE))","v":""},"",null,null,null,null,null,null,null,0,"",0]
[null,null,null,null,null,null,{"$f":"IF(F301=\"\",\"\",VLOOKUP($F301,WurzelBZweige!$B$6:$AL$116,37,FALSE))","v":""},"",null,null,null,null,null,null,null,0,"",0]
[null,null,null,null,null,null,{"$f":"IF(F302=\"\",\"\",VLOOKUP($F302,WurzelBZweige!$B$6:$AL$116,37,FALSE))","v":""},"",null,null,null,null,null,null,null,0,"",0]
[null,null,null,null,null,null,{"$f":"IF(F303=\"\",\"\",VLOOKUP($F303,WurzelBZweige!$B$6:$AL$116,37,FALSE))","v":""},"",null,null,null,null,null,null,null,0,"",0]
[null,null,null,null,null,null,{"$f":"IF(F304=\"\",\"\",VLOOKUP($F304,WurzelBZweige!$B$6:$AL$116,37,FALSE))","v":""},"",null,null,null,null,null,null,null,0,"",0]
[null,null,null,null,null,null,{"$f":"IF(F305=\"\",\"\",VLOOKUP($F305,WurzelBZweige!$B$6:$AL$116,37,FALSE))","v":""},"",null,null,null,null,null,null,null,0,"",0]
[null,null,null,null,null,null,{"$f":"IF(F306=\"\",\"\",VLOOKUP($F306,WurzelBZweige!$B$6:$AL$116,37,FALSE))","v":""},"",null,null,null,null,null,null,null,0,"",0]
[null,null,null,null,null,null,{"$f":"IF(F307=\"\",\"\",VLOOKUP($F307,WurzelBZweige!$B$6:$AL$116,37,FALSE))","v":""},"",null,null,null,null,null,null,null,0,"",0]
[null,null,null,null,null,null,{"$f":"IF(F308=\"\",\"\",VLOOKUP($F308,WurzelBZweige!$B$6:$AL$116,37,FALSE))","v":""},"",null,null,null,null,null,null,null,0,"",0]
[null,null,null,null,null,null,{"$f":"IF(F309=\"\",\"\",VLOOKUP($F309,WurzelBZweige!$B$6:$AL$116,37,FALSE))","v":""},"",null,null,null,null,null,null,null,0,"",0]
[null,null,null,null,null,null,{"$f":"IF(F310=\"\",\"\",VLOOKUP($F310,WurzelBZweige!$B$6:$AL$116,37,FALSE))","v":""},"",null,null,null,null,null,null,null,0,"",0]
[null,null,null,null,null,null,{"$f":"IF(F311=\"\",\"\",VLOOKUP($F311,WurzelBZweige!$B$6:$AL$116,37,FALSE))","v":""},"",null,null,null,null,null,null,null,0,"",0]
[null,null,null,null,null,null,{"$f":"IF(F312=\"\",\"\",VLOOKUP($F312,WurzelBZweige!$B$6:$AL$116,37,FALSE))","v":""},"",null,null,null,null,null,null,null,0,"",0]
[null,null,null,null,null,null,{"$f":"IF(F313=\"\",\"\",VLOOKUP($F313,WurzelBZweige!$B$6:$AL$116,37,FALSE))","v":""},"",null,null,null,null,null,null,null,0,"",0]
[null,null,null,null,null,null,{"$f":"IF(F314=\"\",\"\",VLOOKUP($F314,WurzelBZweige!$B$6:$AL$116,37,FALSE))","v":""},"",null,null,null,null,null,null,null,0,"",0]
[null,null,null,null,null,null,{"$f":"IF(F315=\"\",\"\",VLOOKUP($F315,WurzelBZweige!$B$6:$AL$116,37,FALSE))","v":""},"",null,null,null,null,null,null,null,0,"",0]
[null,null,null,null,null,null,{"$f":"IF(F316=\"\",\"\",VLOOKUP($F316,WurzelBZweige!$B$6:$AL$116,37,FALSE))","v":""},"",null,null,null,null,null,null,null,0,"",0]
[null,null,null,null,null,null,{"$f":"IF(F317=\"\",\"\",VLOOKUP($F317,WurzelBZweige!$B$6:$AL$116,37,FALSE))","v":""},"",null,null,null,null,null,null,null,0,"",0]
[null,null,null,null,null,null,{"$f":"IF(F318=\"\",\"\",VLOOKUP($F318,WurzelBZweige!$B$6:$AL$116,37,FALSE))","v":""},"",null,null,null,null,null,null,null,0,"",0]
[null,null,null,null,null,null,{"$f":"IF(F319=\"\",\"\",VLOOKUP($F319,WurzelBZweige!$B$6:$AL$116,37,FALSE))","v":""},"",null,null,null,null,null,null,null,0,"",0]
[null,null,null,null,null,null,{"$f":"IF(F320=\"\",\"\",VLOOKUP($F320,WurzelBZweige!$B$6:$AL$116,37,FALSE))","v":""},"",null,null,null,null,null,null,null,0,"",0]
[null,null,null,null,null,null,{"$f":"IF(F321=\"\",\"\",VLOOKUP($F321,WurzelBZweige!$B$6:$AL$116,37,FALSE))","v":""},"",null,null,null,null,null,null,null,0,"",0]
[null,null,null,null,null,null,{"$f":"IF(F322=\"\",\"\",VLOOKUP($F322,WurzelBZweige!$B$6:$AL$116,37,FALSE))","v":""},"",null,null,null,null,null,null,null,0,"",0]
[null,null,null,null,null,null,{"$f":"IF(F323=\"\",\"\",VLOOKUP($F323,WurzelBZweige!$B$6:$AL$116,37,FALSE))","v":""},"",null,null,null,null,null,null,null,0,"",0]
[null,null,null,null,null,null,{"$f":"IF(F324=\"\",\"\",VLOOKUP($F324,WurzelBZweige!$B$6:$AL$116,37,FALSE))","v":""},"",null,null,null,null,null,null,null,0,"",0]
[null,null,null,null,null,null,{"$f":"IF(F325=\"\",\"\",VLOOKUP($F325,WurzelBZweige!$B$6:$AL$116,37,FALSE))","v":""},"",null,null,null,null,null,null,null,0,"",0]
[null,null,null,null,null,null,{"$f":"IF(F326=\"\",\"\",VLOOKUP($F326,WurzelBZweige!$B$6:$AL$116,37,FALSE))","v":""},"",null,null,null,null,null,null,null,0,"",0]
[null,null,null,null,null,null,{"$f":"IF(F327=\"\",\"\",VLOOKUP($F327,WurzelBZweige!$B$6:$AL$116,37,FALSE))","v":""},"",null,null,null,null,null,null,null,0,"",0]
[null,null,null,null,null,null,{"$f":"IF(F328=\"\",\"\",VLOOKUP($F328,WurzelBZweige!$B$6:$AL$116,37,FALSE))","v":""},"",null,null,null,null,null,null,null,0,"",0]
[null,null,null,null,null,null,{"$f":"IF(F329=\"\",\"\",VLOOKUP($F329,WurzelBZweige!$B$6:$AL$116,37,FALSE))","v":""},{"$f":"IF(AND(C329=\"\",D329=\"\"),\"\",C329+D329)","v":""},null,null,null,null,null,null,null,{"$f":"IF(OR(G329=\"\",G329=\"Nein\"),0,H329)","v":0},{"$f":"IF(OR(H329=0,H329=\"\",G329=\"JA\"),\"\",H329-SUM(I329:O329))","v":""},{"$f":"SUM(I329:P329)","v":0}]
[null,null,null,null,null,null,{"$f":"IF(F330=\"\",\"\",VLOOKUP($F330,WurzelBZweige!$B$6:$AL$116,37,FALSE))","v":""},"",null,null,null,null,null,null,null,0,"",0]
[null,null,null,null,null,null,{"$f":"IF(F331=\"\",\"\",VLOOKUP($F331,WurzelBZweige!$B$6:$AL$116,37,FALSE))","v":""},"",null,null,null,null,null,null,null,0,"",0]
[null,null,null,null,null,null,{"$f":"IF(F332=\"\",\"\",VLOOKUP($F332,WurzelBZweige!$B$6:$AL$116,37,FALSE))","v":""},"",null,null,null,null,null,null,null,0,"",0]
[null,null,null,null,null,null,{"$f":"IF(F333=\"\",\"\",VLOOKUP($F333,WurzelBZweige!$B$6:$AL$116,37,FALSE))","v":""},"",null,null,null,null,null,null,null,0,"",0]
[null,null,null,null,null,null,{"$f":"IF(F334=\"\",\"\",VLOOKUP($F334,WurzelBZweige!$B$6:$AL$116,37,FALSE))","v":""},"",null,null,null,null,null,null,null,0,"",0]
[null,null,null,null,null,null,{"$f":"IF(F335=\"\",\"\",VLOOKUP($F335,WurzelBZweige!$B$6:$AL$116,37,FALSE))","v":""},"",null,null,null,null,null,null,null,0,"",0]
[null,null,null,null,null,null,{"$f":"IF(F336=\"\",\"\",VLOOKUP($F336,WurzelBZweige!$B$6:$AL$116,37,FALSE))","v":""},"",null,null,null,null,null,null,null,0,"",0]
[null,null,null,null,null,null,{"$f":"IF(F337=\"\",\"\",VLOOKUP($F337,WurzelBZweige!$B$6:$AL$116,37,FALSE))","v":""},"",null,null,null,null,null,null,null,0,"",0]
[null,null,null,null,null,null,{"$f":"IF(F338=\"\",\"\",VLOOKUP($F338,WurzelBZweige!$B$6:$AL$116,37,FALSE))","v":""},"",null,null,null,null,null,null,null,0,"",0]
[null,null,null,null,null,null,{"$f":"IF(F339=\"\",\"\",VLOOKUP($F339,WurzelBZweige!$B$6:$AL$116,37,FALSE))","v":""},"",null,null,null,null,null,null,null,0,"",0]
[null,null,null,null,null,null,{"$f":"IF(F340=\"\",\"\",VLOOKUP($F340,WurzelBZweige!$B$6:$AL$116,37,FALSE))","v":""},"",null,null,null,null,null,null,null,0,"",0]
[null,null,null,null,null,null,{"$f":"IF(F341=\"\",\"\",VLOOKUP($F341,WurzelBZweige!$B$6:$AL$116,37,FALSE))","v":""},"",null,null,null,null,null,null,null,0,"",0]
[null,null,null,null,null,null,{"$f":"IF(F342=\"\",\"\",VLOOKUP($F342,WurzelBZweige!$B$6:$AL$116,37,FALSE))","v":""},"",null,null,null,null,null,null,null,0,"",0]
[null,null,null,null,null,null,{"$f":"IF(F343=\"\",\"\",VLOOKUP($F343,WurzelBZweige!$B$6:$AL$116,37,FALSE))","v":""},"",null,null,null,null,null,null,null,0,"",0]
[null,null,null,null,null,null,{"$f":"IF(F344=\"\",\"\",VLOOKUP($F344,WurzelBZweige!$B$6:$AL$116,37,FALSE))","v":""},"",null,null,null,null,null,null,null,0,"",0]
[null,null,null,null,null,null,{"$f":"IF(F345=\"\",\"\",VLOOKUP($F345,WurzelBZweige!$B$6:$AL$116,37,FALSE))","v":""},"",null,null,null,null,null,null,null,0,"",0]
[null,null,null,null,null,null,{"$f":"IF(F346=\"\",\"\",VLOOKUP($F346,WurzelBZweige!$B$6:$AL$116,37,FALSE))","v":""},"",null,null,null,null,null,null,null,0,"",0]
[null,null,null,null,null,null,{"$f":"IF(F347=\"\",\"\",VLOOKUP($F347,WurzelBZweige!$B$6:$AL$116,37,FALSE))","v":""},"",null,null,null,null,null,null,null,0,"",0]
[null,null,null,null,null,null,{"$f":"IF(F348=\"\",\"\",VLOOKUP($F348,WurzelBZweige!$B$6:$AL$116,37,FALSE))","v":""},"",null,null,null,null,null,null,null,0,"",0]
[null,null,null,null,null,null,{"$f":"IF(F349=\"\",\"\",VLOOKUP($F349,WurzelBZweige!$B$6:$AL$116,37,FALSE))","v":""},"",null,null,null,null,null,null,null,0,"",0]
[null,null,null,null,null,null,{"$f":"IF(F350=\"\",\"\",VLOOKUP($F350,WurzelBZweige!$B$6:$AL$116,37,FALSE))","v":""},"",null,null,null,null,null,null,null,0,"",0]
[null,null,null,null,null,null,{"$f":"IF(F351=\"\",\"\",VLOOKUP($F351,WurzelBZweige!$B$6:$AL$116,37,FALSE))","v":""},"",null,null,null,null,null,null,null,0,"",0]
[null,null,null,null,null,null,{"$f":"IF(F352=\"\",\"\",VLOOKUP($F352,WurzelBZweige!$B$6:$AL$116,37,FALSE))","v":""},"",null,null,null,null,null,null,null,0,"",0]
[null,null,null,null,null,null,{"$f":"IF(F353=\"\",\"\",VLOOKUP($F353,WurzelBZweige!$B$6:$AL$116,37,FALSE))","v":""},"",null,null,null,null,null,null,null,0,"",0]
[null,null,null,null,null,null,{"$f":"IF(F354=\"\",\"\",VLOOKUP($F354,WurzelBZweige!$B$6:$AL$116,37,FALSE))","v":""},"",null,null,null,null,null,null,null,0,"",0]
[null,null,null,null,null,null,{"$f":"IF(F355=\"\",\"\",VLOOKUP($F355,WurzelBZweige!$B$6:$AL$116,37,FALSE))","v":""},"",null,null,null,null,null,null,null,0,"",0]
[null,null,null,null,null,null,{"$f":"IF(F356=\"\",\"\",VLOOKUP($F356,WurzelBZweige!$B$6:$AL$116,37,FALSE))","v":""},"",null,null,null,null,null,null,null,0,"",0]
[null,null,null,null,null,null,{"$f":"IF(F357=\"\",\"\",VLOOKUP($F357,WurzelBZweige!$B$6:$AL$116,37,FALSE))","v":""},"",null,null,null,null,null,null,null,0,"",0]
[null,null,null,null,null,null,{"$f":"IF(F358=\"\",\"\",VLOOKUP($F358,WurzelBZweige!$B$6:$AL$116,37,FALSE))","v":""},"",null,null,null,null,null,null,null,0,"",0]
[null,null,null,null,null,null,{"$f":"IF(F359=\"\",\"\",VLOOKUP($F359,WurzelBZweige!$B$6:$AL$116,37,FALSE))","v":""},"",null,null,null,null,null,null,null,0,"",0]
[null,null,null,null,null,null,{"$f":"IF(F360=\"\",\"\",VLOOKUP($F360,WurzelBZweige!$B$6:$AL$116,37,FALSE))","v":""},"",null,null,null,null,null,null,null,0,"",0]
[null,null,null,null,null,null,{"$f":"IF(F361=\"\",\"\",VLOOKUP($F361,WurzelBZweige!$B$6:$AL$116,37,FALSE))","v":""},"",null,null,null,null,null,null,null,0,"",0]
[null,null,null,null,null,null,{"$f":"IF(F362=\"\",\"\",VLOOKUP($F362,WurzelBZweige!$B$6:$AL$116,37,FALSE))","v":""},"",null,null,null,null,null,null,null,0,"",0]
[null,null,null,null,null,null,{"$f":"IF(F363=\"\",\"\",VLOOKUP($F363,WurzelBZweige!$B$6:$AL$116,37,FALSE))","v":""},"",null,null,null,null,null,null,null,0,"",0]
[null,null,null,null,null,null,{"$f":"IF(F364=\"\",\"\",VLOOKUP($F364,WurzelBZweige!$B$6:$AL$116,37,FALSE))","v":""},"",null,null,null,null,null,null,null,0,"",0]
[null,null,null,null,null,null,{"$f":"IF(F365=\"\",\"\",VLOOKUP($F365,WurzelBZweige!$B$6:$AL$116,37,FALSE))","v":""},"",null,null,null,null,null,null,null,0,"",0]
[null,null,null,null,null,null,{"$f":"IF(F366=\"\",\"\",VLOOKUP($F366,WurzelBZweige!$B$6:$AL$116,37,FALSE))","v":""},"",null,null,null,null,null,null,null,0,"",0]
[null,null,null,null,null,null,{"$f":"IF(F367=\"\",\"\",VLOOKUP($F367,WurzelBZweige!$B$6:$AL$116,37,FALSE))","v":""},"",null,null,null,null,null,null,null,0,"",0]
[null,null,null,null,null,null,{"$f":"IF(F368=\"\",\"\",VLOOKUP($F368,WurzelBZweige!$B$6:$AL$116,37,FALSE))","v":""},"",null,null,null,null,null,null,null,0,"",0]
[null,null,null,null,null,null,{"$f":"IF(F369=\"\",\"\",VLOOKUP($F369,WurzelBZweige!$B$6:$AL$116,37,FALSE))","v":""},"",null,null,null,null,null,null,null,0,"",0]
[null,null,null,null,null,null,{"$f":"IF(F370=\"\",\"\",VLOOKUP($F370,WurzelBZweige!$B$6:$AL$116,37,FALSE))","v":""},"",null,null,null,null,null,null,null,0,"",0]
[null,null,null,null,null,null,{"$f":"IF(F371=\"\",\"\",VLOOKUP($F371,WurzelBZweige!$B$6:$AL$116,37,FALSE))","v":""},"",null,null,null,null,null,null,null,0,"",0]
[null,null,null,null,null,null,{"$f":"IF(F372=\"\",\"\",VLOOKUP($F372,WurzelBZweige!$B$6:$AL$116,37,FALSE))","v":""},"",null,null,null,null,null,null,null,0,"",0]
[null,null,null,null,null,null,{"$f":"IF(F373=\"\",\"\",VLOOKUP($F373,WurzelBZweige!$B$6:$AL$116,37,FALSE))","v":""},"",null,null,null,null,null,null,null,0,"",0]
[null,null,null,null,null,null,{"$f":"IF(F374=\"\",\"\",VLOOKUP($F374,WurzelBZweige!$B$6:$AL$116,37,FALSE))","v":""},"",null,null,null,null,null,null,null,0,"",0]
[null,null,null,null,null,null,{"$f":"IF(F375=\"\",\"\",VLOOKUP($F375,WurzelBZweige!$B$6:$AL$116,37,FALSE))","v":""},"",null,null,null,null,null,null,null,0,"",0]
[null,null,null,null,null,null,{"$f":"IF(F376=\"\",\"\",VLOOKUP($F376,WurzelBZweige!$B$6:$AL$116,37,FALSE))","v":""},"",null,null,null,null,null,null,null,0,"",0]
[null,null,null,null,null,null,{"$f":"IF(F377=\"\",\"\",VLOOKUP($F377,WurzelBZweige!$B$6:$AL$116,37,FALSE))","v":""},"",null,null,null,null,null,null,null,0,"",0]
[null,null,null,null,null,null,{"$f":"IF(F378=\"\",\"\",VLOOKUP($F378,WurzelBZweige!$B$6:$AL$116,37,FALSE))","v":""},"",null,null,null,null,null,null,null,0,"",0]
[null,null,null,null,null,null,{"$f":"IF(F379=\"\",\"\",VLOOKUP($F379,WurzelBZweige!$B$6:$AL$116,37,FALSE))","v":""},"",null,null,null,null,null,null,null,0,"",0]
[null,null,null,null,null,null,{"$f":"IF(F380=\"\",\"\",VLOOKUP($F380,WurzelBZweige!$B$6:$AL$116,37,FALSE))","v":""},"",null,null,null,null,null,null,null,0,"",0]
[null,null,null,null,null,null,{"$f":"IF(F381=\"\",\"\",VLOOKUP($F381,WurzelBZweige!$B$6:$AL$116,37,FALSE))","v":""},"",null,null,null,null,null,null,null,0,"",0]
[null,null,null,null,null,null,{"$f":"IF(F382=\"\",\"\",VLOOKUP($F382,WurzelBZweige!$B$6:$AL$116,37,FALSE))","v":""},"",null,null,null,null,null,null,null,0,"",0]
[null,null,null,null,null,null,{"$f":"IF(F383=\"\",\"\",VLOOKUP($F383,WurzelBZweige!$B$6:$AL$116,37,FALSE))","v":""},"",null,null,null,null,null,null,null,0,"",0]
[null,null,null,null,null,null,{"$f":"IF(F384=\"\",\"\",VLOOKUP($F384,WurzelBZweige!$B$6:$AL$116,37,FALSE))","v":""},"",null,null,null,null,null,null,null,0,"",0]
[null,null,null,null,null,null,{"$f":"IF(F385=\"\",\"\",VLOOKUP($F385,WurzelBZweige!$B$6:$AL$116,37,FALSE))","v":""},"",null,null,null,null,null,null,null,0,"",0]
[null,null,null,null,null,null,{"$f":"IF(F386=\"\",\"\",VLOOKUP($F386,WurzelBZweige!$B$6:$AL$116,37,FALSE))","v":""},"",null,null,null,null,null,null,null,0,"",0]
[null,null,null,null,null,null,{"$f":"IF(F387=\"\",\"\",VLOOKUP($F387,WurzelBZweige!$B$6:$AL$116,37,FALSE))","v":""},"",null,null,null,null,null,null,null,0,"",0]
[null,null,null,null,null,null,{"$f":"IF(F388=\"\",\"\",VLOOKUP($F388,WurzelBZweige!$B$6:$AL$116,37,FALSE))","v":""},"",null,null,null,null,null,null,null,0,"",0]
[null,null,null,null,null,null,{"$f":"IF(F389=\"\",\"\",VLOOKUP($F389,WurzelBZweige!$B$6:$AL$116,37,FALSE))","v":""},"",null,null,null,null,null,null,null,0,"",0]
[null,null,null,null,null,null,{"$f":"IF(F390=\"\",\"\",VLOOKUP($F390,WurzelBZweige!$B$6:$AL$116,37,FALSE))","v":""},"",null,null,null,null,null,null,null,0,"",0]
[null,null,null,null,null,null,{"$f":"IF(F391=\"\",\"\",VLOOKUP($F391,WurzelBZweige!$B$6:$AL$116,37,FALSE))","v":""},"",null,null,null,null,null,null,null,0,"",0]
[null,null,null,null,null,null,{"$f":"IF(F392=\"\",\"\",VLOOKUP($F392,WurzelBZweige!$B$6:$AL$116,37,FALSE))","v":""},"",null,null,null,null,null,null,null,0,"",0]
[null,null,null,null,null,null,{"$f":"IF(F393=\"\",\"\",VLOOKUP($F393,WurzelBZweige!$B$6:$AL$116,37,FALSE))","v":""},{"$f":"IF(AND(C393=\"\",D393=\"\"),\"\",C393+D393)","v":""},null,null,null,null,null,null,null,{"$f":"IF(OR(G393=\"\",G393=\"Nein\"),0,H393)","v":0},{"$f":"IF(OR(H393=0,H393=\"\",G393=\"JA\"),\"\",H393-SUM(I393:O393))","v":""},{"$f":"SUM(I393:P393)","v":0}]
[null,null,null,null,null,null,{"$f":"IF(F394=\"\",\"\",VLOOKUP($F394,WurzelBZweige!$B$6:$AL$116,37,FALSE))","v":""},"",null,null,null,null,null,null,null,0,"",0]
[null,null,null,null,null,null,{"$f":"IF(F395=\"\",\"\",VLOOKUP($F395,WurzelBZweige!$B$6:$AL$116,37,FALSE))","v":""},"",null,null,null,null,null,null,null,0,"",0]
[null,null,null,null,null,null,{"$f":"IF(F396=\"\",\"\",VLOOKUP($F396,WurzelBZweige!$B$6:$AL$116,37,FALSE))","v":""},"",null,null,null,null,null,null,null,0,"",0]
[null,null,null,null,null,null,{"$f":"IF(F397=\"\",\"\",VLOOKUP($F397,WurzelBZweige!$B$6:$AL$116,37,FALSE))","v":""},"",null,null,null,null,null,null,null,0,"",0]
[null,null,null,null,null,null,{"$f":"IF(F398=\"\",\"\",VLOOKUP($F398,WurzelBZweige!$B$6:$AL$116,37,FALSE))","v":""},"",null,null,null,null,null,null,null,0,"",0]
[null,null,null,null,null,null,{"$f":"IF(F399=\"\",\"\",VLOOKUP($F399,WurzelBZweige!$B$6:$AL$116,37,FALSE))","v":""},"",null,null,null,null,null,null,null,0,"",0]
[null,null,null,null,null,null,{"$f":"IF(F400=\"\",\"\",VLOOKUP($F400,WurzelBZweige!$B$6:$AL$116,37,FALSE))","v":""},"",null,null,null,null,null,null,null,0,"",0]
[null,null,null,null,null,null,{"$f":"IF(F401=\"\",\"\",VLOOKUP($F401,WurzelBZweige!$B$6:$AL$116,37,FALSE))","v":""},"",null,null,null,null,null,null,null,0,"",0]
[null,null,null,null,null,null,{"$f":"IF(F402=\"\",\"\",VLOOKUP($F402,WurzelBZweige!$B$6:$AL$116,37,FALSE))","v":""},"",null,null,null,null,null,null,null,0,"",0]
[null,null,null,null,null,null,{"$f":"IF(F403=\"\",\"\",VLOOKUP($F403,WurzelBZweige!$B$6:$AL$116,37,FALSE))","v":""},"",null,null,null,null,null,null,null,0,"",0]
[null,null,null,null,null,null,{"$f":"IF(F404=\"\",\"\",VLOOKUP($F404,WurzelBZweige!$B$6:$AL$116,37,FALSE))","v":""},"",null,null,null,null,null,null,null,0,"",0]
[null,null,null,null,null,null,{"$f":"IF(F405=\"\",\"\",VLOOKUP($F405,WurzelBZweige!$B$6:$AL$116,37,FALSE))","v":""},"",null,null,null,null,null,null,null,0,"",0]
[null,null,null,null,null,null,{"$f":"IF(F406=\"\",\"\",VLOOKUP($F406,WurzelBZweige!$B$6:$AL$116,37,FALSE))","v":""},"",null,null,null,null,null,null,null,0,"",0]
[null,null,null,null,null,null,{"$f":"IF(F407=\"\",\"\",VLOOKUP($F407,WurzelBZweige!$B$6:$AL$116,37,FALSE))","v":""},"",null,null,null,null,null,null,null,0,"",0]
[null,null,null,null,null,null,{"$f":"IF(F408=\"\",\"\",VLOOKUP($F408,WurzelBZweige!$B$6:$AL$116,37,FALSE))","v":""},"",null,null,null,null,null,null,null,0,"",0]
[null,null,null,null,null,null,{"$f":"IF(F409=\"\",\"\",VLOOKUP($F409,WurzelBZweige!$B$6:$AL$116,37,FALSE))","v":""},"",null,null,null,null,null,null,null,0,"",0]
[null,null,null,null,null,null,{"$f":"IF(F410=\"\",\"\",VLOOKUP($F410,WurzelBZweige!$B$6:$AL$116,37,FALSE))","v":""},"",null,null,null,null,null,null,null,0,"",0]
[null,null,null,null,null,null,{"$f":"IF(F411=\"\",\"\",VLOOKUP($F411,WurzelBZweige!$B$6:$AL$116,37,FALSE))","v":""},"",null,null,null,null,null,null,null,0,"",0]
[null,null,null,null,null,null,{"$f":"IF(F412=\"\",\"\",VLOOKUP($F412,WurzelBZweige!$B$6:$AL$116,37,FALSE))","v":""},"",null,null,null,null,null,null,null,0,"",0]
[null,null,null,null,null,null,{"$f":"IF(F413=\"\",\"\",VLOOKUP($F413,WurzelBZweige!$B$6:$AL$116,37,FALSE))","v":""},"",null,null,null,null,null,null,null,0,"",0]
[null,null,null,null,null,null,{"$f":"IF(F414=\"\",\"\",VLOOKUP($F414,WurzelBZweige!$B$6:$AL$116,37,FALSE))","v":""},"",null,null,null,null,null,null,null,0,"",0]
[null,null,null,null,null,null,{"$f":"IF(F415=\"\",\"\",VLOOKUP($F415,WurzelBZweige!$B$6:$AL$116,37,FALSE))","v":""},"",null,null,null,null,null,null,null,0,"",0]
[null,null,null,null,null,null,{"$f":"IF(F416=\"\",\"\",VLOOKUP($F416,WurzelBZweige!$B$6:$AL$116,37,FALSE))","v":""},"",null,null,null,null,null,null,null,0,"",0]
[null,null,null,null,null,null,{"$f":"IF(F417=\"\",\"\",VLOOKUP($F417,WurzelBZweige!$B$6:$AL$116,37,FALSE))","v":""},"",null,null,null,null,null,null,null,0,"",0]
[null,null,null,null,null,null,{"$f":"IF(F418=\"\",\"\",VLOOKUP($F418,WurzelBZweige!$B$6:$AL$116,37,FALSE))","v":""},"",null,null,null,null,null,null,null,0,"",0]
[null,null,null,null,null,null,{"$f":"IF(F419=\"\",\"\",VLOOKUP($F419,WurzelBZweige!$B$6:$AL$116,37,FALSE))","v":""},"",null,null,null,null,null,null,null,0,"",0]
[null,null,null,null,null,null,{"$f":"IF(F420=\"\",\"\",VLOOKUP($F420,WurzelBZweige!$B$6:$AL$116,37,FALSE))","v":""},"",null,null,null,null,null,null,null,0,"",0]
[null,null,null,null,null,null,{"$f":"IF(F421=\"\",\"\",VLOOKUP($F421,WurzelBZweige!$B$6:$AL$116,37,FALSE))","v":""},"",null,null,null,null,null,null,null,0,"",0]
[null,null,null,null,null,null,{"$f":"IF(F422=\"\",\"\",VLOOKUP($F422,WurzelBZweige!$B$6:$AL$116,37,FALSE))","v":""},"",null,null,null,null,null,null,null,0,"",0]
[null,null,null,null,null,null,{"$f":"IF(F423=\"\",\"\",VLOOKUP($F423,WurzelBZweige!$B$6:$AL$116,37,FALSE))","v":""},"",null,null,null,null,null,null,null,0,"",0]
[null,null,null,null,null,null,{"$f":"IF(F424=\"\",\"\",VLOOKUP($F424,WurzelBZweige!$B$6:$AL$116,37,FALSE))","v":""},"",null,null,null,null,null,null,null,0,"",0]
[null,null,null,null,null,null,{"$f":"IF(F425=\"\",\"\",VLOOKUP($F425,WurzelBZweige!$B$6:$AL$116,37,FALSE))","v":""},"",null,null,null,null,null,null,null,0,"",0]
[null,null,null,null,null,null,{"$f":"IF(F426=\"\",\"\",VLOOKUP($F426,WurzelBZweige!$B$6:$AL$116,37,FALSE))","v":""},"",null,null,null,null,null,null,null,0,"",0]
[null,null,null,null,null,null,{"$f":"IF(F427=\"\",\"\",VLOOKUP($F427,WurzelBZweige!$B$6:$AL$116,37,FALSE))","v":""},"",null,null,null,null,null,null,null,0,"",0]
[null,null,null,null,null,null,{"$f":"IF(F428=\"\",\"\",VLOOKUP($F428,WurzelBZweige!$B$6:$AL$116,37,FALSE))","v":""},"",null,null,null,null,null,null,null,0,"",0]
[null,null,null,null,null,null,{"$f":"IF(F429=\"\",\"\",VLOOKUP($F429,WurzelBZweige!$B$6:$AL$116,37,FALSE))","v":""},"",null,null,null,null,null,null,null,0,"",0]
[null,null,null,null,null,null,{"$f":"IF(F430=\"\",\"\",VLOOKUP($F430,WurzelBZweige!$B$6:$AL$116,37,FALSE))","v":""},"",null,null,null,null,null,null,null,0,"",0]
[null,null,null,null,null,null,{"$f":"IF(F431=\"\",\"\",VLOOKUP($F431,WurzelBZweige!$B$6:$AL$116,37,FALSE))","v":""},"",null,null,null,null,null,null,null,0,"",0]
[null,null,null,null,null,null,{"$f":"IF(F432=\"\",\"\",VLOOKUP($F432,WurzelBZweige!$B$6:$AL$116,37,FALSE))","v":""},"",null,null,null,null,null,null,null,0,"",0]
[null,null,null,null,null,null,{"$f":"IF(F433=\"\",\"\",VLOOKUP($F433,WurzelBZweige!$B$6:$AL$116,37,FALSE))","v":""},"",null,null,null,null,null,null,null,0,"",0]
[null,null,null,null,null,null,{"$f":"IF(F434=\"\",\"\",VLOOKUP($F434,WurzelBZweige!$B$6:$AL$116,37,FALSE))","v":""},"",null,null,null,null,null,null,null,0,"",0]
[null,null,null,null,null,null,{"$f":"IF(F435=\"\",\"\",VLOOKUP($F435,WurzelBZweige!$B$6:$AL$116,37,FALSE))","v":""},"",null,null,null,null,null,null,null,0,"",0]
[null,null,null,null,null,null,{"$f":"IF(F436=\"\",\"\",VLOOKUP($F436,WurzelBZweige!$B$6:$AL$116,37,FALSE))","v":""},"",null,null,null,null,null,null,null,0,"",0]
[null,null,null,null,null,null,{"$f":"IF(F437=\"\",\"\",VLOOKUP($F437,WurzelBZweige!$B$6:$AL$116,37,FALSE))","v":""},"",null,null,null,null,null,null,null,0,"",0]
[null,null,null,null,null,null,{"$f":"IF(F438=\"\",\"\",VLOOKUP($F438,WurzelBZweige!$B$6:$AL$116,37,FALSE))","v":""},"",null,null,null,null,null,null,null,0,"",0]
[null,null,null,null,null,null,{"$f":"IF(F439=\"\",\"\",VLOOKUP($F439,WurzelBZweige!$B$6:$AL$116,37,FALSE))","v":""},"",null,null,null,null,null,null,null,0,"",0]
[null,null,null,null,null,null,{"$f":"IF(F440=\"\",\"\",VLOOKUP($F440,WurzelBZweige!$B$6:$AL$116,37,FALSE))","v":""},"",null,null,null,null,null,null,null,0,"",0]
[null,null,null,null,null,null,{"$f":"IF(F441=\"\",\"\",VLOOKUP($F441,WurzelBZweige!$B$6:$AL$116,37,FALSE))","v":""},"",null,null,null,null,null,null,null,0,"",0]
[null,null,null,null,null,null,{"$f":"IF(F442=\"\",\"\",VLOOKUP($F442,WurzelBZweige!$B$6:$AL$116,37,FALSE))","v":""},"",null,null,null,null,null,null,null,0,"",0]
[null,null,null,null,null,null,{"$f":"IF(F443=\"\",\"\",VLOOKUP($F443,WurzelBZweige!$B$6:$AL$116,37,FALSE))","v":""},"",null,null,null,null,null,null,null,0,"",0]
[null,null,null,null,null,null,{"$f":"IF(F444=\"\",\"\",VLOOKUP($F444,WurzelBZweige!$B$6:$AL$116,37,FALSE))","v":""},"",null,null,null,null,null,null,null,0,"",0]
[null,null,null,null,null,null,{"$f":"IF(F445=\"\",\"\",VLOOKUP($F445,WurzelBZweige!$B$6:$AL$116,37,FALSE))","v":""},"",null,null,null,null,null,null,null,0,"",0]
[null,null,null,null,null,null,{"$f":"IF(F446=\"\",\"\",VLOOKUP($F446,WurzelBZweige!$B$6:$AL$116,37,FALSE))","v":""},"",null,null,null,null,null,null,null,0,"",0]
[null,null,null,null,null,null,{"$f":"IF(F447=\"\",\"\",VLOOKUP($F447,WurzelBZweige!$B$6:$AL$116,37,FALSE))","v":""},"",null,null,null,null,null,null,null,0,"",0]
[null,null,null,null,null,null,{"$f":"IF(F448=\"\",\"\",VLOOKUP($F448,WurzelBZweige!$B$6:$AL$116,37,FALSE))","v":""},"",null,null,null,null,null,null,null,0,"",0]
[null,null,null,null,null,null,{"$f":"IF(F449=\"\",\"\",VLOOKUP($F449,WurzelBZweige!$B$6:$AL$116,37,FALSE))","v":""},"",null,null,null,null,null,null,null,0,"",0]
[null,null,null,null,null,null,{"$f":"IF(F450=\"\",\"\",VLOOKUP($F450,WurzelBZweige!$B$6:$AL$116,37,FALSE))","v":""},"",null,null,null,null,null,null,null,0,"",0]
[null,null,null,null,null,null,{"$f":"IF(F451=\"\",\"\",VLOOKUP($F451,WurzelBZweige!$B$6:$AL$116,37,FALSE))","v":""},"",null,null,null,null,null,null,null,0,"",0]
[null,null,null,null,null,null,{"$f":"IF(F452=\"\",\"\",VLOOKUP($F452,WurzelBZweige!$B$6:$AL$116,37,FALSE))","v":""},"",null,null,null,null,null,null,null,0,"",0]
[null,null,null,null,null,null,{"$f":"IF(F453=\"\",\"\",VLOOKUP($F453,WurzelBZweige!$B$6:$AL$116,37,FALSE))","v":""},"",null,null,null,null,null,null,null,0,"",0]
[null,null,null,null,null,null,{"$f":"IF(F454=\"\",\"\",VLOOKUP($F454,WurzelBZweige!$B$6:$AL$116,37,FALSE))","v":""},"",null,null,null,null,null,null,null,0,"",0]
[null,null,null,null,null,null,{"$f":"IF(F455=\"\",\"\",VLOOKUP($F455,WurzelBZweige!$B$6:$AL$116,37,FALSE))","v":""},"",null,null,null,null,null,null,null,0,"",0]
[null,null,null,null,null,null,{"$f":"IF(F456=\"\",\"\",VLOOKUP($F456,WurzelBZweige!$B$6:$AL$116,37,FALSE))","v":""},"",null,null,null,null,null,null,null,0,"",0]
[null,null,null,null,null,null,{"$f":"IF(F457=\"\",\"\",VLOOKUP($F457,WurzelBZweige!$B$6:$AL$116,37,FALSE))","v":""},{"$f":"IF(AND(C457=\"\",D457=\"\"),\"\",C457+D457)","v":""},null,null,null,null,null,null,null,{"$f":"IF(OR(G457=\"\",G457=\"Nein\"),0,H457)","v":0},{"$f":"IF(OR(H457=0,H457=\"\",G457=\"JA\"),\"\",H457-SUM(I457:O457))","v":""},{"$f":"SUM(I457:P457)","v":0}]
[null,null,null,null,null,null,{"$f":"IF(F458=\"\",\"\",VLOOKUP($F458,WurzelBZweige!$B$6:$AL$116,37,FALSE))","v":""},"",null,null,null,null,null,null,null,0,"",0]
[null,null,null,null,null,null,{"$f":"IF(F459=\"\",\"\",VLOOKUP($F459,WurzelBZweige!$B$6:$AL$116,37,FALSE))","v":""},"",null,null,null,null,null,null,null,0,"",0]
[null,null,null,null,null,null,{"$f":"IF(F460=\"\",\"\",VLOOKUP($F460,WurzelBZweige!$B$6:$AL$116,37,FALSE))","v":""},"",null,null,null,null,null,null,null,0,"",0]
[null,null,null,null,null,null,{"$f":"IF(F461=\"\",\"\",VLOOKUP($F461,WurzelBZweige!$B$6:$AL$116,37,FALSE))","v":""},"",null,null,null,null,null,null,null,0,"",0]
[null,null,null,null,null,null,{"$f":"IF(F462=\"\",\"\",VLOOKUP($F462,WurzelBZweige!$B$6:$AL$116,37,FALSE))","v":""},"",null,null,null,null,null,null,null,0,"",0]
[null,null,null,null,null,null,{"$f":"IF(F463=\"\",\"\",VLOOKUP($F463,WurzelBZweige!$B$6:$AL$116,37,FALSE))","v":""},"",null,null,null,null,null,null,null,0,"",0]
[null,null,null,null,null,null,{"$f":"IF(F464=\"\",\"\",VLOOKUP($F464,WurzelBZweige!$B$6:$AL$116,37,FALSE))","v":""},"",null,null,null,null,null,null,null,0,"",0]
[null,null,null,null,null,null,{"$f":"IF(F465=\"\",\"\",VLOOKUP($F465,WurzelBZweige!$B$6:$AL$116,37,FALSE))","v":""},"",null,null,null,null,null,null,null,0,"",0]
[null,null,null,null,null,null,{"$f":"IF(F466=\"\",\"\",VLOOKUP($F466,WurzelBZweige!$B$6:$AL$116,37,FALSE))","v":""},"",null,null,null,null,null,null,null,0,"",0]
[null,null,null,null,null,null,{"$f":"IF(F467=\"\",\"\",VLOOKUP($F467,WurzelBZweige!$B$6:$AL$116,37,FALSE))","v":""},"",null,null,null,null,null,null,null,0,"",0]
[null,null,null,null,null,null,{"$f":"IF(F468=\"\",\"\",VLOOKUP($F468,WurzelBZweige!$B$6:$AL$116,37,FALSE))","v":""},"",null,null,null,null,null,null,null,0,"",0]
[null,null,null,null,null,null,{"$f":"IF(F469=\"\",\"\",VLOOKUP($F469,WurzelBZweige!$B$6:$AL$116,37,FALSE))","v":""},"",null,null,null,null,null,null,null,0,"",0]
[null,null,null,null,null,null,{"$f":"IF(F470=\"\",\"\",VLOOKUP($F470,WurzelBZweige!$B$6:$AL$116,37,FALSE))","v":""},"",null,null,null,null,null,null,null,0,"",0]
[null,null,null,null,null,null,{"$f":"IF(F471=\"\",\"\",VLOOKUP($F471,WurzelBZweige!$B$6:$AL$116,37,FALSE))","v":""},"",null,null,null,null,null,null,null,0,"",0]
[null,null,null,null,null,null,{"$f":"IF(F472=\"\",\"\",VLOOKUP($F472,WurzelBZweige!$B$6:$AL$116,37,FALSE))","v":""},"",null,null,null,null,null,null,null,0,"",0]
[null,null,null,null,null,null,{"$f":"IF(F473=\"\",\"\",VLOOKUP($F473,WurzelBZweige!$B$6:$AL$116,37,FALSE))","v":""},"",null,null,null,null,null,null,null,0,"",0]
[null,null,null,null,null,null,{"$f":"IF(F474=\"\",\"\",VLOOKUP($F474,WurzelBZweige!$B$6:$AL$116,37,FALSE))","v":""},"",null,null,null,null,null,null,null,0,"",0]
[null,null,null,null,null,null,{"$f":"IF(F475=\"\",\"\",VLOOKUP($F475,WurzelBZweige!$B$6:$AL$116,37,FALSE))","v":""},"",null,null,null,null,null,null,null,0,"",0]
[null,null,null,null,null,null,{"$f":"IF(F476=\"\",\"\",VLOOKUP($F476,WurzelBZweige!$B$6:$AL$116,37,FALSE))","v":""},"",null,null,null,null,null,null,null,0,"",0]
[null,null,null,null,null,null,{"$f":"IF(F477=\"\",\"\",VLOOKUP($F477,WurzelBZweige!$B$6:$AL$116,37,FALSE))","v":""},"",null,null,null,null,null,null,null,0,"",0]
[null,null,null,null,null,null,{"$f":"IF(F478=\"\",\"\",VLOOKUP($F478,WurzelBZweige!$B$6:$AL$116,37,FALSE))","v":""},"",null,null,null,null,null,null,null,0,"",0]
[null,null,null,null,null,null,{"$f":"IF(F479=\"\",\"\",VLOOKUP($F479,WurzelBZweige!$B$6:$AL$116,37,FALSE))","v":""},"",null,null,null,null,null,null,null,0,"",0]
[null,null,null,null,null,null,{"$f":"IF(F480=\"\",\"\",VLOOKUP($F480,WurzelBZweige!$B$6:$AL$116,37,FALSE))","v":""},"",null,null,null,null,null,null,null,0,"",0]
[null,null,null,null,null,null,{"$f":"IF(F481=\"\",\"\",VLOOKUP($F481,WurzelBZweige!$B$6:$AL$116,37,FALSE))","v":""},"",null,null,null,null,null,null,null,0,"",0]
[null,null,null,null,null,null,{"$f":"IF(F482=\"\",\"\",VLOOKUP($F482,WurzelBZweige!$B$6:$AL$116,37,FALSE))","v":""},"",null,null,null,null,null,null,null,0,"",0]
[null,null,null,null,null,null,{"$f":"IF(F483=\"\",\"\",VLOOKUP($F483,WurzelBZweige!$B$6:$AL$116,37,FALSE))","v":""},"",null,null,null,null,null,null,null,0,"",0]
[null,null,null,null,null,null,{"$f":"IF(F484=\"\",\"\",VLOOKUP($F484,WurzelBZweige!$B$6:$AL$116,37,FALSE))","v":""},"",null,null,null,null,null,null,null,0,"",0]
[null,null,null,null,null,null,{"$f":"IF(F485=\"\",\"\",VLOOKUP($F485,WurzelBZweige!$B$6:$AL$116,37,FALSE))","v":""},"",null,null,null,null,null,null,null,0,"",0]
[null,null,null,null,null,null,{"$f":"IF(F486=\"\",\"\",VLOOKUP($F486,WurzelBZweige!$B$6:$AL$116,37,FALSE))","v":""},"",null,null,null,null,null,null,null,0,"",0]
[null,null,null,null,null,null,{"$f":"IF(F487=\"\",\"\",VLOOKUP($F487,WurzelBZweige!$B$6:$AL$116,37,FALSE))","v":""},"",null,null,null,null,null,null,null,0,"",0]
[null,null,null,null,null,null,{"$f":"IF(F488=\"\",\"\",VLOOKUP($F488,WurzelBZweige!$B$6:$AL$116,37,FALSE))","v":""},"",null,null,null,null,null,null,null,0,"",0]
[null,null,null,null,null,null,{"$f":"IF(F489=\"\",\"\",VLOOKUP($F489,WurzelBZweige!$B$6:$AL$116,37,FALSE))","v":""},"",null,null,null,null,null,null,null,0,"",0]
[null,null,null,null,null,null,{"$f":"IF(F490=\"\",\"\",VLOOKUP($F490,WurzelBZweige!$B$6:$AL$116,37,FALSE))","v":""},"",null,null,null,null,null,null,null,0,"",0]
[null,null,null,null,null,null,{"$f":"IF(F491=\"\",\"\",VLOOKUP($F491,WurzelBZweige!$B$6:$AL$116,37,FALSE))","v":""},"",null,null,null,null,null,null,null,0,"",0]
[null,null,null,null,null,null,{"$f":"IF(F492=\"\",\"\",VLOOKUP($F492,WurzelBZweige!$B$6:$AL$116,37,FALSE))","v":""},"",null,null,null,null,null,null,null,0,"",0]
[null,null,null,null,null,null,{"$f":"IF(F493=\"\",\"\",VLOOKUP($F493,WurzelBZweige!$B$6:$AL$116,37,FALSE))","v":""},"",null,null,null,null,null,null,null,0,"",0]
[null,null,null,null,null,null,{"$f":"IF(F494=\"\",\"\",VLOOKUP($F494,WurzelBZweige!$B$6:$AL$116,37,FALSE))","v":""},"",null,null,null,null,null,null,null,0,"",0]
[null,null,null,null,null,null,{"$f":"IF(F495=\"\",\"\",VLOOKUP($F495,WurzelBZweige!$B$6:$AL$116,37,FALSE))","v":""},"",null,null,null,null,null,null,null,0,"",0]
[null,null,null,null,null,null,{"$f":"IF(F496=\"\",\"\",VLOOKUP($F496,WurzelBZweige!$B$6:$AL$116,37,FALSE))","v":""},"",null,null,null,null,null,null,null,0,"",0]
[null,null,null,null,null,null,{"$f":"IF(F497=\"\",\"\",VLOOKUP($F497,WurzelBZweige!$B$6:$AL$116,37,FALSE))","v":""},"",null,null,null,null,null,null,null,0,"",0]
[null,null,null,null,null,null,{"$f":"IF(F498=\"\",\"\",VLOOKUP($F498,WurzelBZweige!$B$6:$AL$116,37,FALSE))","v":""},"",null,null,null,null,null,null,null,0,"",0]
[null,null,null,null,null,null,{"$f":"IF(F499=\"\",\"\",VLOOKUP($F499,WurzelBZweige!$B$6:$AL$116,37,FALSE))","v":""},"",null,null,null,null,null,null,null,0,"",0]
[null,null,null,null,null,null,{"$f":"IF(F500=\"\",\"\",VLOOKUP($F500,WurzelBZweige!$B$6:$AL$116,37,FALSE))","v":""},"",null,null,null,null,null,null,null,0,"",0]
[null,null,null,null,null,null,{"$f":"IF(F501=\"\",\"\",VLOOKUP($F501,WurzelBZweige!$B$6:$AL$116,37,FALSE))","v":""},"",null,null,null,null,null,null,null,0,"",0]
[null,null,null,null,null,null,{"$f":"IF(F502=\"\",\"\",VLOOKUP($F502,WurzelBZweige!$B$6:$AL$116,37,FALSE))","v":""},"",null,null,null,null,null,null,null,0,"",0]
[null,null,null,null,null,null,{"$f":"IF(F503=\"\",\"\",VLOOKUP($F503,WurzelBZweige!$B$6:$AL$116,37,FALSE))","v":""},"",null,null,null,null,null,null,null,0,"",0]
[null,null,null,null,null,null,{"$f":"IF(F504=\"\",\"\",VLOOKUP($F504,WurzelBZweige!$B$6:$AL$116,37,FALSE))","v":""},"",null,null,null,null,null,null,null,0,"",0]
[null,null,null,null,null,null,{"$f":"IF(F505=\"\",\"\",VLOOKUP($F505,WurzelBZweige!$B$6:$AL$116,37,FALSE))","v":""},"",null,null,null,null,null,null,null,0,"",0]
[null,null,null,null,null,null,{"$f":"IF(F506=\"\",\"\",VLOOKUP($F506,WurzelBZweige!$B$6:$AL$116,37,FALSE))","v":""},"",null,null,null,null,null,null,null,0,"",0]
[null,null,null,null,null,null,{"$f":"IF(F507=\"\",\"\",VLOOKUP($F507,WurzelBZweige!$B$6:$AL$116,37,FALSE))","v":""},"",null,null,null,null,null,null,null,0,"",0]
[null,null,null,null,null,null,{"$f":"IF(F508=\"\",\"\",VLOOKUP($F508,WurzelBZweige!$B$6:$AL$116,37,FALSE))","v":""},"",{"$f":"IF($F508=\"\",\"\",VLOOKUP($F508,WurzelBZweige!$AM$5:$AT$116,COLUMN()-7,FALSE)*$H508)","v":""},{"$f":"IF($F508=\"\",\"\",VLOOKUP($F508,WurzelBZweige!$AM$5:$AT$116,COLUMN()-7,FALSE)*$H508)","v":""},{"$f":"IF($F508=\"\",\"\",VLOOKUP($F508,WurzelBZweige!$AM$5:$AT$116,COLUMN()-7,FALSE)*$H508)","v":""},{"$f":"IF($F508=\"\",\"\",VLOOKUP($F508,WurzelBZweige!$AM$5:$AT$116,COLUMN()-7,FALSE)*$H508)","v":""},{"$f":"IF($F508=\"\",\"\",VLOOKUP($F508,WurzelBZweige!$AM$5:$AT$116,COLUMN()-7,FALSE)*$H508)","v":""},{"$f":"IF($F508=\"\",\"\",VLOOKUP($F508,WurzelBZweige!$AM$5:$AT$116,COLUMN()-7,FALSE)*$H508)","v":""},{"$f":"IF($F508=\"\",\"\",VLOOKUP($F508,WurzelBZweige!$AM$5:$AT$116,COLUMN()-7,FALSE)*$H508)","v":""},0,"",0]

{"sheet":"InLeist","index":6,"n_rows":505,"n_cols":19,"rows_kept":505,"cut":false,"hidden":false,"merged":[[1,14,3,14],[1,15,3,15],[1,8,3,8],[1,9,3,9],[1,10,3,10],[1,11,3,11],[1,12,3,12],[1,13,3,13]]}
[null,"Innerbetriebliche Leistungen",null,"Menü","Kostenarten",null,null,null,"Kostenstellen - Betriebszweige",null,null,null,null,null,null,null,null,"plausiSummen"]
[null,null,null,null,null,null,null,null,{"$f":"_Zw1","v":"Sonstiges"},{"$f":"_Zw2","v":0},{"$f":"_Zw3","v":0},{"$f":"_Zw4","v":0},{"$f":"_Zw5","v":0},{"$f":"_Zw6","v":0},{"$f":"_Zw7","v":0},"Schlüssel"]
[null,"Produkt","Menge","Preis ","Kostenarten gruppe","Leistungs- bzw. Kostenart","Schlüssel","Aufteilungs\nbetrag",null,null,null,null,null,null,null,null,null,{"$f":"SUM(H5:H505)-SUM(R5:R505)","v":0},"Anmerkungen"]
[null,null,null,null,null,null,null,null,null,null,null,null,null,null,null,"Schlüssel",null,"Summe aufgeteilte Beträge"]
[null,null,null,null,"Direktleistungen",null,{"$f":"IF(F5=\"\",\"\",VLOOKUP($F5,WurzelBZweige!$B$6:$AL$116,37,FALSE))","v":""},{"$f":"IF(AND(C5=\"\",D5=\"\"),\"\",C5*D5)","v":""},null,null,null,null,null,null,null,{"$f":"IF(OR(G5=\"\",G5=\"Nein\"),0,H5)","v":0},{"$f":"IF(OR(H5=0,H5=\"\",G5=\"JA\"),\"\",H5-SUM(I5:O5))","v":""},{"$f":"SUM(I5:P5)","v":0}]
[null,{"$f":"B5","v":0},{"$f":"C5","v":0},{"$f":"D5","v":0},null,null,{"$f":"IF(F6=\"\",\"\",VLOOKUP($F6,WurzelBZweige!$B$6:$AL$116,37,FALSE))","v":""},{"$f":"H5","v":""},null,null,null,null,null,null,null,{"$f":"IF(OR(G6=\"\",G6=\"Nein\"),0,H6)","v":0},{"$f":"IF(OR(H6=0,H6=\"\",G6=\"JA\"),\"\",H6-SUM(I6:O6))","v":""},{"$f":"SUM(I6:P6)","v":0}]
[null,null,null,null,"Direktleistungen",null,{"$f":"IF(F7=\"\",\"\",VLOOKUP($F7,WurzelBZweige!$B$6:$AL$116,37,FALSE))","v":""},{"$f":"IF(AND(C7=\"\",D7=\"\"),\"\",C7*D7)","v":""},null,null,null,null,null,null,null,0,{"$f":"IF(OR(H7=0,H7=\"\",G7=\"JA\"),\"\",H7-SUM(I7:O7))","v":""},0]
[null,{"$f":"B7","v":0},{"$f":"C7","v":0},{"$f":"D7","v":0},null,null,{"$f":"IF(F8=\"\",\"\",VLOOKUP($F8,WurzelBZweige!$B$6:$AL$116,37,FALSE))","v":""},{"$f":"H7","v":""},null,null,null,null,null,null,null,0,{"$f":"IF(OR(H8=0,H8=\"\",G8=\"JA\"),\"\",H8-SUM(I8:O8))","v":""},0]
[null,null,null,null,"Direktleistungen",null,{"$f":"IF(F9=\"\",\"\",VLOOKUP($F9,WurzelBZweige!$B$6:$AL$116,37,FALSE))","v":""},{"$f":"IF(AND(C9=\"\",D9=\"\"),\"\",C9*D9)","v":""},null,null,null,null,null,null,null,0,{"$f":"IF(OR(H9=0,H9=\"\",G9=\"JA\"),\"\",H9-SUM(I9:O9))","v":""},0]
[null,{"$f":"B9","v":0},{"$f":"C9","v":0},{"$f":"D9","v":0},null,null,{"$f":"IF(F10=\"\",\"\",VLOOKUP($F10,WurzelBZweige!$B$6:$AL$116,37,FALSE))","v":""},{"$f":"H9","v":""},null,null,null,null,null,null,null,0,"",0]
[null,null,null,null,"Direktleistungen",null,{"$f":"IF(F11=\"\",\"\",VLOOKUP($F11,WurzelBZweige!$B$6:$AL$116,37,FALSE))","v":""},{"$f":"IF(AND(C11=\"\",D11=\"\"),\"\",C11*D11)","v":""},null,null,null,null,null,null,null,0,"",0]
[null,{"$f":"B11","v":0},{"$f":"C11","v":0},{"$f":"D11","v":0},null,null,{"$f":"IF(F12=\"\",\"\",VLOOKUP($F12,WurzelBZweige!$B$6:$AL$116,37,FALSE))","v":""},{"$f":"H11","v":""},null,null,null,null,null,null,null,0,"",0]
[null,null,null,null,"Direktleistungen",null,{"$f":"IF(F13=\"\",\"\",VLOOKUP($F13,WurzelBZweige!$B$6:$AL$116,37,FALSE))","v":""},{"$f":"IF(AND(C13=\"\",D13=\"\"),\"\",C13*D13)","v":""},null,null,null,null,null,null,null,0,"",0]
[null,{"$f":"B13","v":0},{"$f":"C13","v":0},{"$f":"D13","v":0},null,null,{"$f":"IF(F14=\"\",\"\",VLOOKUP($F14,WurzelBZweige!$B$6:$AL$116,37,FALSE))","v":""},{"$f":"H13","v":""},null,null,null,null,null,null,null,0,"",0]
[null,null,null,null,"Direktleistungen",null,{"$f":"IF(F15=\"\",\"\",VLOOKUP($F15,WurzelBZweige!$B$6:$AL$116,37,FALSE))","v":""},{"$f":"IF(AND(C15=\"\",D15=\"\"),\"\",C15*D15)","v":""},null,null,null,null,null,null,null,0,"",0]
[null,{"$f":"B15","v":0},{"$f":"C15","v":0},{"$f":"D15","v":0},null,null,{"$f":"IF(F16=\"\",\"\",VLOOKUP($F16,WurzelBZweige!$B$6:$AL$116,37,FALSE))","v":""},{"$f":"H15","v":""},null,null,null,null,null,null,null,0,"",0]
[null,null,null,null,"Direktleistungen",null,{"$f":"IF(F17=\"\",\"\",VLOOKUP($F17,WurzelBZweige!$B$6:$AL$116,37,FALSE))","v":""},{"$f":"IF(AND(C17=\"\",D17=\"\"),\"\",C17*D17)","v":""},null,null,null,null,null,null,null,0,"",0]
[null,{"$f":"B17","v":0},{"$f":"C17","v":0},{"$f":"D17","v":0},null,null,{"$f":"IF(F18=\"\",\"\",VLOOKUP($F18,WurzelBZweige!$B$6:$AL$116,37,FALSE))","v":""},{"$f":"H17","v":""},null,null,null,null,null,null,null,0,"",0]
[null,null,null,null,"Direktleistungen",null,{"$f":"IF(F19=\"\",\"\",VLOOKUP($F19,WurzelBZweige!$B$6:$AL$116,37,FALSE))","v":""},{"$f":"IF(AND(C19=\"\",D19=\"\"),\"\",C19*D19)","v":""},null,null,null,null,null,null,null,0,"",0]
[null,{"$f":"B19","v":0},{"$f":"C19","v":0},{"$f":"D19","v":0},null,null,{"$f":"IF(F20=\"\",\"\",VLOOKUP($F20,WurzelBZweige!$B$6:$AL$116,37,FALSE))","v":""},{"$f":"H19","v":""},null,null,null,null,null,null,null,0,"",0]
[null,null,null,null,"Direktleistungen",null,{"$f":"IF(F21=\"\",\"\",VLOOKUP($F21,WurzelBZweige!$B$6:$AL$116,37,FALSE))","v":""},{"$f":"IF(AND(C21=\"\",D21=\"\"),\"\",C21*D21)","v":""},null,null,null,null,null,null,null,0,"",0]
[null,{"$f":"B21","v":0},{"$f":"C21","v":0},{"$f":"D21","v":0},null,null,{"$f":"IF(F22=\"\",\"\",VLOOKUP($F22,WurzelBZweige!$B$6:$AL$116,37,FALSE))","v":""},{"$f":"H21","v":""},null,null,null,null,null,null,null,0,"",0]
[null,null,null,null,"Direktleistungen",null,{"$f":"IF(F23=\"\",\"\",VLOOKUP($F23,WurzelBZweige!$B$6:$AL$116,37,FALSE))","v":""},{"$f":"IF(AND(C23=\"\",D23=\"\"),\"\",C23*D23)","v":""},null,null,null,null,null,null,null,0,"",0]
[null,{"$f":"B23","v":0},{"$f":"C23","v":0},{"$f":"D23","v":0},null,null,{"$f":"IF(F24=\"\",\"\",VLOOKUP($F24,WurzelBZweige!$B$6:$AL$116,37,FALSE))","v":""},{"$f":"H23","v":""},null,null,null,null,null,null,null,0,"",0]
[null,null,null,null,"Direktleistungen",null,{"$f":"IF(F25=\"\",\"\",VLOOKUP($F25,WurzelBZweige!$B$6:$AL$116,37,FALSE))","v":""},{"$f":"IF(AND(C25=\"\",D25=\"\"),\"\",C25*D25)","v":""},null,null,null,null,null,null,null,0,"",0]
[null,{"$f":"B25","v":0},{"$f":"C25","v":0},{"$f":"D25","v":0},null,null,{"$f":"IF(F26=\"\",\"\",VLOOKUP($F26,WurzelBZweige!$B$6:$AL$116,37,FALSE))","v":""},{"$f":"H25","v":""},null,null,null,null,null,null,null,0,"",0]
[null,null,null,null,"Direktleistungen",null,{"$f":"IF(F27=\"\",\"\",VLOOKUP($F27,WurzelBZweige!$B$6:$AL$116,37,FALSE))","v":""},{"$f":"IF(AND(C27=\"\",D27=\"\"),\"\",C27*D27)","v":""},null,null,null,null,null,null,null,0,"",0]
[null,{"$f":"B27","v":0},{"$f":"C27","v":0},{"$f":"D27","v":0},null,null,{"$f":"IF(F28=\"\",\"\",VLOOKUP($F28,WurzelBZweige!$B$6:$AL$116,37,FALSE))","v":""},{"$f":"H27","v":""},null,null,null,null,null,null,null,0,"",0]
[null,null,null,null,"Direktleistungen",null,{"$f":"IF(F29=\"\",\"\",VLOOKUP($F29,WurzelBZweige!$B$6:$AL$116,37,FALSE))","v":""},{"$f":"IF(AND(C29=\"\",D29=\"\"),\"\",C29*D29)","v":""},null,null,null,null,null,null,null,0,"",0]
[null,{"$f":"B29","v":0},{"$f":"C29","v":0},{"$f":"D29","v":0},null,null,{"$f":"IF(F30=\"\",\"\",VLOOKUP($F30,WurzelBZweige!$B$6:$AL$116,37,FALSE))","v":""},{"$f":"H29","v":""},null,null,null,null,null,null,null,0,"",0]
[null,null,null,null,"Direktleistungen",null,{"$f":"IF(F31=\"\",\"\",VLOOKUP($F31,WurzelBZweige!$B$6:$AL$116,37,FALSE))","v":""},{"$f":"IF(AND(C31=\"\",D31=\"\"),\"\",C31*D31)","v":""},null,null,null,null,null,null,null,0,"",0]
[null,{"$f":"B31","v":0},{"$f":"C31","v":0},{"$f":"D31","v":0},null,null,{"$f":"IF(F32=\"\",\"\",VLOOKUP($F32,WurzelBZweige!$B$6:$AL$116,37,FALSE))","v":""},{"$f":"H31","v":""},null,null,null,null,null,null,null,0,"",0]
[null,null,null,null,"Direktleistungen",null,{"$f":"IF(F33=\"\",\"\",VLOOKUP($F33,WurzelBZweige!$B$6:$AL$116,37,FALSE))","v":""},{"$f":"IF(AND(C33=\"\",D33=\"\"),\"\",C33*D33)","v":""},null,null,null,null,null,null,null,0,"",0]
[null,{"$f":"B33","v":0},{"$f":"C33","v":0},{"$f":"D33","v":0},null,null,{"$f":"IF(F34=\"\",\"\",VLOOKUP($F34,WurzelBZweige!$B$6:$AL$116,37,FALSE))","v":""},{"$f":"H33","v":""},null,null,null,null,null,null,null,0,"",0]
[null,null,null,null,"Direktleistungen",null,{"$f":"IF(F35=\"\",\"\",VLOOKUP($F35,WurzelBZweige!$B$6:$AL$116,37,FALSE))","v":""},{"$f":"IF(AND(C35=\"\",D35=\"\"),\"\",C35*D35)","v":""},null,null,null,null,null,null,null,0,"",0]
[null,{"$f":"B35","v":0},{"$f":"C35","v":0},{"$f":"D35","v":0},null,null,{"$f":"IF(F36=\"\",\"\",VLOOKUP($F36,WurzelBZweige!$B$6:$AL$116,37,FALSE))","v":""},{"$f":"H35","v":""},null,null,null,null,null,null,null,0,"",0]
[null,null,null,null,"Direktleistungen",null,{"$f":"IF(F37=\"\",\"\",VLOOKUP($F37,WurzelBZweige!$B$6:$AL$116,37,FALSE))","v":""},{"$f":"IF(AND(C37=\"\",D37=\"\"),\"\",C37*D37)","v":""},null,null,null,null,null,null,null,0,"",0]
[null,{"$f":"B37","v":0},{"$f":"C37","v":0},{"$f":"D37","v":0},null,null,{"$f":"IF(F38=\"\",\"\",VLOOKUP($F38,WurzelBZweige!$B$6:$AL$116,37,FALSE))","v":""},{"$f":"H37","v":""},null,null,null,null,null,null,null,0,"",0]
[null,null,null,null,"Direktleistungen",null,{"$f":"IF(F39=\"\",\"\",VLOOKUP($F39,WurzelBZweige!$B$6:$AL$116,37,FALSE))","v":""},{"$f":"IF(AND(C39=\"\",D39=\"\"),\"\",C39*D39)","v":""},null,null,null,null,null,null,null,0,"",0]
[null,{"$f":"B39","v":0},{"$f":"C39","v":0},{"$f":"D39","v":0},null,null,{"$f":"IF(F40=\"\",\"\",VLOOKUP($F40,WurzelBZweige!$B$6:$AL$116,37,FALSE))","v":""},{"$f":"H39","v":""},null,null,null,null,null,null,null,0,"",0]
[null,null,null,null,"Direktleistungen",null,{"$f":"IF(F41=\"\",\"\",VLOOKUP($F41,WurzelBZweige!$B$6:$AL$116,37,FALSE))","v":""},{"$f":"IF(AND(C41=\"\",D41=\"\"),\"\",C41*D41)","v":""},null,null,null,null,null,null,null,0,"",0]
[null,{"$f":"B41","v":0},{"$f":"C41","v":0},{"$f":"D41","v":0},null,null,{"$f":"IF(F42=\"\",\"\",VLOOKUP($F42,WurzelBZweige!$B$6:$AL$116,37,FALSE))","v":""},{"$f":"H41","v":""},null,null,null,null,null,null,null,0,"",0]
[null,null,null,null,"Direktleistungen",null,{"$f":"IF(F43=\"\",\"\",VLOOKUP($F43,WurzelBZweige!$B$6:$AL$116,37,FALSE))","v":""},{"$f":"IF(AND(C43=\"\",D43=\"\"),\"\",C43*D43)","v":""},null,null,null,null,null,null,null,0,"",0]
[null,{"$f":"B43","v":0},{"$f":"C43","v":0},{"$f":"D43","v":0},null,null,{"$f":"IF(F44=\"\",\"\",VLOOKUP($F44,WurzelBZweige!$B$6:$AL$116,37,FALSE))","v":""},{"$f":"H43","v":""},null,null,null,null,null,null,null,0,"",0]
[null,null,null,null,"Direktleistungen",null,{"$f":"IF(F45=\"\",\"\",VLOOKUP($F45,WurzelBZweige!$B$6:$AL$116,37,FALSE))","v":""},{"$f":"IF(AND(C45=\"\",D45=\"\"),\"\",C45*D45)","v":""},null,null,null,null,null,null,null,0,"",0]
[null,{"$f":"B45","v":0},{"$f":"C45","v":0},{"$f":"D45","v":0},null,null,{"$f":"IF(F46=\"\",\"\",VLOOKUP($F46,WurzelBZweige!$B$6:$AL$116,37,FALSE))","v":""},{"$f":"H45","v":""},null,null,null,null,null,null,null,0,"",0]
[null,null,null,null,"Direktleistungen",null,{"$f":"IF(F47=\"\",\"\",VLOOKUP($F47,WurzelBZweige!$B$6:$AL$116,37,FALSE))","v":""},{"$f":"IF(AND(C47=\"\",D47=\"\"),\"\",C47*D47)","v":""},null,null,null,null,null,null,null,0,"",0]
[null,{"$f":"B47","v":0},{"$f":"C47","v":0},{"$f":"D47","v":0},null,null,{"$f":"IF(F48=\"\",\"\",VLOOKUP($F48,WurzelBZweige!$B$6:$AL$116,37,FALSE))","v":""},{"$f":"H47","v":""},null,null,null,null,null,null,null,0,"",0]
[null,null,null,null,"Direktleistungen",null,{"$f":"IF(F49=\"\",\"\",VLOOKUP($F49,WurzelBZweige!$B$6:$AL$116,37,FALSE))","v":""},{"$f":"IF(AND(C49=\"\",D49=\"\"),\"\",C49*D49)","v":""},null,null,null,null,null,null,null,0,"",0]
[null,{"$f":"B49","v":0},{"$f":"C49","v":0},{"$f":"D49","v":0},null,null,{"$f":"IF(F50=\"\",\"\",VLOOKUP($F50,WurzelBZweige!$B$6:$AL$116,37,FALSE))","v":""},{"$f":"H49","v":""},null,null,null,null,null,null,null,0,"",0]
[null,null,null,null,"Direktleistungen",null,{"$f":"IF(F51=\"\",\"\",VLOOKUP($F51,WurzelBZweige!$B$6:$AL$116,37,FALSE))","v":""},{"$f":"IF(AND(C51=\"\",D51=\"\"),\"\",C51*D51)","v":""},null,null,null,null,null,null,null,0,"",0]
[null,{"$f":"B51","v":0},{"$f":"C51","v":0},{"$f":"D51","v":0},null,null,{"$f":"IF(F52=\"\",\"\",VLOOKUP($F52,WurzelBZweige!$B$6:$AL$116,37,FALSE))","v":""},{"$f":"H51","v":""},null,null,null,null,null,null,null,0,"",0]
[null,null,null,null,"Direktleistungen",null,{"$f":"IF(F53=\"\",\"\",VLOOKUP($F53,WurzelBZweige!$B$6:$AL$116,37,FALSE))","v":""},{"$f":"IF(AND(C53=\"\",D53=\"\"),\"\",C53*D53)","v":""},null,null,null,null,null,null,null,0,"",0]
[null,{"$f":"B53","v":0},{"$f":"C53","v":0},{"$f":"D53","v":0},null,null,{"$f":"IF(F54=\"\",\"\",VLOOKUP($F54,WurzelBZweige!$B$6:$AL$116,37,FALSE))","v":""},{"$f":"H53","v":""},null,null,null,null,null,null,null,0,"",0]
[null,null,null,null,"Direktleistungen",null,{"$f":"IF(F55=\"\",\"\",VLOOKUP($F55,WurzelBZweige!$B$6:$AL$116,37,FALSE))","v":""},{"$f":"IF(AND(C55=\"\",D55=\"\"),\"\",C55*D55)","v":""},null,null,null,null,null,null,null,0,"",0]
[null,{"$f":"B55","v":0},{"$f":"C55","v":0},{"$f":"D55","v":0},null,null,{"$f":"IF(F56=\"\",\"\",VLOOKUP($F56,WurzelBZweige!$B$6:$AL$116,37,FALSE))","v":""},{"$f":"H55","v":""},null,null,null,null,null,null,null,0,"",0]
[null,null,null,null,"Direktleistungen",null,{"$f":"IF(F57=\"\",\"\",VLOOKUP($F57,WurzelBZweige!$B$6:$AL$116,37,FALSE))","v":""},{"$f":"IF(AND(C57=\"\",D57=\"\"),\"\",C57*D57)","v":""},null,null,null,null,null,null,null,0,"",0]
[null,{"$f":"B57","v":0},{"$f":"C57","v":0},{"$f":"D57","v":0},null,null,{"$f":"IF(F58=\"\",\"\",VLOOKUP($F58,WurzelBZweige!$B$6:$AL$116,37,FALSE))","v":""},{"$f":"H57","v":""},null,null,null,null,null,null,null,0,"",0]
[null,null,null,null,"Direktleistungen",null,{"$f":"IF(F59=\"\",\"\",VLOOKUP($F59,WurzelBZweige!$B$6:$AL$116,37,FALSE))","v":""},{"$f":"IF(AND(C59=\"\",D59=\"\"),\"\",C59*D59)","v":""},null,null,null,null,null,null,null,0,"",0]
[null,{"$f":"B59","v":0},{"$f":"C59","v":0},{"$f":"D59","v":0},null,null,{"$f":"IF(F60=\"\",\"\",VLOOKUP($F60,WurzelBZweige!$B$6:$AL$116,37,FALSE))","v":""},{"$f":"H59","v":""},null,null,null,null,null,null,null,0,"",0]
[null,null,null,null,"Direktleistungen",null,{"$f":"IF(F61=\"\",\"\",VLOOKUP($F61,WurzelBZweige!$B$6:$AL$116,37,FALSE))","v":""},{"$f":"IF(AND(C61=\"\",D61=\"\"),\"\",C61*D61)","v":""},null,null,null,null,null,null,null,0,"",0]
[null,{"$f":"B61","v":0},{"$f":"C61","v":0},{"$f":"D61","v":0},null,null,{"$f":"IF(F62=\"\",\"\",VLOOKUP($F62,WurzelBZweige!$B$6:$AL$116,37,FALSE))","v":""},{"$f":"H61","v":""},null,null,null,null,null,null,null,0,"",0]
[null,null,null,null,"Direktleistungen",null,{"$f":"IF(F63=\"\",\"\",VLOOKUP($F63,WurzelBZweige!$B$6:$AL$116,37,FALSE))","v":""},{"$f":"IF(AND(C63=\"\",D63=\"\"),\"\",C63*D63)","v":""},null,null,null,null,null,null,null,0,"",0]
[null,{"$f":"B63","v":0},{"$f":"C63","v":0},{"$f":"D63","v":0},null,null,{"$f":"IF(F64=\"\",\"\",VLOOKUP($F64,WurzelBZweige!$B$6:$AL$116,37,FALSE))","v":""},{"$f":"H63","v":""},null,null,null,null,null,null,null,0,"",0]
[null,null,null,null,"Direktleistungen",null,{"$f":"IF(F65=\"\",\"\",VLOOKUP($F65,WurzelBZweige!$B$6:$AL$116,37,FALSE))","v":""},{"$f":"IF(AND(C65=\"\",D65=\"\"),\"\",C65*D65)","v":""},null,null,null,null,null,null,null,0,"",0]
[null,{"$f":"B65","v":0},{"$f":"C65","v":0},{"$f":"D65","v":0},null,null,{"$f":"IF(F66=\"\",\"\",VLOOKUP($F66,WurzelBZweige!$B$6:$AL$116,37,FALSE))","v":""},{"$f":"H65","v":""},null,null,null,null,null,null,null,0,"",0]
[null,null,null,null,"Direktleistungen",null,{"$f":"IF(F67=\"\",\"\",VLOOKUP($F67,WurzelBZweige!$B$6:$AL$116,37,FALSE))","v":""},{"$f":"IF(AND(C67=\"\",D67=\"\"),\"\",C67*D67)","v":""},null,null,null,null,null,null,null,0,"",0]
[null,{"$f":"B67","v":0},{"$f":"C67","v":0},{"$f":"D67","v":0},null,null,{"$f":"IF(F68=\"\",\"\",VLOOKUP($F68,WurzelBZweige!$B$6:$AL$116,37,FALSE))","v":""},{"$f":"H67","v":""},null,null,null,null,null,null,null,0,"",0]
[null,null,null,null,"Direktleistungen",null,{"$f":"IF(F69=\"\",\"\",VLOOKUP($F69,WurzelBZweige!$B$6:$AL$116,37,FALSE))","v":""},{"$f":"IF(AND(C69=\"\",D69=\"\"),\"\",C69*D69)","v":""},null,null,null,null,null,null,null,0,"",0]
[null,{"$f":"B69","v":0},{"$f":"C69","v":0},{"$f":"D69","v":0},null,null,{"$f":"IF(F70=\"\",\"\",VLOOKUP($F70,WurzelBZweige!$B$6:$AL$116,37,FALSE))","v":""},{"$f":"H69","v":""},null,null,null,null,null,null,null,{"$f":"IF(OR(G70=\"\",G70=\"Nein\"),0,H70)","v":0},"",{"$f":"SUM(I70:P70)","v":0}]
[null,null,null,null,"Direktleistungen",null,{"$f":"IF(F71=\"\",\"\",VLOOKUP($F71,WurzelBZweige!$B$6:$AL$116,37,FALSE))","v":""},{"$f":"IF(AND(C71=\"\",D71=\"\"),\"\",C71*D71)","v":""},null,null,null,null,null,null,null,0,"",0]
[null,{"$f":"B71","v":0},{"$f":"C71","v":0},{"$f":"D71","v":0},null,null,{"$f":"IF(F72=\"\",\"\",VLOOKUP($F72,WurzelBZweige!$B$6:$AL$116,37,FALSE))","v":""},{"$f":"H71","v":""},null,null,null,null,null,null,null,0,"",0]
[null,null,null,null,"Direktleistungen",null,{"$f":"IF(F73=\"\",\"\",VLOOKUP($F73,WurzelBZweige!$B$6:$AL$116,37,FALSE))","v":""},{"$f":"IF(AND(C73=\"\",D73=\"\"),\"\",C73*D73)","v":""},null,null,null,null,null,null,null,0,{"$f":"IF(OR(H73=0,H73=\"\",G73=\"JA\"),\"\",H73-SUM(I73:O73))","v":""},0]
[null,{"$f":"B73","v":0},{"$f":"C73","v":0},{"$f":"D73","v":0},null,null,{"$f":"IF(F74=\"\",\"\",VLOOKUP($F74,WurzelBZweige!$B$6:$AL$116,37,FALSE))","v":""},{"$f":"H73","v":""},null,null,null,null,null,null,null,0,"",0]
[null,null,null,null,"Direktleistungen",null,{"$f":"IF(F75=\"\",\"\",VLOOKUP($F75,WurzelBZweige!$B$6:$AL$116,37,FALSE))","v":""},{"$f":"IF(AND(C75=\"\",D75=\"\"),\"\",C75*D75)","v":""},null,null,null,null,null,null,null,0,"",0]
[null,{"$f":"B75","v":0},{"$f":"C75","v":0},{"$f":"D75","v":0},null,null,{"$f":"IF(F76=\"\",\"\",VLOOKUP($F76,WurzelBZweige!$B$6:$AL$116,37,FALSE))","v":""},{"$f":"H75","v":""},null,null,null,null,null,null,null,0,"",0]
[null,null,null,null,"Direktleistungen",null,{"$f":"IF(F77=\"\",\"\",VLOOKUP($F77,WurzelBZweige!$B$6:$AL$116,37,FALSE))","v":""},{"$f":"IF(AND(C77=\"\",D77=\"\"),\"\",C77*D77)","v":""},null,null,null,null,null,null,null,0,"",0]
[null,{"$f":"B77","v":0},{"$f":"C77","v":0},{"$f":"D77","v":0},null,null,{"$f":"IF(F78=\"\",\"\",VLOOKUP($F78,WurzelBZweige!$B$6:$AL$116,37,FALSE))","v":""},{"$f":"H77","v":""},null,null,null,null,null,null,null,0,"",0]
[null,null,null,null,"Direktleistungen",null,{"$f":"IF(F79=\"\",\"\",VLOOKUP($F79,WurzelBZweige!$B$6:$AL$116,37,FALSE))","v":""},{"$f":"IF(AND(C79=\"\",D79=\"\"),\"\",C79*D79)","v":""},null,null,null,null,null,null,null,0,"",0]
[null,{"$f":"B79","v":0},{"$f":"C79","v":0},{"$f":"D79","v":0},null,null,{"$f":"IF(F80=\"\",\"\",VLOOKUP($F80,WurzelBZweige!$B$6:$AL$116,37,FALSE))","v":""},{"$f":"H79","v":""},null,null,null,null,null,null,null,0,"",0]
[null,null,null,null,"Direktleistungen",null,{"$f":"IF(F81=\"\",\"\",VLOOKUP($F81,WurzelBZweige!$B$6:$AL$116,37,FALSE))","v":""},{"$f":"IF(AND(C81=\"\",D81=\"\"),\"\",C81*D81)","v":""},null,null,null,null,null,null,null,0,"",0]
[null,{"$f":"B81","v":0},{"$f":"C81","v":0},{"$f":"D81","v":0},null,null,{"$f":"IF(F82=\"\",\"\",VLOOKUP($F82,WurzelBZweige!$B$6:$AL$116,37,FALSE))","v":""},{"$f":"H81","v":""},null,null,null,null,null,null,null,0,"",0]
[null,null,null,null,"Direktleistungen",null,{"$f":"IF(F83=\"\",\"\",VLOOKUP($F83,WurzelBZweige!$B$6:$AL$116,37,FALSE))","v":""},{"$f":"IF(AND(C83=\"\",D83=\"\"),\"\",C83*D83)","v":""},null,null,null,null,null,null,null,0,"",0]
[null,{"$f":"B83","v":0},{"$f":"C83","v":0},{"$f":"D83","v":0},null,null,{"$f":"IF(F84=\"\",\"\",VLOOKUP($F84,WurzelBZweige!$B$6:$AL$116,37,FALSE))","v":""},{"$f":"H83","v":""},null,null,null,null,null,null,null,0,"",0]
[null,null,null,null,"Direktleistungen",null,{"$f":"IF(F85=\"\",\"\",VLOOKUP($F85,WurzelBZweige!$B$6:$AL$116,37,FALSE))","v":""},{"$f":"IF(AND(C85=\"\",D85=\"\"),\"\",C85*D85)","v":""},null,null,null,null,null,null,null,0,"",0]
[null,{"$f":"B85","v":0},{"$f":"C85","v":0},{"$f":"D85","v":0},null,null,{"$f":"IF(F86=\"\",\"\",VLOOKUP($F86,WurzelBZweige!$B$6:$AL$116,37,FALSE))","v":""},{"$f":"H85","v":""},null,null,null,null,null,null,null,0,"",0]
[null,null,null,null,"Direktleistungen",null,{"$f":"IF(F87=\"\",\"\",VLOOKUP($F87,WurzelBZweige!$B$6:$AL$116,37,FALSE))","v":""},{"$f":"IF(AND(C87=\"\",D87=\"\"),\"\",C87*D87)","v":""},null,null,null,null,null,null,null,0,"",0]
[null,{"$f":"B87","v":0},{"$f":"C87","v":0},{"$f":"D87","v":0},null,null,{"$f":"IF(F88=\"\",\"\",VLOOKUP($F88,WurzelBZweige!$B$6:$AL$116,37,FALSE))","v":""},{"$f":"H87","v":""},null,null,null,null,null,null,null,0,"",0]
[null,null,null,null,"Direktleistungen",null,{"$f":"IF(F89=\"\",\"\",VLOOKUP($F89,WurzelBZweige!$B$6:$AL$116,37,FALSE))","v":""},{"$f":"IF(AND(C89=\"\",D89=\"\"),\"\",C89*D89)","v":""},null,null,null,null,null,null,null,0,"",0]
[null,{"$f":"B89","v":0},{"$f":"C89","v":0},{"$f":"D89","v":0},null,null,{"$f":"IF(F90=\"\",\"\",VLOOKUP($F90,WurzelBZweige!$B$6:$AL$116,37,FALSE))","v":""},{"$f":"H89","v":""},null,null,null,null,null,null,null,0,"",0]
[null,null,null,null,"Direktleistungen",null,{"$f":"IF(F91=\"\",\"\",VLOOKUP($F91,WurzelBZweige!$B$6:$AL$116,37,FALSE))","v":""},{"$f":"IF(AND(C91=\"\",D91=\"\"),\"\",C91*D91)","v":""},null,null,null,null,null,null,null,0,"",0]
[null,{"$f":"B91","v":0},{"$f":"C91","v":0},{"$f":"D91","v":0},null,null,{"$f":"IF(F92=\"\",\"\",VLOOKUP($F92,WurzelBZweige!$B$6:$AL$116,37,FALSE))","v":""},{"$f":"H91","v":""},null,null,null,null,null,null,null,0,"",0]
[null,null,null,null,"Direktleistungen",null,{"$f":"IF(F93=\"\",\"\",VLOOKUP($F93,WurzelBZweige!$B$6:$AL$116,37,FALSE))","v":""},{"$f":"IF(AND(C93=\"\",D93=\"\"),\"\",C93*D93)","v":""},null,null,null,null,null,null,null,0,"",0]
[null,{"$f":"B93","v":0},{"$f":"C93","v":0},{"$f":"D93","v":0},null,null,{"$f":"IF(F94=\"\",\"\",VLOOKUP($F94,WurzelBZweige!$B$6:$AL$116,37,FALSE))","v":""},{"$f":"H93","v":""},null,null,null,null,null,null,null,0,"",0]
[null,null,null,null,"Direktleistungen",null,{"$f":"IF(F95=\"\",\"\",VLOOKUP($F95,WurzelBZweige!$B$6:$AL$116,37,FALSE))","v":""},{"$f":"IF(AND(C95=\"\",D95=\"\"),\"\",C95*D95)","v":""},null,null,null,null,null,null,null,0,"",0]
[null,{"$f":"B95","v":0},{"$f":"C95","v":0},{"$f":"D95","v":0},null,null,{"$f":"IF(F96=\"\",\"\",VLOOKUP($F96,WurzelBZweige!$B$6:$AL$116,37,FALSE))","v":""},{"$f":"H95","v":""},null,null,null,null,null,null,null,0,"",0]
[null,null,null,null,"Direktleistungen",null,{"$f":"IF(F97=\"\",\"\",VLOOKUP($F97,WurzelBZweige!$B$6:$AL$116,37,FALSE))","v":""},{"$f":"IF(AND(C97=\"\",D97=\"\"),\"\",C97*D97)","v":""},null,null,null,null,null,null,null,0,"",0]
[null,{"$f":"B97","v":0},{"$f":"C97","v":0},{"$f":"D97","v":0},null,null,{"$f":"IF(F98=\"\",\"\",VLOOKUP($F98,WurzelBZweige!$B$6:$AL$116,37,FALSE))","v":""},{"$f":"H97","v":""},null,null,null,null,null,null,null,0,"",0]
[null,null,null,null,"Direktleistungen",null,{"$f":"IF(F99=\"\",\"\",VLOOKUP($F99,WurzelBZweige!$B$6:$AL$116,37,FALSE))","v":""},{"$f":"IF(AND(C99=\"\",D99=\"\"),\"\",C99*D99)","v":""},null,null,null,null,null,null,null,0,"",0]
[null,{"$f":"B99","v":0},{"$f":"C99","v":0},{"$f":"D99","v":0},null,null,{"$f":"IF(F100=\"\",\"\",VLOOKUP($F100,WurzelBZweige!$B$6:$AL$116,37,FALSE))","v":""},{"$f":"H99","v":""},null,null,null,null,null,null,null,0,"",0]
[null,null,null,null,"Direktleistungen",null,{"$f":"IF(F101=\"\",\"\",VLOOKUP($F101,WurzelBZweige!$B$6:$AL$116,37,FALSE))","v":""},{"$f":"IF(AND(C101=\"\",D101=\"\"),\"\",C101*D101)","v":""},null,null,null,null,null,null,null,0,"",0]
[null,{"$f":"B101","v":0},{"$f":"C101","v":0},{"$f":"D101","v":0},null,null,{"$f":"IF(F102=\"\",\"\",VLOOKUP($F102,WurzelBZweige!$B$6:$AL$116,37,FALSE))","v":""},{"$f":"H101","v":""},null,null,null,null,null,null,null,0,"",0]
[null,null,null,null,"Direktleistungen",null,{"$f":"IF(F103=\"\",\"\",VLOOKUP($F103,WurzelBZweige!$B$6:$AL$116,37,FALSE))","v":""},{"$f":"IF(AND(C103=\"\",D103=\"\"),\"\",C103*D103)","v":""},null,null,null,null,null,null,null,0,"",0]
[null,{"$f":"B103","v":0},{"$f":"C103","v":0},{"$f":"D103","v":0},null,null,{"$f":"IF(F104=\"\",\"\",VLOOKUP($F104,WurzelBZweige!$B$6:$AL$116,37,FALSE))","v":""},{"$f":"H103","v":""},null,null,null,null,null,null,null,0,"",0]
[null,null,null,null,null,null,{"$f":"IF(F105=\"\",\"\",VLOOKUP($F105,WurzelBZweige!$B$6:$AL$116,37,FALSE))","v":""},{"$f":"IF(AND(C105=\"\",D105=\"\"),\"\",C105+D105)","v":""},null,null,null,null,null,null,null,0,null,0]
[null,null,null,null,null,null,{"$f":"IF(F106=\"\",\"\",VLOOKUP($F106,WurzelBZweige!$B$6:$AL$116,37,FALSE))","v":""},"",null,null,null,null,null,null,null,0,null,0]
[null,null,null,null,null,null,{"$f":"IF(F107=\"\",\"\",VLOOKUP($F107,WurzelBZweige!$B$6:$AL$116,37,FALSE))","v":""},"",null,null,null,null,null,null,null,0,null,0]
[null,null,null,null,null,null,{"$f":"IF(F108=\"\",\"\",VLOOKUP($F108,WurzelBZweige!$B$6:$AL$116,37,FALSE))","v":""},"",null,null,null,null,null,null,null,0,null,0]
[null,null,null,null,null,null,{"$f":"IF(F109=\"\",\"\",VLOOKUP($F109,WurzelBZweige!$B$6:$AL$116,37,FALSE))","v":""},"",null,null,null,null,null,null,null,0,null,0]
[null,null,null,null,null,null,{"$f":"IF(F110=\"\",\"\",VLOOKUP($F110,WurzelBZweige!$B$6:$AL$116,37,FALSE))","v":""},"",null,null,null,null,null,null,null,0,null,0]
[null,null,null,null,null,null,{"$f":"IF(F111=\"\",\"\",VLOOKUP($F111,WurzelBZweige!$B$6:$AL$116,37,FALSE))","v":""},"",null,null,null,null,null,null,null,0,null,0]
[null,null,null,null,null,null,{"$f":"IF(F112=\"\",\"\",VLOOKUP($F112,WurzelBZweige!$B$6:$AL$116,37,FALSE))","v":""},"",null,null,null,null,null,null,null,0,null,0]
[null,null,null,null,null,null,{"$f":"IF(F113=\"\",\"\",VLOOKUP($F113,WurzelBZweige!$B$6:$AL$116,37,FALSE))","v":""},"",null,null,null,null,null,null,null,0,null,0]
[null,null,null,null,null,null,{"$f":"IF(F114=\"\",\"\",VLOOKUP($F114,WurzelBZweige!$B$6:$AL$116,37,FALSE))","v":""},"",null,null,null,null,null,null,null,0,null,0]
[null,null,null,null,null,null,{"$f":"IF(F115=\"\",\"\",VLOOKUP($F115,WurzelBZweige!$B$6:$AL$116,37,FALSE))","v":""},"",null,null,null,null,null,null,null,0,null,0]
[null,null,null,null,null,null,{"$f":"IF(F116=\"\",\"\",VLOOKUP($F116,WurzelBZweige!$B$6:$AL$116,37,FALSE))","v":""},"",null,null,null,null,null,null,null,0,null,0]
[null,null,null,null,null,null,{"$f":"IF(F117=\"\",\"\",VLOOKUP($F117,WurzelBZweige!$B$6:$AL$116,37,FALSE))","v":""},"",null,null,null,null,null,null,null,0,null,0]
[null,null,null,null,null,null,{"$f":"IF(F118=\"\",\"\",VLOOKUP($F118,WurzelBZweige!$B$6:$AL$116,37,FALSE))","v":""},"",null,null,null,null,null,null,null,0,null,0]
[null,null,null,null,null,null,{"$f":"IF(F119=\"\",\"\",VLOOKUP($F119,WurzelBZweige!$B$6:$AL$116,37,FALSE))","v":""},"",null,null,null,null,null,null,null,0,null,0]
[null,null,null,null,null,null,{"$f":"IF(F120=\"\",\"\",VLOOKUP($F120,WurzelBZweige!$B$6:$AL$116,37,FALSE))","v":""},"",null,null,null,null,null,null,null,0,null,0]
[null,null,null,null,null,null,{"$f":"IF(F121=\"\",\"\",VLOOKUP($F121,WurzelBZweige!$B$6:$AL$116,37,FALSE))","v":""},"",null,null,null,null,null,null,null,0,null,0]
[null,null,null,null,null,null,{"$f":"IF(F122=\"\",\"\",VLOOKUP($F122,WurzelBZweige!$B$6:$AL$116,37,FALSE))","v":""},"",null,null,null,null,null,null,null,0,null,0]
[null,null,null,null,null,null,{"$f":"IF(F123=\"\",\"\",VLOOKUP($F123,WurzelBZweige!$B$6:$AL$116,37,FALSE))","v":""},"",null,null,null,null,null,null,null,0,null,0]
[null,null,null,null,null,null,{"$f":"IF(F124=\"\",\"\",VLOOKUP($F124,WurzelBZweige!$B$6:$AL$116,37,FALSE))","v":""},"",null,null,null,null,null,null,null,0,null,0]
[null,null,null,null,null,null,{"$f":"IF(F125=\"\",\"\",VLOOKUP($F125,WurzelBZweige!$B$6:$AL$116,37,FALSE))","v":""},"",null,null,null,null,null,null,null,0,null,0]
[null,null,null,null,null,null,{"$f":"IF(F126=\"\",\"\",VLOOKUP($F126,WurzelBZweige!$B$6:$AL$116,37,FALSE))","v":""},"",null,null,null,null,null,null,null,0,null,0]
[null,null,null,null,null,null,{"$f":"IF(F127=\"\",\"\",VLOOKUP($F127,WurzelBZweige!$B$6:$AL$116,37,FALSE))","v":""},"",null,null,null,null,null,null,null,0,null,0]
[null,null,null,null,null,null,{"$f":"IF(F128=\"\",\"\",VLOOKUP($F128,WurzelBZweige!$B$6:$AL$116,37,FALSE))","v":""},"",null,null,null,null,null,null,null,0,null,0]
[null,null,null,null,null,null,{"$f":"IF(F129=\"\",\"\",VLOOKUP($F129,WurzelBZweige!$B$6:$AL$116,37,FALSE))","v":""},"",null,null,null,null,null,null,null,0,null,0]
[null,null,null,null,null,null,{"$f":"IF(F130=\"\",\"\",VLOOKUP($F130,WurzelBZweige!$B$6:$AL$116,37,FALSE))","v":""},"",null,null,null,null,null,null,null,0,null,0]
[null,null,null,null,null,null,{"$f":"IF(F131=\"\",\"\",VLOOKUP($F131,WurzelBZweige!$B$6:$AL$116,37,FALSE))","v":""},"",null,null,null,null,null,null,null,0,null,0]
[null,null,null,null,null,null,{"$f":"IF(F132=\"\",\"\",VLOOKUP($F132,WurzelBZweige!$B$6:$AL$116,37,FALSE))","v":""},"",null,null,null,null,null,null,null,0,null,0]
[null,null,null,null,null,null,{"$f":"IF(F133=\"\",\"\",VLOOKUP($F133,WurzelBZweige!$B$6:$AL$116,37,FALSE))","v":""},"",null,null,null,null,null,null,null,0,null,0]
[null,null,null,null,null,null,{"$f":"IF(F134=\"\",\"\",VLOOKUP($F134,WurzelBZweige!$B$6:$AL$116,37,FALSE))","v":""},{"$f":"IF(AND(C134=\"\",D134=\"\"),\"\",C134+D134)","v":""},null,null,null,null,null,null,null,{"$f":"IF(OR(G134=\"\",G134=\"Nein\"),0,H134)","v":0},null,{"$f":"SUM(I134:P134)","v":0}]
[null,null,null,null,null,null,{"$f":"IF(F135=\"\",\"\",VLOOKUP($F135,WurzelBZweige!$B$6:$AL$116,37,FALSE))","v":""},"",null,null,null,null,null,null,null,0,null,0]
[null,null,null,null,null,null,{"$f":"IF(F136=\"\",\"\",VLOOKUP($F136,WurzelBZweige!$B$6:$AL$116,37,FALSE))","v":""},"",null,null,null,null,null,null,null,0,null,0]
[null,null,null,null,null,null,{"$f":"IF(F137=\"\",\"\",VLOOKUP($F137,WurzelBZweige!$B$6:$AL$116,37,FALSE))","v":""},"",null,null,null,null,null,null,null,0,null,0]
[null,null,null,null,null,null,{"$f":"IF(F138=\"\",\"\",VLOOKUP($F138,WurzelBZweige!$B$6:$AL$116,37,FALSE))","v":""},"",null,null,null,null,null,null,null,0,null,0]
[null,null,null,null,null,null,{"$f":"IF(F139=\"\",\"\",VLOOKUP($F139,WurzelBZweige!$B$6:$AL$116,37,FALSE))","v":""},"",null,null,null,null,null,null,null,0,null,0]
[null,null,null,null,null,null,{"$f":"IF(F140=\"\",\"\",VLOOKUP($F140,WurzelBZweige!$B$6:$AL$116,37,FALSE))","v":""},"",null,null,null,null,null,null,null,0,null,0]
[null,null,null,null,null,null,{"$f":"IF(F141=\"\",\"\",VLOOKUP($F141,WurzelBZweige!$B$6:$AL$116,37,FALSE))","v":""},"",null,null,null,null,null,null,null,0,null,0]
[null,null,null,null,null,null,{"$f":"IF(F142=\"\",\"\",VLOOKUP($F142,WurzelBZweige!$B$6:$AL$116,37,FALSE))","v":""},"",null,null,null,null,null,null,null,0,null,0]
[null,null,null,null,null,null,{"$f":"IF(F143=\"\",\"\",VLOOKUP($F143,WurzelBZweige!$B$6:$AL$116,37,FALSE))","v":""},"",null,null,null,null,null,null,null,0,null,0]
[null,null,null,null,null,null,{"$f":"IF(F144=\"\",\"\",VLOOKUP($F144,WurzelBZweige!$B$6:$AL$116,37,FALSE))","v":""},"",null,null,null,null,null,null,null,0,null,0]
[null,null,null,null,null,null,{"$f":"IF(F145=\"\",\"\",VLOOKUP($F145,WurzelBZweige!$B$6:$AL$116,37,FALSE))","v":""},"",null,null,null,null,null,null,null,0,null,0]
[null,null,null,null,null,null,{"$f":"IF(F146=\"\",\"\",VLOOKUP($F146,WurzelBZweige!$B$6:$AL$116,37,FALSE))","v":""},"",null,null,null,null,null,null,null,0,null,0]
[null,null,null,null,null,null,{"$f":"IF(F147=\"\",\"\",VLOOKUP($F147,WurzelBZweige!$B$6:$AL$116,37,FALSE))","v":""},"",null,null,null,null,null,null,null,0,null,0]
[null,null,null,null,null,null,{"$f":"IF(F148=\"\",\"\",VLOOKUP($F148,WurzelBZweige!$B$6:$AL$116,37,FALSE))","v":""},"",null,null,null,null,null,null,null,0,null,0]
[null,null,null,null,null,null,{"$f":"IF(F149=\"\",\"\",VLOOKUP($F149,WurzelBZweige!$B$6:$AL$116,37,FALSE))","v":""},"",null,null,null,null,null,null,null,0,null,0]
[null,null,null,null,null,null,{"$f":"IF(F150=\"\",\"\",VLOOKUP($F150,WurzelBZweige!$B$6:$AL$116,37,FALSE))","v":""},"",null,null,null,null,null,null,null,0,null,0]
[null,null,null,null,null,null,{"$f":"IF(F151=\"\",\"\",VLOOKUP($F151,WurzelBZweige!$B$6:$AL$116,37,FALSE))","v":""},"",null,null,null,null,null,null,null,0,null,0]
[null,null,null,null,null,null,{"$f":"IF(F152=\"\",\"\",VLOOKUP($F152,WurzelBZweige!$B$6:$AL$116,37,FALSE))","v":""},"",null,null,null,null,null,null,null,0,null,0]
[null,null,null,null,null,null,{"$f":"IF(F153=\"\",\"\",VLOOKUP($F153,WurzelBZweige!$B$6:$AL$116,37,FALSE))","v":""},"",null,null,null,null,null,null,null,0,null,0]
[null,null,null,null,null,null,{"$f":"IF(F154=\"\",\"\",VLOOKUP($F154,WurzelBZweige!$B$6:$AL$116,37,FALSE))","v":""},"",null,null,null,null,null,null,null,0,null,0]
[null,null,null,null,null,null,{"$f":"IF(F155=\"\",\"\",VLOOKUP($F155,WurzelBZweige!$B$6:$AL$116,37,FALSE))","v":""},"",null,null,null,null,null,null,null,0,null,0]
[null,null,null,null,null,null,{"$f":"IF(F156=\"\",\"\",VLOOKUP($F156,WurzelBZweige!$B$6:$AL$116,37,FALSE))","v":""},"",null,null,null,null,null,null,null,0,null,0]
[null,null,null,null,null,null,{"$f":"IF(F157=\"\",\"\",VLOOKUP($F157,WurzelBZweige!$B$6:$AL$116,37,FALSE))","v":""},"",null,null,null,null,null,null,null,0,null,0]
[null,null,null,null,null,null,{"$f":"IF(F158=\"\",\"\",VLOOKUP($F158,WurzelBZweige!$B$6:$AL$116,37,FALSE))","v":""},"",null,null,null,null,null,null,null,0,null,0]
[null,null,null,null,null,null,{"$f":"IF(F159=\"\",\"\",VLOOKUP($F159,WurzelBZweige!$B$6:$AL$116,37,FALSE))","v":""},"",null,null,null,null,null,null,null,0,null,0]
[null,null,null,null,null,null,{"$f":"IF(F160=\"\",\"\",VLOOKUP($F160,WurzelBZweige!$B$6:$AL$116,37,FALSE))","v":""},"",null,null,null,null,null,null,null,0,null,0]
[null,null,null,null,null,null,{"$f":"IF(F161=\"\",\"\",VLOOKUP($F161,WurzelBZweige!$B$6:$AL$116,37,FALSE))","v":""},"",null,null,null,null,null,null,null,0,null,0]
[null,null,null,null,null,null,{"$f":"IF(F162=\"\",\"\",VLOOKUP($F162,WurzelBZweige!$B$6:$AL$116,37,FALSE))","v":""},"",null,null,null,null,null,null,null,0,null,0]
[null,null,null,null,null,null,{"$f":"IF(F163=\"\",\"\",VLOOKUP($F163,WurzelBZweige!$B$6:$AL$116,37,FALSE))","v":""},"",null,null,null,null,null,null,null,0,null,0]
[null,null,null,null,null,null,{"$f":"IF(F164=\"\",\"\",VLOOKUP($F164,WurzelBZweige!$B$6:$AL$116,37,FALSE))","v":""},"",null,null,null,null,null,null,null,0,null,0]
[null,null,null,null,null,null,{"$f":"IF(F165=\"\",\"\",VLOOKUP($F165,WurzelBZweige!$B$6:$AL$116,37,FALSE))","v":""},"",null,null,null,null,null,null,null,0,null,0]
[null,null,null,null,null,null,{"$f":"IF(F166=\"\",\"\",VLOOKUP($F166,WurzelBZweige!$B$6:$AL$116,37,FALSE))","v":""},"",null,null,null,null,null,null,null,0,null,0]
[null,null,null,null,null,null,{"$f":"IF(F167=\"\",\"\",VLOOKUP($F167,WurzelBZweige!$B$6:$AL$116,37,FALSE))","v":""},"",null,null,null,null,null,null,null,0,null,0]
[null,null,null,null,null,null,{"$f":"IF(F168=\"\",\"\",VLOOKUP($F168,WurzelBZweige!$B$6:$AL$116,37,FALSE))","v":""},"",null,null,null,null,null,null,null,0,null,0]
[null,null,null,null,null,null,{"$f":"IF(F169=\"\",\"\",VLOOKUP($F169,WurzelBZweige!$B$6:$AL$116,37,FALSE))","v":""},"",null,null,null,null,null,null,null,0,null,0]
[null,null,null,null,null,null,{"$f":"IF(F170=\"\",\"\",VLOOKUP($F170,WurzelBZweige!$B$6:$AL$116,37,FALSE))","v":""},"",null,null,null,null,null,null,null,0,null,0]
[null,null,null,null,null,null,{"$f":"IF(F171=\"\",\"\",VLOOKUP($F171,WurzelBZweige!$B$6:$AL$116,37,FALSE))","v":""},"",null,null,null,null,null,null,null,0,null,0]
[null,null,null,null,null,null,{"$f":"IF(F172=\"\",\"\",VLOOKUP($F172,WurzelBZweige!$B$6:$AL$116,37,FALSE))","v":""},"",null,null,null,null,null,null,null,0,null,0]
[null,null,null,null,null,null,{"$f":"IF(F173=\"\",\"\",VLOOKUP($F173,WurzelBZweige!$B$6:$AL$116,37,FALSE))","v":""},"",null,null,null,null,null,null,null,0,null,0]
[null,null,null,null,null,null,{"$f":"IF(F174=\"\",\"\",VLOOKUP($F174,WurzelBZweige!$B$6:$AL$116,37,FALSE))","v":""},"",null,null,null,null,null,null,null,0,null,0]
[null,null,null,null,null,null,{"$f":"IF(F175=\"\",\"\",VLOOKUP($F175,WurzelBZweige!$B$6:$AL$116,37,FALSE))","v":""},"",null,null,null,null,null,null,null,0,null,0]
[null,null,null,null,null,null,{"$f":"IF(F176=\"\",\"\",VLOOKUP($F176,WurzelBZweige!$B$6:$AL$116,37,FALSE))","v":""},"",null,null,null,null,null,null,null,0,null,0]
[null,null,null,null,null,null,{"$f":"IF(F177=\"\",\"\",VLOOKUP($F177,WurzelBZweige!$B$6:$AL$116,37,FALSE))","v":""},"",null,null,null,null,null,null,null,0,null,0]
[null,null,null,null,null,null,{"$f":"IF(F178=\"\",\"\",VLOOKUP($F178,WurzelBZweige!$B$6:$AL$116,37,FALSE))","v":""},"",null,null,null,null,null,null,null,0,null,0]
[null,null,null,null,null,null,{"$f":"IF(F179=\"\",\"\",VLOOKUP($F179,WurzelBZweige!$B$6:$AL$116,37,FALSE))","v":""},"",null,null,null,null,null,null,null,0,null,0]
[null,null,null,null,null,null,{"$f":"IF(F180=\"\",\"\",VLOOKUP($F180,WurzelBZweige!$B$6:$AL$116,37,FALSE))","v":""},"",null,null,null,null,null,null,null,0,null,0]
[null,null,null,null,null,null,{"$f":"IF(F181=\"\",\"\",VLOOKUP($F181,WurzelBZweige!$B$6:$AL$116,37,FALSE))","v":""},"",null,null,null,null,null,null,null,0,null,0]
[null,null,null,null,null,null,{"$f":"IF(F182=\"\",\"\",VLOOKUP($F182,WurzelBZweige!$B$6:$AL$116,37,FALSE))","v":""},"",null,null,null,null,null,null,null,0,null,0]
[null,null,null,null,null,null,{"$f":"IF(F183=\"\",\"\",VLOOKUP($F183,WurzelBZweige!$B$6:$AL$116,37,FALSE))","v":""},"",null,null,null,null,null,null,null,0,null,0]
[null,null,null,null,null,null,{"$f":"IF(F184=\"\",\"\",VLOOKUP($F184,WurzelBZweige!$B$6:$AL$116,37,FALSE))","v":""},"",null,null,null,null,null,null,null,0,null,0]
[null,null,null,null,null,null,{"$f":"IF(F185=\"\",\"\",VLOOKUP($F185,WurzelBZweige!$B$6:$AL$116,37,FALSE))","v":""},"",null,null,null,null,null,null,null,0,null,0]
[null,null,null,null,null,null,{"$f":"IF(F186=\"\",\"\",VLOOKUP($F186,WurzelBZweige!$B$6:$AL$116,37,FALSE))","v":""},"",null,null,null,null,null,null,null,0,null,0]
[null,null,null,null,null,null,{"$f":"IF(F187=\"\",\"\",VLOOKUP($F187,WurzelBZweige!$B$6:$AL$116,37,FALSE))","v":""},"",null,null,null,null,null,null,null,0,null,0]
[null,null,null,null,null,null,{"$f":"IF(F188=\"\",\"\",VLOOKUP($F188,WurzelBZweige!$B$6:$AL$116,37,FALSE))","v":""},"",null,null,null,null,null,null,null,0,null,0]
[null,null,null,null,null,null,{"$f":"IF(F189=\"\",\"\",VLOOKUP($F189,WurzelBZweige!$B$6:$AL$116,37,FALSE))","v":""},"",null,null,null,null,null,null,null,0,null,0]
[null,null,null,null,null,null,{"$f":"IF(F190=\"\",\"\",VLOOKUP($F190,WurzelBZweige!$B$6:$AL$116,37,FALSE))","v":""},"",null,null,null,null,null,null,null,0,null,0]
[null,null,null,null,null,null,{"$f":"IF(F191=\"\",\"\",VLOOKUP($F191,WurzelBZweige!$B$6:$AL$116,37,FALSE))","v":""},"",null,null,null,null,null,null,null,0,null,0]
[null,null,null,null,null,null,{"$f":"IF(F192=\"\",\"\",VLOOKUP($F192,WurzelBZweige!$B$6:$AL$116,37,FALSE))","v":""},"",null,null,null,null,null,null,null,0,null,0]
[null,null,null,null,null,null,{"$f":"IF(F193=\"\",\"\",VLOOKUP($F193,WurzelBZweige!$B$6:$AL$116,37,FALSE))","v":""},"",null,null,null,null,null,null,null,0,null,0]
[null,null,null,null,null,null,{"$f":"IF(F194=\"\",\"\",VLOOKUP($F194,WurzelBZweige!$B$6:$AL$116,37,FALSE))","v":""},"",null,null,null,null,null,null,null,0,null,0]
[null,null,null,null,null,null,{"$f":"IF(F195=\"\",\"\",VLOOKUP($F195,WurzelBZweige!$B$6:$AL$116,37,FALSE))","v":""},"",null,null,null,null,null,null,null,0,null,0]
[null,null,null,null,null,null,{"$f":"IF(F196=\"\",\"\",VLOOKUP($F196,WurzelBZweige!$B$6:$AL$116,37,FALSE))","v":""},"",null,null,null,null,null,null,null,0,null,0]
[null,null,null,null,null,null,{"$f":"IF(F197=\"\",\"\",VLOOKUP($F197,WurzelBZweige!$B$6:$AL$116,37,FALSE))","v":""},"",null,null,null,null,null,null,null,0,null,0]
[null,null,null,null,null,null,{"$f":"IF(F198=\"\",\"\",VLOOKUP($F198,WurzelBZweige!$B$6:$AL$116,37,FALSE))","v":""},{"$f":"IF(AND(C198=\"\",D198=\"\"),\"\",C198+D198)","v":""},null,null,null,null,null,null,null,{"$f":"IF(OR(G198=\"\",G198=\"Nein\"),0,H198)","v":0},null,{"$f":"SUM(I198:P198)","v":0}]
[null,null,null,null,null,null,{"$f":"IF(F199=\"\",\"\",VLOOKUP($F199,WurzelBZweige!$B$6:$AL$116,37,FALSE))","v":""},"",null,null,null,null,null,null,null,0,null,0]
[null,null,null,null,null,null,{"$f":"IF(F200=\"\",\"\",VLOOKUP($F200,WurzelBZweige!$B$6:$AL$116,37,FALSE))","v":""},"",null,null,null,null,null,null,null,0,null,0]
[null,null,null,null,null,null,{"$f":"IF(F201=\"\",\"\",VLOOKUP($F201,WurzelBZweige!$B$6:$AL$116,37,FALSE))","v":""},"",null,null,null,null,null,null,null,0,null,0]
[null,null,null,null,null,null,{"$f":"IF(F202=\"\",\"\",VLOOKUP($F202,WurzelBZweige!$B$6:$AL$116,37,FALSE))","v":""},"",null,null,null,null,null,null,null,0,null,0]
[null,null,null,null,null,null,{"$f":"IF(F203=\"\",\"\",VLOOKUP($F203,WurzelBZweige!$B$6:$AL$116,37,FALSE))","v":""},"",null,null,null,null,null,null,null,0,null,0]
[null,null,null,null,null,null,{"$f":"IF(F204=\"\",\"\",VLOOKUP($F204,WurzelBZweige!$B$6:$AL$116,37,FALSE))","v":""},"",null,null,null,null,null,null,null,0,null,0]
[null,null,null,null,null,null,{"$f":"IF(F205=\"\",\"\",VLOOKUP($F205,WurzelBZweige!$B$6:$AL$116,37,FALSE))","v":""},"",null,null,null,null,null,null,null,0,null,0]
[null,null,null,null,null,null,{"$f":"IF(F206=\"\",\"\",VLOOKUP($F206,WurzelBZweige!$B$6:$AL$116,37,FALSE))","v":""},"",null,null,null,null,null,null,null,0,null,0]
[null,null,null,null,null,null,{"$f":"IF(F207=\"\",\"\",VLOOKUP($F207,WurzelBZweige!$B$6:$AL$116,37,FALSE))","v":""},"",null,null,null,null,null,null,null,0,null,0]
[null,null,null,null,null,null,{"$f":"IF(F208=\"\",\"\",VLOOKUP($F208,WurzelBZweige!$B$6:$AL$116,37,FALSE))","v":""},"",null,null,null,null,null,null,null,0,null,0]
[null,null,null,null,null,null,{"$f":"IF(F209=\"\",\"\",VLOOKUP($F209,WurzelBZweige!$B$6:$AL$116,37,FALSE))","v":""},"",null,null,null,null,null,null,null,0,null,0]
[null,null,null,null,null,null,{"$f":"IF(F210=\"\",\"\",VLOOKUP($F210,WurzelBZweige!$B$6:$AL$116,37,FALSE))","v":""},"",null,null,null,null,null,null,null,0,null,0]
[null,null,null,null,null,null,{"$f":"IF(F211=\"\",\"\",VLOOKUP($F211,WurzelBZweige!$B$6:$AL$116,37,FALSE))","v":""},"",null,null,null,null,null,null,null,0,null,0]
[null,null,null,null,null,null,{"$f":"IF(F212=\"\",\"\",VLOOKUP($F212,WurzelBZweige!$B$6:$AL$116,37,FALSE))","v":""},"",null,null,null,null,null,null,null,0,null,0]
[null,null,null,null,null,null,{"$f":"IF(F213=\"\",\"\",VLOOKUP($F213,WurzelBZweige!$B$6:$AL$116,37,FALSE))","v":""},"",null,null,null,null,null,null,null,0,null,0]
[null,null,null,null,null,null,{"$f":"IF(F214=\"\",\"\",VLOOKUP($F214,WurzelBZweige!$B$6:$AL$116,37,FALSE))","v":""},"",null,null,null,null,null,null,null,0,null,0]
[null,null,null,null,null,null,{"$f":"IF(F215=\"\",\"\",VLOOKUP($F215,WurzelBZweige!$B$6:$AL$116,37,FALSE))","v":""},"",null,null,null,null,null,null,null,0,null,0]
[null,null,null,null,null,null,{"$f":"IF(F216=\"\",\"\",VLOOKUP($F216,WurzelBZweige!$B$6:$AL$116,37,FALSE))","v":""},"",null,null,null,null,null,null,null,0,null,0]
[null,null,null,null,null,null,{"$f":"IF(F217=\"\",\"\",VLOOKUP($F217,WurzelBZweige!$B$6:$AL$116,37,FALSE))","v":""},"",null,null,null,null,null,null,null,0,null,0]
[null,null,null,null,null,null,{"$f":"IF(F218=\"\",\"\",VLOOKUP($F218,WurzelBZweige!$B$6:$AL$116,37,FALSE))","v":""},"",null,null,null,null,null,null,null,0,null,0]
[null,null,null,null,null,null,{"$f":"IF(F219=\"\",\"\",VLOOKUP($F219,WurzelBZweige!$B$6:$AL$116,37,FALSE))","v":""},"",null,null,null,null,null,null,null,0,null,0]
[null,null,null,null,null,null,{"$f":"IF(F220=\"\",\"\",VLOOKUP($F220,WurzelBZweige!$B$6:$AL$116,37,FALSE))","v":""},"",null,null,null,null,null,null,null,0,null,0]
[null,null,null,null,null,null,{"$f":"IF(F221=\"\",\"\",VLOOKUP($F221,WurzelBZweige!$B$6:$AL$116,37,FALSE))","v":""},"",null,null,null,null,null,null,null,0,null,0]
[null,null,null,null,null,null,{"$f":"IF(F222=\"\",\"\",VLOOKUP($F222,WurzelBZweige!$B$6:$AL$116,37,FALSE))","v":""},"",null,null,null,null,null,null,null,0,null,0]
[null,null,null,null,null,null,{"$f":"IF(F223=\"\",\"\",VLOOKUP($F223,WurzelBZweige!$B$6:$AL$116,37,FALSE))","v":""},"",null,null,null,null,null,null,null,0,null,0]
[null,null,null,null,null,null,{"$f":"IF(F224=\"\",\"\",VLOOKUP($F224,WurzelBZweige!$B$6:$AL$116,37,FALSE))","v":""},"",null,null,null,null,null,null,null,0,null,0]
[null,null,null,null,null,null,{"$f":"IF(F225=\"\",\"\",VLOOKUP($F225,WurzelBZweige!$B$6:$AL$116,37,FALSE))","v":""},"",null,null,null,null,null,null,null,0,null,0]
[null,null,null,null,null,null,{"$f":"IF(F226=\"\",\"\",VLOOKUP($F226,WurzelBZweige!$B$6:$AL$116,37,FALSE))","v":""},"",null,null,null,null,null,null,null,0,null,0]
[null,null,null,null,null,null,{"$f":"IF(F227=\"\",\"\",VLOOKUP($F227,WurzelBZweige!$B$6:$AL$116,37,FALSE))","v":""},"",null,null,null,null,null,null,null,0,null,0]
[null,null,null,null,null,null,{"$f":"IF(F228=\"\",\"\",VLOOKUP($F228,WurzelBZweige!$B$6:$AL$116,37,FALSE))","v":""},"",null,null,null,null,null,null,null,0,null,0]
[null,null,null,null,null,null,{"$f":"IF(F229=\"\",\"\",VLOOKUP($F229,WurzelBZweige!$B$6:$AL$116,37,FALSE))","v":""},"",null,null,null,null,null,null,null,0,null,0]
[null,null,null,null,null,null,{"$f":"IF(F230=\"\",\"\",VLOOKUP($F230,WurzelBZweige!$B$6:$AL$116,37,FALSE))","v":""},"",null,null,null,null,null,null,null,0,null,0]
[null,null,null,null,null,null,{"$f":"IF(F231=\"\",\"\",VLOOKUP($F231,WurzelBZweige!$B$6:$AL$116,37,FALSE))","v":""},"",null,null,null,null,null,null,null,0,null,0]
[null,null,null,null,null,null,{"$f":"IF(F232=\"\",\"\",VLOOKUP($F232,WurzelBZweige!$B$6:$AL$116,37,FALSE))","v":""},"",null,null,null,null,null,null,null,0,null,0]
[null,null,null,null,null,null,{"$f":"IF(F233=\"\",\"\",VLOOKUP($F233,WurzelBZweige!$B$6:$AL$116,37,FALSE))","v":""},"",null,null,null,null,null,null,null,0,null,0]
[null,null,null,null,null,null,{"$f":"IF(F234=\"\",\"\",VLOOKUP($F234,WurzelBZweige!$B$6:$AL$116,37,FALSE))","v":""},"",null,null,null,null,null,null,null,0,null,0]
[null,null,null,null,null,null,{"$f":"IF(F235=\"\",\"\",VLOOKUP($F235,WurzelBZweige!$B$6:$AL$116,37,FALSE))","v":""},"",null,null,null,null,null,null,null,0,null,0]
[null,null,null,null,null,null,{"$f":"IF(F236=\"\",\"\",VLOOKUP($F236,WurzelBZweige!$B$6:$AL$116,37,FALSE))","v":""},"",null,null,null,null,null,null,null,0,null,0]
[null,null,null,null,null,null,{"$f":"IF(F237=\"\",\"\",VLOOKUP($F237,WurzelBZweige!$B$6:$AL$116,37,FALSE))","v":""},"",null,null,null,null,null,null,null,0,null,0]
[null,null,null,null,null,null,{"$f":"IF(F238=\"\",\"\",VLOOKUP($F238,WurzelBZweige!$B$6:$AL$116,37,FALSE))","v":""},"",null,null,null,null,null,null,null,0,null,0]
[null,null,null,null,null,null,{"$f":"IF(F239=\"\",\"\",VLOOKUP($F239,WurzelBZweige!$B$6:$AL$116,37,FALSE))","v":""},"",null,null,null,null,null,null,null,0,null,0]
[null,null,null,null,null,null,{"$f":"IF(F240=\"\",\"\",VLOOKUP($F240,WurzelBZweige!$B$6:$AL$116,37,FALSE))","v":""},"",null,null,null,null,null,null,null,0,null,0]
[null,null,null,null,null,null,{"$f":"IF(F241=\"\",\"\",VLOOKUP($F241,WurzelBZweige!$B$6:$AL$116,37,FALSE))","v":""},"",null,null,null,null,null,null,null,0,null,0]
[null,null,null,null,null,null,{"$f":"IF(F242=\"\",\"\",VLOOKUP($F242,WurzelBZweige!$B$6:$AL$116,37,FALSE))","v":""},"",null,null,null,null,null,null,null,0,null,0]
[null,null,null,null,null,null,{"$f":"IF(F243=\"\",\"\",VLOOKUP($F243,WurzelBZweige!$B$6:$AL$116,37,FALSE))","v":""},"",null,null,null,null,null,null,null,0,null,0]
[null,null,null,null,null,null,{"$f":"IF(F244=\"\",\"\",VLOOKUP($F244,WurzelBZweige!$B$6:$AL$116,37,FALSE))","v":""},"",null,null,null,null,null,null,null,0,null,0]
[null,null,null,null,null,null,{"$f":"IF(F245=\"\",\"\",VLOOKUP($F245,WurzelBZweige!$B$6:$AL$116,37,FALSE))","v":""},"",null,null,null,null,null,null,null,0,null,0]
[null,null,null,null,null,null,{"$f":"IF(F246=\"\",\"\",VLOOKUP($F246,WurzelBZweige!$B$6:$AL$116,37,FALSE))","v":""},"",null,null,null,null,null,null,null,0,null,0]
[null,null,null,null,null,null,{"$f":"IF(F247=\"\",\"\",VLOOKUP($F247,WurzelBZweige!$B$6:$AL$116,37,FALSE))","v":""},"",null,null,null,null,null,null,null,0,null,0]
[null,null,null,null,null,null,{"$f":"IF(F248=\"\",\"\",VLOOKUP($F248,WurzelBZweige!$B$6:$AL$116,37,FALSE))","v":""},"",null,null,null,null,null,null,null,0,null,0]
[null,null,null,null,null,null,{"$f":"IF(F249=\"\",\"\",VLOOKUP($F249,WurzelBZweige!$B$6:$AL$116,37,FALSE))","v":""},"",null,null,null,null,null,null,null,0,null,0]
[null,null,null,null,null,null,{"$f":"IF(F250=\"\",\"\",VLOOKUP($F250,WurzelBZweige!$B$6:$AL$116,37,FALSE))","v":""},"",null,null,null,null,null,null,null,0,null,0]
[null,null,null,null,null,null,{"$f":"IF(F251=\"\",\"\",VLOOKUP($F251,WurzelBZweige!$B$6:$AL$116,37,FALSE))","v":""},"",null,null,null,null,null,null,null,0,null,0]
[null,null,null,null,null,null,{"$f":"IF(F252=\"\",\"\",VLOOKUP($F252,WurzelBZweige!$B$6:$AL$116,37,FALSE))","v":""},"",null,null,null,null,null,null,null,0,null,0]
[null,null,null,null,null,null,{"$f":"IF(F253=\"\",\"\",VLOOKUP($F253,WurzelBZweige!$B$6:$AL$116,37,FALSE))","v":""},"",null,null,null,null,null,null,null,0,null,0]
[null,null,null,null,null,null,{"$f":"IF(F254=\"\",\"\",VLOOKUP($F254,WurzelBZweige!$B$6:$AL$116,37,FALSE))","v":""},"",null,null,null,null,null,null,null,0,null,0]
[null,null,null,null,null,null,{"$f":"IF(F255=\"\",\"\",VLOOKUP($F255,WurzelBZweige!$B$6:$AL$116,37,FALSE))","v":""},"",null,null,null,null,null,null,null,0,null,0]
[null,null,null,null,null,null,{"$f":"IF(F256=\"\",\"\",VLOOKUP($F256,WurzelBZweige!$B$6:$AL$116,37,FALSE))","v":""},"",null,null,null,null,null,null,null,0,null,0]
[null,null,null,null,null,null,{"$f":"IF(F257=\"\",\"\",VLOOKUP($F257,WurzelBZweige!$B$6:$AL$116,37,FALSE))","v":""},"",null,null,null,null,null,null,null,0,null,0]
[null,null,null,null,null,null,{"$f":"IF(F258=\"\",\"\",VLOOKUP($F258,WurzelBZweige!$B$6:$AL$116,37,FALSE))","v":""},"",null,null,null,null,null,null,null,0,null,0]
[null,null,null,null,null,null,{"$f":"IF(F259=\"\",\"\",VLOOKUP($F259,WurzelBZweige!$B$6:$AL$116,37,FALSE))","v":""},"",null,null,null,null,null,null,null,0,null,0]
[null,null,null,null,null,null,{"$f":"IF(F260=\"\",\"\",VLOOKUP($F260,WurzelBZweige!$B$6:$AL$116,37,FALSE))","v":""},"",null,null,null,null,null,null,null,0,null,0]
[null,null,null,null,null,null,{"$f":"IF(F261=\"\",\"\",VLOOKUP($F261,WurzelBZweige!$B$6:$AL$116,37,FALSE))","v":""},"",null,null,null,null,null,null,null,0,null,0]
[null,null,null,null,null,null,{"$f":"IF(F262=\"\",\"\",VLOOKUP($F262,WurzelBZweige!$B$6:$AL$116,37,FALSE))","v":""},{"$f":"IF(AND(C262=\"\",D262=\"\"),\"\",C262+D262)","v":""},null,null,null,null,null,null,null,{"$f":"IF(OR(G262=\"\",G262=\"Nein\"),0,H262)","v":0},null,{"$f":"SUM(I262:P262)","v":0}]
[null,null,null,null,null,null,{"$f":"IF(F263=\"\",\"\",VLOOKUP($F263,WurzelBZweige!$B$6:$AL$116,37,FALSE))","v":""},"",null,null,null,null,null,null,null,0,null,0]
[null,null,null,null,null,null,{"$f":"IF(F264=\"\",\"\",VLOOKUP($F264,WurzelBZweige!$B$6:$AL$116,37,FALSE))","v":""},"",null,null,null,null,null,null,null,0,null,0]
[null,null,null,null,null,null,{"$f":"IF(F265=\"\",\"\",VLOOKUP($F265,WurzelBZweige!$B$6:$AL$116,37,FALSE))","v":""},"",null,null,null,null,null,null,null,0,null,0]
[null,null,null,null,null,null,{"$f":"IF(F266=\"\",\"\",VLOOKUP($F266,WurzelBZweige!$B$6:$AL$116,37,FALSE))","v":""},"",null,null,null,null,null,null,null,0,null,0]
[null,null,null,null,null,null,{"$f":"IF(F267=\"\",\"\",VLOOKUP($F267,WurzelBZweige!$B$6:$AL$116,37,FALSE))","v":""},"",null,null,null,null,null,null,null,0,null,0]
[null,null,null,null,null,null,{"$f":"IF(F268=\"\",\"\",VLOOKUP($F268,WurzelBZweige!$B$6:$AL$116,37,FALSE))","v":""},"",null,null,null,null,null,null,null,0,null,0]
[null,null,null,null,null,null,{"$f":"IF(F269=\"\",\"\",VLOOKUP($F269,WurzelBZweige!$B$6:$AL$116,37,FALSE))","v":""},"",null,null,null,null,null,null,null,0,null,0]
[null,null,null,null,null,null,{"$f":"IF(F270=\"\",\"\",VLOOKUP($F270,WurzelBZweige!$B$6:$AL$116,37,FALSE))","v":""},"",null,null,null,null,null,null,null,0,null,0]
[null,null,null,null,null,null,{"$f":"IF(F271=\"\",\"\",VLOOKUP($F271,WurzelBZweige!$B$6:$AL$116,37,FALSE))","v":""},"",null,null,null,null,null,null,null,0,null,0]
[null,null,null,null,null,null,{"$f":"IF(F272=\"\",\"\",VLOOKUP($F272,WurzelBZweige!$B$6:$AL$116,37,FALSE))","v":""},"",null,null,null,null,null,null,null,0,null,0]
[null,null,null,null,null,null,{"$f":"IF(F273=\"\",\"\",VLOOKUP($F273,WurzelBZweige!$B$6:$AL$116,37,FALSE))","v":""},"",null,null,null,null,null,null,null,0,null,0]
[null,null,null,null,null,null,{"$f":"IF(F274=\"\",\"\",VLOOKUP($F274,WurzelBZweige!$B$6:$AL$116,37,FALSE))","v":""},"",null,null,null,null,null,null,null,0,null,0]
[null,null,null,null,null,null,{"$f":"IF(F275=\"\",\"\",VLOOKUP($F275,WurzelBZweige!$B$6:$AL$116,37,FALSE))","v":""},"",null,null,null,null,null,null,null,0,null,0]
[null,null,null,null,null,null,{"$f":"IF(F276=\"\",\"\",VLOOKUP($F276,WurzelBZweige!$B$6:$AL$116,37,FALSE))","v":""},"",null,null,null,null,null,null,null,0,null,0]
[null,null,null,null,null,null,{"$f":"IF(F277=\"\",\"\",VLOOKUP($F277,WurzelBZweige!$B$6:$AL$116,37,FALSE))","v":""},"",null,null,null,null,null,null,null,0,null,0]
[null,null,null,null,null,null,{"$f":"IF(F278=\"\",\"\",VLOOKUP($F278,WurzelBZweige!$B$6:$AL$116,37,FALSE))","v":""},"",null,null,null,null,null,null,null,0,null,0]
[null,null,null,null,null,null,{"$f":"IF(F279=\"\",\"\",VLOOKUP($F279,WurzelBZweige!$B$6:$AL$116,37,FALSE))","v":""},"",null,null,null,null,null,null,null,0,null,0]
[null,null,null,null,null,null,{"$f":"IF(F280=\"\",\"\",VLOOKUP($F280,WurzelBZweige!$B$6:$AL$116,37,FALSE))","v":""},"",null,null,null,null,null,null,null,0,null,0]
[null,null,null,null,null,null,{"$f":"IF(F281=\"\",\"\",VLOOKUP($F281,WurzelBZweige!$B$6:$AL$116,37,FALSE))","v":""},"",null,null,null,null,null,null,null,0,null,0]
[null,null,null,null,null,null,{"$f":"IF(F282=\"\",\"\",VLOOKUP($F282,WurzelBZweige!$B$6:$AL$116,37,FALSE))","v":""},"",null,null,null,null,null,null,null,0,null,0]
[null,null,null,null,null,null,{"$f":"IF(F283=\"\",\"\",VLOOKUP($F283,WurzelBZweige!$B$6:$AL$116,37,FALSE))","v":""},"",null,null,null,null,null,null,null,0,null,0]
[null,null,null,null,null,null,{"$f":"IF(F284=\"\",\"\",VLOOKUP($F284,WurzelBZweige!$B$6:$AL$116,37,FALSE))","v":""},"",null,null,null,null,null,null,null,0,null,0]
[null,null,null,null,null,null,{"$f":"IF(F285=\"\",\"\",VLOOKUP($F285,WurzelBZweige!$B$6:$AL$116,37,FALSE))","v":""},"",null,null,null,null,null,null,null,0,null,0]
[null,null,null,null,null,null,{"$f":"IF(F286=\"\",\"\",VLOOKUP($F286,WurzelBZweige!$B$6:$AL$116,37,FALSE))","v":""},"",null,null,null,null,null,null,null,0,null,0]
[null,null,null,null,null,null,{"$f":"IF(F287=\"\",\"\",VLOOKUP($F287,WurzelBZweige!$B$6:$AL$116,37,FALSE))","v":""},"",null,null,null,null,null,null,null,0,null,0]
[null,null,null,null,null,null,{"$f":"IF(F288=\"\",\"\",VLOOKUP($F288,WurzelBZweige!$B$6:$AL$116,37,FALSE))","v":""},"",null,null,null,null,null,null,null,0,null,0]
[null,null,null,null,null,null,{"$f":"IF(F289=\"\",\"\",VLOOKUP($F289,WurzelBZweige!$B$6:$AL$116,37,FALSE))","v":""},"",null,null,null,null,null,null,null,0,null,0]
[null,null,null,null,null,null,{"$f":"IF(F290=\"\",\"\",VLOOKUP($F290,WurzelBZweige!$B$6:$AL$116,37,FALSE))","v":""},"",null,null,null,null,null,null,null,0,null,0]
[null,null,null,null,null,null,{"$f":"IF(F291=\"\",\"\",VLOOKUP($F291,WurzelBZweige!$B$6:$AL$116,37,FALSE))","v":""},"",null,null,null,null,null,null,null,0,null,0]
[null,null,null,null,null,null,{"$f":"IF(F292=\"\",\"\",VLOOKUP($F292,WurzelBZweige!$B$6:$AL$116,37,FALSE))","v":""},"",null,null,null,null,null,null,null,0,null,0]
[null,null,null,null,null,null,{"$f":"IF(F293=\"\",\"\",VLOOKUP($F293,WurzelBZweige!$B$6:$AL$116,37,FALSE))","v":""},"",null,null,null,null,null,null,null,0,null,0]
[null,null,null,null,null,null,{"$f":"IF(F294=\"\",\"\",VLOOKUP($F294,WurzelBZweige!$B$6:$AL$116,37,FALSE))","v":""},"",null,null,null,null,null,null,null,0,null,0]
[null,null,null,null,null,null,{"$f":"IF(F295=\"\",\"\",VLOOKUP($F295,WurzelBZweige!$B$6:$AL$116,37,FALSE))","v":""},"",null,null,null,null,null,null,null,0,null,0]
[null,null,null,null,null,null,{"$f":"IF(F296=\"\",\"\",VLOOKUP($F296,WurzelBZweige!$B$6:$AL$116,37,FALSE))","v":""},"",null,null,null,null,null,null,null,0,null,0]
[null,null,null,null,null,null,{"$f":"IF(F297=\"\",\"\",VLOOKUP($F297,WurzelBZweige!$B$6:$AL$116,37,FALSE))","v":""},"",null,null,null,null,null,null,null,0,null,0]
[null,null,null,null,null,null,{"$f":"IF(F298=\"\",\"\",VLOOKUP($F298,WurzelBZweige!$B$6:$AL$116,37,FALSE))","v":""},"",null,null,null,null,null,null,null,0,null,0]
[null,null,null,null,null,null,{"$f":"IF(F299=\"\",\"\",VLOOKUP($F299,WurzelBZweige!$B$6:$AL$116,37,FALSE))","v":""},"",null,null,null,null,null,null,null,0,null,0]
[null,null,null,null,null,null,{"$f":"IF(F300=\"\",\"\",VLOOKUP($F300,WurzelBZweige!$B$6:$AL$116,37,FALSE))","v":""},"",null,null,null,null,null,null,null,0,null,0]
[null,null,null,null,null,null,{"$f":"IF(F301=\"\",\"\",VLOOKUP($F301,WurzelBZweige!$B$6:$AL$116,37,FALSE))","v":""},"",null,null,null,null,null,null,null,0,null,0]
[null,null,null,null,null,null,{"$f":"IF(F302=\"\",\"\",VLOOKUP($F302,WurzelBZweige!$B$6:$AL$116,37,FALSE))","v":""},"",null,null,null,null,null,null,null,0,null,0]
[null,null,null,null,null,null,{"$f":"IF(F303=\"\",\"\",VLOOKUP($F303,WurzelBZweige!$B$6:$AL$116,37,FALSE))","v":""},"",null,null,null,null,null,null,null,0,null,0]
[null,null,null,null,null,null,{"$f":"IF(F304=\"\",\"\",VLOOKUP($F304,WurzelBZweige!$B$6:$AL$116,37,FALSE))","v":""},"",null,null,null,null,null,null,null,0,null,0]
[null,null,null,null,null,null,{"$f":"IF(F305=\"\",\"\",VLOOKUP($F305,WurzelBZweige!$B$6:$AL$116,37,FALSE))","v":""},"",null,null,null,null,null,null,null,0,null,0]
[null,null,null,null,null,null,{"$f":"IF(F306=\"\",\"\",VLOOKUP($F306,WurzelBZweige!$B$6:$AL$116,37,FALSE))","v":""},"",null,null,null,null,null,null,null,0,null,0]
[null,null,null,null,null,null,{"$f":"IF(F307=\"\",\"\",VLOOKUP($F307,WurzelBZweige!$B$6:$AL$116,37,FALSE))","v":""},"",null,null,null,null,null,null,null,0,null,0]
[null,null,null,null,null,null,{"$f":"IF(F308=\"\",\"\",VLOOKUP($F308,WurzelBZweige!$B$6:$AL$116,37,FALSE))","v":""},"",null,null,null,null,null,null,null,0,null,0]
[null,null,null,null,null,null,{"$f":"IF(F309=\"\",\"\",VLOOKUP($F309,WurzelBZweige!$B$6:$AL$116,37,FALSE))","v":""},"",null,null,null,null,null,null,null,0,null,0]
[null,null,null,null,null,null,{"$f":"IF(F310=\"\",\"\",VLOOKUP($F310,WurzelBZweige!$B$6:$AL$116,37,FALSE))","v":""},"",null,null,null,null,null,null,null,0,null,0]
[null,null,null,null,null,null,{"$f":"IF(F311=\"\",\"\",VLOOKUP($F311,WurzelBZweige!$B$6:$AL$116,37,FALSE))","v":""},"",null,null,null,null,null,null,null,0,null,0]
[null,null,null,null,null,null,{"$f":"IF(F312=\"\",\"\",VLOOKUP($F312,WurzelBZweige!$B$6:$AL$116,37,FALSE))","v":""},"",null,null,null,null,null,null,null,0,null,0]
[null,null,null,null,null,null,{"$f":"IF(F313=\"\",\"\",VLOOKUP($F313,WurzelBZweige!$B$6:$AL$116,37,FALSE))","v":""},"",null,null,null,null,null,null,null,0,null,0]
[null,null,null,null,null,null,{"$f":"IF(F314=\"\",\"\",VLOOKUP($F314,WurzelBZweige!$B$6:$AL$116,37,FALSE))","v":""},"",null,null,null,null,null,null,null,0,null,0]
[null,null,null,null,null,null,{"$f":"IF(F315=\"\",\"\",VLOOKUP($F315,WurzelBZweige!$B$6:$AL$116,37,FALSE))","v":""},"",null,null,null,null,null,null,null,0,null,0]
[null,null,null,null,null,null,{"$f":"IF(F316=\"\",\"\",VLOOKUP($F316,WurzelBZweige!$B$6:$AL$116,37,FALSE))","v":""},"",null,null,null,null,null,null,null,0,null,0]
[null,null,null,null,null,null,{"$f":"IF(F317=\"\",\"\",VLOOKUP($F317,WurzelBZweige!$B$6:$AL$116,37,FALSE))","v":""},"",null,null,null,null,null,null,null,0,null,0]
[null,null,null,null,null,null,{"$f":"IF(F318=\"\",\"\",VLOOKUP($F318,WurzelBZweige!$B$6:$AL$116,37,FALSE))","v":""},"",null,null,null,null,null,null,null,0,null,0]
[null,null,null,null,null,null,{"$f":"IF(F319=\"\",\"\",VLOOKUP($F319,WurzelBZweige!$B$6:$AL$116,37,FALSE))","v":""},"",null,null,null,null,null,null,null,0,null,0]
[null,null,null,null,null,null,{"$f":"IF(F320=\"\",\"\",VLOOKUP($F320,WurzelBZweige!$B$6:$AL$116,37,FALSE))","v":""},"",null,null,null,null,null,null,null,0,null,0]
[null,null,null,null,null,null,{"$f":"IF(F321=\"\",\"\",VLOOKUP($F321,WurzelBZweige!$B$6:$AL$116,37,FALSE))","v":""},"",null,null,null,null,null,null,null,0,null,0]
[null,null,null,null,null,null,{"$f":"IF(F322=\"\",\"\",VLOOKUP($F322,WurzelBZweige!$B$6:$AL$116,37,FALSE))","v":""},"",null,null,null,null,null,null,null,0,null,0]
[null,null,null,null,null,null,{"$f":"IF(F323=\"\",\"\",VLOOKUP($F323,WurzelBZweige!$B$6:$AL$116,37,FALSE))","v":""},"",null,null,null,null,null,null,null,0,null,0]
[null,null,null,null,null,null,{"$f":"IF(F324=\"\",\"\",VLOOKUP($F324,WurzelBZweige!$B$6:$AL$116,37,FALSE))","v":""},"",null,null,null,null,null,null,null,0,null,0]
[null,null,null,null,null,null,{"$f":"IF(F325=\"\",\"\",VLOOKUP($F325,WurzelBZweige!$B$6:$AL$116,37,FALSE))","v":""},"",null,null,null,null,null,null,null,0,null,0]
[null,null,null,null,null,null,{"$f":"IF(F326=\"\",\"\",VLOOKUP($F326,WurzelBZweige!$B$6:$AL$116,37,FALSE))","v":""},{"$f":"IF(AND(C326=\"\",D326=\"\"),\"\",C326+D326)","v":""},null,null,null,null,null,null,null,{"$f":"IF(OR(G326=\"\",G326=\"Nein\"),0,H326)","v":0},null,{"$f":"SUM(I326:P326)","v":0}]
[null,null,null,null,null,null,{"$f":"IF(F327=\"\",\"\",VLOOKUP($F327,WurzelBZweige!$B$6:$AL$116,37,FALSE))","v":""},"",null,null,null,null,null,null,null,0,null,0]
[null,null,null,null,null,null,{"$f":"IF(F328=\"\",\"\",VLOOKUP($F328,WurzelBZweige!$B$6:$AL$116,37,FALSE))","v":""},"",null,null,null,null,null,null,null,0,null,0]
[null,null,null,null,null,null,{"$f":"IF(F329=\"\",\"\",VLOOKUP($F329,WurzelBZweige!$B$6:$AL$116,37,FALSE))","v":""},"",null,null,null,null,null,null,null,0,null,0]
[null,null,null,null,null,null,{"$f":"IF(F330=\"\",\"\",VLOOKUP($F330,WurzelBZweige!$B$6:$AL$116,37,FALSE))","v":""},"",null,null,null,null,null,null,null,0,null,0]
[null,null,null,null,null,null,{"$f":"IF(F331=\"\",\"\",VLOOKUP($F331,WurzelBZweige!$B$6:$AL$116,37,FALSE))","v":""},"",null,null,null,null,null,null,null,0,null,0]
[null,null,null,null,null,null,{"$f":"IF(F332=\"\",\"\",VLOOKUP($F332,WurzelBZweige!$B$6:$AL$116,37,FALSE))","v":""},"",null,null,null,null,null,null,null,0,null,0]
[null,null,null,null,null,null,{"$f":"IF(F333=\"\",\"\",VLOOKUP($F333,WurzelBZweige!$B$6:$AL$116,37,FALSE))","v":""},"",null,null,null,null,null,null,null,0,null,0]
[null,null,null,null,null,null,{"$f":"IF(F334=\"\",\"\",VLOOKUP($F334,WurzelBZweige!$B$6:$AL$116,37,FALSE))","v":""},"",null,null,null,null,null,null,null,0,null,0]
[null,null,null,null,null,null,{"$f":"IF(F335=\"\",\"\",VLOOKUP($F335,WurzelBZweige!$B$6:$AL$116,37,FALSE))","v":""},"",null,null,null,null,null,null,null,0,null,0]
[null,null,null,null,null,null,{"$f":"IF(F336=\"\",\"\",VLOOKUP($F336,WurzelBZweige!$B$6:$AL$116,37,FALSE))","v":""},"",null,null,null,null,null,null,null,0,null,0]
[null,null,null,null,null,null,{"$f":"IF(F337=\"\",\"\",VLOOKUP($F337,WurzelBZweige!$B$6:$AL$116,37,FALSE))","v":""},"",null,null,null,null,null,null,null,0,null,0]
[null,null,null,null,null,null,{"$f":"IF(F338=\"\",\"\",VLOOKUP($F338,WurzelBZweige!$B$6:$AL$116,37,FALSE))","v":""},"",null,null,null,null,null,null,null,0,null,0]
[null,null,null,null,null,null,{"$f":"IF(F339=\"\",\"\",VLOOKUP($F339,WurzelBZweige!$B$6:$AL$116,37,FALSE))","v":""},"",null,null,null,null,null,null,null,0,null,0]
[null,null,null,null,null,null,{"$f":"IF(F340=\"\",\"\",VLOOKUP($F340,WurzelBZweige!$B$6:$AL$116,37,FALSE))","v":""},"",null,null,null,null,null,null,null,0,null,0]
[null,null,null,null,null,null,{"$f":"IF(F341=\"\",\"\",VLOOKUP($F341,WurzelBZweige!$B$6:$AL$116,37,FALSE))","v":""},"",null,null,null,null,null,null,null,0,null,0]
[null,null,null,null,null,null,{"$f":"IF(F342=\"\",\"\",VLOOKUP($F342,WurzelBZweige!$B$6:$AL$116,37,FALSE))","v":""},"",null,null,null,null,null,null,null,0,null,0]
[null,null,null,null,null,null,{"$f":"IF(F343=\"\",\"\",VLOOKUP($F343,WurzelBZweige!$B$6:$AL$116,37,FALSE))","v":""},"",null,null,null,null,null,null,null,0,null,0]
[null,null,null,null,null,null,{"$f":"IF(F344=\"\",\"\",VLOOKUP($F344,WurzelBZweige!$B$6:$AL$116,37,FALSE))","v":""},"",null,null,null,null,null,null,null,0,null,0]
[null,null,null,null,null,null,{"$f":"IF(F345=\"\",\"\",VLOOKUP($F345,WurzelBZweige!$B$6:$AL$116,37,FALSE))","v":""},"",null,null,null,null,null,null,null,0,null,0]
[null,null,null,null,null,null,{"$f":"IF(F346=\"\",\"\",VLOOKUP($F346,WurzelBZweige!$B$6:$AL$116,37,FALSE))","v":""},"",null,null,null,null,null,null,null,0,null,0]
[null,null,null,null,null,null,{"$f":"IF(F347=\"\",\"\",VLOOKUP($F347,WurzelBZweige!$B$6:$AL$116,37,FALSE))","v":""},"",null,null,null,null,null,null,null,0,null,0]
[null,null,null,null,null,null,{"$f":"IF(F348=\"\",\"\",VLOOKUP($F348,WurzelBZweige!$B$6:$AL$116,37,FALSE))","v":""},"",null,null,null,null,null,null,null,0,null,0]
[null,null,null,null,null,null,{"$f":"IF(F349=\"\",\"\",VLOOKUP($F349,WurzelBZweige!$B$6:$AL$116,37,FALSE))","v":""},"",null,null,null,null,null,null,null,0,null,0]
[null,null,null,null,null,null,{"$f":"IF(F350=\"\",\"\",VLOOKUP($F350,WurzelBZweige!$B$6:$AL$116,37,FALSE))","v":""},"",null,null,null,null,null,null,null,0,null,0]
[null,null,null,null,null,null,{"$f":"IF(F351=\"\",\"\",VLOOKUP($F351,WurzelBZweige!$B$6:$AL$116,37,FALSE))","v":""},"",null,null,null,null,null,null,null,0,null,0]
[null,null,null,null,null,null,{"$f":"IF(F352=\"\",\"\",VLOOKUP($F352,WurzelBZweige!$B$6:$AL$116,37,FALSE))","v":""},"",null,null,null,null,null,null,null,0,null,0]
[null,null,null,null,null,null,{"$f":"IF(F353=\"\",\"\",VLOOKUP($F353,WurzelBZweige!$B$6:$AL$116,37,FALSE))","v":""},"",null,null,null,null,null,null,null,0,null,0]
[null,null,null,null,null,null,{"$f":"IF(F354=\"\",\"\",VLOOKUP($F354,WurzelBZweige!$B$6:$AL$116,37,FALSE))","v":""},"",null,null,null,null,null,null,null,0,null,0]
[null,null,null,null,null,null,{"$f":"IF(F355=\"\",\"\",VLOOKUP($F355,WurzelBZweige!$B$6:$AL$116,37,FALSE))","v":""},"",null,null,null,null,null,null,null,0,null,0]
[null,null,null,null,null,null,{"$f":"IF(F356=\"\",\"\",VLOOKUP($F356,WurzelBZweige!$B$6:$AL$116,37,FALSE))","v":""},"",null,null,null,null,null,null,null,0,null,0]
[null,null,null,null,null,null,{"$f":"IF(F357=\"\",\"\",VLOOKUP($F357,WurzelBZweige!$B$6:$AL$116,37,FALSE))","v":""},"",null,null,null,null,null,null,null,0,null,0]
[null,null,null,null,null,null,{"$f":"IF(F358=\"\",\"\",VLOOKUP($F358,WurzelBZweige!$B$6:$AL$116,37,FALSE))","v":""},"",null,null,null,null,null,null,null,0,null,0]
[null,null,null,null,null,null,{"$f":"IF(F359=\"\",\"\",VLOOKUP($F359,WurzelBZweige!$B$6:$AL$116,37,FALSE))","v":""},"",null,null,null,null,null,null,null,0,null,0]
[null,null,null,null,null,null,{"$f":"IF(F360=\"\",\"\",VLOOKUP($F360,WurzelBZweige!$B$6:$AL$116,37,FALSE))","v":""},"",null,null,null,null,null,null,null,0,null,0]
[null,null,null,null,null,null,{"$f":"IF(F361=\"\",\"\",VLOOKUP($F361,WurzelBZweige!$B$6:$AL$116,37,FALSE))","v":""},"",null,null,null,null,null,null,null,0,null,0]
[null,null,null,null,null,null,{"$f":"IF(F362=\"\",\"\",VLOOKUP($F362,WurzelBZweige!$B$6:$AL$116,37,FALSE))","v":""},"",null,null,null,null,null,null,null,0,null,0]
[null,null,null,null,null,null,{"$f":"IF(F363=\"\",\"\",VLOOKUP($F363,WurzelBZweige!$B$6:$AL$116,37,FALSE))","v":""},"",null,null,null,null,null,null,null,0,null,0]
[null,null,null,null,null,null,{"$f":"IF(F364=\"\",\"\",VLOOKUP($F364,WurzelBZweige!$B$6:$AL$116,37,FALSE))","v":""},"",null,null,null,null,null,null,null,0,null,0]
[null,null,null,null,null,null,{"$f":"IF(F365=\"\",\"\",VLOOKUP($F365,WurzelBZweige!$B$6:$AL$116,37,FALSE))","v":""},"",null,null,null,null,null,null,null,0,null,0]
[null,null,null,null,null,null,{"$f":"IF(F366=\"\",\"\",VLOOKUP($F366,WurzelBZweige!$B$6:$AL$116,37,FALSE))","v":""},"",null,null,null,null,null,null,null,0,null,0]
[null,null,null,null,null,null,{"$f":"IF(F367=\"\",\"\",VLOOKUP($F367,WurzelBZweige!$B$6:$AL$116,37,FALSE))","v":""},"",null,null,null,null,null,null,null,0,null,0]
[null,null,null,null,null,null,{"$f":"IF(F368=\"\",\"\",VLOOKUP($F368,WurzelBZweige!$B$6:$AL$116,37,FALSE))","v":""},"",null,null,null,null,null,null,null,0,null,0]
[null,null,null,null,null,null,{"$f":"IF(F369=\"\",\"\",VLOOKUP($F369,WurzelBZweige!$B$6:$AL$116,37,FALSE))","v":""},"",null,null,null,null,null,null,null,0,null,0]
[null,null,null,null,null,null,{"$f":"IF(F370=\"\",\"\",VLOOKUP($F370,WurzelBZweige!$B$6:$AL$116,37,FALSE))","v":""},"",null,null,null,null,null,null,null,0,null,0]
[null,null,null,null,null,null,{"$f":"IF(F371=\"\",\"\",VLOOKUP($F371,WurzelBZweige!$B$6:$AL$116,37,FALSE))","v":""},"",null,null,null,null,null,null,null,0,null,0]
[null,null,null,null,null,null,{"$f":"IF(F372=\"\",\"\",VLOOKUP($F372,WurzelBZweige!$B$6:$AL$116,37,FALSE))","v":""},"",null,null,null,null,null,null,null,0,null,0]
[null,null,null,null,null,null,{"$f":"IF(F373=\"\",\"\",VLOOKUP($F373,WurzelBZweige!$B$6:$AL$116,37,FALSE))","v":""},"",null,null,null,null,null,null,null,0,null,0]
[null,null,null,null,null,null,{"$f":"IF(F374=\"\",\"\",VLOOKUP($F374,WurzelBZweige!$B$6:$AL$116,37,FALSE))","v":""},"",null,null,null,null,null,null,null,0,null,0]
[null,null,null,null,null,null,{"$f":"IF(F375=\"\",\"\",VLOOKUP($F375,WurzelBZweige!$B$6:$AL$116,37,FALSE))","v":""},"",null,null,null,null,null,null,null,0,null,0]
[null,null,null,null,null,null,{"$f":"IF(F376=\"\",\"\",VLOOKUP($F376,WurzelBZweige!$B$6:$AL$116,37,FALSE))","v":""},"",null,null,null,null,null,null,null,0,null,0]
[null,null,null,null,null,null,{"$f":"IF(F377=\"\",\"\",VLOOKUP($F377,WurzelBZweige!$B$6:$AL$116,37,FALSE))","v":""},"",null,null,null,null,null,null,null,0,null,0]
[null,null,null,null,null,null,{"$f":"IF(F378=\"\",\"\",VLOOKUP($F378,WurzelBZweige!$B$6:$AL$116,37,FALSE))","v":""},"",null,null,null,null,null,null,null,0,null,0]
[null,null,null,null,null,null,{"$f":"IF(F379=\"\",\"\",VLOOKUP($F379,WurzelBZweige!$B$6:$AL$116,37,FALSE))","v":""},"",null,null,null,null,null,null,null,0,null,0]
[null,null,null,null,null,null,{"$f":"IF(F380=\"\",\"\",VLOOKUP($F380,WurzelBZweige!$B$6:$AL$116,37,FALSE))","v":""},"",null,null,null,null,null,null,null,0,null,0]
[null,null,null,null,null,null,{"$f":"IF(F381=\"\",\"\",VLOOKUP($F381,WurzelBZweige!$B$6:$AL$116,37,FALSE))","v":""},"",null,null,null,null,null,null,null,0,null,0]
[null,null,null,null,null,null,{"$f":"IF(F382=\"\",\"\",VLOOKUP($F382,WurzelBZweige!$B$6:$AL$116,37,FALSE))","v":""},"",null,null,null,null,null,null,null,0,null,0]
[null,null,null,null,null,null,{"$f":"IF(F383=\"\",\"\",VLOOKUP($F383,WurzelBZweige!$B$6:$AL$116,37,FALSE))","v":""},"",null,null,null,null,null,null,null,0,null,0]
[null,null,null,null,null,null,{"$f":"IF(F384=\"\",\"\",VLOOKUP($F384,WurzelBZweige!$B$6:$AL$116,37,FALSE))","v":""},"",null,null,null,null,null,null,null,0,null,0]
[null,null,null,null,null,null,{"$f":"IF(F385=\"\",\"\",VLOOKUP($F385,WurzelBZweige!$B$6:$AL$116,37,FALSE))","v":""},"",null,null,null,null,null,null,null,0,null,0]
[null,null,null,null,null,null,{"$f":"IF(F386=\"\",\"\",VLOOKUP($F386,WurzelBZweige!$B$6:$AL$116,37,FALSE))","v":""},"",null,null,null,null,null,null,null,0,null,0]
[null,null,null,null,null,null,{"$f":"IF(F387=\"\",\"\",VLOOKUP($F387,WurzelBZweige!$B$6:$AL$116,37,FALSE))","v":""},"",null,null,null,null,null,null,null,0,null,0]
[null,null,null,null,null,null,{"$f":"IF(F388=\"\",\"\",VLOOKUP($F388,WurzelBZweige!$B$6:$AL$116,37,FALSE))","v":""},"",null,null,null,null,null,null,null,0,null,0]
[null,null,null,null,null,null,{"$f":"IF(F389=\"\",\"\",VLOOKUP($F389,WurzelBZweige!$B$6:$AL$116,37,FALSE))","v":""},"",null,null,null,null,null,null,null,0,null,0]
[null,null,null,null,null,null,{"$f":"IF(F390=\"\",\"\",VLOOKUP($F390,WurzelBZweige!$B$6:$AL$116,37,FALSE))","v":""},{"$f":"IF(AND(C390=\"\",D390=\"\"),\"\",C390+D390)","v":""},null,null,null,null,null,null,null,{"$f":"IF(OR(G390=\"\",G390=\"Nein\"),0,H390)","v":0},null,{"$f":"SUM(I390:P390)","v":0}]
[null,null,null,null,null,null,{"$f":"IF(F391=\"\",\"\",VLOOKUP($F391,WurzelBZweige!$B$6:$AL$116,37,FALSE))","v":""},"",null,null,null,null,null,null,null,0,null,0]
[null,null,null,null,null,null,{"$f":"IF(F392=\"\",\"\",VLOOKUP($F392,WurzelBZweige!$B$6:$AL$116,37,FALSE))","v":""},"",null,null,null,null,null,null,null,0,null,0]
[null,null,null,null,null,null,{"$f":"IF(F393=\"\",\"\",VLOOKUP($F393,WurzelBZweige!$B$6:$AL$116,37,FALSE))","v":""},"",null,null,null,null,null,null,null,0,null,0]
[null,null,null,null,null,null,{"$f":"IF(F394=\"\",\"\",VLOOKUP($F394,WurzelBZweige!$B$6:$AL$116,37,FALSE))","v":""},"",null,null,null,null,null,null,null,0,null,0]
[null,null,null,null,null,null,{"$f":"IF(F395=\"\",\"\",VLOOKUP($F395,WurzelBZweige!$B$6:$AL$116,37,FALSE))","v":""},"",null,null,null,null,null,null,null,0,null,0]
[null,null,null,null,null,null,{"$f":"IF(F396=\"\",\"\",VLOOKUP($F396,WurzelBZweige!$B$6:$AL$116,37,FALSE))","v":""},"",null,null,null,null,null,null,null,0,null,0]
[null,null,null,null,null,null,{"$f":"IF(F397=\"\",\"\",VLOOKUP($F397,WurzelBZweige!$B$6:$AL$116,37,FALSE))","v":""},"",null,null,null,null,null,null,null,0,null,0]
[null,null,null,null,null,null,{"$f":"IF(F398=\"\",\"\",VLOOKUP($F398,WurzelBZweige!$B$6:$AL$116,37,FALSE))","v":""},"",null,null,null,null,null,null,null,0,null,0]
[null,null,null,null,null,null,{"$f":"IF(F399=\"\",\"\",VLOOKUP($F399,WurzelBZweige!$B$6:$AL$116,37,FALSE))","v":""},"",null,null,null,null,null,null,null,0,null,0]
[null,null,null,null,null,null,{"$f":"IF(F400=\"\",\"\",VLOOKUP($F400,WurzelBZweige!$B$6:$AL$116,37,FALSE))","v":""},"",null,null,null,null,null,null,null,0,null,0]
[null,null,null,null,null,null,{"$f":"IF(F401=\"\",\"\",VLOOKUP($F401,WurzelBZweige!$B$6:$AL$116,37,FALSE))","v":""},"",null,null,null,null,null,null,null,0,null,0]
[null,null,null,null,null,null,{"$f":"IF(F402=\"\",\"\",VLOOKUP($F402,WurzelBZweige!$B$6:$AL$116,37,FALSE))","v":""},"",null,null,null,null,null,null,null,0,null,0]
[null,null,null,null,null,null,{"$f":"IF(F403=\"\",\"\",VLOOKUP($F403,WurzelBZweige!$B$6:$AL$116,37,FALSE))","v":""},"",null,null,null,null,null,null,null,0,null,0]
[null,null,null,null,null,null,{"$f":"IF(F404=\"\",\"\",VLOOKUP($F404,WurzelBZweige!$B$6:$AL$116,37,FALSE))","v":""},"",null,null,null,null,null,null,null,0,null,0]
[null,null,null,null,null,null,{"$f":"IF(F405=\"\",\"\",VLOOKUP($F405,WurzelBZweige!$B$6:$AL$116,37,FALSE))","v":""},"",null,null,null,null,null,null,null,0,null,0]
[null,null,null,null,null,null,{"$f":"IF(F406=\"\",\"\",VLOOKUP($F406,WurzelBZweige!$B$6:$AL$116,37,FALSE))","v":""},"",null,null,null,null,null,null,null,0,null,0]
[null,null,null,null,null,null,{"$f":"IF(F407=\"\",\"\",VLOOKUP($F407,WurzelBZweige!$B$6:$AL$116,37,FALSE))","v":""},"",null,null,null,null,null,null,null,0,null,0]
[null,null,null,null,null,null,{"$f":"IF(F408=\"\",\"\",VLOOKUP($F408,WurzelBZweige!$B$6:$AL$116,37,FALSE))","v":""},"",null,null,null,null,null,null,null,0,null,0]
[null,null,null,null,null,null,{"$f":"IF(F409=\"\",\"\",VLOOKUP($F409,WurzelBZweige!$B$6:$AL$116,37,FALSE))","v":""},"",null,null,null,null,null,null,null,0,null,0]
[null,null,null,null,null,null,{"$f":"IF(F410=\"\",\"\",VLOOKUP($F410,WurzelBZweige!$B$6:$AL$116,37,FALSE))","v":""},"",null,null,null,null,null,null,null,0,null,0]
[null,null,null,null,null,null,{"$f":"IF(F411=\"\",\"\",VLOOKUP($F411,WurzelBZweige!$B$6:$AL$116,37,FALSE))","v":""},"",null,null,null,null,null,null,null,0,null,0]
[null,null,null,null,null,null,{"$f":"IF(F412=\"\",\"\",VLOOKUP($F412,WurzelBZweige!$B$6:$AL$116,37,FALSE))","v":""},"",null,null,null,null,null,null,null,0,null,0]
[null,null,null,null,null,null,{"$f":"IF(F413=\"\",\"\",VLOOKUP($F413,WurzelBZweige!$B$6:$AL$116,37,FALSE))","v":""},"",null,null,null,null,null,null,null,0,null,0]
[null,null,null,null,null,null,{"$f":"IF(F414=\"\",\"\",VLOOKUP($F414,WurzelBZweige!$B$6:$AL$116,37,FALSE))","v":""},"",null,null,null,null,null,null,null,0,null,0]
[null,null,null,null,null,null,{"$f":"IF(F415=\"\",\"\",VLOOKUP($F415,WurzelBZweige!$B$6:$AL$116,37,FALSE))","v":""},"",null,null,null,null,null,null,null,0,null,0]
[null,null,null,null,null,null,{"$f":"IF(F416=\"\",\"\",VLOOKUP($F416,WurzelBZweige!$B$6:$AL$116,37,FALSE))","v":""},"",null,null,null,null,null,null,null,0,null,0]
[null,null,null,null,null,null,{"$f":"IF(F417=\"\",\"\",VLOOKUP($F417,WurzelBZweige!$B$6:$AL$116,37,FALSE))","v":""},"",null,null,null,null,null,null,null,0,null,0]
[null,null,null,null,null,null,{"$f":"IF(F418=\"\",\"\",VLOOKUP($F418,WurzelBZweige!$B$6:$AL$116,37,FALSE))","v":""},"",null,null,null,null,null,null,null,0,null,0]
[null,null,null,null,null,null,{"$f":"IF(F419=\"\",\"\",VLOOKUP($F419,WurzelBZweige!$B$6:$AL$116,37,FALSE))","v":""},"",null,null,null,null,null,null,null,0,null,0]
[null,null,null,null,null,null,{"$f":"IF(F420=\"\",\"\",VLOOKUP($F420,WurzelBZweige!$B$6:$AL$116,37,FALSE))","v":""},"",null,null,null,null,null,null,null,0,null,0]
[null,null,null,null,null,null,{"$f":"IF(F421=\"\",\"\",VLOOKUP($F421,WurzelBZweige!$B$6:$AL$116,37,FALSE))","v":""},"",null,null,null,null,null,null,null,0,null,0]
[null,null,null,null,null,null,{"$f":"IF(F422=\"\",\"\",VLOOKUP($F422,WurzelBZweige!$B$6:$AL$116,37,FALSE))","v":""},"",null,null,null,null,null,null,null,0,null,0]
[null,null,null,null,null,null,{"$f":"IF(F423=\"\",\"\",VLOOKUP($F423,WurzelBZweige!$B$6:$AL$116,37,FALSE))","v":""},"",null,null,null,null,null,null,null,0,null,0]
[null,null,null,null,null,null,{"$f":"IF(F424=\"\",\"\",VLOOKUP($F424,WurzelBZweige!$B$6:$AL$116,37,FALSE))","v":""},"",null,null,null,null,null,null,null,0,null,0]
[null,null,null,null,null,null,{"$f":"IF(F425=\"\",\"\",VLOOKUP($F425,WurzelBZweige!$B$6:$AL$116,37,FALSE))","v":""},"",null,null,null,null,null,null,null,0,null,0]
[null,null,null,null,null,null,{"$f":"IF(F426=\"\",\"\",VLOOKUP($F426,WurzelBZweige!$B$6:$AL$116,37,FALSE))","v":""},"",null,null,null,null,null,null,null,0,null,0]
[null,null,null,null,null,null,{"$f":"IF(F427=\"\",\"\",VLOOKUP($F427,WurzelBZweige!$B$6:$AL$116,37,FALSE))","v":""},"",null,null,null,null,null,null,null,0,null,0]
[null,null,null,null,null,null,{"$f":"IF(F428=\"\",\"\",VLOOKUP($F428,WurzelBZweige!$B$6:$AL$116,37,FALSE))","v":""},"",null,null,null,null,null,null,null,0,null,0]
[null,null,null,null,null,null,{"$f":"IF(F429=\"\",\"\",VLOOKUP($F429,WurzelBZweige!$B$6:$AL$116,37,FALSE))","v":""},"",null,null,null,null,null,null,null,0,null,0]
[null,null,null,null,null,null,{"$f":"IF(F430=\"\",\"\",VLOOKUP($F430,WurzelBZweige!$B$6:$AL$116,37,FALSE))","v":""},"",null,null,null,null,null,null,null,0,null,0]
[null,null,null,null,null,null,{"$f":"IF(F431=\"\",\"\",VLOOKUP($F431,WurzelBZweige!$B$6:$AL$116,37,FALSE))","v":""},"",null,null,null,null,null,null,null,0,null,0]
[null,null,null,null,null,null,{"$f":"IF(F432=\"\",\"\",VLOOKUP($F432,WurzelBZweige!$B$6:$AL$116,37,FALSE))","v":""},"",null,null,null,null,null,null,null,0,null,0]
[null,null,null,null,null,null,{"$f":"IF(F433=\"\",\"\",VLOOKUP($F433,WurzelBZweige!$B$6:$AL$116,37,FALSE))","v":""},"",null,null,null,null,null,null,null,0,null,0]
[null,null,null,null,null,null,{"$f":"IF(F434=\"\",\"\",VLOOKUP($F434,WurzelBZweige!$B$6:$AL$116,37,FALSE))","v":""},"",null,null,null,null,null,null,null,0,null,0]
[null,null,null,null,null,null,{"$f":"IF(F435=\"\",\"\",VLOOKUP($F435,WurzelBZweige!$B$6:$AL$116,37,FALSE))","v":""},"",null,null,null,null,null,null,null,0,null,0]
[null,null,null,null,null,null,{"$f":"IF(F436=\"\",\"\",VLOOKUP($F436,WurzelBZweige!$B$6:$AL$116,37,FALSE))","v":""},"",null,null,null,null,null,null,null,0,null,0]
[null,null,null,null,null,null,{"$f":"IF(F437=\"\",\"\",VLOOKUP($F437,WurzelBZweige!$B$6:$AL$116,37,FALSE))","v":""},"",null,null,null,null,null,null,null,0,null,0]
[null,null,null,null,null,null,{"$f":"IF(F438=\"\",\"\",VLOOKUP($F438,WurzelBZweige!$B$6:$AL$116,37,FALSE))","v":""},"",null,null,null,null,null,null,null,0,null,0]
[null,null,null,null,null,null,{"$f":"IF(F439=\"\",\"\",VLOOKUP($F439,WurzelBZweige!$B$6:$AL$116,37,FALSE))","v":""},"",null,null,null,null,null,null,null,0,null,0]
[null,null,null,null,null,null,{"$f":"IF(F440=\"\",\"\",VLOOKUP($F440,WurzelBZweige!$B$6:$AL$116,37,FALSE))","v":""},"",null,null,null,null,null,null,null,0,null,0]
[null,null,null,null,null,null,{"$f":"IF(F441=\"\",\"\",VLOOKUP($F441,WurzelBZweige!$B$6:$AL$116,37,FALSE))","v":""},"",null,null,null,null,null,null,null,0,null,0]
[null,null,null,null,null,null,{"$f":"IF(F442=\"\",\"\",VLOOKUP($F442,WurzelBZweige!$B$6:$AL$116,37,FALSE))","v":""},"",null,null,null,null,null,null,null,0,null,0]
[null,null,null,null,null,null,{"$f":"IF(F443=\"\",\"\",VLOOKUP($F443,WurzelBZweige!$B$6:$AL$116,37,FALSE))","v":""},"",null,null,null,null,null,null,null,0,null,0]
[null,null,null,null,null,null,{"$f":"IF(F444=\"\",\"\",VLOOKUP($F444,WurzelBZweige!$B$6:$AL$116,37,FALSE))","v":""},"",null,null,null,null,null,null,null,0,null,0]
[null,null,null,null,null,null,{"$f":"IF(F445=\"\",\"\",VLOOKUP($F445,WurzelBZweige!$B$6:$AL$116,37,FALSE))","v":""},"",null,null,null,null,null,null,null,0,null,0]
[null,null,null,null,null,null,{"$f":"IF(F446=\"\",\"\",VLOOKUP($F446,WurzelBZweige!$B$6:$AL$116,37,FALSE))","v":""},"",null,null,null,null,null,null,null,0,null,0]
[null,null,null,null,null,null,{"$f":"IF(F447=\"\",\"\",VLOOKUP($F447,WurzelBZweige!$B$6:$AL$116,37,FALSE))","v":""},"",null,null,null,null,null,null,null,0,null,0]
[null,null,null,null,null,null,{"$f":"IF(F448=\"\",\"\",VLOOKUP($F448,WurzelBZweige!$B$6:$AL$116,37,FALSE))","v":""},"",null,null,null,null,null,null,null,0,null,0]
[null,null,null,null,null,null,{"$f":"IF(F449=\"\",\"\",VLOOKUP($F449,WurzelBZweige!$B$6:$AL$116,37,FALSE))","v":""},"",null,null,null,null,null,null,null,0,null,0]
[null,null,null,null,null,null,{"$f":"IF(F450=\"\",\"\",VLOOKUP($F450,WurzelBZweige!$B$6:$AL$116,37,FALSE))","v":""},"",null,null,null,null,null,null,null,0,null,0]
[null,null,null,null,null,null,{"$f":"IF(F451=\"\",\"\",VLOOKUP($F451,WurzelBZweige!$B$6:$AL$116,37,FALSE))","v":""},"",null,null,null,null,null,null,null,0,null,0]
[null,null,null,null,null,null,{"$f":"IF(F452=\"\",\"\",VLOOKUP($F452,WurzelBZweige!$B$6:$AL$116,37,FALSE))","v":""},"",null,null,null,null,null,null,null,0,null,0]
[null,null,null,null,null,null,{"$f":"IF(F453=\"\",\"\",VLOOKUP($F453,WurzelBZweige!$B$6:$AL$116,37,FALSE))","v":""},"",null,null,null,null,null,null,null,0,null,0]
[null,null,null,null,null,null,{"$f":"IF(F454=\"\",\"\",VLOOKUP($F454,WurzelBZweige!$B$6:$AL$116,37,FALSE))","v":""},{"$f":"IF(AND(C454=\"\",D454=\"\"),\"\",C454+D454)","v":""},null,null,null,null,null,null,null,{"$f":"IF(OR(G454=\"\",G454=\"Nein\"),0,H454)","v":0},null,{"$f":"SUM(I454:P454)","v":0}]
[null,null,null,null,null,null,{"$f":"IF(F455=\"\",\"\",VLOOKUP($F455,WurzelBZweige!$B$6:$AL$116,37,FALSE))","v":""},"",null,null,null,null,null,null,null,0,null,0]
[null,null,null,null,null,null,{"$f":"IF(F456=\"\",\"\",VLOOKUP($F456,WurzelBZweige!$B$6:$AL$116,37,FALSE))","v":""},"",null,null,null,null,null,null,null,0,null,0]
[null,null,null,null,null,null,{"$f":"IF(F457=\"\",\"\",VLOOKUP($F457,WurzelBZweige!$B$6:$AL$116,37,FALSE))","v":""},"",null,null,null,null,null,null,null,0,null,0]
[null,null,null,null,null,null,{"$f":"IF(F458=\"\",\"\",VLOOKUP($F458,WurzelBZweige!$B$6:$AL$116,37,FALSE))","v":""},"",null,null,null,null,null,null,null,0,null,0]
[null,null,null,null,null,null,{"$f":"IF(F459=\"\",\"\",VLOOKUP($F459,WurzelBZweige!$B$6:$AL$116,37,FALSE))","v":""},"",null,null,null,null,null,null,null,0,null,0]
[null,null,null,null,null,null,{"$f":"IF(F460=\"\",\"\",VLOOKUP($F460,WurzelBZweige!$B$6:$AL$116,37,FALSE))","v":""},"",null,null,null,null,null,null,null,0,null,0]
[null,null,null,null,null,null,{"$f":"IF(F461=\"\",\"\",VLOOKUP($F461,WurzelBZweige!$B$6:$AL$116,37,FALSE))","v":""},"",null,null,null,null,null,null,null,0,null,0]
[null,null,null,null,null,null,{"$f":"IF(F462=\"\",\"\",VLOOKUP($F462,WurzelBZweige!$B$6:$AL$116,37,FALSE))","v":""},"",null,null,null,null,null,null,null,0,null,0]
[null,null,null,null,null,null,{"$f":"IF(F463=\"\",\"\",VLOOKUP($F463,WurzelBZweige!$B$6:$AL$116,37,FALSE))","v":""},"",null,null,null,null,null,null,null,0,null,0]
[null,null,null,null,null,null,{"$f":"IF(F464=\"\",\"\",VLOOKUP($F464,WurzelBZweige!$B$6:$AL$116,37,FALSE))","v":""},"",null,null,null,null,null,null,null,0,null,0]
[null,null,null,null,null,null,{"$f":"IF(F465=\"\",\"\",VLOOKUP($F465,WurzelBZweige!$B$6:$AL$116,37,FALSE))","v":""},"",null,null,null,null,null,null,null,0,null,0]
[null,null,null,null,null,null,{"$f":"IF(F466=\"\",\"\",VLOOKUP($F466,WurzelBZweige!$B$6:$AL$116,37,FALSE))","v":""},"",null,null,null,null,null,null,null,0,null,0]
[null,null,null,null,null,null,{"$f":"IF(F467=\"\",\"\",VLOOKUP($F467,WurzelBZweige!$B$6:$AL$116,37,FALSE))","v":""},"",null,null,null,null,null,null,null,0,null,0]
[null,null,null,null,null,null,{"$f":"IF(F468=\"\",\"\",VLOOKUP($F468,WurzelBZweige!$B$6:$AL$116,37,FALSE))","v":""},"",null,null,null,null,null,null,null,0,null,0]
[null,null,null,null,null,null,{"$f":"IF(F469=\"\",\"\",VLOOKUP($F469,WurzelBZweige!$B$6:$AL$116,37,FALSE))","v":""},"",null,null,null,null,null,null,null,0,null,0]
[null,null,null,null,null,null,{"$f":"IF(F470=\"\",\"\",VLOOKUP($F470,WurzelBZweige!$B$6:$AL$116,37,FALSE))","v":""},"",null,null,null,null,null,null,null,0,null,0]
[null,null,null,null,null,null,{"$f":"IF(F471=\"\",\"\",VLOOKUP($F471,WurzelBZweige!$B$6:$AL$116,37,FALSE))","v":""},"",null,null,null,null,null,null,null,0,null,0]
[null,null,null,null,null,null,{"$f":"IF(F472=\"\",\"\",VLOOKUP($F472,WurzelBZweige!$B$6:$AL$116,37,FALSE))","v":""},"",null,null,null,null,null,null,null,0,null,0]
[null,null,null,null,null,null,{"$f":"IF(F473=\"\",\"\",VLOOKUP($F473,WurzelBZweige!$B$6:$AL$116,37,FALSE))","v":""},"",null,null,null,null,null,null,null,0,null,0]
[null,null,null,null,null,null,{"$f":"IF(F474=\"\",\"\",VLOOKUP($F474,WurzelBZweige!$B$6:$AL$116,37,FALSE))","v":""},"",null,null,null,null,null,null,null,0,null,0]
[null,null,null,null,null,null,{"$f":"IF(F475=\"\",\"\",VLOOKUP($F475,WurzelBZweige!$B$6:$AL$116,37,FALSE))","v":""},"",null,null,null,null,null,null,null,0,null,0]
[null,null,null,null,null,null,{"$f":"IF(F476=\"\",\"\",VLOOKUP($F476,WurzelBZweige!$B$6:$AL$116,37,FALSE))","v":""},"",null,null,null,null,null,null,null,0,null,0]
[null,null,null,null,null,null,{"$f":"IF(F477=\"\",\"\",VLOOKUP($F477,WurzelBZweige!$B$6:$AL$116,37,FALSE))","v":""},"",null,null,null,null,null,null,null,0,null,0]
[null,null,null,null,null,null,{"$f":"IF(F478=\"\",\"\",VLOOKUP($F478,WurzelBZweige!$B$6:$AL$116,37,FALSE))","v":""},"",null,null,null,null,null,null,null,0,null,0]
[null,null,null,null,null,null,{"$f":"IF(F479=\"\",\"\",VLOOKUP($F479,WurzelBZweige!$B$6:$AL$116,37,FALSE))","v":""},"",null,null,null,null,null,null,null,0,null,0]
[null,null,null,null,null,null,{"$f":"IF(F480=\"\",\"\",VLOOKUP($F480,WurzelBZweige!$B$6:$AL$116,37,FALSE))","v":""},"",null,null,null,null,null,null,null,0,null,0]
[null,null,null,null,null,null,{"$f":"IF(F481=\"\",\"\",VLOOKUP($F481,WurzelBZweige!$B$6:$AL$116,37,FALSE))","v":""},"",null,null,null,null,null,null,null,0,null,0]
[null,null,null,null,null,null,{"$f":"IF(F482=\"\",\"\",VLOOKUP($F482,WurzelBZweige!$B$6:$AL$116,37,FALSE))","v":""},"",null,null,null,null,null,null,null,0,null,0]
[null,null,null,null,null,null,{"$f":"IF(F483=\"\",\"\",VLOOKUP($F483,WurzelBZweige!$B$6:$AL$116,37,FALSE))","v":""},"",null,null,null,null,null,null,null,0,null,0]
[null,null,null,null,null,null,{"$f":"IF(F484=\"\",\"\",VLOOKUP($F484,WurzelBZweige!$B$6:$AL$116,37,FALSE))","v":""},"",null,null,null,null,null,null,null,0,null,0]
[null,null,null,null,null,null,{"$f":"IF(F485=\"\",\"\",VLOOKUP($F485,WurzelBZweige!$B$6:$AL$116,37,FALSE))","v":""},"",null,null,null,null,null,null,null,0,null,0]
[null,null,null,null,null,null,{"$f":"IF(F486=\"\",\"\",VLOOKUP($F486,WurzelBZweige!$B$6:$AL$116,37,FALSE))","v":""},"",null,null,null,null,null,null,null,0,null,0]
[null,null,null,null,null,null,{"$f":"IF(F487=\"\",\"\",VLOOKUP($F487,WurzelBZweige!$B$6:$AL$116,37,FALSE))","v":""},"",null,null,null,null,null,null,null,0,null,0]
[null,null,null,null,null,null,{"$f":"IF(F488=\"\",\"\",VLOOKUP($F488,WurzelBZweige!$B$6:$AL$116,37,FALSE))","v":""},"",null,null,null,null,null,null,null,0,null,0]
[null,null,null,null,null,null,{"$f":"IF(F489=\"\",\"\",VLOOKUP($F489,WurzelBZweige!$B$6:$AL$116,37,FALSE))","v":""},"",null,null,null,null,null,null,null,0,null,0]
[null,null,null,null,null,null,{"$f":"IF(F490=\"\",\"\",VLOOKUP($F490,WurzelBZweige!$B$6:$AL$116,37,FALSE))","v":""},"",null,null,null,null,null,null,null,0,null,0]
[null,null,null,null,null,null,{"$f":"IF(F491=\"\",\"\",VLOOKUP($F491,WurzelBZweige!$B$6:$AL$116,37,FALSE))","v":""},"",null,null,null,null,null,null,null,0,null,0]
[null,null,null,null,null,null,{"$f":"IF(F492=\"\",\"\",VLOOKUP($F492,WurzelBZweige!$B$6:$AL$116,37,FALSE))","v":""},"",null,null,null,null,null,null,null,0,null,0]
[null,null,null,null,null,null,{"$f":"IF(F493=\"\",\"\",VLOOKUP($F493,WurzelBZweige!$B$6:$AL$116,37,FALSE))","v":""},"",null,null,null,null,null,null,null,0,null,0]
[null,null,null,null,null,null,{"$f":"IF(F494=\"\",\"\",VLOOKUP($F494,WurzelBZweige!$B$6:$AL$116,37,FALSE))","v":""},"",null,null,null,null,null,null,null,0,null,0]
[null,null,null,null,null,null,{"$f":"IF(F495=\"\",\"\",VLOOKUP($F495,WurzelBZweige!$B$6:$AL$116,37,FALSE))","v":""},"",null,null,null,null,null,null,null,0,null,0]
[null,null,null,null,null,null,{"$f":"IF(F496=\"\",\"\",VLOOKUP($F496,WurzelBZweige!$B$6:$AL$116,37,FALSE))","v":""},"",null,null,null,null,null,null,null,0,null,0]
[null,null,null,null,null,null,{"$f":"IF(F497=\"\",\"\",VLOOKUP($F497,WurzelBZweige!$B$6:$AL$116,37,FALSE))","v":""},"",null,null,null,null,null,null,null,0,null,0]
[null,null,null,null,null,null,{"$f":"IF(F498=\"\",\"\",VLOOKUP($F498,WurzelBZweige!$B$6:$AL$116,37,FALSE))","v":""},"",null,null,null,null,null,null,null,0,null,0]
[null,null,null,null,null,null,{"$f":"IF(F499=\"\",\"\",VLOOKUP($F499,WurzelBZweige!$B$6:$AL$116,37,FALSE))","v":""},"",null,null,null,null,null,null,null,0,null,0]
[null,null,null,null,null,null,{"$f":"IF(F500=\"\",\"\",VLOOKUP($F500,WurzelBZweige!$B$6:$AL$116,37,FALSE))","v":""},"",null,null,null,null,null,null,null,0,null,0]
[null,null,null,null,null,null,{"$f":"IF(F501=\"\",\"\",VLOOKUP($F501,WurzelBZweige!$B$6:$AL$116,37,FALSE))","v":""},"",null,null,null,null,null,null,null,0,null,0]
[null,null,null,null,null,null,{"$f":"IF(F502=\"\",\"\",VLOOKUP($F502,WurzelBZweige!$B$6:$AL$116,37,FALSE))","v":""},"",null,null,null,null,null,null,null,0,null,0]
[null,null,null,null,null,null,{"$f":"IF(F503=\"\",\"\",VLOOKUP($F503,WurzelBZweige!$B$6:$AL$116,37,FALSE))","v":""},"",null,null,null,null,null,null,null,0,null,0]
[null,null,null,null,null,null,{"$f":"IF(F504=\"\",\"\",VLOOKUP($F504,WurzelBZweige!$B$6:$AL$116,37,FALSE))","v":""},"",null,null,null,null,null,null,null,0,null,0]
[null,null,null,null,null,null,{"$f":"IF(F505=\"\",\"\",VLOOKUP($F505,WurzelBZweige!$B$6:$AL$116,37,FALSE))","v":""},"",{"$f":"IF($F505=\"\",\"\",VLOOKUP($F505,WurzelBZweige!$AM$5:$AT$116,COLUMN()-7,FALSE)*$H505)","v":""},{"$f":"IF($F505=\"\",\"\",VLOOKUP($F505,WurzelBZweige!$AM$5:$AT$116,COLUMN()-7,FALSE)*$H505)","v":""},{"$f":"IF($F505=\"\",\"\",VLOOKUP($F505,WurzelBZweige!$AM$5:$AT$116,COLUMN()-7,FALSE)*$H505)","v":""},{"$f":"IF($F505=\"\",\"\",VLOOKUP($F505,WurzelBZweige!$AM$5:$AT$116,COLUMN()-7,FALSE)*$H505)","v":""},{"$f":"IF($F505=\"\",\"\",VLOOKUP($F505,WurzelBZweige!$AM$5:$AT$116,COLUMN()-7,FALSE)*$H505)","v":""},{"$f":"IF($F505=\"\",\"\",VLOOKUP($F505,WurzelBZweige!$AM$5:$AT$116,COLUMN()-7,FALSE)*$H505)","v":""},{"$f":"IF($F505=\"\",\"\",VLOOKUP($F505,WurzelBZweige!$AM$5:$AT$116,COLUMN()-7,FALSE)*$H505)","v":""},0,null,0]

{"sheet":"InvGetrVieh","index":7,"n_rows":93,"n_cols":11,"rows_kept":93,"cut":false,"hidden":false,"merged":[[2,8,3,8],[17,1,17,3],[17,4,17,6],[17,7,18,7],[2,1,2,3],[2,4,2,6],[2,7,3,7]]}
["Inventur des selbsterzeugten Getreides",null,null,null,null,null,null,"Menü",null,null,0]
[]
[null,{"$f":"WirtschaftsjahrAnfang","v":"2021-01-01"},null,null,{"$f":"WJahrEnde","v":"2021-12-31"},null,null,"Mehrwert/ Minderwert (Kostenwirksam)","Wert für Übergabe an BüB, BaB"]
["Getreideart","Menge ","Preis je Einheit","Summe","Menge ","Preis je Einheit","Summe"]
[null,null,null,{"$f":"+B5*C5","v":0},null,null,{"$f":"+E5*F5","v":0},{"$f":"+G5-D5","v":0},{"$f":"H5*(-1)","v":0},{"$f":"ABS(H5)","v":0}]
[null,null,null,0,null,null,0,0,{"$f":"H6*(-1)","v":0},{"$f":"ABS(H6)","v":0}]
[null,null,null,0,null,null,0,0,0,0]
[null,null,null,0,null,null,0,0,0,0]
[null,null,null,0,null,null,0,0,0,0]
[null,null,null,0,null,null,0,0,0,0]
[null,null,null,0,null,null,0,0,0,0]
[null,null,null,0,null,null,0,0,0,0]
[null,null,null,0,null,null,0,0,0,0]
[null,null,null,0,null,null,0,0,0,0]
[null,null,null,0,null,null,0,0,0,0]
[null,null,"Summe",{"$f":"SUM(D5:D15)","v":0},null,null,{"$f":"SUM(G5:G15)","v":0},0]
["Tierbestand Mastvieh"]
[null,{"$f":"WirtschaftsjahrAnfang","v":"2021-01-01"},null,null,{"$f":"WJahrEnde","v":"2021-12-31"},null,null,"Mehrwert/ Minderwert (Leistungswirksam)"]
["Schweine","Stück","Preis je Einheit","Summe","Stück","Preis je Einheit","Summe"]
["Ferkel 8-20 kg",null,43,{"$f":"+B20*C20","v":0},null,46,{"$f":"+E20*F20","v":0},{"$f":"+G20-D20","v":0},null,0]
["Ferkel 20 - 30 kg",null,52,0,null,56,0,0,null,0]
["Mehr/Minderwerte Ferkel",null,null,null,null,null,null,{"$f":"SUM(H20:H21)","v":0},{"$f":"H22","v":0}]
["Mastschweine 30 - 60 kg",null,69,0,null,71,0,0,null,0]
["Mastschweine 60 - 90 kg",null,91,0,null,94,0,0,null,0]
["Mastschweine über 90 kg",null,120,0,null,121,0,0,null,0]
["Mehr/Minderwerte Mastschweine",null,null,null,null,null,null,{"$f":"SUM(H23:H25)","v":0},{"$f":"H26","v":0},0]
["Mastrinder hohe Intensität"]
["Mastrinder 3 - 6 Monate intensiv",null,543.42742492307696,0,null,535.40509409230788,0,0,null,0]
["Mastrinder 6 - 12 Monate intensiv",null,759.38584178347583,0,null,815.93257027028494,0,0,null,0]
["Mastrinder 12 - 18 Monate intensiv",null,976.50650037777768,0,null,1054.1855851052992,0,0,null,0]
["Mehr/Minderwerte Maststiere hoch",null,null,null,null,null,null,{"$f":"SUM(H28:H30)","v":0},{"$f":"H31","v":0}]
["Mastrinder mittlere Intensität"]
["Mastrinder 3 - 6 Monate mittel",null,544.29648892307694,0,null,535.36981409230782,0,0,null,0]
["Mastrinder 6 - 12 Monate mittel",null,730.0992690575498,0,null,782.37956775176644,0,0,null,0]
["Mastrinder 12 - 22 Monate mittel",null,956.55740194666669,0,null,1008.523669634802,0,0,null,0]
["Mehr/Minderwerte Maststiere mittel",null,null,null,null,null,null,{"$f":"SUM(H33:H35)","v":0},{"$f":"H36","v":0}]
["Sonstige Tiere, bei denen noch kein Mehr- bzw. Minderwert im BüB/BaB erfasst wurde"]
[null,null,null,{"$f":"+B38*C38","v":0},null,null,{"$f":"+E38*F38","v":0},{"$f":"+G38-D38","v":0},{"$f":"H38","v":0},0]
[null,null,null,0,null,null,0,0,0,0]
[null,null,null,0,null,null,0,0,0,0]
[null,null,null,0,null,null,0,0,0,0]
[null,null,null,0,null,null,0,0,0,0]
[null,null,null,0,null,null,0,0,0,0]
[null,null,null,0,null,null,0,0,0,0]
[null,null,null,{"$f":"+B45*C45","v":0},null,null,{"$f":"+E45*F45","v":0},{"$f":"+G45-D45","v":0},0,0]
[null,null,null,{"$f":"+B46*C46","v":0},null,null,{"$f":"+E46*F46","v":0},{"$f":"+G46-D46","v":0},0,0]
[null,null,null,{"$f":"+B47*C47","v":0},null,null,{"$f":"+E47*F47","v":0},{"$f":"+G47-D47","v":0},0,0]
[null,null,null,null,null,null,null,null,null,{"$f":"SUM(J5:J47)","v":0}]
[]
[]
["Daten aus Import eAmA"]
["Männliche Rinder",{"$f":"WirtschaftsjahrAnfang","v":"2021-01-01"},{"$f":"E18","v":"2021-12-31"}]
["0M - 3M",{"$f":"ImportTiere!AJ37","v":0},{"$f":"ImportTiere!AK37","v":0}]
["3M - 6M",{"$f":"ImportTiere!AJ38","v":0},{"$f":"ImportTiere!AK38","v":0}]
["6M- 12M",{"$f":"ImportTiere!AJ39","v":0},{"$f":"ImportTiere!AK39","v":0}]
["12M- 18M",{"$f":"ImportTiere!AJ40","v":0},{"$f":"ImportTiere!AK40","v":0}]
["über 18 M",{"$f":"ImportTiere!AJ41+ImportTiere!AJ42","v":0},{"$f":"ImportTiere!AK41+ImportTiere!AK42","v":0}]
["Weibliche Rinder"]
["0M - 3M",{"$f":"ImportTiere!AJ44","v":0},{"$f":"ImportTiere!AK44","v":0}]
["3M - 6M",{"$f":"ImportTiere!AJ45","v":0},{"$f":"ImportTiere!AK45","v":0}]
["6M- 12M",{"$f":"ImportTiere!AJ46","v":0},{"$f":"ImportTiere!AK46","v":0}]
["12M- 18M",{"$f":"ImportTiere!AJ47","v":0},{"$f":"ImportTiere!AK47","v":0}]
["18M - 24M",{"$f":"ImportTiere!AJ48","v":0},{"$f":"ImportTiere!AK48","v":0}]
["über 24M",{"$f":"ImportTiere!AJ49","v":0},{"$f":"ImportTiere!AK49","v":0}]
[]
[]
[]
["Bestand","Wert"]
[{"$f":"A5","v":0},{"$f":"I5","v":0}]
[0,0]
[0,0]
[0,0]
[0,0]
[0,0]
[0,0]
[0,0]
[0,0]
[0,0]
[0,0]
[{"$f":"+A22","v":"Mehr/Minderwerte Ferkel"},{"$f":"+I22","v":0}]
[{"$f":"+A26","v":"Mehr/Minderwerte Mastschweine"},{"$f":"+I26","v":0}]
[{"$f":"+A31","v":"Mehr/Minderwerte Maststiere hoch"},{"$f":"+I31","v":0}]
[{"$f":"+A36","v":"Mehr/Minderwerte Maststiere mittel"},{"$f":"+I36","v":0}]
[{"$f":"A38","v":0},{"$f":"I38","v":0}]
[0,0]
[0,0]
[0,0]
[0,0]
[0,0]
[0,0]
[0,0]
[0,0]
[0,0]

{"sheet":"KoSteRe","index":8,"n_rows":116,"n_cols":15,"rows_kept":116,"cut":false,"hidden":false,"merged":[[37,1,59,1],[86,1,115,1],[80,1,84,1],[61,1,78,1],[2,12,4,12],[5,1,35,1],[2,6,4,6],[2,7,4,7],[2,8,4,8],[2,9,4,9],[2,10,4,10],[2,11,4,11]]}
[null,"Kostenartenrechnung",null,"Menü",null,null,"Kostenstellenrechnung"]
[]
[null,null,null,null,null,null,{"$f":"_Zw1","v":"Sonstiges"},{"$f":"_Zw2","v":0},{"$f":"_Zw3","v":0},{"$f":"_Zw4","v":0},{"$f":"_Zw5","v":0},{"$f":"_Zw6","v":0},{"$f":"_Zw7","v":0}]
[null,null,null,null,null,null,null,null,null,null,null,null,null,null,"Anmerkungen"]
[null,null,"Leistungen und  Kosten","Betrag",null,"Schlüssel",null,null,null,null,null,null,null,"Kontrolle"]
[null,"Direktleistungen",{"$f":"IF(WurzelBZweige!$AV6=\"\",\"\",WurzelBZweige!AV6)","v":""},{"$f":"IF(ISERROR(VLOOKUP(C6,KoSteReWurzel!$B$6:$L$127,11,FALSE)=TRUE),0,VLOOKUP(C6,KoSteReWurzel!$B$6:$L$127,11,FALSE))","v":0},{"$f":"D6-N6","v":0},null,{"$f":"IF(ISNA(VLOOKUP($C6,Kostenverteiler,COLUMN()-5,FALSE))=TRUE,0,IF($F6<>\"\",$D6*VLOOKUP($F6,Schlüsselliste,COLUMN(B6),FALSE),VLOOKUP($C6,Kostenverteiler,COLUMN()-5,FALSE)))","v":0},{"$f":"IF(ISNA(VLOOKUP($C6,Kostenverteiler,COLUMN()-5,FALSE))=TRUE,0,IF($F6<>\"\",$D6*VLOOKUP($F6,Schlüsselliste,COLUMN(C6),FALSE),VLOOKUP($C6,Kostenverteiler,COLUMN()-5,FALSE)))","v":0},{"$f":"IF(ISNA(VLOOKUP($C6,Kostenverteiler,COLUMN()-5,FALSE))=TRUE,0,IF($F6<>\"\",$D6*VLOOKUP($F6,Schlüsselliste,COLUMN(D6),FALSE),VLOOKUP($C6,Kostenverteiler,COLUMN()-5,FALSE)))","v":0},{"$f":"IF(ISNA(VLOOKUP($C6,Kostenverteiler,COLUMN()-5,FALSE))=TRUE,0,IF($F6<>\"\",$D6*VLOOKUP($F6,Schlüsselliste,COLUMN(E6),FALSE),VLOOKUP($C6,Kostenverteiler,COLUMN()-5,FALSE)))","v":0},{"$f":"IF(ISNA(VLOOKUP($C6,Kostenverteiler,COLUMN()-5,FALSE))=TRUE,0,IF($F6<>\"\",$D6*VLOOKUP($F6,Schlüsselliste,COLUMN(F6),FALSE),VLOOKUP($C6,Kostenverteiler,COLUMN()-5,FALSE)))","v":0},{"$f":"IF(ISNA(VLOOKUP($C6,Kostenverteiler,COLUMN()-5,FALSE))=TRUE,0,IF($F6<>\"\",$D6*VLOOKUP($F6,Schlüsselliste,COLUMN(G6),FALSE),VLOOKUP($C6,Kostenverteiler,COLUMN()-5,FALSE)))","v":0},{"$f":"IF(ISNA(VLOOKUP($C6,Kostenverteiler,COLUMN()-5,FALSE))=TRUE,0,IF($F6<>\"\",$D6*VLOOKUP($F6,Schlüsselliste,COLUMN(H6),FALSE),VLOOKUP($C6,Kostenverteiler,COLUMN()-5,FALSE)))","v":0},{"$f":"SUM(G6:M6)","v":0}]
[null,null,{"$f":"IF(WurzelBZweige!$AV7=\"\",\"\",WurzelBZweige!AV7)","v":""},{"$f":"IF(ISERROR(VLOOKUP(C7,KoSteReWurzel!$B$6:$L$127,11,FALSE)=TRUE),0,VLOOKUP(C7,KoSteReWurzel!$B$6:$L$127,11,FALSE))","v":0},{"$f":"D7-N7","v":0},null,0,0,0,0,0,0,0,{"$f":"SUM(G7:M7)","v":0}]
[null,null,{"$f":"IF(WurzelBZweige!$AV8=\"\",\"\",WurzelBZweige!AV8)","v":""},{"$f":"IF(ISERROR(VLOOKUP(C8,KoSteReWurzel!$B$6:$L$127,11,FALSE)=TRUE),0,VLOOKUP(C8,KoSteReWurzel!$B$6:$L$127,11,FALSE))","v":0},0,null,0,0,0,0,0,0,0,0]
[null,null,{"$f":"IF(WurzelBZweige!$AV9=\"\",\"\",WurzelBZweige!AV9)","v":""},{"$f":"IF(ISERROR(VLOOKUP(C9,KoSteReWurzel!$B$6:$L$127,11,FALSE)=TRUE),0,VLOOKUP(C9,KoSteReWurzel!$B$6:$L$127,11,FALSE))","v":0},0,null,0,0,0,0,0,0,0,0]
[null,null,{"$f":"IF(WurzelBZweige!$AV10=\"\",\"\",WurzelBZweige!AV10)","v":""},{"$f":"IF(ISERROR(VLOOKUP(C10,KoSteReWurzel!$B$6:$L$127,11,FALSE)=TRUE),0,VLOOKUP(C10,KoSteReWurzel!$B$6:$L$127,11,FALSE))","v":0},0,null,0,0,0,0,0,0,0,0]
[null,null,{"$f":"IF(WurzelBZweige!$AV11=\"\",\"\",WurzelBZweige!AV11)","v":""},{"$f":"IF(ISERROR(VLOOKUP(C11,KoSteReWurzel!$B$6:$L$127,11,FALSE)=TRUE),0,VLOOKUP(C11,KoSteReWurzel!$B$6:$L$127,11,FALSE))","v":0},0,null,0,0,0,0,0,0,0,0]
[null,null,{"$f":"IF(WurzelBZweige!$AV12=\"\",\"\",WurzelBZweige!AV12)","v":""},{"$f":"IF(ISERROR(VLOOKUP(C12,KoSteReWurzel!$B$6:$L$127,11,FALSE)=TRUE),0,VLOOKUP(C12,KoSteReWurzel!$B$6:$L$127,11,FALSE))","v":0},0,null,0,0,0,0,0,0,0,0]
[null,null,{"$f":"IF(WurzelBZweige!$AV13=\"\",\"\",WurzelBZweige!AV13)","v":""},{"$f":"IF(ISERROR(VLOOKUP(C13,KoSteReWurzel!$B$6:$L$127,11,FALSE)=TRUE),0,VLOOKUP(C13,KoSteReWurzel!$B$6:$L$127,11,FALSE))","v":0},0,null,0,0,0,0,0,0,0,0]
[null,null,{"$f":"IF(WurzelBZweige!$AV14=\"\",\"\",WurzelBZweige!AV14)","v":""},{"$f":"IF(ISERROR(VLOOKUP(C14,KoSteReWurzel!$B$6:$L$127,11,FALSE)=TRUE),0,VLOOKUP(C14,KoSteReWurzel!$B$6:$L$127,11,FALSE))","v":0},0,null,0,0,0,0,0,0,0,0]
[null,null,{"$f":"IF(WurzelBZweige!$AV15=\"\",\"\",WurzelBZweige!AV15)","v":""},{"$f":"IF(ISERROR(VLOOKUP(C15,KoSteReWurzel!$B$6:$L$127,11,FALSE)=TRUE),0,VLOOKUP(C15,KoSteReWurzel!$B$6:$L$127,11,FALSE))","v":0},0,null,0,0,0,0,0,0,0,0]
[null,null,{"$f":"IF(WurzelBZweige!$AV16=\"\",\"\",WurzelBZweige!AV16)","v":""},{"$f":"IF(ISERROR(VLOOKUP(C16,KoSteReWurzel!$B$6:$L$127,11,FALSE)=TRUE),0,VLOOKUP(C16,KoSteReWurzel!$B$6:$L$127,11,FALSE))","v":0},0,null,0,0,0,0,0,0,0,0]
[null,null,{"$f":"IF(WurzelBZweige!$AV17=\"\",\"\",WurzelBZweige!AV17)","v":""},{"$f":"IF(ISERROR(VLOOKUP(C17,KoSteReWurzel!$B$6:$L$127,11,FALSE)=TRUE),0,VLOOKUP(C17,KoSteReWurzel!$B$6:$L$127,11,FALSE))","v":0},0,null,0,0,0,0,0,0,0,0]
[null,null,{"$f":"IF(WurzelBZweige!$AV18=\"\",\"\",WurzelBZweige!AV18)","v":""},{"$f":"IF(ISERROR(VLOOKUP(C18,KoSteReWurzel!$B$6:$L$127,11,FALSE)=TRUE),0,VLOOKUP(C18,KoSteReWurzel!$B$6:$L$127,11,FALSE))","v":0},0,null,0,0,0,0,0,0,0,0]
[null,null,{"$f":"IF(WurzelBZweige!$AV19=\"\",\"\",WurzelBZweige!AV19)","v":""},{"$f":"IF(ISERROR(VLOOKUP(C19,KoSteReWurzel!$B$6:$L$127,11,FALSE)=TRUE),0,VLOOKUP(C19,KoSteReWurzel!$B$6:$L$127,11,FALSE))","v":0},0,null,0,0,0,0,0,0,0,0]
[null,null,{"$f":"IF(WurzelBZweige!$AV20=\"\",\"\",WurzelBZweige!AV20)","v":""},{"$f":"IF(ISERROR(VLOOKUP(C20,KoSteReWurzel!$B$6:$L$127,11,FALSE)=TRUE),0,VLOOKUP(C20,KoSteReWurzel!$B$6:$L$127,11,FALSE))","v":0},0,null,0,0,0,0,0,0,0,0]
[null,null,{"$f":"IF(WurzelBZweige!$AV21=\"\",\"\",WurzelBZweige!AV21)","v":""},{"$f":"IF(ISERROR(VLOOKUP(C21,KoSteReWurzel!$B$6:$L$127,11,FALSE)=TRUE),0,VLOOKUP(C21,KoSteReWurzel!$B$6:$L$127,11,FALSE))","v":0},0,null,0,0,0,0,0,0,0,0]
[null,null,{"$f":"IF(WurzelBZweige!$AV22=\"\",\"\",WurzelBZweige!AV22)","v":""},{"$f":"IF(ISERROR(VLOOKUP(C22,KoSteReWurzel!$B$6:$L$127,11,FALSE)=TRUE),0,VLOOKUP(C22,KoSteReWurzel!$B$6:$L$127,11,FALSE))","v":0},0,null,0,0,0,0,0,0,0,0]
[null,null,{"$f":"IF(WurzelBZweige!$AV23=\"\",\"\",WurzelBZweige!AV23)","v":""},{"$f":"IF(ISERROR(VLOOKUP(C23,KoSteReWurzel!$B$6:$L$127,11,FALSE)=TRUE),0,VLOOKUP(C23,KoSteReWurzel!$B$6:$L$127,11,FALSE))","v":0},0,null,0,0,0,0,0,0,0,0]
[null,null,{"$f":"IF(WurzelBZweige!$AV24=\"\",\"\",WurzelBZweige!AV24)","v":""},{"$f":"IF(ISERROR(VLOOKUP(C24,KoSteReWurzel!$B$6:$L$127,11,FALSE)=TRUE),0,VLOOKUP(C24,KoSteReWurzel!$B$6:$L$127,11,FALSE))","v":0},0,null,0,0,0,0,0,0,0,0]
[null,null,{"$f":"IF(WurzelBZweige!$AV25=\"\",\"\",WurzelBZweige!AV25)","v":""},{"$f":"IF(ISERROR(VLOOKUP(C25,KoSteReWurzel!$B$6:$L$127,11,FALSE)=TRUE),0,VLOOKUP(C25,KoSteReWurzel!$B$6:$L$127,11,FALSE))","v":0},0,null,0,0,0,0,0,0,0,0]
[null,null,{"$f":"IF(WurzelBZweige!$AV26=\"\",\"\",WurzelBZweige!AV26)","v":""},{"$f":"IF(ISERROR(VLOOKUP(C26,KoSteReWurzel!$B$6:$L$127,11,FALSE)=TRUE),0,VLOOKUP(C26,KoSteReWurzel!$B$6:$L$127,11,FALSE))","v":0},0,null,0,0,0,0,0,0,0,0]
[null,null,{"$f":"IF(WurzelBZweige!$AV27=\"\",\"\",WurzelBZweige!AV27)","v":"Sonstige Leistungen "},{"$f":"IF(ISERROR(VLOOKUP(C27,KoSteReWurzel!$B$6:$L$127,11,FALSE)=TRUE),0,VLOOKUP(C27,KoSteReWurzel!$B$6:$L$127,11,FALSE))","v":0},0,null,0,0,0,0,0,0,0,0]
[null,null,{"$f":"IF(WurzelBZweige!$AV28=\"\",\"\",WurzelBZweige!AV28)","v":""},{"$f":"IF(ISERROR(VLOOKUP(C28,KoSteReWurzel!$B$6:$L$127,11,FALSE)=TRUE),0,VLOOKUP(C28,KoSteReWurzel!$B$6:$L$127,11,FALSE))","v":0},0,null,0,0,0,0,0,0,0,0]
[null,null,{"$f":"IF(WurzelBZweige!$AV29=\"\",\"\",WurzelBZweige!AV29)","v":""},{"$f":"IF(ISERROR(VLOOKUP(C29,KoSteReWurzel!$B$6:$L$127,11,FALSE)=TRUE),0,VLOOKUP(C29,KoSteReWurzel!$B$6:$L$127,11,FALSE))","v":0},0,null,0,0,0,0,0,0,0,0]
[null,null,{"$f":"IF(WurzelBZweige!$AV30=\"\",\"\",WurzelBZweige!AV30)","v":""},{"$f":"IF(ISERROR(VLOOKUP(C30,KoSteReWurzel!$B$6:$L$127,11,FALSE)=TRUE),0,VLOOKUP(C30,KoSteReWurzel!$B$6:$L$127,11,FALSE))","v":0},{"$f":"D30-N30","v":0},null,{"$f":"IF(ISNA(VLOOKUP($C30,Kostenverteiler,COLUMN()-5,FALSE))=TRUE,0,IF($F30<>\"\",$D30*VLOOKUP($F30,Schlüsselliste,COLUMN(B30),FALSE),VLOOKUP($C30,Kostenverteiler,COLUMN()-5,FALSE)))","v":0},0,0,0,0,0,0,{"$f":"SUM(G30:M30)","v":0}]
[null,null,{"$f":"IF(WurzelBZweige!$AV31=\"\",\"\",WurzelBZweige!AV31)","v":""},{"$f":"IF(ISERROR(VLOOKUP(C31,KoSteReWurzel!$B$6:$L$127,11,FALSE)=TRUE),0,VLOOKUP(C31,KoSteReWurzel!$B$6:$L$127,11,FALSE))","v":0},{"$f":"D31-N31","v":0},null,0,0,0,0,0,0,0,{"$f":"SUM(G31:M31)","v":0}]
[null,null,{"$f":"IF(WurzelBZweige!$AV32=\"\",\"\",WurzelBZweige!AV32)","v":""},{"$f":"IF(ISERROR(VLOOKUP(C32,KoSteReWurzel!$B$6:$L$127,11,FALSE)=TRUE),0,VLOOKUP(C32,KoSteReWurzel!$B$6:$L$127,11,FALSE))","v":0},{"$f":"D32-N32","v":0},null,0,0,0,0,0,0,0,{"$f":"SUM(G32:M32)","v":0}]
[null,null,{"$f":"IF(WurzelBZweige!$AV33=\"\",\"\",WurzelBZweige!AV33)","v":""},{"$f":"IF(ISERROR(VLOOKUP(C33,KoSteReWurzel!$B$6:$L$127,11,FALSE)=TRUE),0,VLOOKUP(C33,KoSteReWurzel!$B$6:$L$127,11,FALSE))","v":0},{"$f":"D33-N33","v":0},null,0,0,0,0,0,0,0,{"$f":"SUM(G33:M33)","v":0}]
[null,null,{"$f":"IF(WurzelBZweige!$AV34=\"\",\"\",WurzelBZweige!AV34)","v":""},{"$f":"IF(ISERROR(VLOOKUP(C34,KoSteReWurzel!$B$6:$L$127,11,FALSE)=TRUE),0,VLOOKUP(C34,KoSteReWurzel!$B$6:$L$127,11,FALSE))","v":0},0,null,0,0,0,0,0,0,0,0]
[null,null,{"$f":"IF(WurzelBZweige!$AV35=\"\",\"\",WurzelBZweige!AV35)","v":"Wirtschaftsdünger innerbetrieblich"},{"$f":"WDüngerWert","v":0},0,"Wirtschaftsdüngerwert Schlüssel",{"$f":"IF($D$35=0,0,$D35*VLOOKUP($F35,Schlüsselliste,COLUMN(B35),FALSE))","v":0},0,0,0,0,0,0,0]
[null,null,{"$f":"IF(WurzelBZweige!$AV36=\"\",\"\",WurzelBZweige!AV36)","v":"Direktleistungen"},{"$f":"SUM(D6:D35)","v":0},0,null,{"$f":"SUM(G6:G35)","v":0},{"$f":"SUM(H6:H35)","v":0},0,0,0,0,0,0]
[null,null,"."]
[null,"Direktkosten",{"$f":"IF(WurzelBZweige!$AV38=\"\",\"\",WurzelBZweige!AV38)","v":"Saatgut"},{"$f":"IF(ISERROR(VLOOKUP(C38,KoSteReWurzel!$B$6:$L$127,11,FALSE)=TRUE),0,VLOOKUP(C38,KoSteReWurzel!$B$6:$L$127,11,FALSE))","v":0},0,null,{"$f":"IF(ISNA(VLOOKUP($C38,Kostenverteiler,COLUMN()-5,FALSE))=TRUE,0,IF($F38<>\"\",$D38*VLOOKUP($F38,Schlüsselliste,COLUMN(B38),FALSE),VLOOKUP($C38,Kostenverteiler,COLUMN()-5,FALSE)))","v":0},{"$f":"IF(ISNA(VLOOKUP($C38,Kostenverteiler,COLUMN()-5,FALSE))=TRUE,0,IF($F38<>\"\",$D38*VLOOKUP($F38,Schlüsselliste,COLUMN(C38),FALSE),VLOOKUP($C38,Kostenverteiler,COLUMN()-5,FALSE)))","v":0},{"$f":"IF(ISNA(VLOOKUP($C38,Kostenverteiler,COLUMN()-5,FALSE))=TRUE,0,IF($F38<>\"\",$D38*VLOOKUP($F38,Schlüsselliste,COLUMN(D38),FALSE),VLOOKUP($C38,Kostenverteiler,COLUMN()-5,FALSE)))","v":0},{"$f":"IF(ISNA(VLOOKUP($C38,Kostenverteiler,COLUMN()-5,FALSE))=TRUE,0,IF($F38<>\"\",$D38*VLOOKUP($F38,Schlüsselliste,COLUMN(E38),FALSE),VLOOKUP($C38,Kostenverteiler,COLUMN()-5,FALSE)))","v":0},{"$f":"IF(ISNA(VLOOKUP($C38,Kostenverteiler,COLUMN()-5,FALSE))=TRUE,0,IF($F38<>\"\",$D38*VLOOKUP($F38,Schlüsselliste,COLUMN(F38),FALSE),VLOOKUP($C38,Kostenverteiler,COLUMN()-5,FALSE)))","v":0},{"$f":"IF(ISNA(VLOOKUP($C38,Kostenverteiler,COLUMN()-5,FALSE))=TRUE,0,IF($F38<>\"\",$D38*VLOOKUP($F38,Schlüsselliste,COLUMN(G38),FALSE),VLOOKUP($C38,Kostenverteiler,COLUMN()-5,FALSE)))","v":0},{"$f":"IF(ISNA(VLOOKUP($C38,Kostenverteiler,COLUMN()-5,FALSE))=TRUE,0,IF($F38<>\"\",$D38*VLOOKUP($F38,Schlüsselliste,COLUMN(H38),FALSE),VLOOKUP($C38,Kostenverteiler,COLUMN()-5,FALSE)))","v":0},0]
[null,null,{"$f":"IF(WurzelBZweige!$AV39=\"\",\"\",WurzelBZweige!AV39)","v":""},{"$f":"IF(ISERROR(VLOOKUP(C39,KoSteReWurzel!$B$6:$L$127,11,FALSE)=TRUE),0,VLOOKUP(C39,KoSteReWurzel!$B$6:$L$127,11,FALSE))","v":0},0,null,0,0,0,0,0,0,0,0]
[null,null,{"$f":"IF(WurzelBZweige!$AV40=\"\",\"\",WurzelBZweige!AV40)","v":"Dünger (Wirtschaftsdünger + Handelsdünger)"},{"$f":"IF(ISERROR(VLOOKUP(C40,KoSteReWurzel!$B$6:$L$127,11,FALSE)=TRUE),0,VLOOKUP(C40,KoSteReWurzel!$B$6:$L$127,11,FALSE))+WDüngerWert","v":0},0,"Düngerkosten Schlüssel",{"$f":"IF(OR($F$40=\"\",$D$40=0),0,IF($F40<>\"\",$D40*VLOOKUP($F40,Schlüsselliste,COLUMN(B40),FALSE),VLOOKUP($C40,Kostenverteiler,COLUMN()-5,FALSE)))","v":0},0,0,0,0,0,0,0]
[null,null,{"$f":"IF(WurzelBZweige!$AV41=\"\",\"\",WurzelBZweige!AV41)","v":"Pflanzenschutz"},{"$f":"IF(ISERROR(VLOOKUP(C41,KoSteReWurzel!$B$6:$L$127,11,FALSE)=TRUE),0,VLOOKUP(C41,KoSteReWurzel!$B$6:$L$127,11,FALSE))","v":0},0,null,0,0,0,0,0,0,0,0]
[null,null,{"$f":"IF(WurzelBZweige!$AV42=\"\",\"\",WurzelBZweige!AV42)","v":""},{"$f":"IF(ISERROR(VLOOKUP(C42,KoSteReWurzel!$B$6:$L$127,11,FALSE)=TRUE),0,VLOOKUP(C42,KoSteReWurzel!$B$6:$L$127,11,FALSE))","v":0},0,null,0,0,0,0,0,0,0,0]
[null,null,{"$f":"IF(WurzelBZweige!$AV43=\"\",\"\",WurzelBZweige!AV43)","v":""},{"$f":"IF(ISERROR(VLOOKUP(C43,KoSteReWurzel!$B$6:$L$127,11,FALSE)=TRUE),0,VLOOKUP(C43,KoSteReWurzel!$B$6:$L$127,11,FALSE))","v":0},0,"Grundfutterzukauf Schlüssel",0,0,0,0,0,0,0,0]
[null,null,{"$f":"IF(WurzelBZweige!$AV44=\"\",\"\",WurzelBZweige!AV44)","v":""},{"$f":"IF(ISERROR(VLOOKUP(C44,KoSteReWurzel!$B$6:$L$127,11,FALSE)=TRUE),0,VLOOKUP(C44,KoSteReWurzel!$B$6:$L$127,11,FALSE))","v":0},0,null,0,0,0,0,0,0,0,0]
[null,null,{"$f":"IF(WurzelBZweige!$AV45=\"\",\"\",WurzelBZweige!AV45)","v":""},{"$f":"IF(ISERROR(VLOOKUP(C45,KoSteReWurzel!$B$6:$L$127,11,FALSE)=TRUE),0,VLOOKUP(C45,KoSteReWurzel!$B$6:$L$127,11,FALSE))","v":0},0,null,0,0,0,0,0,0,0,0]
[null,null,{"$f":"IF(WurzelBZweige!$AV46=\"\",\"\",WurzelBZweige!AV46)","v":""},{"$f":"IF(ISERROR(VLOOKUP(C46,KoSteReWurzel!$B$6:$L$127,11,FALSE)=TRUE),0,VLOOKUP(C46,KoSteReWurzel!$B$6:$L$127,11,FALSE))","v":0},0,null,0,0,0,0,0,0,0,0]
[null,null,{"$f":"IF(WurzelBZweige!$AV47=\"\",\"\",WurzelBZweige!AV47)","v":""},{"$f":"IF(ISERROR(VLOOKUP(C47,KoSteReWurzel!$B$6:$L$127,11,FALSE)=TRUE),0,VLOOKUP(C47,KoSteReWurzel!$B$6:$L$127,11,FALSE))","v":0},0,null,0,0,0,0,0,0,0,0]
[null,null,{"$f":"IF(WurzelBZweige!$AV48=\"\",\"\",WurzelBZweige!AV48)","v":""},{"$f":"IF(ISERROR(VLOOKUP(C48,KoSteReWurzel!$B$6:$L$127,11,FALSE)=TRUE),0,VLOOKUP(C48,KoSteReWurzel!$B$6:$L$127,11,FALSE))","v":0},0,null,0,0,0,0,0,0,0,0]
[null,null,{"$f":"IF(WurzelBZweige!$AV49=\"\",\"\",WurzelBZweige!AV49)","v":""},{"$f":"IF(ISERROR(VLOOKUP(C49,KoSteReWurzel!$B$6:$L$127,11,FALSE)=TRUE),0,VLOOKUP(C49,KoSteReWurzel!$B$6:$L$127,11,FALSE))","v":0},0,null,0,0,0,0,0,0,0,0]
[null,null,{"$f":"IF(WurzelBZweige!$AV50=\"\",\"\",WurzelBZweige!AV50)","v":""},{"$f":"IF(ISERROR(VLOOKUP(C50,KoSteReWurzel!$B$6:$L$127,11,FALSE)=TRUE),0,VLOOKUP(C50,KoSteReWurzel!$B$6:$L$127,11,FALSE))","v":0},0,null,0,0,0,0,0,0,0,0]
[null,null,{"$f":"IF(WurzelBZweige!$AV51=\"\",\"\",WurzelBZweige!AV51)","v":""},{"$f":"IF(ISERROR(VLOOKUP(C51,KoSteReWurzel!$B$6:$L$127,11,FALSE)=TRUE),0,VLOOKUP(C51,KoSteReWurzel!$B$6:$L$127,11,FALSE))","v":0},0,null,0,0,0,0,0,0,0,0]
[null,null,{"$f":"IF(WurzelBZweige!$AV52=\"\",\"\",WurzelBZweige!AV52)","v":"Sonstige direkte Kosten"},{"$f":"IF(ISERROR(VLOOKUP(C52,KoSteReWurzel!$B$6:$L$127,11,FALSE)=TRUE),0,VLOOKUP(C52,KoSteReWurzel!$B$6:$L$127,11,FALSE))","v":0},0,null,0,0,0,0,0,0,0,0]
[null,null,{"$f":"IF(WurzelBZweige!$AV53=\"\",\"\",WurzelBZweige!AV53)","v":""},{"$f":"IF(ISERROR(VLOOKUP(C53,KoSteReWurzel!$B$6:$L$127,11,FALSE)=TRUE),0,VLOOKUP(C53,KoSteReWurzel!$B$6:$L$127,11,FALSE))","v":0},0,null,0,0,0,0,0,0,0,0]
[null,null,{"$f":"IF(WurzelBZweige!$AV54=\"\",\"\",WurzelBZweige!AV54)","v":""},{"$f":"IF(ISERROR(VLOOKUP(C54,KoSteReWurzel!$B$6:$L$127,11,FALSE)=TRUE),0,VLOOKUP(C54,KoSteReWurzel!$B$6:$L$127,11,FALSE))","v":0},{"$f":"D54-N54","v":0},null,{"$f":"IF(ISNA(VLOOKUP($C54,Kostenverteiler,COLUMN()-5,FALSE))=TRUE,0,IF($F54<>\"\",$D54*VLOOKUP($F54,Schlüsselliste,COLUMN(B54),FALSE),VLOOKUP($C54,Kostenverteiler,COLUMN()-5,FALSE)))","v":0},0,0,0,0,0,0,{"$f":"SUM(G54:M54)","v":0}]
[null,null,{"$f":"IF(WurzelBZweige!$AV55=\"\",\"\",WurzelBZweige!AV55)","v":""},{"$f":"IF(ISERROR(VLOOKUP(C55,KoSteReWurzel!$B$6:$L$127,11,FALSE)=TRUE),0,VLOOKUP(C55,KoSteReWurzel!$B$6:$L$127,11,FALSE))","v":0},{"$f":"D55-N55","v":0},null,0,0,0,0,0,0,0,{"$f":"SUM(G55:M55)","v":0}]
[null,null,{"$f":"IF(WurzelBZweige!$AV56=\"\",\"\",WurzelBZweige!AV56)","v":""},{"$f":"IF(ISERROR(VLOOKUP(C56,KoSteReWurzel!$B$6:$L$127,11,FALSE)=TRUE),0,VLOOKUP(C56,KoSteReWurzel!$B$6:$L$127,11,FALSE))","v":0},{"$f":"D56-N56","v":0},null,0,0,0,0,0,0,0,{"$f":"SUM(G56:M56)","v":0}]
[null,null,{"$f":"IF(WurzelBZweige!$AV57=\"\",\"\",WurzelBZweige!AV57)","v":""},{"$f":"IF(ISERROR(VLOOKUP(C57,KoSteReWurzel!$B$6:$L$127,11,FALSE)=TRUE),0,VLOOKUP(C57,KoSteReWurzel!$B$6:$L$127,11,FALSE))","v":0},{"$f":"D57-N57","v":0},null,0,0,0,0,0,0,0,{"$f":"SUM(G57:M57)","v":0}]
[null,null,{"$f":"IF(WurzelBZweige!$AV58=\"\",\"\",WurzelBZweige!AV58)","v":""},{"$f":"IF(ISERROR(VLOOKUP(C58,KoSteReWurzel!$B$6:$L$127,11,FALSE)=TRUE),0,VLOOKUP(C58,KoSteReWurzel!$B$6:$L$127,11,FALSE))","v":0},0,null,0,0,0,0,0,0,0,0]
[null,null,{"$f":"IF(WurzelBZweige!$AV59=\"\",\"\",WurzelBZweige!AV59)","v":""},{"$f":"IF(ISERROR(VLOOKUP(C59,KoSteReWurzel!$B$6:$L$127,11,FALSE)=TRUE),0,VLOOKUP(C59,KoSteReWurzel!$B$6:$L$127,11,FALSE))","v":0},0,null,0,0,0,0,0,0,0,0]
[null,null,{"$f":"IF(WurzelBZweige!$AV60=\"\",\"\",WurzelBZweige!AV60)","v":"Direktkosten"},{"$f":"SUM(D38:D59)","v":0},0,null,{"$f":"SUM(G38:G59)","v":0},{"$f":"SUM(H38:H59)","v":0},0,0,0,0,0,0]
[null,null,"."]
[null,"Übrige Vorleistungskosten",{"$f":"IF(WurzelBZweige!$AV62=\"\",\"\",WurzelBZweige!AV62)","v":"Betriebs- und Reparaturkosten Maschinen"},null,0,null,null,null,null,null,null,null,null,0]
[null,null,{"$f":"IF(WurzelBZweige!$AV63=\"\",\"\",WurzelBZweige!AV63)","v":"Treibstoffe"},{"$f":"IF(ISERROR(VLOOKUP(C63,KoSteReWurzel!$B$6:$L$127,11,FALSE)=TRUE),0,VLOOKUP(C63,KoSteReWurzel!$B$6:$L$127,11,FALSE))","v":0},0,"Dieselverbrauch Schlüssel",{"$f":"IF(ISNA(VLOOKUP($C63,Kostenverteiler,COLUMN()-5,FALSE))=TRUE,0,IF($F63<>\"\",$D63*VLOOKUP($F63,Schlüsselliste,COLUMN(B63),FALSE),VLOOKUP($C63,Kostenverteiler,COLUMN()-5,FALSE)))","v":0},{"$f":"IF(ISNA(VLOOKUP($C63,Kostenverteiler,COLUMN()-5,FALSE))=TRUE,0,IF($F63<>\"\",$D63*VLOOKUP($F63,Schlüsselliste,COLUMN(C63),FALSE),VLOOKUP($C63,Kostenverteiler,COLUMN()-5,FALSE)))","v":0},{"$f":"IF(ISNA(VLOOKUP($C63,Kostenverteiler,COLUMN()-5,FALSE))=TRUE,0,IF($F63<>\"\",$D63*VLOOKUP($F63,Schlüsselliste,COLUMN(D63),FALSE),VLOOKUP($C63,Kostenverteiler,COLUMN()-5,FALSE)))","v":0},{"$f":"IF(ISNA(VLOOKUP($C63,Kostenverteiler,COLUMN()-5,FALSE))=TRUE,0,IF($F63<>\"\",$D63*VLOOKUP($F63,Schlüsselliste,COLUMN(E63),FALSE),VLOOKUP($C63,Kostenverteiler,COLUMN()-5,FALSE)))","v":0},{"$f":"IF(ISNA(VLOOKUP($C63,Kostenverteiler,COLUMN()-5,FALSE))=TRUE,0,IF($F63<>\"\",$D63*VLOOKUP($F63,Schlüsselliste,COLUMN(F63),FALSE),VLOOKUP($C63,Kostenverteiler,COLUMN()-5,FALSE)))","v":0},{"$f":"IF(ISNA(VLOOKUP($C63,Kostenverteiler,COLUMN()-5,FALSE))=TRUE,0,IF($F63<>\"\",$D63*VLOOKUP($F63,Schlüsselliste,COLUMN(G63),FALSE),VLOOKUP($C63,Kostenverteiler,COLUMN()-5,FALSE)))","v":0},{"$f":"IF(ISNA(VLOOKUP($C63,Kostenverteiler,COLUMN()-5,FALSE))=TRUE,0,IF($F63<>\"\",$D63*VLOOKUP($F63,Schlüsselliste,COLUMN(H63),FALSE),VLOOKUP($C63,Kostenverteiler,COLUMN()-5,FALSE)))","v":0},0]
[null,null,{"$f":"IF(WurzelBZweige!$AV64=\"\",\"\",WurzelBZweige!AV64)","v":""},{"$f":"IF(ISERROR(VLOOKUP(C64,KoSteReWurzel!$B$6:$L$127,11,FALSE)=TRUE),0,VLOOKUP(C64,KoSteReWurzel!$B$6:$L$127,11,FALSE))","v":0},0,"Standarddieselverbrauch Schlüssel",0,0,0,0,0,0,0,0]
[null,null,{"$f":"IF(WurzelBZweige!$AV65=\"\",\"\",WurzelBZweige!AV65)","v":"Reparatur und Instandhaltung Maschinen"},{"$f":"IF(ISERROR(VLOOKUP(C65,KoSteReWurzel!$B$6:$L$127,11,FALSE)=TRUE),0,VLOOKUP(C65,KoSteReWurzel!$B$6:$L$127,11,FALSE))","v":0},0,"Anschaffungswert Maschinen Schlüssel",0,0,0,0,0,0,0,0]
[null,null,{"$f":"IF(WurzelBZweige!$AV66=\"\",\"\",WurzelBZweige!AV66)","v":"Lohnmaschinen, Maschinenring"},{"$f":"IF(ISERROR(VLOOKUP(C66,KoSteReWurzel!$B$6:$L$127,11,FALSE)=TRUE),0,VLOOKUP(C66,KoSteReWurzel!$B$6:$L$127,11,FALSE))","v":0},0,null,0,0,0,0,0,0,0,0]
[null,null,{"$f":"IF(WurzelBZweige!$AV67=\"\",\"\",WurzelBZweige!AV67)","v":"Energie (Strom, Wärme)"},{"$f":"IF(ISERROR(VLOOKUP(C67,KoSteReWurzel!$B$6:$L$127,11,FALSE)=TRUE),0,VLOOKUP(C67,KoSteReWurzel!$B$6:$L$127,11,FALSE))","v":0},0,null,0,0,0,0,0,0,0,0]
[null,null,{"$f":"IF(WurzelBZweige!$AV68=\"\",\"\",WurzelBZweige!AV68)","v":"Wasser"},{"$f":"IF(ISERROR(VLOOKUP(C68,KoSteReWurzel!$B$6:$L$127,11,FALSE)=TRUE),0,VLOOKUP(C68,KoSteReWurzel!$B$6:$L$127,11,FALSE))","v":0},0,null,0,0,0,0,0,0,0,0]
[null,null,{"$f":"IF(WurzelBZweige!$AV69=\"\",\"\",WurzelBZweige!AV69)","v":"Abschreibung Maschinen und Geräte"},{"$f":"+AfaMaschinen","v":0},0,null,{"$f":"+Maschinen!F161","v":0},{"$f":"+Maschinen!G161","v":0},{"$f":"+Maschinen!H161","v":0},{"$f":"+Maschinen!I161","v":0},{"$f":"+Maschinen!J161","v":0},{"$f":"+Maschinen!K161","v":0},{"$f":"+Maschinen!L161","v":0},0]
[null,null,{"$f":"IF(WurzelBZweige!$AV70=\"\",\"\",WurzelBZweige!AV70)","v":"Abschreibung Gebäude und bauliche Anlagen"},{"$f":"+AfaGebäude","v":0},0,null,{"$f":"+Gebäude!F163","v":0},{"$f":"+Gebäude!G163","v":0},{"$f":"+Gebäude!H163","v":0},{"$f":"+Gebäude!I163","v":0},{"$f":"+Gebäude!J163","v":0},{"$f":"+Gebäude!K163","v":0},{"$f":"+Gebäude!L163","v":0},0]
[null,null,{"$f":"IF(WurzelBZweige!$AV71=\"\",\"\",WurzelBZweige!AV71)","v":""},{"$f":"IF(ISERROR(VLOOKUP(C71,KoSteReWurzel!$B$6:$L$127,11,FALSE)=TRUE),0,VLOOKUP(C71,KoSteReWurzel!$B$6:$L$127,11,FALSE))","v":0},0,null,0,0,0,0,0,0,0,0]
[null,null,{"$f":"IF(WurzelBZweige!$AV72=\"\",\"\",WurzelBZweige!AV72)","v":"Instandhaltung Gebäude und bauliche Anlagen "},{"$f":"IF(ISERROR(VLOOKUP(C72,KoSteReWurzel!$B$6:$L$127,11,FALSE)=TRUE),0,VLOOKUP(C72,KoSteReWurzel!$B$6:$L$127,11,FALSE))","v":0},0,"Anschaffungswert Gebäude Schlüssel",0,0,0,0,0,0,0,0]
[null,null,{"$f":"IF(WurzelBZweige!$AV73=\"\",\"\",WurzelBZweige!AV73)","v":"PKW - Betriebsanteil"},{"$f":"IF(ISERROR(VLOOKUP(C73,KoSteReWurzel!$B$6:$L$127,11,FALSE)=TRUE),0,VLOOKUP(C73,KoSteReWurzel!$B$6:$L$127,11,FALSE))","v":0},0,"DfL Schlüssel",0,0,0,0,0,0,0,0]
[null,null,{"$f":"IF(WurzelBZweige!$AV74=\"\",\"\",WurzelBZweige!AV74)","v":"Sachversicherungen ohne Versicherung PKW"},{"$f":"IF(ISERROR(VLOOKUP(C74,KoSteReWurzel!$B$6:$L$127,11,FALSE)=TRUE),0,VLOOKUP(C74,KoSteReWurzel!$B$6:$L$127,11,FALSE))","v":0},0,"DfL Schlüssel",0,0,0,0,0,0,0,0]
[null,null,{"$f":"IF(WurzelBZweige!$AV75=\"\",\"\",WurzelBZweige!AV75)","v":"Steuern, Betriebsabgaben "},{"$f":"IF(ISERROR(VLOOKUP(C75,KoSteReWurzel!$B$6:$L$127,11,FALSE)=TRUE),0,VLOOKUP(C75,KoSteReWurzel!$B$6:$L$127,11,FALSE))","v":0},0,"DfL Schlüssel",0,0,0,0,0,0,0,0]
[null,null,{"$f":"IF(WurzelBZweige!$AV76=\"\",\"\",WurzelBZweige!AV76)","v":"Nur indirekt zuordenbare Mitgliedsbeiträge, Gebühren, Beratungs- und Weiterbildungskosten "},{"$f":"IF(ISERROR(VLOOKUP(C76,KoSteReWurzel!$B$6:$L$127,11,FALSE)=TRUE),0,VLOOKUP(C76,KoSteReWurzel!$B$6:$L$127,11,FALSE))","v":0},0,"DfL Schlüssel",0,0,0,0,0,0,0,0]
[null,null,{"$f":"IF(WurzelBZweige!$AV77=\"\",\"\",WurzelBZweige!AV77)","v":"Allgemeine Verwaltungskosten und sonstige Vorleistungskosten"},{"$f":"IF(ISERROR(VLOOKUP(C77,KoSteReWurzel!$B$6:$L$127,11,FALSE)=TRUE),0,VLOOKUP(C77,KoSteReWurzel!$B$6:$L$127,11,FALSE))","v":0},0,"DfL Schlüssel",0,0,0,0,0,0,0,0]
[null,null,{"$f":"IF(WurzelBZweige!$AV78=\"\",\"\",WurzelBZweige!AV78)","v":""},{"$f":"IF(ISERROR(VLOOKUP(C78,KoSteReWurzel!$B$6:$L$127,11,FALSE)=TRUE),0,VLOOKUP(C78,KoSteReWurzel!$B$6:$L$127,11,FALSE))","v":0},0,null,0,0,0,0,0,0,0,0]
[null,null,{"$f":"IF(WurzelBZweige!$AV79=\"\",\"\",WurzelBZweige!AV79)","v":"Übrige Vorleistungskosten"},{"$f":"SUM(D62:D78)","v":0},{"$f":"D79-N79","v":0},null,{"$f":"SUM(G62:G78)","v":0},{"$f":"SUM(H62:H78)","v":0},0,0,0,0,0,{"$f":"SUM(G79:M79)","v":0}]
[null,null,"."]
[null,"Gemeinleistungen",{"$f":"IF(WurzelBZweige!$AV81=\"\",\"\",WurzelBZweige!AV81)","v":"Direktzahlungen"},{"$f":"IF(ISERROR(VLOOKUP(C81,KoSteReWurzel!$B$6:$L$127,11,FALSE)=TRUE),0,VLOOKUP(C81,KoSteReWurzel!$B$6:$L$127,11,FALSE))","v":0},0,"Direktzahlungen Schlüssel",{"$f":"IF(ISNA(VLOOKUP($C81,Kostenverteiler,COLUMN()-5,FALSE))=TRUE,0,IF($F81<>\"\",$D81*VLOOKUP($F81,Schlüsselliste,COLUMN(B81),FALSE),VLOOKUP($C81,Kostenverteiler,COLUMN()-5,FALSE)))","v":0},0,0,0,0,0,0,0]
[null,null,{"$f":"IF(WurzelBZweige!$AV82=\"\",\"\",WurzelBZweige!AV82)","v":"ÖPUL-Prämien"},{"$f":"IF(ISERROR(VLOOKUP(C82,KoSteReWurzel!$B$6:$L$127,11,FALSE)=TRUE),0,VLOOKUP(C82,KoSteReWurzel!$B$6:$L$127,11,FALSE))","v":0},0,"ÖPUL Schlüssel",0,0,0,0,0,0,0,0]
[null,null,{"$f":"IF(WurzelBZweige!$AV83=\"\",\"\",WurzelBZweige!AV83)","v":"Ausgleichszulage für benachteiligte Gebiete"},{"$f":"IF(ISERROR(VLOOKUP(C83,KoSteReWurzel!$B$6:$L$127,11,FALSE)=TRUE),0,VLOOKUP(C83,KoSteReWurzel!$B$6:$L$127,11,FALSE))","v":0},0,"AZ Prämien Schlüssel",0,0,0,0,0,0,0,0]
[null,null,{"$f":"IF(WurzelBZweige!$AV84=\"\",\"\",WurzelBZweige!AV84)","v":"Sonstige Gemeinleistungen"},{"$f":"IF(ISERROR(VLOOKUP(C84,KoSteReWurzel!$B$6:$L$127,11,FALSE)=TRUE),0,VLOOKUP(C84,KoSteReWurzel!$B$6:$L$127,11,FALSE))","v":0},0,"Sonstiger Gemeinleistungs Schlüssel",0,0,0,0,0,0,0,0]
[null,null,{"$f":"IF(WurzelBZweige!$AV85=\"\",\"\",WurzelBZweige!AV85)","v":"Gemeinleistungen"},{"$f":"SUM(D81:D84)","v":0},0,null,{"$f":"SUM(G81:G84)","v":0},{"$f":"SUM(H81:H84)","v":0},0,0,0,0,0,0]
[null,null,"."]
[null,"Faktorkosten",{"$f":"IF(WurzelBZweige!$AV87=\"\",\"\",WurzelBZweige!AV87)","v":"Arbeit"},{"$f":"IF(ISERROR(VLOOKUP(C87,KoSteReWurzel!$B$6:$L$127,11,FALSE)=TRUE),0,VLOOKUP(C87,KoSteReWurzel!$B$6:$L$127,11,FALSE))","v":0},0,null,null,null,null,null,null,null,null,0]
[null,null,{"$f":"IF(WurzelBZweige!$AV88=\"\",\"\",WurzelBZweige!AV88)","v":"Lohnansatz"},{"$f":"ZeitGesamt*Lohnansatz","v":0},0,"Akh Schlüssel",{"$f":"IF($D88=0,0,$D88*VLOOKUP($F88,Schlüsselliste,COLUMN(B88),FALSE))","v":0},0,0,0,0,0,0,0]
[null,null,{"$f":"IF(WurzelBZweige!$AV89=\"\",\"\",WurzelBZweige!AV89)","v":"Beiträge zur SVB"},{"$f":"IF(ISERROR(VLOOKUP(C89,KoSteReWurzel!$B$6:$L$127,11,FALSE)=TRUE),0,VLOOKUP(C89,KoSteReWurzel!$B$6:$L$127,11,FALSE))","v":0},0,"Einheitswert Schlüssel",{"$f":"IF(ISNA(VLOOKUP($C89,Kostenverteiler,COLUMN()-5,FALSE))=TRUE,0,IF($F89<>\"\",$D89*VLOOKUP($F89,Schlüsselliste,COLUMN(B89),FALSE),VLOOKUP($C89,Kostenverteiler,COLUMN()-5,FALSE)))","v":0},0,0,0,0,0,0,0]
[null,null,{"$f":"IF(WurzelBZweige!$AV90=\"\",\"\",WurzelBZweige!AV90)","v":"Löhne"},{"$f":"IF(ISERROR(VLOOKUP(C90,KoSteReWurzel!$B$6:$L$127,11,FALSE)=TRUE),0,VLOOKUP(C90,KoSteReWurzel!$B$6:$L$127,11,FALSE))","v":0},0,null,0,0,0,0,0,0,0,0]
[null,null,{"$f":"IF(WurzelBZweige!$AV91=\"\",\"\",WurzelBZweige!AV91)","v":""},{"$f":"IF(ISERROR(VLOOKUP(C91,KoSteReWurzel!$B$6:$L$127,11,FALSE)=TRUE),0,VLOOKUP(C91,KoSteReWurzel!$B$6:$L$127,11,FALSE))","v":0},null,null,{"$f":"IF(ISNA(VLOOKUP($C91,Kostenverteiler,COLUMN()-5,FALSE))=TRUE,0,IF($F91<>\"\",$D91*VLOOKUP($F91,Schlüsselliste,COLUMN(B91),FALSE),VLOOKUP($C91,Kostenverteiler,COLUMN()-5,FALSE)))","v":0},0,0,0,0,0,0,0]
[null,null,{"$f":"IF(WurzelBZweige!$AV92=\"\",\"\",WurzelBZweige!AV92)","v":""},{"$f":"IF(ISERROR(VLOOKUP(C92,KoSteReWurzel!$B$6:$L$127,11,FALSE)=TRUE),0,VLOOKUP(C92,KoSteReWurzel!$B$6:$L$127,11,FALSE))","v":0},null,null,0,0,0,0,0,0,0,0]
[null,null,{"$f":"IF(WurzelBZweige!$AV93=\"\",\"\",WurzelBZweige!AV93)","v":""},{"$f":"IF(ISERROR(VLOOKUP(C93,KoSteReWurzel!$B$6:$L$127,11,FALSE)=TRUE),0,VLOOKUP(C93,KoSteReWurzel!$B$6:$L$127,11,FALSE))","v":0},null,null,0,0,0,0,0,0,0,0]
[null,null,{"$f":"IF(WurzelBZweige!$AV94=\"\",\"\",WurzelBZweige!AV94)","v":"Boden"},null,0,null,null,null,null,null,null,null,null,0]
[null,null,{"$f":"IF(WurzelBZweige!$AV95=\"\",\"\",WurzelBZweige!AV95)","v":"Pachtkosten (Pachtland)"},{"$f":"IF(ISERROR(VLOOKUP(C95,KoSteReWurzel!$B$6:$L$127,11,FALSE)=TRUE),0,VLOOKUP(C95,KoSteReWurzel!$B$6:$L$127,11,FALSE))","v":0},0,"Pachtkosten Schlüssel",{"$f":"IF(ISNA(VLOOKUP($C95,Kostenverteiler,COLUMN()-5,FALSE))=TRUE,0,IF($F95<>\"\",$D95*VLOOKUP($F95,Schlüsselliste,COLUMN(B95),FALSE),VLOOKUP($C95,Kostenverteiler,COLUMN()-5,FALSE)))","v":0},0,0,0,0,0,0,0]
[null,null,{"$f":"IF(WurzelBZweige!$AV96=\"\",\"\",WurzelBZweige!AV96)","v":"Pachtansatz (eigenes Land)"},{"$f":"(Acker-AckerPacht)*PachtAcker+(Grünland-GrünlandPacht)*PachtGrünland","v":0},0,"Pachtansatz Schlüssel",{"$f":"IF($D96=0,0,$D96*VLOOKUP($F96,Schlüsselliste,COLUMN(B96),FALSE))","v":0},0,0,0,0,0,0,0]
[null,null,{"$f":"IF(WurzelBZweige!$AV97=\"\",\"\",WurzelBZweige!AV97)","v":""},{"$f":"IF(Betrieb!$D$58=0,0,Betrieb!$D$58*Zinssatz)","v":0},0,"Alm RGVE Schlüssel",{"$f":"IF($D97=0,0,$D97*VLOOKUP($F97,Schlüsselliste,COLUMN(B97),FALSE))","v":0},0,0,0,0,0,0,0]
[null,null,{"$f":"IF(WurzelBZweige!$AV98=\"\",\"\",WurzelBZweige!AV98)","v":""},{"$f":"IF(ISERROR(VLOOKUP(C98,KoSteReWurzel!$B$6:$L$127,11,FALSE)=TRUE),0,VLOOKUP(C98,KoSteReWurzel!$B$6:$L$127,11,FALSE))","v":0},null,null,{"$f":"IF(ISNA(VLOOKUP($C98,Kostenverteiler,COLUMN()-5,FALSE))=TRUE,0,IF($F98<>\"\",$D98*VLOOKUP($F98,Schlüsselliste,COLUMN(B98),FALSE),VLOOKUP($C98,Kostenverteiler,COLUMN()-5,FALSE)))","v":0},0,0,0,0,0,0,0]
[null,null,{"$f":"IF(WurzelBZweige!$AV99=\"\",\"\",WurzelBZweige!AV99)","v":""},{"$f":"IF(ISERROR(VLOOKUP(C99,KoSteReWurzel!$B$6:$L$127,11,FALSE)=TRUE),0,VLOOKUP(C99,KoSteReWurzel!$B$6:$L$127,11,FALSE))","v":0},null,null,{"$f":"IF(ISNA(VLOOKUP($C99,Kostenverteiler,COLUMN()-5,FALSE))=TRUE,0,IF($F99<>\"\",$D99*VLOOKUP($F99,Schlüsselliste,COLUMN(B99),FALSE),VLOOKUP($C99,Kostenverteiler,COLUMN()-5,FALSE)))","v":0},0,0,0,0,0,0,0]
[null,null,{"$f":"IF(WurzelBZweige!$AV100=\"\",\"\",WurzelBZweige!AV100)","v":""},{"$f":"IF(ISERROR(VLOOKUP(C100,KoSteReWurzel!$B$6:$L$127,11,FALSE)=TRUE),0,VLOOKUP(C100,KoSteReWurzel!$B$6:$L$127,11,FALSE))","v":0},null,null,0,0,0,0,0,0,0,0]
[null,null,{"$f":"IF(WurzelBZweige!$AV101=\"\",\"\",WurzelBZweige!AV101)","v":"Kapital"},null,0,null,null,null,null,null,null,null,null,0]
[null,null,{"$f":"IF(WurzelBZweige!$AV102=\"\",\"\",WurzelBZweige!AV102)","v":"Zinsansatz Maschinen und Geräte"},{"$f":"SUM(G102:M102)","v":0},0,null,{"$f":"+Maschinen!F165*Zinssatz","v":0},{"$f":"+Maschinen!G165*Zinssatz","v":0},{"$f":"+Maschinen!H165*Zinssatz","v":0},{"$f":"+Maschinen!I165*Zinssatz","v":0},{"$f":"+Maschinen!J165*Zinssatz","v":0},{"$f":"+Maschinen!K165*Zinssatz","v":0},{"$f":"+Maschinen!L165*Zinssatz","v":0},0]
[null,null,{"$f":"IF(WurzelBZweige!$AV103=\"\",\"\",WurzelBZweige!AV103)","v":"Zinsansatz Gebäude und bauliche Anlagen"},{"$f":"SUM(G103:M103)","v":0},0,null,{"$f":"+Gebäude!F165*Zinssatz","v":0},{"$f":"+Gebäude!G165*Zinssatz","v":0},{"$f":"+Gebäude!H165*Zinssatz","v":0},{"$f":"+Gebäude!I165*Zinssatz","v":0},{"$f":"+Gebäude!J165*Zinssatz","v":0},{"$f":"+Gebäude!K165*Zinssatz","v":0},{"$f":"+Gebäude!L165*Zinssatz","v":0},0]
[null,null,{"$f":"IF(WurzelBZweige!$AV104=\"\",\"\",WurzelBZweige!AV104)","v":"Zinsansatz Viehvermögen"},{"$f":"N104","v":0},0,null,{"$f":"+Tiere!J90*Zinssatz","v":0},{"$f":"+Tiere!K90*Zinssatz","v":0},{"$f":"+Tiere!L90*Zinssatz","v":0},{"$f":"+Tiere!M90*Zinssatz","v":0},{"$f":"+Tiere!N90*Zinssatz","v":0},{"$f":"+Tiere!O90*Zinssatz","v":0},{"$f":"+Tiere!P90*Zinssatz","v":0},0]
[null,null,{"$f":"IF(WurzelBZweige!$AV105=\"\",\"\",WurzelBZweige!AV105)","v":"Zinsansatz Genossenschaftsanteile"},{"$f":"KoSteReWurzel!$X$12*Zinssatz","v":0},0,null,{"$f":"IF($D105=0,0,KoSteReWurzel!AA12*Zinssatz)","v":0},{"$f":"IF($D105=0,0,KoSteReWurzel!AB12*Zinssatz)","v":0},{"$f":"IF($D105=0,0,KoSteReWurzel!AC12*Zinssatz)","v":0},{"$f":"IF($D105=0,0,KoSteReWurzel!AD12*Zinssatz)","v":0},{"$f":"IF($D105=0,0,KoSteReWurzel!AE12*Zinssatz)","v":0},{"$f":"IF($D105=0,0,KoSteReWurzel!AF12*Zinssatz)","v":0},{"$f":"IF($D105=0,0,KoSteReWurzel!AG12*Zinssatz)","v":0},0]
[null,null,{"$f":"IF(WurzelBZweige!$AV106=\"\",\"\",WurzelBZweige!AV106)","v":""},{"$f":"Wein*Zinssatz+Obst*Zinssatz","v":0},null,null,{"$f":"IF(G$3= \"Dauerkultur\",$D$115,IF(G$3=\"Obstbau\",Obst*Zinssatz,IF(G$3=\"Weinbau\",Wein*Zinssatz,0)))","v":0},0,0,0,0,0,0,0]
[null,null,{"$f":"IF(WurzelBZweige!$AV107=\"\",\"\",WurzelBZweige!AV107)","v":""},{"$f":"IF(ISERROR(VLOOKUP(C107,KoSteReWurzel!$B$6:$L$127,11,FALSE)=TRUE),0,VLOOKUP(C107,KoSteReWurzel!$B$6:$L$127,11,FALSE))","v":0},null,null,{"$f":"IF(ISNA(VLOOKUP($C107,Kostenverteiler,COLUMN()-5,FALSE))=TRUE,0,IF($F107<>\"\",$D107*VLOOKUP($F107,Schlüsselliste,COLUMN(B107),FALSE),VLOOKUP($C107,Kostenverteiler,COLUMN()-5,FALSE)))","v":0},0,0,0,0,0,0,0]
[null,null,{"$f":"IF(WurzelBZweige!$AV108=\"\",\"\",WurzelBZweige!AV108)","v":""},{"$f":"IF(ISERROR(VLOOKUP(C108,KoSteReWurzel!$B$6:$L$127,11,FALSE)=TRUE),0,VLOOKUP(C108,KoSteReWurzel!$B$6:$L$127,11,FALSE))","v":0},null,null,0,0,0,0,0,0,0,0]
[null,null,{"$f":"IF(WurzelBZweige!$AV109=\"\",\"\",WurzelBZweige!AV109)","v":""},null,0,null,null,null,null,null,null,null,null,0]
[null,null,{"$f":"IF(WurzelBZweige!$AV110=\"\",\"\",WurzelBZweige!AV110)","v":""},{"$f":"IF(ISERROR(VLOOKUP(C110,KoSteReWurzel!$B$6:$L$127,11,FALSE)=TRUE),0,VLOOKUP(C110,KoSteReWurzel!$B$6:$L$127,11,FALSE))","v":0},0,null,{"$f":"IF(ISNA(VLOOKUP($C110,Kostenverteiler,COLUMN()-5,FALSE))=TRUE,0,IF($F110<>\"\",$D110*VLOOKUP($F110,Schlüsselliste,COLUMN(B110),FALSE),VLOOKUP($C110,Kostenverteiler,COLUMN()-5,FALSE)))","v":0},0,0,0,0,0,0,0]
[null,null,{"$f":"IF(WurzelBZweige!$AV111=\"\",\"\",WurzelBZweige!AV111)","v":""},{"$f":"IF(ISERROR(VLOOKUP(C111,KoSteReWurzel!$B$6:$L$127,11,FALSE)=TRUE),0,VLOOKUP(C111,KoSteReWurzel!$B$6:$L$127,11,FALSE))","v":0},0,null,0,0,0,0,0,0,0,0]
[null,null,{"$f":"IF(WurzelBZweige!$AV112=\"\",\"\",WurzelBZweige!AV112)","v":""},{"$f":"+Betrieb!D57*WertAnsatzMilchQ*Zinssatz","v":0},0,"Milchkuh Schlüssel",{"$f":"IF($F112<>\"\",$D112*VLOOKUP($F112,Schlüsselliste,COLUMN(B112),FALSE),VLOOKUP($C112,Kostenverteiler,COLUMN()-5,FALSE))","v":0},0,0,0,0,0,0,0]
[null,null,{"$f":"IF(WurzelBZweige!$AV113=\"\",\"\",WurzelBZweige!AV113)","v":""},{"$f":"IF(ISERROR(VLOOKUP(C113,KoSteReWurzel!$B$6:$L$127,11,FALSE)=TRUE),0,VLOOKUP(C113,KoSteReWurzel!$B$6:$L$127,11,FALSE))","v":0},null,null,{"$f":"IF(ISNA(VLOOKUP($C113,Kostenverteiler,COLUMN()-5,FALSE))=TRUE,0,IF($F113<>\"\",$D113*VLOOKUP($F113,Schlüsselliste,COLUMN(B113),FALSE),VLOOKUP($C113,Kostenverteiler,COLUMN()-5,FALSE)))","v":0},0,0,0,0,0,0,0]
[null,null,{"$f":"IF(WurzelBZweige!$AV114=\"\",\"\",WurzelBZweige!AV114)","v":""},{"$f":"IF(ISERROR(VLOOKUP(C114,KoSteReWurzel!$B$6:$L$127,11,FALSE)=TRUE),0,VLOOKUP(C114,KoSteReWurzel!$B$6:$L$127,11,FALSE))","v":0},null,null,0,0,0,0,0,0,0,0]
[null,null,{"$f":"IF(WurzelBZweige!$AV115=\"\",\"\",WurzelBZweige!AV115)","v":""},{"$f":"IF(ISERROR(VLOOKUP(C115,KoSteReWurzel!$B$6:$L$127,11,FALSE)=TRUE),0,VLOOKUP(C115,KoSteReWurzel!$B$6:$L$127,11,FALSE))","v":0},{"$f":"D115-N115","v":0},null,0,0,0,0,0,0,0,{"$f":"SUM(G115:M115)","v":0}]
[null,null,{"$f":"IF(WurzelBZweige!$AV116=\"\",\"\",WurzelBZweige!AV116)","v":"Summe Faktorkosten"},{"$f":"SUM(D87:D112)","v":0},0,null,{"$f":"SUM(G87:G112)","v":0},0,0,0,0,0,0,0]

{"sheet":"Grundfutteraufteilung","index":9,"n_rows":25,"n_cols":11,"rows_kept":25,"cut":false,"hidden":false,"merged":[[6,1,6,3],[3,4,3,10]]}
["Grundfutteraufteilung, ",null,null,"Menü"]
["Grundfutterzukauf/verkauf"]
[]
[null,null,null,null,"Aufteilung in %"]
[null,null,null,null,{"$f":"_Zw1","v":"Sonstiges"},{"$f":"_Zw2","v":0},{"$f":"_Zw3","v":0},{"$f":"_Zw4","v":0},{"$f":"_Zw5","v":0},{"$f":"_Zw6","v":0},{"$f":"_Zw7","v":0}]
[null,"Verfütteter Silomais"]
[null,"Schlüssel Grundfutter ohne Silomais",null,null,{"$f":"IF(SUM($E$16:$J$16)=0,0,E16/SUM($E$16:$J$16))","v":0},0,0,0,0,0]
[null,"Grundfutterzukauf Schlüssel",null,null,{"$f":"IF(ISNA($D$21)=TRUE,0,E21/$D$21)","v":0},{"$f":"IF(ISNA($D$21)=TRUE,0,F21/$D$21)","v":0},{"$f":"IF(ISNA($D$21)=TRUE,0,G21/$D$21)","v":0},{"$f":"IF(ISNA($D$21)=TRUE,0,H21/$D$21)","v":0},{"$f":"IF(ISNA($D$21)=TRUE,0,I21/$D$21)","v":0}]
["Standardgrundfutterbedarf kg TM",null,null,"kg TM",{"$f":"Schlüssel!C$70","v":0},{"$f":"Schlüssel!D$70","v":0},{"$f":"Schlüssel!E$70","v":0},{"$f":"Schlüssel!F$70","v":0},{"$f":"Schlüssel!G$70","v":0}]
["Verfütteter/Verkaufter Silomais eigene Fläche",null,null,{"$f":"SMTrocken","v":0},{"$f":"($D$10-$D$14)*E6","v":0},{"$f":"($D$10-$D$14)*F6","v":0},{"$f":"($D$10-$D$14)*G6","v":0},{"$f":"($D$10-$D$14)*H6","v":0},{"$f":"($D$10-$D$14)*I6","v":0},null,{"$f":"D14","v":0}]
[null,null,null,"Silomais Schlüssel",{"$f":"IF($D$10=0,0,E10/$D$10)","v":0},{"$f":"IF($D$10=0,0,F10/$D$10)","v":0},0,0,0,0,0]
[null,"kg FM","Trockenmasse %"]
["Verkauf Grundfutter o. SM",null,null,{"$f":"B13*C13","v":0}]
["Verkauf Silomais",null,null,{"$f":"B14*C14","v":0}]
["Zukauf Silomais",null,null,{"$f":"B15*C15","v":0},{"$f":"$D$15*E6","v":0},{"$f":"$D$15*F6","v":0},{"$f":"$D$15*G6","v":0},{"$f":"$D$15*H6","v":0},{"$f":"$D$15*I6","v":0}]
["Saldo TM-Bedarf Grundfutter ohne Silomais",null,null,null,{"$f":"IF((E9-E10-E15)<0,0,(E9-E10-E15))","v":0},{"$f":"IF((F9-F10-F15)<0,0,(F9-F10-F15))","v":0},{"$f":"IF((G9-G10-G15)<0,0,(G9-G10-G15))","v":0},{"$f":"IF((H9-H10-H15)<0,0,(H9-H10-H15))","v":0},{"$f":"IF((I9-I10-I15)<0,0,(I9-I10-I15))","v":0},{"$f":"D13","v":0}]
[]
[null,null,null,"Summe",{"$f":"E5","v":"Sonstiges"},{"$f":"F5","v":0},{"$f":"G5","v":0},{"$f":"H5","v":0},{"$f":"I5","v":0}]
[null,null,"Kosten Silomaiszukauf",null,{"$f":"$D$19*E6","v":0},{"$f":"$D$19*F6","v":0},{"$f":"$D$19*G6","v":0},{"$f":"$D$19*H6","v":0},{"$f":"$D$19*I6","v":0}]
[null,null,"Kosten Grundfutterzukauf ohne Silomais",null,{"$f":"$D$20*(E16/SUM($E$16:$I$16))","v":{"$error":"#DIV/0!"}},{"$f":"$D$20*(F16/SUM($E$16:$I$16))","v":{"$error":"#DIV/0!"}},{"$f":"$D$20*(G16/SUM($E$16:$I$16))","v":{"$error":"#DIV/0!"}},{"$f":"$D$20*(H16/SUM($E$16:$I$16))","v":{"$error":"#DIV/0!"}},{"$f":"$D$20*(I16/SUM($E$16:$I$16))","v":{"$error":"#DIV/0!"}}]
[null,null,"Gesamtkosten Grundfutterzukauf",{"$f":"VLOOKUP(\"Grundfutterzukauf\",KoSteReWurzel!$B$6:$L$127,11,FALSE)","v":{"$error":"#N/A"}},{"$f":"IF(ISNA($D$21)=TRUE,0,SUM(E19:E20))","v":0},{"$f":"IF(ISNA($D$21)=TRUE,0,SUM(F19:F20))","v":0},{"$f":"IF(ISNA($D$21)=TRUE,0,SUM(G19:G20))","v":0},{"$f":"IF(ISNA($D$21)=TRUE,0,SUM(H19:H20))","v":0},{"$f":"IF(ISNA($D$21)=TRUE,0,SUM(I19:I20))","v":0}]
[null,null,null,null,null,null,null,null,null,{"$f":"IF(OR(SUM(E22:G22)=0,SUM(E22:G22)=1),\"\",\"!!!\")","v":""}]
[null,null,null,null,null,null,null,null,null,{"$f":"IF(OR(SUM(E23:G23)=0,SUM(E23:G23)=1),\"\",\"!!!\")","v":""}]
[null,null,null,null,null,null,null,null,null,{"$f":"IF(OR(SUM(E24:G24)=0,SUM(E24:G24)=1),\"\",\"!!!\")","v":""}]
[null,null,null,null,null,null,null,null,null,{"$f":"IF(OR(SUM(E25:G25)=0,SUM(E25:G25)=1),\"\",\"!!!\")","v":""}]

{"sheet":"BetriebszweigAuswertung","index":10,"n_rows":151,"n_cols":13,"rows_kept":151,"cut":false,"hidden":false,"merged":[[2,10,4,10],[39,1,61,1],[64,1,81,1],[2,5,4,5],[2,6,4,6],[2,7,4,7],[2,8,4,8],[83,1,87,1],[90,1,119,1],[7,1,37,1],[2,4,4,4],[2,9,4,9]]}
[null,"Betriebszweigsauswertung",null,{"$f":"YEAR(WirtschaftsjahrAnfang)","v":2021},null,null,null,null,null,null,null,"Menü"]
[]
[null,null,null,null,{"$f":"_Zw1","v":"Sonstiges"},{"$f":"_Zw2","v":0},{"$f":"_Zw3","v":0},{"$f":"_Zw4","v":0},{"$f":"_Zw5","v":0},{"$f":"_Zw6","v":0},{"$f":"_Zw7","v":0},false]
[null,null,null,null,null,null,null,null,null,null,null,false,"Anmerkungen"]
[null,null,"Leistungen und  Kosten","Betrag",null,null,null,null,null,null,null,"Kontrolle","Anmerkungen"]
[null,null,{"$f":"IF($L3=TRUE,\"Keine Aufteilung\",IF($L3=FALSE,\"Grundfutter ohne Silomais Schlüssel\",\"\"))","v":"Grundfutter ohne Silomais Schlüssel"},null,{"$f":"IF(OR($C6=\"\",$C6=\"Keine Aufteilung\"),0,VLOOKUP($C6,Schlüsselliste,COLUMN(B3),FALSE))","v":0},0,0,0,0,{"$f":"IF($C6=\"Keine Aufteilung\",1,IF($C6=\"\",0,VLOOKUP($C6,Schlüsselliste,COLUMN(G6),FALSE)))","v":0},{"$f":"IF(OR($C6=\"\",$C6=\"Keine Aufteilung\"),0,VLOOKUP($C6,Schlüsselliste,COLUMN(H3),FALSE))","v":0}]
[null,null,{"$f":"IF($L4=TRUE,\"Keine Aufteilung\",IF($L4=FALSE,\"Silomais Schlüssel\",\"\"))","v":"Silomais Schlüssel"},null,0,0,0,0,0,{"$f":"IF(OR($C7=\"\",$C7=\"Keine Aufteilung\"),0,VLOOKUP($C7,Schlüsselliste,COLUMN(G4),FALSE))","v":0},{"$f":"IF($C7=\"Keine Aufteilung\",1,IF($C7=\"\",0,VLOOKUP($C7,Schlüsselliste,COLUMN(H7),FALSE)))","v":0}]
[null,"Direktleistungen",{"$f":"IF(WurzelBZweige!$AV6=\"\",\"\",WurzelBZweige!AV6)","v":""},{"$f":"IF(ISERROR(VLOOKUP(C8,KoSteReWurzel!$B$6:$L$127,11,FALSE)=TRUE),0,VLOOKUP(C8,KoSteReWurzel!$B$6:$L$127,11,FALSE))","v":0},{"$f":"KoSteRe!G6+E$6*KoSteRe!$L6+E$7*KoSteRe!$M6","v":0},{"$f":"KoSteRe!H6+F$6*KoSteRe!$L6+F$7*KoSteRe!$M6","v":0},{"$f":"KoSteRe!I6+G$6*KoSteRe!$L6+G$7*KoSteRe!$M6","v":0},{"$f":"KoSteRe!J6+H$6*KoSteRe!$L6+H$7*KoSteRe!$M6","v":0},{"$f":"KoSteRe!K6+I$6*KoSteRe!$L6+I$7*KoSteRe!$M6","v":0},{"$f":"J$6*KoSteRe!$L6+J$7*KoSteRe!$M6","v":0},{"$f":"K$6*KoSteRe!$L6+K$7*KoSteRe!$M6","v":0},{"$f":"SUM(E8:K8)","v":0}]
[null,null,{"$f":"IF(WurzelBZweige!$AV7=\"\",\"\",WurzelBZweige!AV7)","v":""},{"$f":"IF(ISERROR(VLOOKUP(C9,KoSteReWurzel!$B$6:$L$127,11,FALSE)=TRUE),0,VLOOKUP(C9,KoSteReWurzel!$B$6:$L$127,11,FALSE))","v":0},{"$f":"KoSteRe!G7+E$6*KoSteRe!$L7+E$7*KoSteRe!$M7","v":0},{"$f":"KoSteRe!H7+F$6*KoSteRe!$L7+F$7*KoSteRe!$M7","v":0},{"$f":"KoSteRe!I7+G$6*KoSteRe!$L7+G$7*KoSteRe!$M7","v":0},{"$f":"KoSteRe!J7+H$6*KoSteRe!$L7+H$7*KoSteRe!$M7","v":0},{"$f":"KoSteRe!K7+I$6*KoSteRe!$L7+I$7*KoSteRe!$M7","v":0},{"$f":"J$6*KoSteRe!$L7+J$7*KoSteRe!$M7","v":0},{"$f":"K$6*KoSteRe!$L7+K$7*KoSteRe!$M7","v":0},{"$f":"SUM(E9:K9)","v":0}]
[null,null,{"$f":"IF(WurzelBZweige!$AV8=\"\",\"\",WurzelBZweige!AV8)","v":""},{"$f":"IF(ISERROR(VLOOKUP(C10,KoSteReWurzel!$B$6:$L$127,11,FALSE)=TRUE),0,VLOOKUP(C10,KoSteReWurzel!$B$6:$L$127,11,FALSE))","v":0},{"$f":"KoSteRe!G8+E$6*KoSteRe!$L8+E$7*KoSteRe!$M8","v":0},{"$f":"KoSteRe!H8+F$6*KoSteRe!$L8+F$7*KoSteRe!$M8","v":0},{"$f":"KoSteRe!I8+G$6*KoSteRe!$L8+G$7*KoSteRe!$M8","v":0},{"$f":"KoSteRe!J8+H$6*KoSteRe!$L8+H$7*KoSteRe!$M8","v":0},{"$f":"KoSteRe!K8+I$6*KoSteRe!$L8+I$7*KoSteRe!$M8","v":0},{"$f":"J$6*KoSteRe!$L8+J$7*KoSteRe!$M8","v":0},{"$f":"K$6*KoSteRe!$L8+K$7*KoSteRe!$M8","v":0},0]
[null,null,{"$f":"IF(WurzelBZweige!$AV9=\"\",\"\",WurzelBZweige!AV9)","v":""},{"$f":"IF(ISERROR(VLOOKUP(C11,KoSteReWurzel!$B$6:$L$127,11,FALSE)=TRUE),0,VLOOKUP(C11,KoSteReWurzel!$B$6:$L$127,11,FALSE))","v":0},{"$f":"KoSteRe!G9+E$6*KoSteRe!$L9+E$7*KoSteRe!$M9","v":0},{"$f":"KoSteRe!H9+F$6*KoSteRe!$L9+F$7*KoSteRe!$M9","v":0},{"$f":"KoSteRe!I9+G$6*KoSteRe!$L9+G$7*KoSteRe!$M9","v":0},{"$f":"KoSteRe!J9+H$6*KoSteRe!$L9+H$7*KoSteRe!$M9","v":0},{"$f":"KoSteRe!K9+I$6*KoSteRe!$L9+I$7*KoSteRe!$M9","v":0},{"$f":"J$6*KoSteRe!$L9+J$7*KoSteRe!$M9","v":0},{"$f":"K$6*KoSteRe!$L9+K$7*KoSteRe!$M9","v":0},0]
[null,null,{"$f":"IF(WurzelBZweige!$AV10=\"\",\"\",WurzelBZweige!AV10)","v":""},{"$f":"IF(ISERROR(VLOOKUP(C12,KoSteReWurzel!$B$6:$L$127,11,FALSE)=TRUE),0,VLOOKUP(C12,KoSteReWurzel!$B$6:$L$127,11,FALSE))","v":0},{"$f":"KoSteRe!G10+E$6*KoSteRe!$L10+E$7*KoSteRe!$M10","v":0},{"$f":"KoSteRe!H10+F$6*KoSteRe!$L10+F$7*KoSteRe!$M10","v":0},{"$f":"KoSteRe!I10+G$6*KoSteRe!$L10+G$7*KoSteRe!$M10","v":0},{"$f":"KoSteRe!J10+H$6*KoSteRe!$L10+H$7*KoSteRe!$M10","v":0},{"$f":"KoSteRe!K10+I$6*KoSteRe!$L10+I$7*KoSteRe!$M10","v":0},{"$f":"J$6*KoSteRe!$L10+J$7*KoSteRe!$M10","v":0},{"$f":"K$6*KoSteRe!$L10+K$7*KoSteRe!$M10","v":0},0]
[null,null,{"$f":"IF(WurzelBZweige!$AV11=\"\",\"\",WurzelBZweige!AV11)","v":""},{"$f":"IF(ISERROR(VLOOKUP(C13,KoSteReWurzel!$B$6:$L$127,11,FALSE)=TRUE),0,VLOOKUP(C13,KoSteReWurzel!$B$6:$L$127,11,FALSE))","v":0},{"$f":"KoSteRe!G11+E$6*KoSteRe!$L11+E$7*KoSteRe!$M11","v":0},{"$f":"KoSteRe!H11+F$6*KoSteRe!$L11+F$7*KoSteRe!$M11","v":0},{"$f":"KoSteRe!I11+G$6*KoSteRe!$L11+G$7*KoSteRe!$M11","v":0},{"$f":"KoSteRe!J11+H$6*KoSteRe!$L11+H$7*KoSteRe!$M11","v":0},{"$f":"KoSteRe!K11+I$6*KoSteRe!$L11+I$7*KoSteRe!$M11","v":0},{"$f":"J$6*KoSteRe!$L11+J$7*KoSteRe!$M11","v":0},{"$f":"K$6*KoSteRe!$L11+K$7*KoSteRe!$M11","v":0},0]
[null,null,{"$f":"IF(WurzelBZweige!$AV12=\"\",\"\",WurzelBZweige!AV12)","v":""},{"$f":"IF(ISERROR(VLOOKUP(C14,KoSteReWurzel!$B$6:$L$127,11,FALSE)=TRUE),0,VLOOKUP(C14,KoSteReWurzel!$B$6:$L$127,11,FALSE))","v":0},{"$f":"KoSteRe!G12+E$6*KoSteRe!$L12+E$7*KoSteRe!$M12","v":0},{"$f":"KoSteRe!H12+F$6*KoSteRe!$L12+F$7*KoSteRe!$M12","v":0},{"$f":"KoSteRe!I12+G$6*KoSteRe!$L12+G$7*KoSteRe!$M12","v":0},{"$f":"KoSteRe!J12+H$6*KoSteRe!$L12+H$7*KoSteRe!$M12","v":0},{"$f":"KoSteRe!K12+I$6*KoSteRe!$L12+I$7*KoSteRe!$M12","v":0},{"$f":"J$6*KoSteRe!$L12+J$7*KoSteRe!$M12","v":0},{"$f":"K$6*KoSteRe!$L12+K$7*KoSteRe!$M12","v":0},0]
[null,null,{"$f":"IF(WurzelBZweige!$AV13=\"\",\"\",WurzelBZweige!AV13)","v":""},{"$f":"IF(ISERROR(VLOOKUP(C15,KoSteReWurzel!$B$6:$L$127,11,FALSE)=TRUE),0,VLOOKUP(C15,KoSteReWurzel!$B$6:$L$127,11,FALSE))","v":0},{"$f":"KoSteRe!G13+E$6*KoSteRe!$L13+E$7*KoSteRe!$M13","v":0},{"$f":"KoSteRe!H13+F$6*KoSteRe!$L13+F$7*KoSteRe!$M13","v":0},{"$f":"KoSteRe!I13+G$6*KoSteRe!$L13+G$7*KoSteRe!$M13","v":0},{"$f":"KoSteRe!J13+H$6*KoSteRe!$L13+H$7*KoSteRe!$M13","v":0},{"$f":"KoSteRe!K13+I$6*KoSteRe!$L13+I$7*KoSteRe!$M13","v":0},{"$f":"J$6*KoSteRe!$L13+J$7*KoSteRe!$M13","v":0},{"$f":"K$6*KoSteRe!$L13+K$7*KoSteRe!$M13","v":0},0]
[null,null,{"$f":"IF(WurzelBZweige!$AV14=\"\",\"\",WurzelBZweige!AV14)","v":""},{"$f":"IF(ISERROR(VLOOKUP(C16,KoSteReWurzel!$B$6:$L$127,11,FALSE)=TRUE),0,VLOOKUP(C16,KoSteReWurzel!$B$6:$L$127,11,FALSE))","v":0},{"$f":"KoSteRe!G14+E$6*KoSteRe!$L14+E$7*KoSteRe!$M14","v":0},{"$f":"KoSteRe!H14+F$6*KoSteRe!$L14+F$7*KoSteRe!$M14","v":0},{"$f":"KoSteRe!I14+G$6*KoSteRe!$L14+G$7*KoSteRe!$M14","v":0},{"$f":"KoSteRe!J14+H$6*KoSteRe!$L14+H$7*KoSteRe!$M14","v":0},{"$f":"KoSteRe!K14+I$6*KoSteRe!$L14+I$7*KoSteRe!$M14","v":0},{"$f":"J$6*KoSteRe!$L14+J$7*KoSteRe!$M14","v":0},{"$f":"K$6*KoSteRe!$L14+K$7*KoSteRe!$M14","v":0},0]
[null,null,{"$f":"IF(WurzelBZweige!$AV15=\"\",\"\",WurzelBZweige!AV15)","v":""},{"$f":"IF(ISERROR(VLOOKUP(C17,KoSteReWurzel!$B$6:$L$127,11,FALSE)=TRUE),0,VLOOKUP(C17,KoSteReWurzel!$B$6:$L$127,11,FALSE))","v":0},{"$f":"KoSteRe!G15+E$6*KoSteRe!$L15+E$7*KoSteRe!$M15","v":0},{"$f":"KoSteRe!H15+F$6*KoSteRe!$L15+F$7*KoSteRe!$M15","v":0},{"$f":"KoSteRe!I15+G$6*KoSteRe!$L15+G$7*KoSteRe!$M15","v":0},{"$f":"KoSteRe!J15+H$6*KoSteRe!$L15+H$7*KoSteRe!$M15","v":0},{"$f":"KoSteRe!K15+I$6*KoSteRe!$L15+I$7*KoSteRe!$M15","v":0},{"$f":"J$6*KoSteRe!$L15+J$7*KoSteRe!$M15","v":0},{"$f":"K$6*KoSteRe!$L15+K$7*KoSteRe!$M15","v":0},0]
[null,null,{"$f":"IF(WurzelBZweige!$AV16=\"\",\"\",WurzelBZweige!AV16)","v":""},{"$f":"IF(ISERROR(VLOOKUP(C18,KoSteReWurzel!$B$6:$L$127,11,FALSE)=TRUE),0,VLOOKUP(C18,KoSteReWurzel!$B$6:$L$127,11,FALSE))","v":0},{"$f":"KoSteRe!G16+E$6*KoSteRe!$L16+E$7*KoSteRe!$M16","v":0},{"$f":"KoSteRe!H16+F$6*KoSteRe!$L16+F$7*KoSteRe!$M16","v":0},{"$f":"KoSteRe!I16+G$6*KoSteRe!$L16+G$7*KoSteRe!$M16","v":0},{"$f":"KoSteRe!J16+H$6*KoSteRe!$L16+H$7*KoSteRe!$M16","v":0},{"$f":"KoSteRe!K16+I$6*KoSteRe!$L16+I$7*KoSteRe!$M16","v":0},{"$f":"J$6*KoSteRe!$L16+J$7*KoSteRe!$M16","v":0},{"$f":"K$6*KoSteRe!$L16+K$7*KoSteRe!$M16","v":0},0]
[null,null,{"$f":"IF(WurzelBZweige!$AV17=\"\",\"\",WurzelBZweige!AV17)","v":""},{"$f":"IF(ISERROR(VLOOKUP(C19,KoSteReWurzel!$B$6:$L$127,11,FALSE)=TRUE),0,VLOOKUP(C19,KoSteReWurzel!$B$6:$L$127,11,FALSE))","v":0},{"$f":"KoSteRe!G17+E$6*KoSteRe!$L17+E$7*KoSteRe!$M17","v":0},{"$f":"KoSteRe!H17+F$6*KoSteRe!$L17+F$7*KoSteRe!$M17","v":0},{"$f":"KoSteRe!I17+G$6*KoSteRe!$L17+G$7*KoSteRe!$M17","v":0},{"$f":"KoSteRe!J17+H$6*KoSteRe!$L17+H$7*KoSteRe!$M17","v":0},{"$f":"KoSteRe!K17+I$6*KoSteRe!$L17+I$7*KoSteRe!$M17","v":0},{"$f":"J$6*KoSteRe!$L17+J$7*KoSteRe!$M17","v":0},{"$f":"K$6*KoSteRe!$L17+K$7*KoSteRe!$M17","v":0},0]
[null,null,{"$f":"IF(WurzelBZweige!$AV18=\"\",\"\",WurzelBZweige!AV18)","v":""},{"$f":"IF(ISERROR(VLOOKUP(C20,KoSteReWurzel!$B$6:$L$127,11,FALSE)=TRUE),0,VLOOKUP(C20,KoSteReWurzel!$B$6:$L$127,11,FALSE))","v":0},{"$f":"KoSteRe!G18+E$6*KoSteRe!$L18+E$7*KoSteRe!$M18","v":0},{"$f":"KoSteRe!H18+F$6*KoSteRe!$L18+F$7*KoSteRe!$M18","v":0},{"$f":"KoSteRe!I18+G$6*KoSteRe!$L18+G$7*KoSteRe!$M18","v":0},{"$f":"KoSteRe!J18+H$6*KoSteRe!$L18+H$7*KoSteRe!$M18","v":0},{"$f":"KoSteRe!K18+I$6*KoSteRe!$L18+I$7*KoSteRe!$M18","v":0},{"$f":"J$6*KoSteRe!$L18+J$7*KoSteRe!$M18","v":0},{"$f":"K$6*KoSteRe!$L18+K$7*KoSteRe!$M18","v":0},0]
[null,null,{"$f":"IF(WurzelBZweige!$AV19=\"\",\"\",WurzelBZweige!AV19)","v":""},{"$f":"IF(ISERROR(VLOOKUP(C21,KoSteReWurzel!$B$6:$L$127,11,FALSE)=TRUE),0,VLOOKUP(C21,KoSteReWurzel!$B$6:$L$127,11,FALSE))","v":0},{"$f":"KoSteRe!G19+E$6*KoSteRe!$L19+E$7*KoSteRe!$M19","v":0},{"$f":"KoSteRe!H19+F$6*KoSteRe!$L19+F$7*KoSteRe!$M19","v":0},{"$f":"KoSteRe!I19+G$6*KoSteRe!$L19+G$7*KoSteRe!$M19","v":0},{"$f":"KoSteRe!J19+H$6*KoSteRe!$L19+H$7*KoSteRe!$M19","v":0},{"$f":"KoSteRe!K19+I$6*KoSteRe!$L19+I$7*KoSteRe!$M19","v":0},{"$f":"J$6*KoSteRe!$L19+J$7*KoSteRe!$M19","v":0},{"$f":"K$6*KoSteRe!$L19+K$7*KoSteRe!$M19","v":0},0]
[null,null,{"$f":"IF(WurzelBZweige!$AV20=\"\",\"\",WurzelBZweige!AV20)","v":""},{"$f":"IF(ISERROR(VLOOKUP(C22,KoSteReWurzel!$B$6:$L$127,11,FALSE)=TRUE),0,VLOOKUP(C22,KoSteReWurzel!$B$6:$L$127,11,FALSE))","v":0},{"$f":"KoSteRe!G20+E$6*KoSteRe!$L20+E$7*KoSteRe!$M20","v":0},{"$f":"KoSteRe!H20+F$6*KoSteRe!$L20+F$7*KoSteRe!$M20","v":0},{"$f":"KoSteRe!I20+G$6*KoSteRe!$L20+G$7*KoSteRe!$M20","v":0},{"$f":"KoSteRe!J20+H$6*KoSteRe!$L20+H$7*KoSteRe!$M20","v":0},{"$f":"KoSteRe!K20+I$6*KoSteRe!$L20+I$7*KoSteRe!$M20","v":0},{"$f":"J$6*KoSteRe!$L20+J$7*KoSteRe!$M20","v":0},{"$f":"K$6*KoSteRe!$L20+K$7*KoSteRe!$M20","v":0},0]
[null,null,{"$f":"IF(WurzelBZweige!$AV21=\"\",\"\",WurzelBZweige!AV21)","v":""},{"$f":"IF(ISERROR(VLOOKUP(C23,KoSteReWurzel!$B$6:$L$127,11,FALSE)=TRUE),0,VLOOKUP(C23,KoSteReWurzel!$B$6:$L$127,11,FALSE))","v":0},{"$f":"KoSteRe!G21+E$6*KoSteRe!$L21+E$7*KoSteRe!$M21","v":0},{"$f":"KoSteRe!H21+F$6*KoSteRe!$L21+F$7*KoSteRe!$M21","v":0},{"$f":"KoSteRe!I21+G$6*KoSteRe!$L21+G$7*KoSteRe!$M21","v":0},{"$f":"KoSteRe!J21+H$6*KoSteRe!$L21+H$7*KoSteRe!$M21","v":0},{"$f":"KoSteRe!K21+I$6*KoSteRe!$L21+I$7*KoSteRe!$M21","v":0},{"$f":"J$6*KoSteRe!$L21+J$7*KoSteRe!$M21","v":0},{"$f":"K$6*KoSteRe!$L21+K$7*KoSteRe!$M21","v":0},0]
[null,null,{"$f":"IF(WurzelBZweige!$AV22=\"\",\"\",WurzelBZweige!AV22)","v":""},{"$f":"IF(ISERROR(VLOOKUP(C24,KoSteReWurzel!$B$6:$L$127,11,FALSE)=TRUE),0,VLOOKUP(C24,KoSteReWurzel!$B$6:$L$127,11,FALSE))","v":0},{"$f":"KoSteRe!G22+E$6*KoSteRe!$L22+E$7*KoSteRe!$M22","v":0},{"$f":"KoSteRe!H22+F$6*KoSteRe!$L22+F$7*KoSteRe!$M22","v":0},{"$f":"KoSteRe!I22+G$6*KoSteRe!$L22+G$7*KoSteRe!$M22","v":0},{"$f":"KoSteRe!J22+H$6*KoSteRe!$L22+H$7*KoSteRe!$M22","v":0},{"$f":"KoSteRe!K22+I$6*KoSteRe!$L22+I$7*KoSteRe!$M22","v":0},{"$f":"J$6*KoSteRe!$L22+J$7*KoSteRe!$M22","v":0},{"$f":"K$6*KoSteRe!$L22+K$7*KoSteRe!$M22","v":0},0]
[null,null,{"$f":"IF(WurzelBZweige!$AV23=\"\",\"\",WurzelBZweige!AV23)","v":""},{"$f":"IF(ISERROR(VLOOKUP(C25,KoSteReWurzel!$B$6:$L$127,11,FALSE)=TRUE),0,VLOOKUP(C25,KoSteReWurzel!$B$6:$L$127,11,FALSE))","v":0},{"$f":"KoSteRe!G23+E$6*KoSteRe!$L23+E$7*KoSteRe!$M23","v":0},{"$f":"KoSteRe!H23+F$6*KoSteRe!$L23+F$7*KoSteRe!$M23","v":0},{"$f":"KoSteRe!I23+G$6*KoSteRe!$L23+G$7*KoSteRe!$M23","v":0},{"$f":"KoSteRe!J23+H$6*KoSteRe!$L23+H$7*KoSteRe!$M23","v":0},{"$f":"KoSteRe!K23+I$6*KoSteRe!$L23+I$7*KoSteRe!$M23","v":0},{"$f":"J$6*KoSteRe!$L23+J$7*KoSteRe!$M23","v":0},{"$f":"K$6*KoSteRe!$L23+K$7*KoSteRe!$M23","v":0},0]
[null,null,{"$f":"IF(WurzelBZweige!$AV24=\"\",\"\",WurzelBZweige!AV24)","v":""},{"$f":"IF(ISERROR(VLOOKUP(C26,KoSteReWurzel!$B$6:$L$127,11,FALSE)=TRUE),0,VLOOKUP(C26,KoSteReWurzel!$B$6:$L$127,11,FALSE))","v":0},{"$f":"KoSteRe!G24+E$6*KoSteRe!$L24+E$7*KoSteRe!$M24","v":0},{"$f":"KoSteRe!H24+F$6*KoSteRe!$L24+F$7*KoSteRe!$M24","v":0},{"$f":"KoSteRe!I24+G$6*KoSteRe!$L24+G$7*KoSteRe!$M24","v":0},{"$f":"KoSteRe!J24+H$6*KoSteRe!$L24+H$7*KoSteRe!$M24","v":0},{"$f":"KoSteRe!K24+I$6*KoSteRe!$L24+I$7*KoSteRe!$M24","v":0},{"$f":"J$6*KoSteRe!$L24+J$7*KoSteRe!$M24","v":0},{"$f":"K$6*KoSteRe!$L24+K$7*KoSteRe!$M24","v":0},0]
[null,null,{"$f":"IF(WurzelBZweige!$AV25=\"\",\"\",WurzelBZweige!AV25)","v":""},{"$f":"IF(ISERROR(VLOOKUP(C27,KoSteReWurzel!$B$6:$L$127,11,FALSE)=TRUE),0,VLOOKUP(C27,KoSteReWurzel!$B$6:$L$127,11,FALSE))","v":0},{"$f":"KoSteRe!G25+E$6*KoSteRe!$L25+E$7*KoSteRe!$M25","v":0},{"$f":"KoSteRe!H25+F$6*KoSteRe!$L25+F$7*KoSteRe!$M25","v":0},{"$f":"KoSteRe!I25+G$6*KoSteRe!$L25+G$7*KoSteRe!$M25","v":0},{"$f":"KoSteRe!J25+H$6*KoSteRe!$L25+H$7*KoSteRe!$M25","v":0},{"$f":"KoSteRe!K25+I$6*KoSteRe!$L25+I$7*KoSteRe!$M25","v":0},{"$f":"J$6*KoSteRe!$L25+J$7*KoSteRe!$M25","v":0},{"$f":"K$6*KoSteRe!$L25+K$7*KoSteRe!$M25","v":0},0]
[null,null,{"$f":"IF(WurzelBZweige!$AV26=\"\",\"\",WurzelBZweige!AV26)","v":""},{"$f":"IF(ISERROR(VLOOKUP(C28,KoSteReWurzel!$B$6:$L$127,11,FALSE)=TRUE),0,VLOOKUP(C28,KoSteReWurzel!$B$6:$L$127,11,FALSE))","v":0},{"$f":"KoSteRe!G26+E$6*KoSteRe!$L26+E$7*KoSteRe!$M26","v":0},{"$f":"KoSteRe!H26+F$6*KoSteRe!$L26+F$7*KoSteRe!$M26","v":0},{"$f":"KoSteRe!I26+G$6*KoSteRe!$L26+G$7*KoSteRe!$M26","v":0},{"$f":"KoSteRe!J26+H$6*KoSteRe!$L26+H$7*KoSteRe!$M26","v":0},{"$f":"KoSteRe!K26+I$6*KoSteRe!$L26+I$7*KoSteRe!$M26","v":0},{"$f":"J$6*KoSteRe!$L26+J$7*KoSteRe!$M26","v":0},{"$f":"K$6*KoSteRe!$L26+K$7*KoSteRe!$M26","v":0},0]
[null,null,{"$f":"IF(WurzelBZweige!$AV27=\"\",\"\",WurzelBZweige!AV27)","v":"Sonstige Leistungen "},{"$f":"IF(ISERROR(VLOOKUP(C29,KoSteReWurzel!$B$6:$L$127,11,FALSE)=TRUE),0,VLOOKUP(C29,KoSteReWurzel!$B$6:$L$127,11,FALSE))","v":0},{"$f":"KoSteRe!G27+E$6*KoSteRe!$L27+E$7*KoSteRe!$M27","v":0},{"$f":"KoSteRe!H27+F$6*KoSteRe!$L27+F$7*KoSteRe!$M27","v":0},{"$f":"KoSteRe!I27+G$6*KoSteRe!$L27+G$7*KoSteRe!$M27","v":0},{"$f":"KoSteRe!J27+H$6*KoSteRe!$L27+H$7*KoSteRe!$M27","v":0},{"$f":"KoSteRe!K27+I$6*KoSteRe!$L27+I$7*KoSteRe!$M27","v":0},{"$f":"J$6*KoSteRe!$L27+J$7*KoSteRe!$M27","v":0},{"$f":"K$6*KoSteRe!$L27+K$7*KoSteRe!$M27","v":0},0]
[null,null,{"$f":"IF(WurzelBZweige!$AV28=\"\",\"\",WurzelBZweige!AV28)","v":""},{"$f":"IF(ISERROR(VLOOKUP(C30,KoSteReWurzel!$B$6:$L$127,11,FALSE)=TRUE),0,VLOOKUP(C30,KoSteReWurzel!$B$6:$L$127,11,FALSE))","v":0},{"$f":"KoSteRe!G28+E$6*KoSteRe!$L28+E$7*KoSteRe!$M28","v":0},{"$f":"KoSteRe!H28+F$6*KoSteRe!$L28+F$7*KoSteRe!$M28","v":0},{"$f":"KoSteRe!I28+G$6*KoSteRe!$L28+G$7*KoSteRe!$M28","v":0},{"$f":"KoSteRe!J28+H$6*KoSteRe!$L28+H$7*KoSteRe!$M28","v":0},{"$f":"KoSteRe!K28+I$6*KoSteRe!$L28+I$7*KoSteRe!$M28","v":0},{"$f":"J$6*KoSteRe!$L28+J$7*KoSteRe!$M28","v":0},{"$f":"K$6*KoSteRe!$L28+K$7*KoSteRe!$M28","v":0},0]
[null,null,{"$f":"IF(WurzelBZweige!$AV29=\"\",\"\",WurzelBZweige!AV29)","v":""},{"$f":"IF(ISERROR(VLOOKUP(C31,KoSteReWurzel!$B$6:$L$127,11,FALSE)=TRUE),0,VLOOKUP(C31,KoSteReWurzel!$B$6:$L$127,11,FALSE))","v":0},{"$f":"KoSteRe!G29+E$6*KoSteRe!$L29+E$7*KoSteRe!$M29","v":0},{"$f":"KoSteRe!H29+F$6*KoSteRe!$L29+F$7*KoSteRe!$M29","v":0},{"$f":"KoSteRe!I29+G$6*KoSteRe!$L29+G$7*KoSteRe!$M29","v":0},{"$f":"KoSteRe!J29+H$6*KoSteRe!$L29+H$7*KoSteRe!$M29","v":0},{"$f":"KoSteRe!K29+I$6*KoSteRe!$L29+I$7*KoSteRe!$M29","v":0},{"$f":"J$6*KoSteRe!$L29+J$7*KoSteRe!$M29","v":0},{"$f":"K$6*KoSteRe!$L29+K$7*KoSteRe!$M29","v":0},0]
[null,null,{"$f":"IF(WurzelBZweige!$AV30=\"\",\"\",WurzelBZweige!AV30)","v":""},{"$f":"IF(ISERROR(VLOOKUP(C32,KoSteReWurzel!$B$6:$L$127,11,FALSE)=TRUE),0,VLOOKUP(C32,KoSteReWurzel!$B$6:$L$127,11,FALSE))","v":0},{"$f":"KoSteRe!G30","v":0},{"$f":"KoSteRe!H30","v":0},{"$f":"KoSteRe!I30","v":0},{"$f":"KoSteRe!J30","v":0},{"$f":"KoSteRe!K30","v":0},{"$f":"KoSteRe!L30","v":0},{"$f":"KoSteRe!M30","v":0},{"$f":"SUM(E32:K32)","v":0}]
[null,null,{"$f":"IF(WurzelBZweige!$AV31=\"\",\"\",WurzelBZweige!AV31)","v":""},{"$f":"IF(ISERROR(VLOOKUP(C33,KoSteReWurzel!$B$6:$L$127,11,FALSE)=TRUE),0,VLOOKUP(C33,KoSteReWurzel!$B$6:$L$127,11,FALSE))","v":0},{"$f":"KoSteRe!G31+E$6*KoSteRe!$L31+E$7*KoSteRe!$M31","v":0},{"$f":"KoSteRe!H31+F$6*KoSteRe!$L31+F$7*KoSteRe!$M31","v":0},{"$f":"KoSteRe!I31+G$6*KoSteRe!$L31+G$7*KoSteRe!$M31","v":0},{"$f":"KoSteRe!J31+H$6*KoSteRe!$L31+H$7*KoSteRe!$M31","v":0},{"$f":"KoSteRe!K31+I$6*KoSteRe!$L31+I$7*KoSteRe!$M31","v":0},{"$f":"J$6*KoSteRe!$L31+J$7*KoSteRe!$M31","v":0},{"$f":"K$6*KoSteRe!$L31+K$7*KoSteRe!$M31","v":0},{"$f":"SUM(E33:K33)","v":0}]
[null,null,{"$f":"IF(WurzelBZweige!$AV32=\"\",\"\",WurzelBZweige!AV32)","v":""},{"$f":"IF(ISERROR(VLOOKUP(C34,KoSteReWurzel!$B$6:$L$127,11,FALSE)=TRUE),0,VLOOKUP(C34,KoSteReWurzel!$B$6:$L$127,11,FALSE))","v":0},{"$f":"KoSteRe!G32+E$6*KoSteRe!$L32+E$7*KoSteRe!$M32","v":0},{"$f":"KoSteRe!H32+F$6*KoSteRe!$L32+F$7*KoSteRe!$M32","v":0},{"$f":"KoSteRe!I32+G$6*KoSteRe!$L32+G$7*KoSteRe!$M32","v":0},{"$f":"KoSteRe!J32+H$6*KoSteRe!$L32+H$7*KoSteRe!$M32","v":0},{"$f":"KoSteRe!K32+I$6*KoSteRe!$L32+I$7*KoSteRe!$M32","v":0},{"$f":"J$6*KoSteRe!$L32+J$7*KoSteRe!$M32","v":0},{"$f":"K$6*KoSteRe!$L32+K$7*KoSteRe!$M32","v":0},{"$f":"SUM(E34:K34)","v":0}]
[null,null,{"$f":"IF(WurzelBZweige!$AV33=\"\",\"\",WurzelBZweige!AV33)","v":""},{"$f":"IF(ISERROR(VLOOKUP(C35,KoSteReWurzel!$B$6:$L$127,11,FALSE)=TRUE),0,VLOOKUP(C35,KoSteReWurzel!$B$6:$L$127,11,FALSE))","v":0},{"$f":"KoSteRe!G33+E$6*KoSteRe!$L33+E$7*KoSteRe!$M33","v":0},{"$f":"KoSteRe!H33+F$6*KoSteRe!$L33+F$7*KoSteRe!$M33","v":0},{"$f":"KoSteRe!I33+G$6*KoSteRe!$L33+G$7*KoSteRe!$M33","v":0},{"$f":"KoSteRe!J33+H$6*KoSteRe!$L33+H$7*KoSteRe!$M33","v":0},{"$f":"KoSteRe!K33+I$6*KoSteRe!$L33+I$7*KoSteRe!$M33","v":0},{"$f":"J$6*KoSteRe!$L33+J$7*KoSteRe!$M33","v":0},{"$f":"K$6*KoSteRe!$L33+K$7*KoSteRe!$M33","v":0},{"$f":"SUM(E35:K35)","v":0}]
[null,null,{"$f":"IF(WurzelBZweige!$AV34=\"\",\"\",WurzelBZweige!AV34)","v":""},{"$f":"IF(ISERROR(VLOOKUP(C36,KoSteReWurzel!$B$6:$L$127,11,FALSE)=TRUE),0,VLOOKUP(C36,KoSteReWurzel!$B$6:$L$127,11,FALSE))","v":0},{"$f":"KoSteRe!G34+E$6*KoSteRe!$L34+E$7*KoSteRe!$M34","v":0},{"$f":"KoSteRe!H34+F$6*KoSteRe!$L34+F$7*KoSteRe!$M34","v":0},{"$f":"KoSteRe!I34+G$6*KoSteRe!$L34+G$7*KoSteRe!$M34","v":0},{"$f":"KoSteRe!J34+H$6*KoSteRe!$L34+H$7*KoSteRe!$M34","v":0},{"$f":"KoSteRe!K34+I$6*KoSteRe!$L34+I$7*KoSteRe!$M34","v":0},{"$f":"J$6*KoSteRe!$L34+J$7*KoSteRe!$M34","v":0},{"$f":"K$6*KoSteRe!$L34+K$7*KoSteRe!$M34","v":0},0]
[null,null,{"$f":"IF(WurzelBZweige!$AV35=\"\",\"\",WurzelBZweige!AV35)","v":"Wirtschaftsdünger innerbetrieblich"},{"$f":"WDüngerWert","v":0},{"$f":"KoSteRe!G35+E$6*KoSteRe!$L35+E$7*KoSteRe!$M35","v":0},{"$f":"KoSteRe!H35+F$6*KoSteRe!$L35+F$7*KoSteRe!$M35","v":0},{"$f":"KoSteRe!I35+G$6*KoSteRe!$L35+G$7*KoSteRe!$M35","v":0},{"$f":"KoSteRe!J35+H$6*KoSteRe!$L35+H$7*KoSteRe!$M35","v":0},{"$f":"KoSteRe!K35+I$6*KoSteRe!$L35+I$7*KoSteRe!$M35","v":0},{"$f":"J$6*KoSteRe!$L35+J$7*KoSteRe!$M35","v":0},{"$f":"K$6*KoSteRe!$L35+K$7*KoSteRe!$M35","v":0},0]
[null,null,{"$f":"IF(WurzelBZweige!$AV36=\"\",\"\",WurzelBZweige!AV36)","v":"Direktleistungen"},{"$f":"SUM(D8:D37)","v":0},{"$f":"SUM(E8:E37)","v":0},{"$f":"SUM(F8:F37)","v":0},0,0,0,0,0,0]
[null,null,"."]
[null,"Direktkosten",{"$f":"IF(WurzelBZweige!$AV38=\"\",\"\",WurzelBZweige!AV38)","v":"Saatgut"},{"$f":"IF(ISERROR(VLOOKUP(C40,KoSteReWurzel!$B$6:$L$127,11,FALSE)=TRUE),0,VLOOKUP(C40,KoSteReWurzel!$B$6:$L$127,11,FALSE))","v":0},{"$f":"KoSteRe!G38+E$6*KoSteRe!$L38+E$7*KoSteRe!$M38","v":0},{"$f":"KoSteRe!H38+F$6*KoSteRe!$L38+F$7*KoSteRe!$M38","v":0},{"$f":"KoSteRe!I38+G$6*KoSteRe!$L38+G$7*KoSteRe!$M38","v":0},{"$f":"KoSteRe!J38+H$6*KoSteRe!$L38+H$7*KoSteRe!$M38","v":0},{"$f":"KoSteRe!K38+I$6*KoSteRe!$L38+I$7*KoSteRe!$M38","v":0},{"$f":"J$6*KoSteRe!$L38+J$7*KoSteRe!$M38","v":0},{"$f":"K$6*KoSteRe!$L38+K$7*KoSteRe!$M38","v":0},0]
[null,null,{"$f":"IF(WurzelBZweige!$AV39=\"\",\"\",WurzelBZweige!AV39)","v":""},{"$f":"IF(ISERROR(VLOOKUP(C41,KoSteReWurzel!$B$6:$L$127,11,FALSE)=TRUE),0,VLOOKUP(C41,KoSteReWurzel!$B$6:$L$127,11,FALSE))","v":0},{"$f":"KoSteRe!G39+E$6*KoSteRe!$L39+E$7*KoSteRe!$M39","v":0},{"$f":"KoSteRe!H39+F$6*KoSteRe!$L39+F$7*KoSteRe!$M39","v":0},{"$f":"KoSteRe!I39+G$6*KoSteRe!$L39+G$7*KoSteRe!$M39","v":0},{"$f":"KoSteRe!J39+H$6*KoSteRe!$L39+H$7*KoSteRe!$M39","v":0},{"$f":"KoSteRe!K39+I$6*KoSteRe!$L39+I$7*KoSteRe!$M39","v":0},{"$f":"J$6*KoSteRe!$L39+J$7*KoSteRe!$M39","v":0},{"$f":"K$6*KoSteRe!$L39+K$7*KoSteRe!$M39","v":0},0]
[null,null,{"$f":"IF(WurzelBZweige!$AV40=\"\",\"\",WurzelBZweige!AV40)","v":"Dünger (Wirtschaftsdünger + Handelsdünger)"},{"$f":"IF(ISERROR(VLOOKUP(C42,KoSteReWurzel!$B$6:$L$127,11,FALSE)=TRUE),0,VLOOKUP(C42,KoSteReWurzel!$B$6:$L$127,11,FALSE))+WDüngerWert","v":0},{"$f":"KoSteRe!G40+E$6*KoSteRe!$L40+E$7*KoSteRe!$M40","v":0},{"$f":"KoSteRe!H40+F$6*KoSteRe!$L40+F$7*KoSteRe!$M40","v":0},{"$f":"KoSteRe!I40+G$6*KoSteRe!$L40+G$7*KoSteRe!$M40","v":0},{"$f":"KoSteRe!J40+H$6*KoSteRe!$L40+H$7*KoSteRe!$M40","v":0},{"$f":"KoSteRe!K40+I$6*KoSteRe!$L40+I$7*KoSteRe!$M40","v":0},{"$f":"J$6*KoSteRe!$L40+J$7*KoSteRe!$M40","v":0},{"$f":"K$6*KoSteRe!$L40+K$7*KoSteRe!$M40","v":0},0]
[null,null,{"$f":"IF(WurzelBZweige!$AV41=\"\",\"\",WurzelBZweige!AV41)","v":"Pflanzenschutz"},{"$f":"IF(ISERROR(VLOOKUP(C43,KoSteReWurzel!$B$6:$L$127,11,FALSE)=TRUE),0,VLOOKUP(C43,KoSteReWurzel!$B$6:$L$127,11,FALSE))","v":0},{"$f":"KoSteRe!G41+E$6*KoSteRe!$L41+E$7*KoSteRe!$M41","v":0},{"$f":"KoSteRe!H41+F$6*KoSteRe!$L41+F$7*KoSteRe!$M41","v":0},{"$f":"KoSteRe!I41+G$6*KoSteRe!$L41+G$7*KoSteRe!$M41","v":0},{"$f":"KoSteRe!J41+H$6*KoSteRe!$L41+H$7*KoSteRe!$M41","v":0},{"$f":"KoSteRe!K41+I$6*KoSteRe!$L41+I$7*KoSteRe!$M41","v":0},{"$f":"J$6*KoSteRe!$L41+J$7*KoSteRe!$M41","v":0},{"$f":"K$6*KoSteRe!$L41+K$7*KoSteRe!$M41","v":0},0]
[null,null,{"$f":"IF(WurzelBZweige!$AV42=\"\",\"\",WurzelBZweige!AV42)","v":""},{"$f":"IF(ISERROR(VLOOKUP(C44,KoSteReWurzel!$B$6:$L$127,11,FALSE)=TRUE),0,VLOOKUP(C44,KoSteReWurzel!$B$6:$L$127,11,FALSE))","v":0},{"$f":"KoSteRe!G42+E$6*KoSteRe!$L42+E$7*KoSteRe!$M42","v":0},{"$f":"KoSteRe!H42+F$6*KoSteRe!$L42+F$7*KoSteRe!$M42","v":0},{"$f":"KoSteRe!I42+G$6*KoSteRe!$L42+G$7*KoSteRe!$M42","v":0},{"$f":"KoSteRe!J42+H$6*KoSteRe!$L42+H$7*KoSteRe!$M42","v":0},{"$f":"KoSteRe!K42+I$6*KoSteRe!$L42+I$7*KoSteRe!$M42","v":0},{"$f":"J$6*KoSteRe!$L42+J$7*KoSteRe!$M42","v":0},{"$f":"K$6*KoSteRe!$L42+K$7*KoSteRe!$M42","v":0},0]
[null,null,{"$f":"IF(WurzelBZweige!$AV43=\"\",\"\",WurzelBZweige!AV43)","v":""},{"$f":"IF(ISERROR(VLOOKUP(C45,KoSteReWurzel!$B$6:$L$127,11,FALSE)=TRUE),0,VLOOKUP(C45,KoSteReWurzel!$B$6:$L$127,11,FALSE))","v":0},{"$f":"KoSteRe!G43+E$6*KoSteRe!$L43+E$7*KoSteRe!$M43","v":0},{"$f":"KoSteRe!H43+F$6*KoSteRe!$L43+F$7*KoSteRe!$M43","v":0},{"$f":"KoSteRe!I43+G$6*KoSteRe!$L43+G$7*KoSteRe!$M43","v":0},{"$f":"KoSteRe!J43+H$6*KoSteRe!$L43+H$7*KoSteRe!$M43","v":0},{"$f":"KoSteRe!K43+I$6*KoSteRe!$L43+I$7*KoSteRe!$M43","v":0},{"$f":"J$6*KoSteRe!$L43+J$7*KoSteRe!$M43","v":0},{"$f":"K$6*KoSteRe!$L43+K$7*KoSteRe!$M43","v":0},0]
[null,null,{"$f":"IF(WurzelBZweige!$AV44=\"\",\"\",WurzelBZweige!AV44)","v":""},{"$f":"IF(ISERROR(VLOOKUP(C46,KoSteReWurzel!$B$6:$L$127,11,FALSE)=TRUE),0,VLOOKUP(C46,KoSteReWurzel!$B$6:$L$127,11,FALSE))","v":0},{"$f":"KoSteRe!G44+E$6*KoSteRe!$L44+E$7*KoSteRe!$M44","v":0},{"$f":"KoSteRe!H44+F$6*KoSteRe!$L44+F$7*KoSteRe!$M44","v":0},{"$f":"KoSteRe!I44+G$6*KoSteRe!$L44+G$7*KoSteRe!$M44","v":0},{"$f":"KoSteRe!J44+H$6*KoSteRe!$L44+H$7*KoSteRe!$M44","v":0},{"$f":"KoSteRe!K44+I$6*KoSteRe!$L44+I$7*KoSteRe!$M44","v":0},{"$f":"J$6*KoSteRe!$L44+J$7*KoSteRe!$M44","v":0},{"$f":"K$6*KoSteRe!$L44+K$7*KoSteRe!$M44","v":0},0]
[null,null,{"$f":"IF(WurzelBZweige!$AV45=\"\",\"\",WurzelBZweige!AV45)","v":""},{"$f":"IF(ISERROR(VLOOKUP(C47,KoSteReWurzel!$B$6:$L$127,11,FALSE)=TRUE),0,VLOOKUP(C47,KoSteReWurzel!$B$6:$L$127,11,FALSE))","v":0},{"$f":"KoSteRe!G45+E$6*KoSteRe!$L45+E$7*KoSteRe!$M45","v":0},{"$f":"KoSteRe!H45+F$6*KoSteRe!$L45+F$7*KoSteRe!$M45","v":0},{"$f":"KoSteRe!I45+G$6*KoSteRe!$L45+G$7*KoSteRe!$M45","v":0},{"$f":"KoSteRe!J45+H$6*KoSteRe!$L45+H$7*KoSteRe!$M45","v":0},{"$f":"KoSteRe!K45+I$6*KoSteRe!$L45+I$7*KoSteRe!$M45","v":0},{"$f":"J$6*KoSteRe!$L45+J$7*KoSteRe!$M45","v":0},{"$f":"K$6*KoSteRe!$L45+K$7*KoSteRe!$M45","v":0},0]
[null,null,{"$f":"IF(WurzelBZweige!$AV46=\"\",\"\",WurzelBZweige!AV46)","v":""},{"$f":"IF(ISERROR(VLOOKUP(C48,KoSteReWurzel!$B$6:$L$127,11,FALSE)=TRUE),0,VLOOKUP(C48,KoSteReWurzel!$B$6:$L$127,11,FALSE))","v":0},{"$f":"KoSteRe!G46+E$6*KoSteRe!$L46+E$7*KoSteRe!$M46","v":0},{"$f":"KoSteRe!H46+F$6*KoSteRe!$L46+F$7*KoSteRe!$M46","v":0},{"$f":"KoSteRe!I46+G$6*KoSteRe!$L46+G$7*KoSteRe!$M46","v":0},{"$f":"KoSteRe!J46+H$6*KoSteRe!$L46+H$7*KoSteRe!$M46","v":0},{"$f":"KoSteRe!K46+I$6*KoSteRe!$L46+I$7*KoSteRe!$M46","v":0},{"$f":"J$6*KoSteRe!$L46+J$7*KoSteRe!$M46","v":0},{"$f":"K$6*KoSteRe!$L46+K$7*KoSteRe!$M46","v":0},0]
[null,null,{"$f":"IF(WurzelBZweige!$AV47=\"\",\"\",WurzelBZweige!AV47)","v":""},{"$f":"IF(ISERROR(VLOOKUP(C49,KoSteReWurzel!$B$6:$L$127,11,FALSE)=TRUE),0,VLOOKUP(C49,KoSteReWurzel!$B$6:$L$127,11,FALSE))","v":0},{"$f":"KoSteRe!G47+E$6*KoSteRe!$L47+E$7*KoSteRe!$M47","v":0},{"$f":"KoSteRe!H47+F$6*KoSteRe!$L47+F$7*KoSteRe!$M47","v":0},{"$f":"KoSteRe!I47+G$6*KoSteRe!$L47+G$7*KoSteRe!$M47","v":0},{"$f":"KoSteRe!J47+H$6*KoSteRe!$L47+H$7*KoSteRe!$M47","v":0},{"$f":"KoSteRe!K47+I$6*KoSteRe!$L47+I$7*KoSteRe!$M47","v":0},{"$f":"J$6*KoSteRe!$L47+J$7*KoSteRe!$M47","v":0},{"$f":"K$6*KoSteRe!$L47+K$7*KoSteRe!$M47","v":0},0]
[null,null,{"$f":"IF(WurzelBZweige!$AV48=\"\",\"\",WurzelBZweige!AV48)","v":""},{"$f":"IF(ISERROR(VLOOKUP(C50,KoSteReWurzel!$B$6:$L$127,11,FALSE)=TRUE),0,VLOOKUP(C50,KoSteReWurzel!$B$6:$L$127,11,FALSE))","v":0},{"$f":"KoSteRe!G48+E$6*KoSteRe!$L48+E$7*KoSteRe!$M48","v":0},{"$f":"KoSteRe!H48+F$6*KoSteRe!$L48+F$7*KoSteRe!$M48","v":0},{"$f":"KoSteRe!I48+G$6*KoSteRe!$L48+G$7*KoSteRe!$M48","v":0},{"$f":"KoSteRe!J48+H$6*KoSteRe!$L48+H$7*KoSteRe!$M48","v":0},{"$f":"KoSteRe!K48+I$6*KoSteRe!$L48+I$7*KoSteRe!$M48","v":0},{"$f":"J$6*KoSteRe!$L48+J$7*KoSteRe!$M48","v":0},{"$f":"K$6*KoSteRe!$L48+K$7*KoSteRe!$M48","v":0},0]
[null,null,{"$f":"IF(WurzelBZweige!$AV49=\"\",\"\",WurzelBZweige!AV49)","v":""},{"$f":"IF(ISERROR(VLOOKUP(C51,KoSteReWurzel!$B$6:$L$127,11,FALSE)=TRUE),0,VLOOKUP(C51,KoSteReWurzel!$B$6:$L$127,11,FALSE))","v":0},{"$f":"KoSteRe!G49+E$6*KoSteRe!$L49+E$7*KoSteRe!$M49","v":0},{"$f":"KoSteRe!H49+F$6*KoSteRe!$L49+F$7*KoSteRe!$M49","v":0},{"$f":"KoSteRe!I49+G$6*KoSteRe!$L49+G$7*KoSteRe!$M49","v":0},{"$f":"KoSteRe!J49+H$6*KoSteRe!$L49+H$7*KoSteRe!$M49","v":0},{"$f":"KoSteRe!K49+I$6*KoSteRe!$L49+I$7*KoSteRe!$M49","v":0},{"$f":"J$6*KoSteRe!$L49+J$7*KoSteRe!$M49","v":0},{"$f":"K$6*KoSteRe!$L49+K$7*KoSteRe!$M49","v":0},0]
[null,null,{"$f":"IF(WurzelBZweige!$AV50=\"\",\"\",WurzelBZweige!AV50)","v":""},{"$f":"IF(ISERROR(VLOOKUP(C52,KoSteReWurzel!$B$6:$L$127,11,FALSE)=TRUE),0,VLOOKUP(C52,KoSteReWurzel!$B$6:$L$127,11,FALSE))","v":0},{"$f":"KoSteRe!G50+E$6*KoSteRe!$L50+E$7*KoSteRe!$M50","v":0},{"$f":"KoSteRe!H50+F$6*KoSteRe!$L50+F$7*KoSteRe!$M50","v":0},{"$f":"KoSteRe!I50+G$6*KoSteRe!$L50+G$7*KoSteRe!$M50","v":0},{"$f":"KoSteRe!J50+H$6*KoSteRe!$L50+H$7*KoSteRe!$M50","v":0},{"$f":"KoSteRe!K50+I$6*KoSteRe!$L50+I$7*KoSteRe!$M50","v":0},{"$f":"J$6*KoSteRe!$L50+J$7*KoSteRe!$M50","v":0},{"$f":"K$6*KoSteRe!$L50+K$7*KoSteRe!$M50","v":0},0]
[null,null,{"$f":"IF(WurzelBZweige!$AV51=\"\",\"\",WurzelBZweige!AV51)","v":""},{"$f":"IF(ISERROR(VLOOKUP(C53,KoSteReWurzel!$B$6:$L$127,11,FALSE)=TRUE),0,VLOOKUP(C53,KoSteReWurzel!$B$6:$L$127,11,FALSE))","v":0},{"$f":"KoSteRe!G51+E$6*KoSteRe!$L51+E$7*KoSteRe!$M51","v":0},{"$f":"KoSteRe!H51+F$6*KoSteRe!$L51+F$7*KoSteRe!$M51","v":0},{"$f":"KoSteRe!I51+G$6*KoSteRe!$L51+G$7*KoSteRe!$M51","v":0},{"$f":"KoSteRe!J51+H$6*KoSteRe!$L51+H$7*KoSteRe!$M51","v":0},{"$f":"KoSteRe!K51+I$6*KoSteRe!$L51+I$7*KoSteRe!$M51","v":0},{"$f":"J$6*KoSteRe!$L51+J$7*KoSteRe!$M51","v":0},{"$f":"K$6*KoSteRe!$L51+K$7*KoSteRe!$M51","v":0},0]
[null,null,{"$f":"IF(WurzelBZweige!$AV52=\"\",\"\",WurzelBZweige!AV52)","v":"Sonstige direkte Kosten"},{"$f":"IF(ISERROR(VLOOKUP(C54,KoSteReWurzel!$B$6:$L$127,11,FALSE)=TRUE),0,VLOOKUP(C54,KoSteReWurzel!$B$6:$L$127,11,FALSE))","v":0},{"$f":"KoSteRe!G52+E$6*KoSteRe!$L52+E$7*KoSteRe!$M52","v":0},{"$f":"KoSteRe!H52+F$6*KoSteRe!$L52+F$7*KoSteRe!$M52","v":0},{"$f":"KoSteRe!I52+G$6*KoSteRe!$L52+G$7*KoSteRe!$M52","v":0},{"$f":"KoSteRe!J52+H$6*KoSteRe!$L52+H$7*KoSteRe!$M52","v":0},{"$f":"KoSteRe!K52+I$6*KoSteRe!$L52+I$7*KoSteRe!$M52","v":0},{"$f":"J$6*KoSteRe!$L52+J$7*KoSteRe!$M52","v":0},{"$f":"K$6*KoSteRe!$L52+K$7*KoSteRe!$M52","v":0},0]
[null,null,{"$f":"IF(WurzelBZweige!$AV53=\"\",\"\",WurzelBZweige!AV53)","v":""},{"$f":"IF(ISERROR(VLOOKUP(C55,KoSteReWurzel!$B$6:$L$127,11,FALSE)=TRUE),0,VLOOKUP(C55,KoSteReWurzel!$B$6:$L$127,11,FALSE))","v":0},{"$f":"KoSteRe!G53+E$6*KoSteRe!$L53+E$7*KoSteRe!$M53","v":0},{"$f":"KoSteRe!H53+F$6*KoSteRe!$L53+F$7*KoSteRe!$M53","v":0},{"$f":"KoSteRe!I53+G$6*KoSteRe!$L53+G$7*KoSteRe!$M53","v":0},{"$f":"KoSteRe!J53+H$6*KoSteRe!$L53+H$7*KoSteRe!$M53","v":0},{"$f":"KoSteRe!K53+I$6*KoSteRe!$L53+I$7*KoSteRe!$M53","v":0},{"$f":"J$6*KoSteRe!$L53+J$7*KoSteRe!$M53","v":0},{"$f":"K$6*KoSteRe!$L53+K$7*KoSteRe!$M53","v":0},0]
[null,null,{"$f":"IF(WurzelBZweige!$AV54=\"\",\"\",WurzelBZweige!AV54)","v":""},{"$f":"IF(ISERROR(VLOOKUP(C56,KoSteReWurzel!$B$6:$L$127,11,FALSE)=TRUE),0,VLOOKUP(C56,KoSteReWurzel!$B$6:$L$127,11,FALSE))","v":0},{"$f":"KoSteRe!G54+E$6*KoSteRe!$L54+E$7*KoSteRe!$M54","v":0},{"$f":"KoSteRe!H54+F$6*KoSteRe!$L54+F$7*KoSteRe!$M54","v":0},{"$f":"KoSteRe!I54+G$6*KoSteRe!$L54+G$7*KoSteRe!$M54","v":0},{"$f":"KoSteRe!J54+H$6*KoSteRe!$L54+H$7*KoSteRe!$M54","v":0},{"$f":"KoSteRe!K54+I$6*KoSteRe!$L54+I$7*KoSteRe!$M54","v":0},{"$f":"J$6*KoSteRe!$L54+J$7*KoSteRe!$M54","v":0},{"$f":"K$6*KoSteRe!$L54+K$7*KoSteRe!$M54","v":0},{"$f":"SUM(E56:K56)","v":0}]
[null,null,{"$f":"IF(WurzelBZweige!$AV55=\"\",\"\",WurzelBZweige!AV55)","v":""},{"$f":"IF(ISERROR(VLOOKUP(C57,KoSteReWurzel!$B$6:$L$127,11,FALSE)=TRUE),0,VLOOKUP(C57,KoSteReWurzel!$B$6:$L$127,11,FALSE))","v":0},{"$f":"KoSteRe!G55+E$6*KoSteRe!$L55+E$7*KoSteRe!$M55","v":0},{"$f":"KoSteRe!H55+F$6*KoSteRe!$L55+F$7*KoSteRe!$M55","v":0},{"$f":"KoSteRe!I55+G$6*KoSteRe!$L55+G$7*KoSteRe!$M55","v":0},{"$f":"KoSteRe!J55+H$6*KoSteRe!$L55+H$7*KoSteRe!$M55","v":0},{"$f":"KoSteRe!K55+I$6*KoSteRe!$L55+I$7*KoSteRe!$M55","v":0},{"$f":"J$6*KoSteRe!$L55+J$7*KoSteRe!$M55","v":0},{"$f":"K$6*KoSteRe!$L55+K$7*KoSteRe!$M55","v":0},{"$f":"SUM(E57:K57)","v":0}]
[null,null,{"$f":"IF(WurzelBZweige!$AV56=\"\",\"\",WurzelBZweige!AV56)","v":""},{"$f":"IF(ISERROR(VLOOKUP(C58,KoSteReWurzel!$B$6:$L$127,11,FALSE)=TRUE),0,VLOOKUP(C58,KoSteReWurzel!$B$6:$L$127,11,FALSE))","v":0},{"$f":"KoSteRe!G56+E$6*KoSteRe!$L56+E$7*KoSteRe!$M56","v":0},{"$f":"KoSteRe!H56+F$6*KoSteRe!$L56+F$7*KoSteRe!$M56","v":0},{"$f":"KoSteRe!I56+G$6*KoSteRe!$L56+G$7*KoSteRe!$M56","v":0},{"$f":"KoSteRe!J56+H$6*KoSteRe!$L56+H$7*KoSteRe!$M56","v":0},{"$f":"KoSteRe!K56+I$6*KoSteRe!$L56+I$7*KoSteRe!$M56","v":0},{"$f":"J$6*KoSteRe!$L56+J$7*KoSteRe!$M56","v":0},{"$f":"K$6*KoSteRe!$L56+K$7*KoSteRe!$M56","v":0},{"$f":"SUM(E58:K58)","v":0}]
[null,null,{"$f":"IF(WurzelBZweige!$AV57=\"\",\"\",WurzelBZweige!AV57)","v":""},{"$f":"IF(ISERROR(VLOOKUP(C59,KoSteReWurzel!$B$6:$L$127,11,FALSE)=TRUE),0,VLOOKUP(C59,KoSteReWurzel!$B$6:$L$127,11,FALSE))","v":0},{"$f":"KoSteRe!G57+E$6*KoSteRe!$L57+E$7*KoSteRe!$M57","v":0},{"$f":"KoSteRe!H57+F$6*KoSteRe!$L57+F$7*KoSteRe!$M57","v":0},{"$f":"KoSteRe!I57+G$6*KoSteRe!$L57+G$7*KoSteRe!$M57","v":0},{"$f":"KoSteRe!J57+H$6*KoSteRe!$L57+H$7*KoSteRe!$M57","v":0},{"$f":"KoSteRe!K57+I$6*KoSteRe!$L57+I$7*KoSteRe!$M57","v":0},{"$f":"J$6*KoSteRe!$L57+J$7*KoSteRe!$M57","v":0},{"$f":"K$6*KoSteRe!$L57+K$7*KoSteRe!$M57","v":0},{"$f":"SUM(E59:K59)","v":0}]
[null,null,{"$f":"IF(WurzelBZweige!$AV58=\"\",\"\",WurzelBZweige!AV58)","v":""},{"$f":"IF(ISERROR(VLOOKUP(C60,KoSteReWurzel!$B$6:$L$127,11,FALSE)=TRUE),0,VLOOKUP(C60,KoSteReWurzel!$B$6:$L$127,11,FALSE))","v":0},{"$f":"KoSteRe!G58+E$6*KoSteRe!$L58+E$7*KoSteRe!$M58","v":0},{"$f":"KoSteRe!H58+F$6*KoSteRe!$L58+F$7*KoSteRe!$M58","v":0},{"$f":"KoSteRe!I58+G$6*KoSteRe!$L58+G$7*KoSteRe!$M58","v":0},{"$f":"KoSteRe!J58+H$6*KoSteRe!$L58+H$7*KoSteRe!$M58","v":0},{"$f":"KoSteRe!K58+I$6*KoSteRe!$L58+I$7*KoSteRe!$M58","v":0},{"$f":"J$6*KoSteRe!$L58+J$7*KoSteRe!$M58","v":0},{"$f":"K$6*KoSteRe!$L58+K$7*KoSteRe!$M58","v":0},0]
[null,null,{"$f":"IF(WurzelBZweige!$AV59=\"\",\"\",WurzelBZweige!AV59)","v":""},{"$f":"IF(ISERROR(VLOOKUP(C61,KoSteReWurzel!$B$6:$L$127,11,FALSE)=TRUE),0,VLOOKUP(C61,KoSteReWurzel!$B$6:$L$127,11,FALSE))","v":0},{"$f":"KoSteRe!G59+E$6*KoSteRe!$L59+E$7*KoSteRe!$M59","v":0},{"$f":"KoSteRe!H59+F$6*KoSteRe!$L59+F$7*KoSteRe!$M59","v":0},{"$f":"KoSteRe!I59+G$6*KoSteRe!$L59+G$7*KoSteRe!$M59","v":0},{"$f":"KoSteRe!J59+H$6*KoSteRe!$L59+H$7*KoSteRe!$M59","v":0},{"$f":"KoSteRe!K59+I$6*KoSteRe!$L59+I$7*KoSteRe!$M59","v":0},{"$f":"J$6*KoSteRe!$L59+J$7*KoSteRe!$M59","v":0},{"$f":"K$6*KoSteRe!$L59+K$7*KoSteRe!$M59","v":0},0]
[null,null,{"$f":"IF(WurzelBZweige!$AV60=\"\",\"\",WurzelBZweige!AV60)","v":"Direktkosten"},{"$f":"SUM(D40:D61)","v":0},{"$f":"SUM(E40:E61)","v":0},{"$f":"SUM(F40:F61)","v":0},0,0,0,0,0,0]
[null,null,"Direktkostenfreie Leistung",{"$f":"+D38-D62","v":0},{"$f":"+E38-E62","v":0},{"$f":"+F38-F62","v":0},0,0,0,0,0]
[null,null,"."]
[null,"Übrige Vorleistungskosten",{"$f":"IF(WurzelBZweige!$AV62=\"\",\"\",WurzelBZweige!AV62)","v":"Betriebs- und Reparaturkosten Maschinen"},null,null,null,null,null,null,null,null,0]
[null,null,{"$f":"IF(WurzelBZweige!$AV63=\"\",\"\",WurzelBZweige!AV63)","v":"Treibstoffe"},{"$f":"IF(ISERROR(VLOOKUP(C66,KoSteReWurzel!$B$6:$L$127,11,FALSE)=TRUE),0,VLOOKUP(C66,KoSteReWurzel!$B$6:$L$127,11,FALSE))","v":0},{"$f":"KoSteRe!G63+E$6*KoSteRe!$L63+E$7*KoSteRe!$M63","v":0},{"$f":"KoSteRe!H63+F$6*KoSteRe!$L63+F$7*KoSteRe!$M63","v":0},{"$f":"KoSteRe!I63+G$6*KoSteRe!$L63+G$7*KoSteRe!$M63","v":0},{"$f":"KoSteRe!J63+H$6*KoSteRe!$L63+H$7*KoSteRe!$M63","v":0},{"$f":"KoSteRe!K63+I$6*KoSteRe!$L63+I$7*KoSteRe!$M63","v":0},{"$f":"J$6*KoSteRe!$L63+J$7*KoSteRe!$M63","v":0},{"$f":"K$6*KoSteRe!$L63+K$7*KoSteRe!$M63","v":0},0]
[null,null,{"$f":"IF(WurzelBZweige!$AV64=\"\",\"\",WurzelBZweige!AV64)","v":""},{"$f":"IF(ISERROR(VLOOKUP(C67,KoSteReWurzel!$B$6:$L$127,11,FALSE)=TRUE),0,VLOOKUP(C67,KoSteReWurzel!$B$6:$L$127,11,FALSE))","v":0},{"$f":"KoSteRe!G64+E$6*KoSteRe!$L64+E$7*KoSteRe!$M64","v":0},{"$f":"KoSteRe!H64+F$6*KoSteRe!$L64+F$7*KoSteRe!$M64","v":0},{"$f":"KoSteRe!I64+G$6*KoSteRe!$L64+G$7*KoSteRe!$M64","v":0},{"$f":"KoSteRe!J64+H$6*KoSteRe!$L64+H$7*KoSteRe!$M64","v":0},{"$f":"KoSteRe!K64+I$6*KoSteRe!$L64+I$7*KoSteRe!$M64","v":0},{"$f":"J$6*KoSteRe!$L64+J$7*KoSteRe!$M64","v":0},{"$f":"K$6*KoSteRe!$L64+K$7*KoSteRe!$M64","v":0},0]
[null,null,{"$f":"IF(WurzelBZweige!$AV65=\"\",\"\",WurzelBZweige!AV65)","v":"Reparatur und Instandhaltung Maschinen"},{"$f":"IF(ISERROR(VLOOKUP(C68,KoSteReWurzel!$B$6:$L$127,11,FALSE)=TRUE),0,VLOOKUP(C68,KoSteReWurzel!$B$6:$L$127,11,FALSE))","v":0},{"$f":"KoSteRe!G65+E$6*KoSteRe!$L65+E$7*KoSteRe!$M65","v":0},{"$f":"KoSteRe!H65+F$6*KoSteRe!$L65+F$7*KoSteRe!$M65","v":0},{"$f":"KoSteRe!I65+G$6*KoSteRe!$L65+G$7*KoSteRe!$M65","v":0},{"$f":"KoSteRe!J65+H$6*KoSteRe!$L65+H$7*KoSteRe!$M65","v":0},{"$f":"KoSteRe!K65+I$6*KoSteRe!$L65+I$7*KoSteRe!$M65","v":0},{"$f":"J$6*KoSteRe!$L65+J$7*KoSteRe!$M65","v":0},{"$f":"K$6*KoSteRe!$L65+K$7*KoSteRe!$M65","v":0},0]
[null,null,{"$f":"IF(WurzelBZweige!$AV66=\"\",\"\",WurzelBZweige!AV66)","v":"Lohnmaschinen, Maschinenring"},{"$f":"IF(ISERROR(VLOOKUP(C69,KoSteReWurzel!$B$6:$L$127,11,FALSE)=TRUE),0,VLOOKUP(C69,KoSteReWurzel!$B$6:$L$127,11,FALSE))","v":0},{"$f":"KoSteRe!G66+E$6*KoSteRe!$L66+E$7*KoSteRe!$M66","v":0},{"$f":"KoSteRe!H66+F$6*KoSteRe!$L66+F$7*KoSteRe!$M66","v":0},{"$f":"KoSteRe!I66+G$6*KoSteRe!$L66+G$7*KoSteRe!$M66","v":0},{"$f":"KoSteRe!J66+H$6*KoSteRe!$L66+H$7*KoSteRe!$M66","v":0},{"$f":"KoSteRe!K66+I$6*KoSteRe!$L66+I$7*KoSteRe!$M66","v":0},{"$f":"J$6*KoSteRe!$L66+J$7*KoSteRe!$M66","v":0},{"$f":"K$6*KoSteRe!$L66+K$7*KoSteRe!$M66","v":0},0]
[null,null,{"$f":"IF(WurzelBZweige!$AV67=\"\",\"\",WurzelBZweige!AV67)","v":"Energie (Strom, Wärme)"},{"$f":"IF(ISERROR(VLOOKUP(C70,KoSteReWurzel!$B$6:$L$127,11,FALSE)=TRUE),0,VLOOKUP(C70,KoSteReWurzel!$B$6:$L$127,11,FALSE))","v":0},{"$f":"KoSteRe!G67+E$6*KoSteRe!$L67+E$7*KoSteRe!$M67","v":0},{"$f":"KoSteRe!H67+F$6*KoSteRe!$L67+F$7*KoSteRe!$M67","v":0},{"$f":"KoSteRe!I67+G$6*KoSteRe!$L67+G$7*KoSteRe!$M67","v":0},{"$f":"KoSteRe!J67+H$6*KoSteRe!$L67+H$7*KoSteRe!$M67","v":0},{"$f":"KoSteRe!K67+I$6*KoSteRe!$L67+I$7*KoSteRe!$M67","v":0},{"$f":"J$6*KoSteRe!$L67+J$7*KoSteRe!$M67","v":0},{"$f":"K$6*KoSteRe!$L67+K$7*KoSteRe!$M67","v":0},0]
[null,null,{"$f":"IF(WurzelBZweige!$AV68=\"\",\"\",WurzelBZweige!AV68)","v":"Wasser"},{"$f":"IF(ISERROR(VLOOKUP(C71,KoSteReWurzel!$B$6:$L$127,11,FALSE)=TRUE),0,VLOOKUP(C71,KoSteReWurzel!$B$6:$L$127,11,FALSE))","v":0},{"$f":"KoSteRe!G68+E$6*KoSteRe!$L68+E$7*KoSteRe!$M68","v":0},{"$f":"KoSteRe!H68+F$6*KoSteRe!$L68+F$7*KoSteRe!$M68","v":0},{"$f":"KoSteRe!I68+G$6*KoSteRe!$L68+G$7*KoSteRe!$M68","v":0},{"$f":"KoSteRe!J68+H$6*KoSteRe!$L68+H$7*KoSteRe!$M68","v":0},{"$f":"KoSteRe!K68+I$6*KoSteRe!$L68+I$7*KoSteRe!$M68","v":0},{"$f":"J$6*KoSteRe!$L68+J$7*KoSteRe!$M68","v":0},{"$f":"K$6*KoSteRe!$L68+K$7*KoSteRe!$M68","v":0},0]
[null,null,{"$f":"IF(WurzelBZweige!$AV69=\"\",\"\",WurzelBZweige!AV69)","v":"Abschreibung Maschinen und Geräte"},{"$f":"+AfaMaschinen","v":0},{"$f":"KoSteRe!G69+E$6*KoSteRe!$L69+E$7*KoSteRe!$M69","v":0},{"$f":"KoSteRe!H69+F$6*KoSteRe!$L69+F$7*KoSteRe!$M69","v":0},{"$f":"KoSteRe!I69+G$6*KoSteRe!$L69+G$7*KoSteRe!$M69","v":0},{"$f":"KoSteRe!J69+H$6*KoSteRe!$L69+H$7*KoSteRe!$M69","v":0},{"$f":"KoSteRe!K69+I$6*KoSteRe!$L69+I$7*KoSteRe!$M69","v":0},{"$f":"J$6*KoSteRe!$L69+J$7*KoSteRe!$M69","v":0},{"$f":"K$6*KoSteRe!$L69+K$7*KoSteRe!$M69","v":0},0]
[null,null,{"$f":"IF(WurzelBZweige!$AV70=\"\",\"\",WurzelBZweige!AV70)","v":"Abschreibung Gebäude und bauliche Anlagen"},{"$f":"+AfaGebäude","v":0},{"$f":"KoSteRe!G70+E$6*KoSteRe!$L70+E$7*KoSteRe!$M70","v":0},{"$f":"KoSteRe!H70+F$6*KoSteRe!$L70+F$7*KoSteRe!$M70","v":0},{"$f":"KoSteRe!I70+G$6*KoSteRe!$L70+G$7*KoSteRe!$M70","v":0},{"$f":"KoSteRe!J70+H$6*KoSteRe!$L70+H$7*KoSteRe!$M70","v":0},{"$f":"KoSteRe!K70+I$6*KoSteRe!$L70+I$7*KoSteRe!$M70","v":0},{"$f":"J$6*KoSteRe!$L70+J$7*KoSteRe!$M70","v":0},{"$f":"K$6*KoSteRe!$L70+K$7*KoSteRe!$M70","v":0},0]
[null,null,{"$f":"IF(WurzelBZweige!$AV71=\"\",\"\",WurzelBZweige!AV71)","v":""},{"$f":"IF(ISERROR(VLOOKUP(C74,KoSteReWurzel!$B$6:$L$127,11,FALSE)=TRUE),0,VLOOKUP(C74,KoSteReWurzel!$B$6:$L$127,11,FALSE))","v":0},{"$f":"KoSteRe!G71+E$6*KoSteRe!$L71+E$7*KoSteRe!$M71","v":0},{"$f":"KoSteRe!H71+F$6*KoSteRe!$L71+F$7*KoSteRe!$M71","v":0},{"$f":"KoSteRe!I71+G$6*KoSteRe!$L71+G$7*KoSteRe!$M71","v":0},{"$f":"KoSteRe!J71+H$6*KoSteRe!$L71+H$7*KoSteRe!$M71","v":0},{"$f":"KoSteRe!K71+I$6*KoSteRe!$L71+I$7*KoSteRe!$M71","v":0},{"$f":"J$6*KoSteRe!$L71+J$7*KoSteRe!$M71","v":0},{"$f":"K$6*KoSteRe!$L71+K$7*KoSteRe!$M71","v":0},0]
[null,null,{"$f":"IF(WurzelBZweige!$AV72=\"\",\"\",WurzelBZweige!AV72)","v":"Instandhaltung Gebäude und bauliche Anlagen "},{"$f":"IF(ISERROR(VLOOKUP(C75,KoSteReWurzel!$B$6:$L$127,11,FALSE)=TRUE),0,VLOOKUP(C75,KoSteReWurzel!$B$6:$L$127,11,FALSE))","v":0},{"$f":"KoSteRe!G72+E$6*KoSteRe!$L72+E$7*KoSteRe!$M72","v":0},{"$f":"KoSteRe!H72+F$6*KoSteRe!$L72+F$7*KoSteRe!$M72","v":0},{"$f":"KoSteRe!I72+G$6*KoSteRe!$L72+G$7*KoSteRe!$M72","v":0},{"$f":"KoSteRe!J72+H$6*KoSteRe!$L72+H$7*KoSteRe!$M72","v":0},{"$f":"KoSteRe!K72+I$6*KoSteRe!$L72+I$7*KoSteRe!$M72","v":0},{"$f":"J$6*KoSteRe!$L72+J$7*KoSteRe!$M72","v":0},{"$f":"K$6*KoSteRe!$L72+K$7*KoSteRe!$M72","v":0},0]
[null,null,{"$f":"IF(WurzelBZweige!$AV73=\"\",\"\",WurzelBZweige!AV73)","v":"PKW - Betriebsanteil"},{"$f":"IF(ISERROR(VLOOKUP(C76,KoSteReWurzel!$B$6:$L$127,11,FALSE)=TRUE),0,VLOOKUP(C76,KoSteReWurzel!$B$6:$L$127,11,FALSE))","v":0},{"$f":"KoSteRe!G73+E$6*KoSteRe!$L73+E$7*KoSteRe!$M73","v":0},{"$f":"KoSteRe!H73+F$6*KoSteRe!$L73+F$7*KoSteRe!$M73","v":0},{"$f":"KoSteRe!I73+G$6*KoSteRe!$L73+G$7*KoSteRe!$M73","v":0},{"$f":"KoSteRe!J73+H$6*KoSteRe!$L73+H$7*KoSteRe!$M73","v":0},{"$f":"KoSteRe!K73+I$6*KoSteRe!$L73+I$7*KoSteRe!$M73","v":0},{"$f":"J$6*KoSteRe!$L73+J$7*KoSteRe!$M73","v":0},{"$f":"K$6*KoSteRe!$L73+K$7*KoSteRe!$M73","v":0},0]
[null,null,{"$f":"IF(WurzelBZweige!$AV74=\"\",\"\",WurzelBZweige!AV74)","v":"Sachversicherungen ohne Versicherung PKW"},{"$f":"IF(ISERROR(VLOOKUP(C77,KoSteReWurzel!$B$6:$L$127,11,FALSE)=TRUE),0,VLOOKUP(C77,KoSteReWurzel!$B$6:$L$127,11,FALSE))","v":0},{"$f":"KoSteRe!G74+E$6*KoSteRe!$L74+E$7*KoSteRe!$M74","v":0},{"$f":"KoSteRe!H74+F$6*KoSteRe!$L74+F$7*KoSteRe!$M74","v":0},{"$f":"KoSteRe!I74+G$6*KoSteRe!$L74+G$7*KoSteRe!$M74","v":0},{"$f":"KoSteRe!J74+H$6*KoSteRe!$L74+H$7*KoSteRe!$M74","v":0},{"$f":"KoSteRe!K74+I$6*KoSteRe!$L74+I$7*KoSteRe!$M74","v":0},{"$f":"J$6*KoSteRe!$L74+J$7*KoSteRe!$M74","v":0},{"$f":"K$6*KoSteRe!$L74+K$7*KoSteRe!$M74","v":0},0]
[null,null,{"$f":"IF(WurzelBZweige!$AV75=\"\",\"\",WurzelBZweige!AV75)","v":"Steuern, Betriebsabgaben "},{"$f":"IF(ISERROR(VLOOKUP(C78,KoSteReWurzel!$B$6:$L$127,11,FALSE)=TRUE),0,VLOOKUP(C78,KoSteReWurzel!$B$6:$L$127,11,FALSE))","v":0},{"$f":"KoSteRe!G75+E$6*KoSteRe!$L75+E$7*KoSteRe!$M75","v":0},{"$f":"KoSteRe!H75+F$6*KoSteRe!$L75+F$7*KoSteRe!$M75","v":0},{"$f":"KoSteRe!I75+G$6*KoSteRe!$L75+G$7*KoSteRe!$M75","v":0},{"$f":"KoSteRe!J75+H$6*KoSteRe!$L75+H$7*KoSteRe!$M75","v":0},{"$f":"KoSteRe!K75+I$6*KoSteRe!$L75+I$7*KoSteRe!$M75","v":0},{"$f":"J$6*KoSteRe!$L75+J$7*KoSteRe!$M75","v":0},{"$f":"K$6*KoSteRe!$L75+K$7*KoSteRe!$M75","v":0},0]
[null,null,{"$f":"IF(WurzelBZweige!$AV76=\"\",\"\",WurzelBZweige!AV76)","v":"Nur indirekt zuordenbare Mitgliedsbeiträge, Gebühren, Beratungs- und Weiterbildungskosten "},{"$f":"IF(ISERROR(VLOOKUP(C79,KoSteReWurzel!$B$6:$L$127,11,FALSE)=TRUE),0,VLOOKUP(C79,KoSteReWurzel!$B$6:$L$127,11,FALSE))","v":0},{"$f":"KoSteRe!G76+E$6*KoSteRe!$L76+E$7*KoSteRe!$M76","v":0},{"$f":"KoSteRe!H76+F$6*KoSteRe!$L76+F$7*KoSteRe!$M76","v":0},{"$f":"KoSteRe!I76+G$6*KoSteRe!$L76+G$7*KoSteRe!$M76","v":0},{"$f":"KoSteRe!J76+H$6*KoSteRe!$L76+H$7*KoSteRe!$M76","v":0},{"$f":"KoSteRe!K76+I$6*KoSteRe!$L76+I$7*KoSteRe!$M76","v":0},{"$f":"J$6*KoSteRe!$L76+J$7*KoSteRe!$M76","v":0},{"$f":"K$6*KoSteRe!$L76+K$7*KoSteRe!$M76","v":0},0]
[null,null,{"$f":"IF(WurzelBZweige!$AV77=\"\",\"\",WurzelBZweige!AV77)","v":"Allgemeine Verwaltungskosten und sonstige Vorleistungskosten"},{"$f":"IF(ISERROR(VLOOKUP(C80,KoSteReWurzel!$B$6:$L$127,11,FALSE)=TRUE),0,VLOOKUP(C80,KoSteReWurzel!$B$6:$L$127,11,FALSE))","v":0},{"$f":"KoSteRe!G77+E$6*KoSteRe!$L77+E$7*KoSteRe!$M77","v":0},{"$f":"KoSteRe!H77+F$6*KoSteRe!$L77+F$7*KoSteRe!$M77","v":0},{"$f":"KoSteRe!I77+G$6*KoSteRe!$L77+G$7*KoSteRe!$M77","v":0},{"$f":"KoSteRe!J77+H$6*KoSteRe!$L77+H$7*KoSteRe!$M77","v":0},{"$f":"KoSteRe!K77+I$6*KoSteRe!$L77+I$7*KoSteRe!$M77","v":0},{"$f":"J$6*KoSteRe!$L77+J$7*KoSteRe!$M77","v":0},{"$f":"K$6*KoSteRe!$L77+K$7*KoSteRe!$M77","v":0},0]
[null,null,{"$f":"IF(WurzelBZweige!$AV78=\"\",\"\",WurzelBZweige!AV78)","v":""},{"$f":"IF(ISERROR(VLOOKUP(C81,KoSteReWurzel!$B$6:$L$127,11,FALSE)=TRUE),0,VLOOKUP(C81,KoSteReWurzel!$B$6:$L$127,11,FALSE))","v":0},{"$f":"KoSteRe!G78+E$6*KoSteRe!$L78+E$7*KoSteRe!$M78","v":0},{"$f":"KoSteRe!H78+F$6*KoSteRe!$L78+F$7*KoSteRe!$M78","v":0},{"$f":"KoSteRe!I78+G$6*KoSteRe!$L78+G$7*KoSteRe!$M78","v":0},{"$f":"KoSteRe!J78+H$6*KoSteRe!$L78+H$7*KoSteRe!$M78","v":0},{"$f":"KoSteRe!K78+I$6*KoSteRe!$L78+I$7*KoSteRe!$M78","v":0},{"$f":"J$6*KoSteRe!$L78+J$7*KoSteRe!$M78","v":0},{"$f":"K$6*KoSteRe!$L78+K$7*KoSteRe!$M78","v":0},0]
[null,null,{"$f":"IF(WurzelBZweige!$AV79=\"\",\"\",WurzelBZweige!AV79)","v":"Übrige Vorleistungskosten"},{"$f":"SUM(D65:D81)","v":0},{"$f":"SUM(E65:E81)","v":0},{"$f":"SUM(F65:F81)","v":0},0,0,0,0,0,{"$f":"SUM(E82:K82)","v":0}]
[null,null,"."]
[null,"Gemeinleistungen",{"$f":"IF(WurzelBZweige!$AV81=\"\",\"\",WurzelBZweige!AV81)","v":"Direktzahlungen"},{"$f":"IF(ISERROR(VLOOKUP(C84,KoSteReWurzel!$B$6:$L$127,11,FALSE)=TRUE),0,VLOOKUP(C84,KoSteReWurzel!$B$6:$L$127,11,FALSE))","v":0},{"$f":"KoSteRe!G81+E$6*KoSteRe!$L81+E$7*KoSteRe!$M81","v":0},{"$f":"KoSteRe!H81+F$6*KoSteRe!$L81+F$7*KoSteRe!$M81","v":0},{"$f":"KoSteRe!I81+G$6*KoSteRe!$L81+G$7*KoSteRe!$M81","v":0},{"$f":"KoSteRe!J81+H$6*KoSteRe!$L81+H$7*KoSteRe!$M81","v":0},{"$f":"KoSteRe!K81+I$6*KoSteRe!$L81+I$7*KoSteRe!$M81","v":0},{"$f":"J$6*KoSteRe!$L81+J$7*KoSteRe!$M81","v":0},{"$f":"K$6*KoSteRe!$L81+K$7*KoSteRe!$M81","v":0},0]
[null,null,{"$f":"IF(WurzelBZweige!$AV82=\"\",\"\",WurzelBZweige!AV82)","v":"ÖPUL-Prämien"},{"$f":"IF(ISERROR(VLOOKUP(C85,KoSteReWurzel!$B$6:$L$127,11,FALSE)=TRUE),0,VLOOKUP(C85,KoSteReWurzel!$B$6:$L$127,11,FALSE))","v":0},{"$f":"KoSteRe!G82+E$6*KoSteRe!$L82+E$7*KoSteRe!$M82","v":0},{"$f":"KoSteRe!H82+F$6*KoSteRe!$L82+F$7*KoSteRe!$M82","v":0},{"$f":"KoSteRe!I82+G$6*KoSteRe!$L82+G$7*KoSteRe!$M82","v":0},{"$f":"KoSteRe!J82+H$6*KoSteRe!$L82+H$7*KoSteRe!$M82","v":0},{"$f":"KoSteRe!K82+I$6*KoSteRe!$L82+I$7*KoSteRe!$M82","v":0},{"$f":"J$6*KoSteRe!$L82+J$7*KoSteRe!$M82","v":0},{"$f":"K$6*KoSteRe!$L82+K$7*KoSteRe!$M82","v":0},0]
[null,null,{"$f":"IF(WurzelBZweige!$AV83=\"\",\"\",WurzelBZweige!AV83)","v":"Ausgleichszulage für benachteiligte Gebiete"},{"$f":"IF(ISERROR(VLOOKUP(C86,KoSteReWurzel!$B$6:$L$127,11,FALSE)=TRUE),0,VLOOKUP(C86,KoSteReWurzel!$B$6:$L$127,11,FALSE))","v":0},{"$f":"KoSteRe!G83+E$6*KoSteRe!$L83+E$7*KoSteRe!$M83","v":0},{"$f":"KoSteRe!H83+F$6*KoSteRe!$L83+F$7*KoSteRe!$M83","v":0},{"$f":"KoSteRe!I83+G$6*KoSteRe!$L83+G$7*KoSteRe!$M83","v":0},{"$f":"KoSteRe!J83+H$6*KoSteRe!$L83+H$7*KoSteRe!$M83","v":0},{"$f":"KoSteRe!K83+I$6*KoSteRe!$L83+I$7*KoSteRe!$M83","v":0},{"$f":"J$6*KoSteRe!$L83+J$7*KoSteRe!$M83","v":0},{"$f":"K$6*KoSteRe!$L83+K$7*KoSteRe!$M83","v":0},0]
[null,null,{"$f":"IF(WurzelBZweige!$AV84=\"\",\"\",WurzelBZweige!AV84)","v":"Sonstige Gemeinleistungen"},{"$f":"IF(ISERROR(VLOOKUP(C87,KoSteReWurzel!$B$6:$L$127,11,FALSE)=TRUE),0,VLOOKUP(C87,KoSteReWurzel!$B$6:$L$127,11,FALSE))","v":0},{"$f":"KoSteRe!G84+E$6*KoSteRe!$L84+E$7*KoSteRe!$M84","v":0},{"$f":"KoSteRe!H84+F$6*KoSteRe!$L84+F$7*KoSteRe!$M84","v":0},{"$f":"KoSteRe!I84+G$6*KoSteRe!$L84+G$7*KoSteRe!$M84","v":0},{"$f":"KoSteRe!J84+H$6*KoSteRe!$L84+H$7*KoSteRe!$M84","v":0},{"$f":"KoSteRe!K84+I$6*KoSteRe!$L84+I$7*KoSteRe!$M84","v":0},{"$f":"J$6*KoSteRe!$L84+J$7*KoSteRe!$M84","v":0},{"$f":"K$6*KoSteRe!$L84+K$7*KoSteRe!$M84","v":0},0]
[null,null,{"$f":"IF(WurzelBZweige!$AV85=\"\",\"\",WurzelBZweige!AV85)","v":"Gemeinleistungen"},{"$f":"SUM(D84:D87)","v":0},{"$f":"SUM(E84:E87)","v":0},{"$f":"SUM(F84:F87)","v":0},0,0,0,0,0,0]
[null,null,"Faktorentlohnung",{"$f":"+D63-D82+D88","v":0},{"$f":"+E63-E82+E88","v":0},{"$f":"+F63-F82+F88","v":0},0,0,0,0,0]
[null,null,"."]
[null,"Faktorkosten",{"$f":"IF(WurzelBZweige!$AV87=\"\",\"\",WurzelBZweige!AV87)","v":"Arbeit"},{"$f":"IF(ISERROR(VLOOKUP(C91,KoSteReWurzel!$B$6:$L$127,11,FALSE)=TRUE),0,VLOOKUP(C91,KoSteReWurzel!$B$6:$L$127,11,FALSE))","v":0},null,null,null,null,null,null,null,0]
[null,null,{"$f":"IF(WurzelBZweige!$AV88=\"\",\"\",WurzelBZweige!AV88)","v":"Lohnansatz"},{"$f":"ZeitGesamt*Lohnansatz","v":0},{"$f":"KoSteRe!G88+E$6*KoSteRe!$L88+E$7*KoSteRe!$M88","v":0},{"$f":"KoSteRe!H88+F$6*KoSteRe!$L88+F$7*KoSteRe!$M88","v":0},{"$f":"KoSteRe!I88+G$6*KoSteRe!$L88+G$7*KoSteRe!$M88","v":0},{"$f":"KoSteRe!J88+H$6*KoSteRe!$L88+H$7*KoSteRe!$M88","v":0},{"$f":"KoSteRe!K88+I$6*KoSteRe!$L88+I$7*KoSteRe!$M88","v":0},{"$f":"J$6*KoSteRe!$L88+J$7*KoSteRe!$M88","v":0},{"$f":"K$6*KoSteRe!$L88+K$7*KoSteRe!$M88","v":0},0]
[null,null,{"$f":"IF(WurzelBZweige!$AV89=\"\",\"\",WurzelBZweige!AV89)","v":"Beiträge zur SVB"},{"$f":"IF(ISERROR(VLOOKUP(C93,KoSteReWurzel!$B$6:$L$127,11,FALSE)=TRUE),0,VLOOKUP(C93,KoSteReWurzel!$B$6:$L$127,11,FALSE))","v":0},{"$f":"KoSteRe!G89+E$6*KoSteRe!$L89+E$7*KoSteRe!$M89","v":0},{"$f":"KoSteRe!H89+F$6*KoSteRe!$L89+F$7*KoSteRe!$M89","v":0},{"$f":"KoSteRe!I89+G$6*KoSteRe!$L89+G$7*KoSteRe!$M89","v":0},{"$f":"KoSteRe!J89+H$6*KoSteRe!$L89+H$7*KoSteRe!$M89","v":0},{"$f":"KoSteRe!K89+I$6*KoSteRe!$L89+I$7*KoSteRe!$M89","v":0},{"$f":"J$6*KoSteRe!$L89+J$7*KoSteRe!$M89","v":0},{"$f":"K$6*KoSteRe!$L89+K$7*KoSteRe!$M89","v":0},0]
[null,null,{"$f":"IF(WurzelBZweige!$AV90=\"\",\"\",WurzelBZweige!AV90)","v":"Löhne"},{"$f":"IF(ISERROR(VLOOKUP(C94,KoSteReWurzel!$B$6:$L$127,11,FALSE)=TRUE),0,VLOOKUP(C94,KoSteReWurzel!$B$6:$L$127,11,FALSE))","v":0},{"$f":"KoSteRe!G90+E$6*KoSteRe!$L90+E$7*KoSteRe!$M90","v":0},{"$f":"KoSteRe!H90+F$6*KoSteRe!$L90+F$7*KoSteRe!$M90","v":0},{"$f":"KoSteRe!I90+G$6*KoSteRe!$L90+G$7*KoSteRe!$M90","v":0},{"$f":"KoSteRe!J90+H$6*KoSteRe!$L90+H$7*KoSteRe!$M90","v":0},{"$f":"KoSteRe!K90+I$6*KoSteRe!$L90+I$7*KoSteRe!$M90","v":0},{"$f":"J$6*KoSteRe!$L90+J$7*KoSteRe!$M90","v":0},{"$f":"K$6*KoSteRe!$L90+K$7*KoSteRe!$M90","v":0},0]
[null,null,{"$f":"IF(WurzelBZweige!$AV91=\"\",\"\",WurzelBZweige!AV91)","v":""},{"$f":"IF(ISERROR(VLOOKUP(C95,KoSteReWurzel!$B$6:$L$127,11,FALSE)=TRUE),0,VLOOKUP(C95,KoSteReWurzel!$B$6:$L$127,11,FALSE))","v":0},{"$f":"KoSteRe!G91+E$6*KoSteRe!$L91+E$7*KoSteRe!$M91","v":0},{"$f":"KoSteRe!H91+F$6*KoSteRe!$L91+F$7*KoSteRe!$M91","v":0},{"$f":"KoSteRe!I91+G$6*KoSteRe!$L91+G$7*KoSteRe!$M91","v":0},{"$f":"KoSteRe!J91+H$6*KoSteRe!$L91+H$7*KoSteRe!$M91","v":0},{"$f":"KoSteRe!K91+I$6*KoSteRe!$L91+I$7*KoSteRe!$M91","v":0},{"$f":"J$6*KoSteRe!$L91+J$7*KoSteRe!$M91","v":0},{"$f":"K$6*KoSteRe!$L91+K$7*KoSteRe!$M91","v":0},{"$f":"SUM(E95:K95)","v":0}]
[null,null,{"$f":"IF(WurzelBZweige!$AV92=\"\",\"\",WurzelBZweige!AV92)","v":""},{"$f":"IF(ISERROR(VLOOKUP(C96,KoSteReWurzel!$B$6:$L$127,11,FALSE)=TRUE),0,VLOOKUP(C96,KoSteReWurzel!$B$6:$L$127,11,FALSE))","v":0},{"$f":"KoSteRe!G92+E$6*KoSteRe!$L92+E$7*KoSteRe!$M92","v":0},{"$f":"KoSteRe!H92+F$6*KoSteRe!$L92+F$7*KoSteRe!$M92","v":0},{"$f":"KoSteRe!I92+G$6*KoSteRe!$L92+G$7*KoSteRe!$M92","v":0},{"$f":"KoSteRe!J92+H$6*KoSteRe!$L92+H$7*KoSteRe!$M92","v":0},{"$f":"KoSteRe!K92+I$6*KoSteRe!$L92+I$7*KoSteRe!$M92","v":0},{"$f":"J$6*KoSteRe!$L92+J$7*KoSteRe!$M92","v":0},{"$f":"K$6*KoSteRe!$L92+K$7*KoSteRe!$M92","v":0},{"$f":"SUM(E96:K96)","v":0}]
[null,null,{"$f":"IF(WurzelBZweige!$AV93=\"\",\"\",WurzelBZweige!AV93)","v":""},{"$f":"IF(ISERROR(VLOOKUP(C97,KoSteReWurzel!$B$6:$L$127,11,FALSE)=TRUE),0,VLOOKUP(C97,KoSteReWurzel!$B$6:$L$127,11,FALSE))","v":0},{"$f":"KoSteRe!G93+E$6*KoSteRe!$L93+E$7*KoSteRe!$M93","v":0},{"$f":"KoSteRe!H93+F$6*KoSteRe!$L93+F$7*KoSteRe!$M93","v":0},{"$f":"KoSteRe!I93+G$6*KoSteRe!$L93+G$7*KoSteRe!$M93","v":0},{"$f":"KoSteRe!J93+H$6*KoSteRe!$L93+H$7*KoSteRe!$M93","v":0},{"$f":"KoSteRe!K93+I$6*KoSteRe!$L93+I$7*KoSteRe!$M93","v":0},{"$f":"J$6*KoSteRe!$L93+J$7*KoSteRe!$M93","v":0},{"$f":"K$6*KoSteRe!$L93+K$7*KoSteRe!$M93","v":0},{"$f":"SUM(E97:K97)","v":0}]
[null,null,{"$f":"IF(WurzelBZweige!$AV94=\"\",\"\",WurzelBZweige!AV94)","v":"Boden"},null,null,null,null,null,null,null,null,0]
[null,null,{"$f":"IF(WurzelBZweige!$AV95=\"\",\"\",WurzelBZweige!AV95)","v":"Pachtkosten (Pachtland)"},{"$f":"IF(ISERROR(VLOOKUP(C99,KoSteReWurzel!$B$6:$L$127,11,FALSE)=TRUE),0,VLOOKUP(C99,KoSteReWurzel!$B$6:$L$127,11,FALSE))","v":0},{"$f":"KoSteRe!G95+E$6*KoSteRe!$L95+E$7*KoSteRe!$M95","v":0},{"$f":"KoSteRe!H95+F$6*KoSteRe!$L95+F$7*KoSteRe!$M95","v":0},{"$f":"KoSteRe!I95+G$6*KoSteRe!$L95+G$7*KoSteRe!$M95","v":0},{"$f":"KoSteRe!J95+H$6*KoSteRe!$L95+H$7*KoSteRe!$M95","v":0},{"$f":"KoSteRe!K95+I$6*KoSteRe!$L95+I$7*KoSteRe!$M95","v":0},{"$f":"J$6*KoSteRe!$L95+J$7*KoSteRe!$M95","v":0},{"$f":"K$6*KoSteRe!$L95+K$7*KoSteRe!$M95","v":0},0]
[null,null,{"$f":"IF(WurzelBZweige!$AV96=\"\",\"\",WurzelBZweige!AV96)","v":"Pachtansatz (eigenes Land)"},{"$f":"(Acker-AckerPacht)*PachtAcker+(Grünland-GrünlandPacht)*PachtGrünland","v":0},{"$f":"KoSteRe!G96+E$6*KoSteRe!$L96+E$7*KoSteRe!$M96","v":0},{"$f":"KoSteRe!H96+F$6*KoSteRe!$L96+F$7*KoSteRe!$M96","v":0},{"$f":"KoSteRe!I96+G$6*KoSteRe!$L96+G$7*KoSteRe!$M96","v":0},{"$f":"KoSteRe!J96+H$6*KoSteRe!$L96+H$7*KoSteRe!$M96","v":0},{"$f":"KoSteRe!K96+I$6*KoSteRe!$L96+I$7*KoSteRe!$M96","v":0},{"$f":"J$6*KoSteRe!$L96+J$7*KoSteRe!$M96","v":0},{"$f":"K$6*KoSteRe!$L96+K$7*KoSteRe!$M96","v":0},0]
[null,null,{"$f":"IF(WurzelBZweige!$AV97=\"\",\"\",WurzelBZweige!AV97)","v":""},{"$f":"KoSteRe!$D$97","v":0},{"$f":"KoSteRe!G97+E$6*KoSteRe!$L97+E$7*KoSteRe!$M97","v":0},{"$f":"KoSteRe!H97+F$6*KoSteRe!$L97+F$7*KoSteRe!$M97","v":0},{"$f":"KoSteRe!I97+G$6*KoSteRe!$L97+G$7*KoSteRe!$M97","v":0},{"$f":"KoSteRe!J97+H$6*KoSteRe!$L97+H$7*KoSteRe!$M97","v":0},{"$f":"KoSteRe!K97+I$6*KoSteRe!$L97+I$7*KoSteRe!$M97","v":0},{"$f":"J$6*KoSteRe!$L97+J$7*KoSteRe!$M97","v":0},{"$f":"K$6*KoSteRe!$L97+K$7*KoSteRe!$M97","v":0},0]
[null,null,{"$f":"IF(WurzelBZweige!$AV98=\"\",\"\",WurzelBZweige!AV98)","v":""},{"$f":"IF(ISERROR(VLOOKUP(C102,KoSteReWurzel!$B$6:$L$127,11,FALSE)=TRUE),0,VLOOKUP(C102,KoSteReWurzel!$B$6:$L$127,11,FALSE))","v":0},{"$f":"KoSteRe!G98+E$6*KoSteRe!$L98+E$7*KoSteRe!$M98","v":0},{"$f":"KoSteRe!H98+F$6*KoSteRe!$L98+F$7*KoSteRe!$M98","v":0},{"$f":"KoSteRe!I98+G$6*KoSteRe!$L98+G$7*KoSteRe!$M98","v":0},{"$f":"KoSteRe!J98+H$6*KoSteRe!$L98+H$7*KoSteRe!$M98","v":0},{"$f":"KoSteRe!K98+I$6*KoSteRe!$L98+I$7*KoSteRe!$M98","v":0},{"$f":"J$6*KoSteRe!$L98+J$7*KoSteRe!$M98","v":0},{"$f":"K$6*KoSteRe!$L98+K$7*KoSteRe!$M98","v":0},0]
[null,null,{"$f":"IF(WurzelBZweige!$AV99=\"\",\"\",WurzelBZweige!AV99)","v":""},{"$f":"IF(ISERROR(VLOOKUP(C103,KoSteReWurzel!$B$6:$L$127,11,FALSE)=TRUE),0,VLOOKUP(C103,KoSteReWurzel!$B$6:$L$127,11,FALSE))","v":0},{"$f":"KoSteRe!G99+E$6*KoSteRe!$L99+E$7*KoSteRe!$M99","v":0},{"$f":"KoSteRe!H99+F$6*KoSteRe!$L99+F$7*KoSteRe!$M99","v":0},{"$f":"KoSteRe!I99+G$6*KoSteRe!$L99+G$7*KoSteRe!$M99","v":0},{"$f":"KoSteRe!J99+H$6*KoSteRe!$L99+H$7*KoSteRe!$M99","v":0},{"$f":"KoSteRe!K99+I$6*KoSteRe!$L99+I$7*KoSteRe!$M99","v":0},{"$f":"J$6*KoSteRe!$L99+J$7*KoSteRe!$M99","v":0},{"$f":"K$6*KoSteRe!$L99+K$7*KoSteRe!$M99","v":0},{"$f":"SUM(E103:K103)","v":0}]
[null,null,{"$f":"IF(WurzelBZweige!$AV100=\"\",\"\",WurzelBZweige!AV100)","v":""},{"$f":"IF(ISERROR(VLOOKUP(C104,KoSteReWurzel!$B$6:$L$127,11,FALSE)=TRUE),0,VLOOKUP(C104,KoSteReWurzel!$B$6:$L$127,11,FALSE))","v":0},{"$f":"KoSteRe!G100+E$6*KoSteRe!$L100+E$7*KoSteRe!$M100","v":0},{"$f":"KoSteRe!H100+F$6*KoSteRe!$L100+F$7*KoSteRe!$M100","v":0},{"$f":"KoSteRe!I100+G$6*KoSteRe!$L100+G$7*KoSteRe!$M100","v":0},{"$f":"KoSteRe!J100+H$6*KoSteRe!$L100+H$7*KoSteRe!$M100","v":0},{"$f":"KoSteRe!K100+I$6*KoSteRe!$L100+I$7*KoSteRe!$M100","v":0},{"$f":"J$6*KoSteRe!$L100+J$7*KoSteRe!$M100","v":0},{"$f":"K$6*KoSteRe!$L100+K$7*KoSteRe!$M100","v":0},{"$f":"SUM(E104:K104)","v":0}]
[null,null,{"$f":"IF(WurzelBZweige!$AV101=\"\",\"\",WurzelBZweige!AV101)","v":"Kapital"},null,null,null,null,null,null,null,null,0]
[null,null,{"$f":"IF(WurzelBZweige!$AV102=\"\",\"\",WurzelBZweige!AV102)","v":"Zinsansatz Maschinen und Geräte"},{"$f":"MaschinenZeitW*Zinssatz","v":0},{"$f":"KoSteRe!G102+E$6*KoSteRe!$L102+E$7*KoSteRe!$M102","v":0},{"$f":"KoSteRe!H102+F$6*KoSteRe!$L102+F$7*KoSteRe!$M102","v":0},{"$f":"KoSteRe!I102+G$6*KoSteRe!$L102+G$7*KoSteRe!$M102","v":0},{"$f":"KoSteRe!J102+H$6*KoSteRe!$L102+H$7*KoSteRe!$M102","v":0},{"$f":"KoSteRe!K102+I$6*KoSteRe!$L102+I$7*KoSteRe!$M102","v":0},{"$f":"J$6*KoSteRe!$L102+J$7*KoSteRe!$M102","v":0},{"$f":"K$6*KoSteRe!$L102+K$7*KoSteRe!$M102","v":0},0]
[null,null,{"$f":"IF(WurzelBZweige!$AV103=\"\",\"\",WurzelBZweige!AV103)","v":"Zinsansatz Gebäude und bauliche Anlagen"},{"$f":"GebäudeZeitW*Zinssatz","v":0},{"$f":"KoSteRe!G103+E$6*KoSteRe!$L103+E$7*KoSteRe!$M103","v":0},{"$f":"KoSteRe!H103+F$6*KoSteRe!$L103+F$7*KoSteRe!$M103","v":0},{"$f":"KoSteRe!I103+G$6*KoSteRe!$L103+G$7*KoSteRe!$M103","v":0},{"$f":"KoSteRe!J103+H$6*KoSteRe!$L103+H$7*KoSteRe!$M103","v":0},{"$f":"KoSteRe!K103+I$6*KoSteRe!$L103+I$7*KoSteRe!$M103","v":0},{"$f":"J$6*KoSteRe!$L103+J$7*KoSteRe!$M103","v":0},{"$f":"K$6*KoSteRe!$L103+K$7*KoSteRe!$M103","v":0},0]
[null,null,{"$f":"IF(WurzelBZweige!$AV104=\"\",\"\",WurzelBZweige!AV104)","v":"Zinsansatz Viehvermögen"},{"$f":"WertTiere*Zinssatz","v":0},{"$f":"KoSteRe!G104+E$6*KoSteRe!$L104+E$7*KoSteRe!$M104","v":0},{"$f":"KoSteRe!H104+F$6*KoSteRe!$L104+F$7*KoSteRe!$M104","v":0},{"$f":"KoSteRe!I104+G$6*KoSteRe!$L104+G$7*KoSteRe!$M104","v":0},{"$f":"KoSteRe!J104+H$6*KoSteRe!$L104+H$7*KoSteRe!$M104","v":0},{"$f":"KoSteRe!K104+I$6*KoSteRe!$L104+I$7*KoSteRe!$M104","v":0},{"$f":"J$6*KoSteRe!$L104+J$7*KoSteRe!$M104","v":0},{"$f":"K$6*KoSteRe!$L104+K$7*KoSteRe!$M104","v":0},0]
[null,null,{"$f":"IF(WurzelBZweige!$AV105=\"\",\"\",WurzelBZweige!AV105)","v":"Zinsansatz Genossenschaftsanteile"},{"$f":"KoSteRe!D105","v":0},{"$f":"KoSteRe!G105+E$6*KoSteRe!$L105+E$7*KoSteRe!$M105","v":0},{"$f":"KoSteRe!H105+F$6*KoSteRe!$L105+F$7*KoSteRe!$M105","v":0},{"$f":"KoSteRe!I105+G$6*KoSteRe!$L105+G$7*KoSteRe!$M105","v":0},{"$f":"KoSteRe!J105+H$6*KoSteRe!$L105+H$7*KoSteRe!$M105","v":0},{"$f":"KoSteRe!K105+I$6*KoSteRe!$L105+I$7*KoSteRe!$M105","v":0},{"$f":"J$6*KoSteRe!$L105+J$7*KoSteRe!$M105","v":0},{"$f":"K$6*KoSteRe!$L105+K$7*KoSteRe!$M105","v":0},0]
[null,null,{"$f":"IF(WurzelBZweige!$AV106=\"\",\"\",WurzelBZweige!AV106)","v":""},{"$f":"IF(ISERROR(VLOOKUP(C110,KoSteReWurzel!$B$6:$L$127,11,FALSE)=TRUE),0,VLOOKUP(C110,KoSteReWurzel!$B$6:$L$127,11,FALSE))","v":0},{"$f":"KoSteRe!G106+E$6*KoSteRe!$L106+E$7*KoSteRe!$M106","v":0},{"$f":"KoSteRe!H106+F$6*KoSteRe!$L106+F$7*KoSteRe!$M106","v":0},{"$f":"KoSteRe!I106+G$6*KoSteRe!$L106+G$7*KoSteRe!$M106","v":0},{"$f":"KoSteRe!J106+H$6*KoSteRe!$L106+H$7*KoSteRe!$M106","v":0},{"$f":"KoSteRe!K106+I$6*KoSteRe!$L106+I$7*KoSteRe!$M106","v":0},{"$f":"J$6*KoSteRe!$L106+J$7*KoSteRe!$M106","v":0},{"$f":"K$6*KoSteRe!$L106+K$7*KoSteRe!$M106","v":0},0]
[null,null,{"$f":"IF(WurzelBZweige!$AV107=\"\",\"\",WurzelBZweige!AV107)","v":""},{"$f":"IF(ISERROR(VLOOKUP(C111,KoSteReWurzel!$B$6:$L$127,11,FALSE)=TRUE),0,VLOOKUP(C111,KoSteReWurzel!$B$6:$L$127,11,FALSE))","v":0},{"$f":"KoSteRe!G107+E$6*KoSteRe!$L107+E$7*KoSteRe!$M107","v":0},{"$f":"KoSteRe!H107+F$6*KoSteRe!$L107+F$7*KoSteRe!$M107","v":0},{"$f":"KoSteRe!I107+G$6*KoSteRe!$L107+G$7*KoSteRe!$M107","v":0},{"$f":"KoSteRe!J107+H$6*KoSteRe!$L107+H$7*KoSteRe!$M107","v":0},{"$f":"KoSteRe!K107+I$6*KoSteRe!$L107+I$7*KoSteRe!$M107","v":0},{"$f":"J$6*KoSteRe!$L107+J$7*KoSteRe!$M107","v":0},{"$f":"K$6*KoSteRe!$L107+K$7*KoSteRe!$M107","v":0},{"$f":"SUM(E111:K111)","v":0}]
[null,null,{"$f":"IF(WurzelBZweige!$AV108=\"\",\"\",WurzelBZweige!AV108)","v":""},{"$f":"IF(ISERROR(VLOOKUP(C112,KoSteReWurzel!$B$6:$L$127,11,FALSE)=TRUE),0,VLOOKUP(C112,KoSteReWurzel!$B$6:$L$127,11,FALSE))","v":0},{"$f":"KoSteRe!G108+E$6*KoSteRe!$L108+E$7*KoSteRe!$M108","v":0},{"$f":"KoSteRe!H108+F$6*KoSteRe!$L108+F$7*KoSteRe!$M108","v":0},{"$f":"KoSteRe!I108+G$6*KoSteRe!$L108+G$7*KoSteRe!$M108","v":0},{"$f":"KoSteRe!J108+H$6*KoSteRe!$L108+H$7*KoSteRe!$M108","v":0},{"$f":"KoSteRe!K108+I$6*KoSteRe!$L108+I$7*KoSteRe!$M108","v":0},{"$f":"J$6*KoSteRe!$L108+J$7*KoSteRe!$M108","v":0},{"$f":"K$6*KoSteRe!$L108+K$7*KoSteRe!$M108","v":0},{"$f":"SUM(E112:K112)","v":0}]
[null,null,{"$f":"IF(WurzelBZweige!$AV109=\"\",\"\",WurzelBZweige!AV109)","v":""},null,null,null,null,null,null,null,null,0]
[null,null,{"$f":"IF(WurzelBZweige!$AV110=\"\",\"\",WurzelBZweige!AV110)","v":""},{"$f":"IF(ISERROR(VLOOKUP(C114,KoSteReWurzel!$B$6:$L$127,11,FALSE)=TRUE),0,VLOOKUP(C114,KoSteReWurzel!$B$6:$L$127,11,FALSE))","v":0},{"$f":"KoSteRe!G110+E$6*KoSteRe!$L110+E$7*KoSteRe!$M110","v":0},{"$f":"KoSteRe!H110+F$6*KoSteRe!$L110+F$7*KoSteRe!$M110","v":0},{"$f":"KoSteRe!I110+G$6*KoSteRe!$L110+G$7*KoSteRe!$M110","v":0},{"$f":"KoSteRe!J110+H$6*KoSteRe!$L110+H$7*KoSteRe!$M110","v":0},{"$f":"KoSteRe!K110+I$6*KoSteRe!$L110+I$7*KoSteRe!$M110","v":0},{"$f":"J$6*KoSteRe!$L110+J$7*KoSteRe!$M110","v":0},{"$f":"K$6*KoSteRe!$L110+K$7*KoSteRe!$M110","v":0},0]
[null,null,{"$f":"IF(WurzelBZweige!$AV111=\"\",\"\",WurzelBZweige!AV111)","v":""},{"$f":"IF(ISERROR(VLOOKUP(C115,KoSteReWurzel!$B$6:$L$127,11,FALSE)=TRUE),0,VLOOKUP(C115,KoSteReWurzel!$B$6:$L$127,11,FALSE))","v":0},{"$f":"KoSteRe!G111+E$6*KoSteRe!$L111+E$7*KoSteRe!$M111","v":0},{"$f":"KoSteRe!H111+F$6*KoSteRe!$L111+F$7*KoSteRe!$M111","v":0},{"$f":"KoSteRe!I111+G$6*KoSteRe!$L111+G$7*KoSteRe!$M111","v":0},{"$f":"KoSteRe!J111+H$6*KoSteRe!$L111+H$7*KoSteRe!$M111","v":0},{"$f":"KoSteRe!K111+I$6*KoSteRe!$L111+I$7*KoSteRe!$M111","v":0},{"$f":"J$6*KoSteRe!$L111+J$7*KoSteRe!$M111","v":0},{"$f":"K$6*KoSteRe!$L111+K$7*KoSteRe!$M111","v":0},0]
[null,null,{"$f":"IF(WurzelBZweige!$AV112=\"\",\"\",WurzelBZweige!AV112)","v":""},{"$f":"KoSteRe!D112","v":0},{"$f":"KoSteRe!G112+E$6*KoSteRe!$L112+E$7*KoSteRe!$M112","v":0},{"$f":"KoSteRe!H112+F$6*KoSteRe!$L112+F$7*KoSteRe!$M112","v":0},{"$f":"KoSteRe!I112+G$6*KoSteRe!$L112+G$7*KoSteRe!$M112","v":0},{"$f":"KoSteRe!J112+H$6*KoSteRe!$L112+H$7*KoSteRe!$M112","v":0},{"$f":"KoSteRe!K112+I$6*KoSteRe!$L112+I$7*KoSteRe!$M112","v":0},{"$f":"J$6*KoSteRe!$L112+J$7*KoSteRe!$M112","v":0},{"$f":"K$6*KoSteRe!$L112+K$7*KoSteRe!$M112","v":0},0]
[null,null,{"$f":"IF(WurzelBZweige!$AV113=\"\",\"\",WurzelBZweige!AV113)","v":""},{"$f":"IF(ISERROR(VLOOKUP(C117,KoSteReWurzel!$B$6:$L$127,11,FALSE)=TRUE),0,VLOOKUP(C117,KoSteReWurzel!$B$6:$L$127,11,FALSE))","v":0},{"$f":"KoSteRe!G113+E$6*KoSteRe!$L113+E$7*KoSteRe!$M113","v":0},{"$f":"KoSteRe!H113+F$6*KoSteRe!$L113+F$7*KoSteRe!$M113","v":0},{"$f":"KoSteRe!I113+G$6*KoSteRe!$L113+G$7*KoSteRe!$M113","v":0},{"$f":"KoSteRe!J113+H$6*KoSteRe!$L113+H$7*KoSteRe!$M113","v":0},{"$f":"KoSteRe!K113+I$6*KoSteRe!$L113+I$7*KoSteRe!$M113","v":0},{"$f":"J$6*KoSteRe!$L113+J$7*KoSteRe!$M113","v":0},{"$f":"K$6*KoSteRe!$L113+K$7*KoSteRe!$M113","v":0},{"$f":"SUM(E117:K117)","v":0}]
[null,null,{"$f":"IF(WurzelBZweige!$AV114=\"\",\"\",WurzelBZweige!AV114)","v":""},{"$f":"IF(ISERROR(VLOOKUP(C118,KoSteReWurzel!$B$6:$L$127,11,FALSE)=TRUE),0,VLOOKUP(C118,KoSteReWurzel!$B$6:$L$127,11,FALSE))","v":0},{"$f":"KoSteRe!G114+E$6*KoSteRe!$L114+E$7*KoSteRe!$M114","v":0},{"$f":"KoSteRe!H114+F$6*KoSteRe!$L114+F$7*KoSteRe!$M114","v":0},{"$f":"KoSteRe!I114+G$6*KoSteRe!$L114+G$7*KoSteRe!$M114","v":0},{"$f":"KoSteRe!J114+H$6*KoSteRe!$L114+H$7*KoSteRe!$M114","v":0},{"$f":"KoSteRe!K114+I$6*KoSteRe!$L114+I$7*KoSteRe!$M114","v":0},{"$f":"J$6*KoSteRe!$L114+J$7*KoSteRe!$M114","v":0},{"$f":"K$6*KoSteRe!$L114+K$7*KoSteRe!$M114","v":0},{"$f":"SUM(E118:K118)","v":0}]
[null,null,{"$f":"IF(WurzelBZweige!$AV115=\"\",\"\",WurzelBZweige!AV115)","v":""},{"$f":"IF(ISERROR(VLOOKUP(C119,KoSteReWurzel!$B$6:$L$127,11,FALSE)=TRUE),0,VLOOKUP(C119,KoSteReWurzel!$B$6:$L$127,11,FALSE))","v":0},{"$f":"KoSteRe!G115+E$6*KoSteRe!$L115+E$7*KoSteRe!$M115","v":0},{"$f":"KoSteRe!H115+F$6*KoSteRe!$L115+F$7*KoSteRe!$M115","v":0},{"$f":"KoSteRe!I115+G$6*KoSteRe!$L115+G$7*KoSteRe!$M115","v":0},{"$f":"KoSteRe!J115+H$6*KoSteRe!$L115+H$7*KoSteRe!$M115","v":0},{"$f":"KoSteRe!K115+I$6*KoSteRe!$L115+I$7*KoSteRe!$M115","v":0},{"$f":"J$6*KoSteRe!$L115+J$7*KoSteRe!$M115","v":0},{"$f":"K$6*KoSteRe!$L115+K$7*KoSteRe!$M115","v":0},{"$f":"SUM(E119:K119)","v":0}]
[null,null,{"$f":"IF(WurzelBZweige!$AV116=\"\",\"\",WurzelBZweige!AV116)","v":"Summe Faktorkosten"},{"$f":"SUM(D91:D116)","v":0},0,0,0,0,0,0,0,0]
[null,null,"Kalkulatorisches Betriebszweigergebnis",{"$f":"+D89-D120","v":0},0,0,0,0,0,0,0]
[]
[]
[null,null,"Direktleistungen",{"$f":"D38","v":0},{"$f":"E38","v":0},0,0,0,0,0,0]
[null,null,"Direktkosten",{"$f":"D62","v":0},{"$f":"E62","v":0},0,0,0,0,0,0]
[null,null,"Übrige Vorleistungskosten",{"$f":"D82","v":0},{"$f":"E82","v":0},0,0,0,0,0,0]
[null,null,"Gemeinleistungen",{"$f":"D88","v":0},{"$f":"E88","v":0},0,0,0,0,0,0]
[null,null,"Faktorkosten",{"$f":"D120","v":0},{"$f":"E120","v":0},0,0,0,0,0,0]
[null,null,"Variable Kosten",{"$f":"D62+D66+D67+D68+D69+D70+D71","v":0},{"$f":"E62+E66+E67+E68+E69+E70+E71","v":0},0,0,0,0,0,0]
[null,null,"Pagatorische Kosten",{"$f":"D125+D126+D128-D131","v":0},{"$f":"E125+E126+E128-E131","v":0},0,0,0,0,0,0]
[null,null,"Kalkulatorischen Kosten",{"$f":"D92+D100+D106+D107+D108+D109+D116+D119+D101","v":0},{"$f":"E92+E100+E106+E107+E108+E109+E116+E119+E101","v":0},0,0,0,0,0,0]
[]
[null,null,"Direktkostenfreie Leistung",{"$f":"SUM(E133:K133)","v":0},{"$f":"IF($D$124=0,0,(E124-E125))","v":0},{"$f":"IF($D$124=0,0,(F124-F125))","v":0},0,0,0,0,0]
[null,null,"Deckungsbeitrag",{"$f":"D133-D66-D67-D68-D69-D70-D71","v":0},0,0,0,0,0,0,0]
[null,null,"Faktorentlohnung",{"$f":"D133-D126+D127","v":0},0,0,0,0,0,0,0]
[null,null,"Beitrag zu den Einkünften",{"$f":"D135-D94-D99-D114-D115","v":0},{"$f":"E135-E94-E99-E114-E115","v":0},0,0,0,0,0,0]
[null,null,"Kalkulatorischen Betriebszweigsergebnis",{"$f":"D135-D128","v":0},0,0,0,0,0,0,0]
[]
[null,null,"Abdeckung der kalkulatorischen Kosten",{"$f":"IF(D131=0,0,(D136-D93)/D131)","v":0},{"$f":"IF(E131=0,0,(E136-E93)/E131)","v":0},0,0,0,0,0,0]
[null,null,"Nichtentlohnte Akh",{"$f":"SUM(E140:K140)","v":0},{"$f":"Schlüssel!C153+Schlüssel!$H$153*E$6+Schlüssel!$I$153*E$7","v":0},{"$f":"Schlüssel!D153+Schlüssel!$H$153*F$6+Schlüssel!$I$153*F$7","v":0},{"$f":"Schlüssel!E153+Schlüssel!$H$153*G$6+Schlüssel!$I$153*G$7","v":0},{"$f":"Schlüssel!F153+Schlüssel!$H$153*H$6+Schlüssel!$I$153*H$7","v":0},{"$f":"Schlüssel!G153+Schlüssel!$H$153*I$6+Schlüssel!$I$153*I$7","v":0},{"$f":"Schlüssel!$H$153*J$6+Schlüssel!$I$153*J$7","v":0},{"$f":"Schlüssel!$H$153*K$6+Schlüssel!$I$153*K$7","v":0}]
[null,null,"Arbeitsertrag je Stunde",{"$f":"IF(D140=0,0,(D121+D92)/D140)","v":0},{"$f":"IF(E140=0,0,(E121+E92)/E140)","v":0},0,0,0,0,0,0]
[null,null,"Kapitalrentabilität",{"$f":"IF(ISERR((D121+D106+D107+D108+D109+D116+D119)/((D106+D107+D108+D109+D116+D119)/Zinssatz))=TRUE,0,(D121+D106+D107+D108+D109+D116+D119)/((D106+D107+D108+D109+D116+D119)/Zinssatz))","v":0},0,0,0,0,0,0,0]
[]
[]
[]
[]
[]
[]
[]
[null,null,"Direktkostenfreie Leistung",{"$f":"SUM(E150:K150)","v":0},{"$f":"IF((E124-E125)<0,0,(E124-E125))","v":0},{"$f":"IF((F124-F125)<0,0,(F124-F125))","v":0},0,0,0,0,0]
[null,null,"DfL Schlüssel",{"$f":"SUM(K151:K151)","v":0},{"$f":"IF($D$150=0,0,E150/$D$150)","v":0},{"$f":"IF($D$150=0,0,F150/$D$150)","v":0},0,0,0,0,0]

{"sheet":"AuswEinh","index":11,"n_rows":38,"n_cols":9,"rows_kept":38,"cut":false,"hidden":false,"merged":[[5,3,5,4],[5,5,5,6]]}
[null,null,"Grundlagendaten für Betriebszweigsabrechnung",null,null,null,"Menü"]
[]
[]
[]
[]
[null,null,"Kostenstellen","Einheit 1",null,"Einheit 2",null,"Bezeichnung","Divisor"]
[{"$f":"IF(OR(ISNA(VLOOKUP(C7,BZweige,1,FALSE))=FALSE,ISNA(VLOOKUP(C7,BZwListeNeu,1,FALSE))=FALSE),\"Ja\",\"Nein\")","v":"Nein"},"Ackerbau",{"$f":"IF(ISNA(VLOOKUP($B7,Betrieb!$G$15:$J$21,4,FALSE))=TRUE,$B7,(VLOOKUP($B7,Betrieb!$G$15:$J$21,4,FALSE)))","v":"Ackerbau"},"ha",{"$f":"HLOOKUP($C7,Flächennutzung!$K$114:$Q$116,3,FALSE)","v":{"$error":"#N/A"}},"Einheit",null,"€ je ",{"$f":"G7","v":0}]
["Nein","Marktfruchtbau",{"$f":"IF(ISNA(VLOOKUP($B8,Betrieb!$G$15:$J$21,4,FALSE))=TRUE,$B8,(VLOOKUP($B8,Betrieb!$G$15:$J$21,4,FALSE)))","v":"Marktfruchtbau"},"ha",{"$f":"HLOOKUP($C8,Flächennutzung!$K$114:$Q$116,3,FALSE)","v":{"$error":"#N/A"}},"Einheit",null,"€ je ",{"$f":"G8","v":0}]
["Nein","Getreide inkl. K-Mais",{"$f":"IF(ISNA(VLOOKUP($B9,Betrieb!$G$15:$J$21,4,FALSE))=TRUE,$B9,(VLOOKUP($B9,Betrieb!$G$15:$J$21,4,FALSE)))","v":"Getreide inkl. K-Mais"},"ha",{"$f":"HLOOKUP($C9,Flächennutzung!$K$114:$Q$116,3,FALSE)","v":{"$error":"#N/A"}},"to Getreide",null,"€ je ",0]
["Nein","Ölsaaten/Eiweißpflanzen",{"$f":"IF(ISNA(VLOOKUP($B10,Betrieb!$G$15:$J$21,4,FALSE))=TRUE,$B10,(VLOOKUP($B10,Betrieb!$G$15:$J$21,4,FALSE)))","v":"Ölsaaten/Eiweißpflanzen"},"ha",{"$f":"HLOOKUP($C10,Flächennutzung!$K$114:$Q$116,3,FALSE)","v":{"$error":"#N/A"}},"to",null,"€ je ",0]
["Nein","Hackfrüchte",{"$f":"IF(ISNA(VLOOKUP($B11,Betrieb!$G$15:$J$21,4,FALSE))=TRUE,$B11,(VLOOKUP($B11,Betrieb!$G$15:$J$21,4,FALSE)))","v":"Hackfrüchte"},"ha",{"$f":"HLOOKUP($C11,Flächennutzung!$K$114:$Q$116,3,FALSE)","v":{"$error":"#N/A"}},"Einheit",null,"€ je ",0]
["Nein","Zuckerrüben",{"$f":"IF(ISNA(VLOOKUP($B12,Betrieb!$G$15:$J$21,4,FALSE))=TRUE,$B12,(VLOOKUP($B12,Betrieb!$G$15:$J$21,4,FALSE)))","v":"Zuckerrüben"},"ha",{"$f":"HLOOKUP($C12,Flächennutzung!$K$114:$Q$116,3,FALSE)","v":{"$error":"#N/A"}},"to Zuckerrübe",null,"€ je ",0]
["Nein","Kartoffel",{"$f":"IF(ISNA(VLOOKUP($B13,Betrieb!$G$15:$J$21,4,FALSE))=TRUE,$B13,(VLOOKUP($B13,Betrieb!$G$15:$J$21,4,FALSE)))","v":"Kartoffel"},"ha",{"$f":"HLOOKUP($C13,Flächennutzung!$K$114:$Q$116,3,FALSE)","v":{"$error":"#N/A"}},"to Kartoffel",null,"€ je ",0]
["Nein","Gartenbau, Gemüsebau",{"$f":"IF(ISNA(VLOOKUP($B14,Betrieb!$G$15:$J$21,4,FALSE))=TRUE,$B14,(VLOOKUP($B14,Betrieb!$G$15:$J$21,4,FALSE)))","v":"Gartenbau, Gemüsebau"},"Einheit",null,"Einheit",null,"€ je ",0]
["Nein","Dauerkultur",{"$f":"IF(ISNA(VLOOKUP($B15,Betrieb!$G$15:$J$21,4,FALSE))=TRUE,$B15,(VLOOKUP($B15,Betrieb!$G$15:$J$21,4,FALSE)))","v":"Dauerkultur"},"ha",{"$f":"HLOOKUP($C15,Flächennutzung!$K$114:$Q$116,3,FALSE)","v":{"$error":"#N/A"}},"Einheit",null,"€ je ",0]
["Nein","Obstbau",{"$f":"IF(ISNA(VLOOKUP($B16,Betrieb!$G$15:$J$21,4,FALSE))=TRUE,$B16,(VLOOKUP($B16,Betrieb!$G$15:$J$21,4,FALSE)))","v":"Obstbau"},"ha",{"$f":"HLOOKUP($C16,Flächennutzung!$K$114:$Q$116,3,FALSE)","v":{"$error":"#N/A"}},"to Obst",null,"€ je ",0]
["Nein","Weinbau",{"$f":"IF(ISNA(VLOOKUP($B17,Betrieb!$G$15:$J$21,4,FALSE))=TRUE,$B17,(VLOOKUP($B17,Betrieb!$G$15:$J$21,4,FALSE)))","v":"Weinbau"},"ha",{"$f":"HLOOKUP($C17,Flächennutzung!$K$114:$Q$116,3,FALSE)","v":{"$error":"#N/A"}},"to Trauben bzw. hl. Wein",null,"€ je ",0]
["Nein","Forstwirtschaft",{"$f":"IF(ISNA(VLOOKUP($B18,Betrieb!$G$15:$J$21,4,FALSE))=TRUE,$B18,(VLOOKUP($B18,Betrieb!$G$15:$J$21,4,FALSE)))","v":"Forstwirtschaft"},"ha",{"$f":"Wald","v":0},"Einheit",null,"€ je ",0]
["Nein","sonstiger BZW Pflanzenbau",{"$f":"IF(ISNA(VLOOKUP($B19,Betrieb!$G$15:$J$21,4,FALSE))=TRUE,$B19,(VLOOKUP($B19,Betrieb!$G$15:$J$21,4,FALSE)))","v":"sonstiger BZW Pflanzenbau"},"ha",{"$f":"HLOOKUP($C19,Flächennutzung!$K$114:$Q$116,3,FALSE)","v":{"$error":"#N/A"}},"Einheit",null,"€ je ",0]
["Nein","Grundfutter ohne Silomais",{"$f":"IF(ISNA(VLOOKUP($B20,Betrieb!$G$15:$J$21,4,FALSE))=TRUE,$B20,(VLOOKUP($B20,Betrieb!$G$15:$J$21,4,FALSE)))","v":"Grundfutter ohne Silomais"},"ha",{"$f":"HLOOKUP($C20,Flächennutzung!$K$114:$Q$116,3,FALSE)","v":{"$error":"#N/A"}},"Futterballen",null,"€ je ",0]
["Nein","Silomais",{"$f":"IF(ISNA(VLOOKUP($B21,Betrieb!$G$15:$J$21,4,FALSE))=TRUE,$B21,(VLOOKUP($B21,Betrieb!$G$15:$J$21,4,FALSE)))","v":"Silomais"},"ha",{"$f":"HLOOKUP($C21,Flächennutzung!$K$114:$Q$116,3,FALSE)","v":{"$error":"#N/A"}},"m³",null,"€ je ",0]
["Nein","Milchproduktion (Kühe inkl. Kälber, w. Aufzucht)",{"$f":"IF(ISNA(VLOOKUP($B22,Betrieb!$G$15:$J$21,4,FALSE))=TRUE,$B22,(VLOOKUP($B22,Betrieb!$G$15:$J$21,4,FALSE)))","v":"Milchproduktion (Kühe inkl. Kälber, w. Aufzucht)"},"Kuh",null,"kg verkaufte Milch",null,"Cent je ",{"$f":"G22/100","v":0}]
["Nein","Milchproduktion (Schafe, Ziegen)",{"$f":"IF(ISNA(VLOOKUP($B23,Betrieb!$G$15:$J$21,4,FALSE))=TRUE,$B23,(VLOOKUP($B23,Betrieb!$G$15:$J$21,4,FALSE)))","v":"Milchproduktion (Schafe, Ziegen)"},"Stück",null,"kg verkaufte Milch",null,"Cent je ",{"$f":"G23/100","v":0}]
["Nein","Rindermast (Kalbinnen, Ochsen, Stiere)",{"$f":"IF(ISNA(VLOOKUP($B24,Betrieb!$G$15:$J$21,4,FALSE))=TRUE,$B24,(VLOOKUP($B24,Betrieb!$G$15:$J$21,4,FALSE)))","v":"Rindermast (Kalbinnen, Ochsen, Stiere)"},"Standplätze",null,"verkaufte Stück",null,"€ je ",0]
["Nein","Mutterkuhhaltung",{"$f":"IF(ISNA(VLOOKUP($B25,Betrieb!$G$15:$J$21,4,FALSE))=TRUE,$B25,(VLOOKUP($B25,Betrieb!$G$15:$J$21,4,FALSE)))","v":"Mutterkuhhaltung"},"Mutterkühe",null,"Einheit",null,"€ je ",0]
["Nein","Schafe (Fleisch)",{"$f":"IF(ISNA(VLOOKUP($B26,Betrieb!$G$15:$J$21,4,FALSE))=TRUE,$B26,(VLOOKUP($B26,Betrieb!$G$15:$J$21,4,FALSE)))","v":"Schafe (Fleisch)"},"Mutterschafte",null,"verkaufte Lämmer",null,"€ je ",0]
["Nein","Pferde (auch Einsteller)",{"$f":"IF(ISNA(VLOOKUP($B27,Betrieb!$G$15:$J$21,4,FALSE))=TRUE,$B27,(VLOOKUP($B27,Betrieb!$G$15:$J$21,4,FALSE)))","v":"Pferde (auch Einsteller)"},"Stück",null,"Einheit",null,"€ je ",0]
["Nein","Ferkelproduktion",{"$f":"IF(ISNA(VLOOKUP($B28,Betrieb!$G$15:$J$21,4,FALSE))=TRUE,$B28,(VLOOKUP($B28,Betrieb!$G$15:$J$21,4,FALSE)))","v":"Ferkelproduktion"},"Zuchtsauen",null,"verkaufte Ferkel",null,"€ je ",0]
["Nein","Schweinemast",{"$f":"IF(ISNA(VLOOKUP($B29,Betrieb!$G$15:$J$21,4,FALSE))=TRUE,$B29,(VLOOKUP($B29,Betrieb!$G$15:$J$21,4,FALSE)))","v":"Schweinemast"},"verkaufte Mastschweine",null,"Standplätze",null,"€ je ",0]
["Nein","Legehennen",{"$f":"IF(ISNA(VLOOKUP($B30,Betrieb!$G$15:$J$21,4,FALSE))=TRUE,$B30,(VLOOKUP($B30,Betrieb!$G$15:$J$21,4,FALSE)))","v":"Legehennen"},"Legehennen (in 1000 Stk.)",null,"Verkaufte Eier (in 1000 Stk.)",null,"€ je ",0]
["Nein","Geflügelmast",{"$f":"IF(ISNA(VLOOKUP($B31,Betrieb!$G$15:$J$21,4,FALSE))=TRUE,$B31,(VLOOKUP($B31,Betrieb!$G$15:$J$21,4,FALSE)))","v":"Geflügelmast"},"Mastplätze (in 1000)",null,"Verkaufte Stück (in 1000)",null,"€ je ",0]
["Nein","Imkerei",{"$f":"IF(ISNA(VLOOKUP($B32,Betrieb!$G$15:$J$21,4,FALSE))=TRUE,$B32,(VLOOKUP($B32,Betrieb!$G$15:$J$21,4,FALSE)))","v":"Imkerei"},"Bienenvölker",null,"kg verkaufter Honig",null,"€ je ",0]
["Nein","sonstiger BZW Tierhaltung",{"$f":"IF(ISNA(VLOOKUP($B33,Betrieb!$G$15:$J$21,4,FALSE))=TRUE,$B33,(VLOOKUP($B33,Betrieb!$G$15:$J$21,4,FALSE)))","v":"sonstiger BZW Tierhaltung"},"Einheit",null,"Einheit",null,"€ je ",0]
["Ja","Sonstiges",{"$f":"IF(ISNA(VLOOKUP($B34,Betrieb!$G$15:$J$21,4,FALSE))=TRUE,$B34,(VLOOKUP($B34,Betrieb!$G$15:$J$21,4,FALSE)))","v":"Sonstiges"},"Einheit",1,"Einheit",null,"€ je ",0]
["Nein","lw Nebentätigkeit",{"$f":"IF(ISNA(VLOOKUP($B35,Betrieb!$G$15:$J$21,4,FALSE))=TRUE,$B35,(VLOOKUP($B35,Betrieb!$G$15:$J$21,4,FALSE)))","v":"lw Nebentätigkeit"},"Einheit",null,"Einheit",null,"€ je ",0]
["Nein","UaB",{"$f":"IF(ISNA(VLOOKUP($B36,Betrieb!$G$15:$J$21,4,FALSE))=TRUE,$B36,(VLOOKUP($B36,Betrieb!$G$15:$J$21,4,FALSE)))","v":"UaB"},"Betten",null,"Einheit",null,"€ je ",0]
["Nein","Direktvermarktung",{"$f":"IF(ISNA(VLOOKUP($B37,Betrieb!$G$15:$J$21,4,FALSE))=TRUE,$B37,(VLOOKUP($B37,Betrieb!$G$15:$J$21,4,FALSE)))","v":"Direktvermarktung"},"Einheit",null,"Einheit",null,"€ je ",0]
["Nein","Maschinenring",{"$f":"IF(ISNA(VLOOKUP($B38,Betrieb!$G$15:$J$21,4,FALSE))=TRUE,$B38,(VLOOKUP($B38,Betrieb!$G$15:$J$21,4,FALSE)))","v":"Maschinenring"},"Einheit",null,"Einheit",null,"€ je ",0]

{"sheet":"BZA1","index":12,"n_rows":138,"n_cols":7,"rows_kept":138,"cut":false,"hidden":false,"merged":[[2,2,3,2],[2,1,3,1]]}
[null,null,null,null,"Menü"]
[null,{"$f":"VLOOKUP(B3,ExpNameListe,3,FALSE)","v":"Sonstiges"},{"$f":"$B$3","v":"Sonstiges"},{"$f":"$B$3","v":"Sonstiges"},{"$f":"$B$3","v":"Sonstiges"}]
[null,{"$f":"_Zw1","v":"Sonstiges"},{"$f":"\"Summe des Betriebszweiges \"&YEAR(WirtschaftsjahrAnfang)","v":"Summe des Betriebszweiges 2021"},{"$f":"AKNr","v":1},{"$f":"AKNr","v":1}]
[null,null,null,{"$f":"\"€ je \"&VLOOKUP($B$3,Einheitsliste,2,FALSE)","v":"€ je Einheit"},{"$f":"VLOOKUP($B$3,Einheitsliste,6,FALSE)&VLOOKUP($B$3,Einheitsliste,4,FALSE)","v":"€ je Einheit"},null,"Anmerkungen"]
[null,null,null,{"$f":"VLOOKUP($B$3,Einheitsliste,3,FALSE)","v":1},{"$f":"VLOOKUP($B$3,Einheitsliste,7,FALSE)","v":0}]
[null,"\nDirektleistungen",null,{"$f":"VLOOKUP($B$3,Einheitsliste,3,FALSE)&\" \"&VLOOKUP($B$3,Einheitsliste,2,FALSE)","v":"1 Einheit"},{"$f":"VLOOKUP($B$3,Einheitsliste,5,FALSE)&\" \"&VLOOKUP($B$3,Einheitsliste,4,FALSE)","v":" Einheit"}]
[null,{"$f":"BetriebszweigAuswertung!C8","v":""},{"$f":"HLOOKUP($B$3,BetriebszweigAuswertung!$E$3:$K$121,ROW(B6),FALSE)","v":0},{"$f":"IF(OR($C7=0,D$5=0),0,$C7/D$5)","v":0},0]
[null,{"$f":"BetriebszweigAuswertung!C9","v":""},{"$f":"HLOOKUP($B$3,BetriebszweigAuswertung!$E$3:$K$121,ROW(B7),FALSE)","v":0},0,0]
[null,{"$f":"BetriebszweigAuswertung!C10","v":""},{"$f":"HLOOKUP($B$3,BetriebszweigAuswertung!$E$3:$K$121,ROW(B8),FALSE)","v":0},0,0]
[null,{"$f":"BetriebszweigAuswertung!C11","v":""},{"$f":"HLOOKUP($B$3,BetriebszweigAuswertung!$E$3:$K$121,ROW(B9),FALSE)","v":0},0,0]
[null,{"$f":"BetriebszweigAuswertung!C12","v":""},{"$f":"HLOOKUP($B$3,BetriebszweigAuswertung!$E$3:$K$121,ROW(B10),FALSE)","v":0},0,0]
[null,{"$f":"BetriebszweigAuswertung!C13","v":""},{"$f":"HLOOKUP($B$3,BetriebszweigAuswertung!$E$3:$K$121,ROW(B11),FALSE)","v":0},0,0]
[null,{"$f":"BetriebszweigAuswertung!C14","v":""},{"$f":"HLOOKUP($B$3,BetriebszweigAuswertung!$E$3:$K$121,ROW(B12),FALSE)","v":0},0,0]
[null,{"$f":"BetriebszweigAuswertung!C15","v":""},{"$f":"HLOOKUP($B$3,BetriebszweigAuswertung!$E$3:$K$121,ROW(B13),FALSE)","v":0},0,0]
[null,{"$f":"BetriebszweigAuswertung!C16","v":""},{"$f":"HLOOKUP($B$3,BetriebszweigAuswertung!$E$3:$K$121,ROW(B14),FALSE)","v":0},0,0]
[null,{"$f":"BetriebszweigAuswertung!C17","v":""},{"$f":"HLOOKUP($B$3,BetriebszweigAuswertung!$E$3:$K$121,ROW(B15),FALSE)","v":0},0,0]
[null,{"$f":"BetriebszweigAuswertung!C18","v":""},{"$f":"HLOOKUP($B$3,BetriebszweigAuswertung!$E$3:$K$121,ROW(B16),FALSE)","v":0},0,0]
[null,{"$f":"BetriebszweigAuswertung!C19","v":""},{"$f":"HLOOKUP($B$3,BetriebszweigAuswertung!$E$3:$K$121,ROW(B17),FALSE)","v":0},0,0]
[null,{"$f":"BetriebszweigAuswertung!C20","v":""},{"$f":"HLOOKUP($B$3,BetriebszweigAuswertung!$E$3:$K$121,ROW(B18),FALSE)","v":0},0,0]
[null,{"$f":"BetriebszweigAuswertung!C21","v":""},{"$f":"HLOOKUP($B$3,BetriebszweigAuswertung!$E$3:$K$121,ROW(B19),FALSE)","v":0},0,0]
[null,{"$f":"BetriebszweigAuswertung!C22","v":""},{"$f":"HLOOKUP($B$3,BetriebszweigAuswertung!$E$3:$K$121,ROW(B20),FALSE)","v":0},0,0]
[null,{"$f":"BetriebszweigAuswertung!C23","v":""},{"$f":"HLOOKUP($B$3,BetriebszweigAuswertung!$E$3:$K$121,ROW(B21),FALSE)","v":0},0,0]
[null,{"$f":"BetriebszweigAuswertung!C24","v":""},{"$f":"HLOOKUP($B$3,BetriebszweigAuswertung!$E$3:$K$121,ROW(B22),FALSE)","v":0},0,0]
[null,{"$f":"BetriebszweigAuswertung!C25","v":""},{"$f":"HLOOKUP($B$3,BetriebszweigAuswertung!$E$3:$K$121,ROW(B23),FALSE)","v":0},0,0]
[null,{"$f":"BetriebszweigAuswertung!C26","v":""},{"$f":"HLOOKUP($B$3,BetriebszweigAuswertung!$E$3:$K$121,ROW(B24),FALSE)","v":0},0,0]
[null,{"$f":"BetriebszweigAuswertung!C27","v":""},{"$f":"HLOOKUP($B$3,BetriebszweigAuswertung!$E$3:$K$121,ROW(B25),FALSE)","v":0},0,0]
[null,{"$f":"BetriebszweigAuswertung!C28","v":""},{"$f":"HLOOKUP($B$3,BetriebszweigAuswertung!$E$3:$K$121,ROW(B26),FALSE)","v":0},0,0]
[null,{"$f":"BetriebszweigAuswertung!C29","v":"Sonstige Leistungen "},{"$f":"HLOOKUP($B$3,BetriebszweigAuswertung!$E$3:$K$121,ROW(B27),FALSE)","v":0},0,0]
[null,{"$f":"BetriebszweigAuswertung!C30","v":""},{"$f":"HLOOKUP($B$3,BetriebszweigAuswertung!$E$3:$K$121,ROW(B28),FALSE)","v":0},0,0]
[null,{"$f":"BetriebszweigAuswertung!C31","v":""},{"$f":"HLOOKUP($B$3,BetriebszweigAuswertung!$E$3:$K$121,ROW(B29),FALSE)","v":0},0,0]
[null,{"$f":"BetriebszweigAuswertung!C32","v":""},{"$f":"HLOOKUP($B$3,BetriebszweigAuswertung!$E$3:$K$121,ROW(B30),FALSE)","v":0},0,0]
[null,{"$f":"BetriebszweigAuswertung!C33","v":""},{"$f":"HLOOKUP($B$3,BetriebszweigAuswertung!$E$3:$K$121,ROW(B31),FALSE)","v":0},0,0]
[null,{"$f":"BetriebszweigAuswertung!C34","v":""},{"$f":"HLOOKUP($B$3,BetriebszweigAuswertung!$E$3:$K$121,ROW(B32),FALSE)","v":0},0,0]
[null,{"$f":"BetriebszweigAuswertung!C35","v":""},{"$f":"HLOOKUP($B$3,BetriebszweigAuswertung!$E$3:$K$121,ROW(B33),FALSE)","v":0},0,0]
[null,{"$f":"BetriebszweigAuswertung!C36","v":""},{"$f":"HLOOKUP($B$3,BetriebszweigAuswertung!$E$3:$K$121,ROW(B34),FALSE)","v":0},0,0]
[null,{"$f":"BetriebszweigAuswertung!C37","v":"Wirtschaftsdünger innerbetrieblich"},{"$f":"HLOOKUP($B$3,BetriebszweigAuswertung!$E$3:$K$121,ROW(B35),FALSE)","v":0},0,0]
[null,"Summe Direktleistungen",{"$f":"HLOOKUP($B$3,BetriebszweigAuswertung!$E$3:$K$121,ROW(B36),FALSE)","v":0},{"$f":"IF(OR($C37=\"\",D$5=0),0,$C37/D$5)","v":0},{"$f":"IF(OR($C37=0,E$5=0),0,$C37/E$5)","v":0}]
[null,"Direktkosten ",null,"."]
[null,{"$f":"BetriebszweigAuswertung!C40","v":"Saatgut"},{"$f":"HLOOKUP($B$3,BetriebszweigAuswertung!$E$3:$K$121,ROW(C38),FALSE)","v":0},{"$f":"IF(OR($C39=0,D$5=0),0,$C39/D$5)","v":0},0]
[null,{"$f":"BetriebszweigAuswertung!C41","v":""},{"$f":"HLOOKUP($B$3,BetriebszweigAuswertung!$E$3:$K$121,ROW(C39),FALSE)","v":0},0,0]
[null,{"$f":"BetriebszweigAuswertung!C42","v":"Dünger (Wirtschaftsdünger + Handelsdünger)"},{"$f":"HLOOKUP($B$3,BetriebszweigAuswertung!$E$3:$K$121,ROW(C40),FALSE)","v":0},0,0]
[null,{"$f":"BetriebszweigAuswertung!C43","v":"Pflanzenschutz"},{"$f":"HLOOKUP($B$3,BetriebszweigAuswertung!$E$3:$K$121,ROW(C41),FALSE)","v":0},0,0]
[null,{"$f":"BetriebszweigAuswertung!C44","v":""},{"$f":"HLOOKUP($B$3,BetriebszweigAuswertung!$E$3:$K$121,ROW(C42),FALSE)","v":0},0,0]
[null,{"$f":"BetriebszweigAuswertung!C45","v":""},{"$f":"HLOOKUP($B$3,BetriebszweigAuswertung!$E$3:$K$121,ROW(C43),FALSE)","v":0},0,0]
[null,{"$f":"BetriebszweigAuswertung!C46","v":""},{"$f":"HLOOKUP($B$3,BetriebszweigAuswertung!$E$3:$K$121,ROW(C44),FALSE)","v":0},0,0]
[null,{"$f":"BetriebszweigAuswertung!C47","v":""},{"$f":"HLOOKUP($B$3,BetriebszweigAuswertung!$E$3:$K$121,ROW(C45),FALSE)","v":0},0,0]
[null,{"$f":"BetriebszweigAuswertung!C48","v":""},{"$f":"HLOOKUP($B$3,BetriebszweigAuswertung!$E$3:$K$121,ROW(C46),FALSE)","v":0},0,0]
[null,{"$f":"BetriebszweigAuswertung!C49","v":""},{"$f":"HLOOKUP($B$3,BetriebszweigAuswertung!$E$3:$K$121,ROW(C47),FALSE)","v":0},0,0]
[null,{"$f":"BetriebszweigAuswertung!C50","v":""},{"$f":"HLOOKUP($B$3,BetriebszweigAuswertung!$E$3:$K$121,ROW(C48),FALSE)","v":0},0,0]
[null,{"$f":"BetriebszweigAuswertung!C51","v":""},{"$f":"HLOOKUP($B$3,BetriebszweigAuswertung!$E$3:$K$121,ROW(C49),FALSE)","v":0},0,0]
[null,{"$f":"BetriebszweigAuswertung!C52","v":""},{"$f":"HLOOKUP($B$3,BetriebszweigAuswertung!$E$3:$K$121,ROW(C50),FALSE)","v":0},0,0]
[null,{"$f":"BetriebszweigAuswertung!C53","v":""},{"$f":"HLOOKUP($B$3,BetriebszweigAuswertung!$E$3:$K$121,ROW(C51),FALSE)","v":0},0,0]
[null,{"$f":"BetriebszweigAuswertung!C54","v":"Sonstige direkte Kosten"},{"$f":"HLOOKUP($B$3,BetriebszweigAuswertung!$E$3:$K$121,ROW(C52),FALSE)","v":0},0,0]
[null,{"$f":"BetriebszweigAuswertung!C55","v":""},{"$f":"HLOOKUP($B$3,BetriebszweigAuswertung!$E$3:$K$121,ROW(C53),FALSE)","v":0},0,0]
[null,{"$f":"BetriebszweigAuswertung!C56","v":""},{"$f":"HLOOKUP($B$3,BetriebszweigAuswertung!$E$3:$K$121,ROW(C54),FALSE)","v":0},0,0]
[null,{"$f":"BetriebszweigAuswertung!C57","v":""},{"$f":"HLOOKUP($B$3,BetriebszweigAuswertung!$E$3:$K$121,ROW(C55),FALSE)","v":0},0,0]
[null,{"$f":"BetriebszweigAuswertung!C58","v":""},{"$f":"HLOOKUP($B$3,BetriebszweigAuswertung!$E$3:$K$121,ROW(C56),FALSE)","v":0},0,0]
[null,{"$f":"BetriebszweigAuswertung!C59","v":""},{"$f":"HLOOKUP($B$3,BetriebszweigAuswertung!$E$3:$K$121,ROW(C57),FALSE)","v":0},0,0]
[null,{"$f":"BetriebszweigAuswertung!C60","v":""},{"$f":"HLOOKUP($B$3,BetriebszweigAuswertung!$E$3:$K$121,ROW(C58),FALSE)","v":0},0,0]
[null,{"$f":"BetriebszweigAuswertung!C61","v":""},{"$f":"HLOOKUP($B$3,BetriebszweigAuswertung!$E$3:$K$121,ROW(C59),FALSE)","v":0},0,0]
[null,"Summe Direktkosten",{"$f":"HLOOKUP($B$3,BetriebszweigAuswertung!$E$3:$K$121,ROW(C60),FALSE)","v":0},{"$f":"IF(OR($C61=\"\",D$5=0),0,$C61/D$5)","v":0},{"$f":"IF(OR($C61=0,E$5=0),0,$C61/E$5)","v":0}]
[null,"Direktkostenfreie Leistungen",{"$f":"C37-C61","v":0},{"$f":"D37-D61","v":0},{"$f":"E37-E61","v":0}]
[null,"Übrige Vorleistungskosten",null,"."]
[null,{"$f":"BetriebszweigAuswertung!C65","v":"Betriebs- und Reparaturkosten Maschinen"}]
[null,{"$f":"BetriebszweigAuswertung!C66","v":"Treibstoffe"},{"$f":"HLOOKUP($B$3,BetriebszweigAuswertung!$E$3:$K$121,ROW(C64),FALSE)","v":0},{"$f":"IF(OR($C65=0,D$5=0),0,$C65/D$5)","v":0},0]
[null,{"$f":"BetriebszweigAuswertung!C67","v":""},{"$f":"HLOOKUP($B$3,BetriebszweigAuswertung!$E$3:$K$121,ROW(C65),FALSE)","v":0},0,0]
[null,{"$f":"BetriebszweigAuswertung!C68","v":"Reparatur und Instandhaltung Maschinen"},{"$f":"HLOOKUP($B$3,BetriebszweigAuswertung!$E$3:$K$121,ROW(C66),FALSE)","v":0},0,0]
[null,{"$f":"BetriebszweigAuswertung!C69","v":"Lohnmaschinen, Maschinenring"},{"$f":"HLOOKUP($B$3,BetriebszweigAuswertung!$E$3:$K$121,ROW(C67),FALSE)","v":0},0,0]
[null,{"$f":"BetriebszweigAuswertung!C70","v":"Energie (Strom, Wärme)"},{"$f":"HLOOKUP($B$3,BetriebszweigAuswertung!$E$3:$K$121,ROW(C68),FALSE)","v":0},0,0]
[null,{"$f":"BetriebszweigAuswertung!C71","v":"Wasser"},{"$f":"HLOOKUP($B$3,BetriebszweigAuswertung!$E$3:$K$121,ROW(C69),FALSE)","v":0},0,0]
[null,{"$f":"BetriebszweigAuswertung!C72","v":"Abschreibung Maschinen und Geräte"},{"$f":"HLOOKUP($B$3,BetriebszweigAuswertung!$E$3:$K$121,ROW(C70),FALSE)","v":0},0,0]
[null,{"$f":"BetriebszweigAuswertung!C73","v":"Abschreibung Gebäude und bauliche Anlagen"},{"$f":"HLOOKUP($B$3,BetriebszweigAuswertung!$E$3:$K$121,ROW(C71),FALSE)","v":0},0,0]
[null,{"$f":"BetriebszweigAuswertung!C74","v":""},{"$f":"HLOOKUP($B$3,BetriebszweigAuswertung!$E$3:$K$121,ROW(C72),FALSE)","v":0},0,0]
[null,{"$f":"BetriebszweigAuswertung!C75","v":"Instandhaltung Gebäude und bauliche Anlagen "},{"$f":"HLOOKUP($B$3,BetriebszweigAuswertung!$E$3:$K$121,ROW(C73),FALSE)","v":0},0,0]
[null,{"$f":"BetriebszweigAuswertung!C76","v":"PKW - Betriebsanteil"},{"$f":"HLOOKUP($B$3,BetriebszweigAuswertung!$E$3:$K$121,ROW(C74),FALSE)","v":0},0,0]
[null,{"$f":"BetriebszweigAuswertung!C77","v":"Sachversicherungen ohne Versicherung PKW"},{"$f":"HLOOKUP($B$3,BetriebszweigAuswertung!$E$3:$K$121,ROW(C75),FALSE)","v":0},0,0]
[null,{"$f":"BetriebszweigAuswertung!C78","v":"Steuern, Betriebsabgaben "},{"$f":"HLOOKUP($B$3,BetriebszweigAuswertung!$E$3:$K$121,ROW(C76),FALSE)","v":0},0,0]
[null,{"$f":"BetriebszweigAuswertung!C79","v":"Nur indirekt zuordenbare Mitgliedsbeiträge, Gebühren, Beratungs- und Weiterbildungskosten "},{"$f":"HLOOKUP($B$3,BetriebszweigAuswertung!$E$3:$K$121,ROW(C77),FALSE)","v":0},0,0]
[null,{"$f":"BetriebszweigAuswertung!C80","v":"Allgemeine Verwaltungskosten und sonstige Vorleistungskosten"},{"$f":"HLOOKUP($B$3,BetriebszweigAuswertung!$E$3:$K$121,ROW(C78),FALSE)","v":0},0,0]
[null,{"$f":"BetriebszweigAuswertung!C81","v":""},{"$f":"HLOOKUP($B$3,BetriebszweigAuswertung!$E$3:$K$121,ROW(C79),FALSE)","v":0},0,0]
[null,"Summe übrige Vorleistungskosten",{"$f":"HLOOKUP($B$3,BetriebszweigAuswertung!$E$3:$K$121,ROW(C80),FALSE)","v":0},{"$f":"IF(OR($C81=\"\",D$5=0),0,$C81/D$5)","v":0},{"$f":"IF(OR($C81=0,E$5=0),0,$C81/E$5)","v":0}]
[null,"Gemeinleistungen",".","."]
[null,{"$f":"BetriebszweigAuswertung!C84","v":"Direktzahlungen"},{"$f":"HLOOKUP($B$3,BetriebszweigAuswertung!$E$3:$K$121,ROW(C82),FALSE)","v":0},{"$f":"IF(OR($C83=0,D$5=0),0,$C83/D$5)","v":0},0]
[null,{"$f":"BetriebszweigAuswertung!C85","v":"ÖPUL-Prämien"},{"$f":"HLOOKUP($B$3,BetriebszweigAuswertung!$E$3:$K$121,ROW(C83),FALSE)","v":0},0,0]
[null,{"$f":"BetriebszweigAuswertung!C86","v":"Ausgleichszulage für benachteiligte Gebiete"},{"$f":"HLOOKUP($B$3,BetriebszweigAuswertung!$E$3:$K$121,ROW(C84),FALSE)","v":0},0,0]
[null,{"$f":"BetriebszweigAuswertung!C87","v":"Sonstige Gemeinleistungen"},{"$f":"HLOOKUP($B$3,BetriebszweigAuswertung!$E$3:$K$121,ROW(C85),FALSE)","v":0},0,0]
[null,"Summe Gemeinleistungen",{"$f":"HLOOKUP($B$3,BetriebszweigAuswertung!$E$3:$K$121,ROW(C86),FALSE)","v":0},{"$f":"IF(OR($C87=\"\",D$5=0),0,$C87/D$5)","v":0},{"$f":"IF(OR($C87=0,E$5=0),0,$C87/E$5)","v":0}]
[null,"Faktorentlohnung",{"$f":"C62-C81+C87","v":0},{"$f":"D62-D81+D87","v":0},{"$f":"E62-E81+E87","v":0}]
[null,"Faktorkosten",".","."]
[null,{"$f":"BetriebszweigAuswertung!C92","v":"Lohnansatz"},{"$f":"HLOOKUP($B$3,BetriebszweigAuswertung!$E$3:$K$121,ROW(C90),FALSE)","v":0},{"$f":"IF(OR($C90=0,D$5=0),0,$C90/D$5)","v":0},0]
[null,{"$f":"BetriebszweigAuswertung!C93","v":"Beiträge zur SVB"},{"$f":"HLOOKUP($B$3,BetriebszweigAuswertung!$E$3:$K$121,ROW(C91),FALSE)","v":0},0,0]
[null,{"$f":"BetriebszweigAuswertung!C94","v":"Löhne"},{"$f":"HLOOKUP($B$3,BetriebszweigAuswertung!$E$3:$K$121,ROW(C92),FALSE)","v":0},0,0]
[null,{"$f":"BetriebszweigAuswertung!C95","v":""},{"$f":"HLOOKUP($B$3,BetriebszweigAuswertung!$E$3:$K$121,ROW(C93),FALSE)","v":0},0,0]
[null,{"$f":"BetriebszweigAuswertung!C96","v":""},{"$f":"HLOOKUP($B$3,BetriebszweigAuswertung!$E$3:$K$121,ROW(C94),FALSE)","v":0},0,0]
[null,{"$f":"BetriebszweigAuswertung!C97","v":""},{"$f":"HLOOKUP($B$3,BetriebszweigAuswertung!$E$3:$K$121,ROW(C95),FALSE)","v":0},0,0]
[]
[null,{"$f":"BetriebszweigAuswertung!C99","v":"Pachtkosten (Pachtland)"},{"$f":"HLOOKUP($B$3,BetriebszweigAuswertung!$E$3:$K$121,ROW(C97),FALSE)","v":0},{"$f":"IF(OR($C97=0,D$5=0),0,$C97/D$5)","v":0},0]
[null,{"$f":"BetriebszweigAuswertung!C100","v":"Pachtansatz (eigenes Land)"},{"$f":"HLOOKUP($B$3,BetriebszweigAuswertung!$E$3:$K$121,ROW(C98),FALSE)","v":0},0,0]
[null,{"$f":"BetriebszweigAuswertung!C101","v":""},{"$f":"HLOOKUP($B$3,BetriebszweigAuswertung!$E$3:$K$121,ROW(C99),FALSE)","v":0},0,0]
[null,{"$f":"BetriebszweigAuswertung!C102","v":""},{"$f":"HLOOKUP($B$3,BetriebszweigAuswertung!$E$3:$K$121,ROW(C100),FALSE)","v":0},0,0]
[null,{"$f":"BetriebszweigAuswertung!C103","v":""},{"$f":"HLOOKUP($B$3,BetriebszweigAuswertung!$E$3:$K$121,ROW(C101),FALSE)","v":0},0,0]
[null,{"$f":"BetriebszweigAuswertung!C104","v":""},{"$f":"HLOOKUP($B$3,BetriebszweigAuswertung!$E$3:$K$121,ROW(C102),FALSE)","v":0},0,0]
[]
[null,{"$f":"BetriebszweigAuswertung!C106","v":"Zinsansatz Maschinen und Geräte"},{"$f":"HLOOKUP($B$3,BetriebszweigAuswertung!$E$3:$K$121,ROW(C104),FALSE)","v":0},{"$f":"IF(OR($C104=0,D$5=0),0,$C104/D$5)","v":0},0]
[null,{"$f":"BetriebszweigAuswertung!C107","v":"Zinsansatz Gebäude und bauliche Anlagen"},{"$f":"HLOOKUP($B$3,BetriebszweigAuswertung!$E$3:$K$121,ROW(C105),FALSE)","v":0},0,0]
[null,{"$f":"BetriebszweigAuswertung!C108","v":"Zinsansatz Viehvermögen"},{"$f":"HLOOKUP($B$3,BetriebszweigAuswertung!$E$3:$K$121,ROW(C106),FALSE)","v":0},0,0]
[null,{"$f":"BetriebszweigAuswertung!C109","v":"Zinsansatz Genossenschaftsanteile"},{"$f":"HLOOKUP($B$3,BetriebszweigAuswertung!$E$3:$K$121,ROW(C107),FALSE)","v":0},0,0]
[null,{"$f":"BetriebszweigAuswertung!C110","v":""},{"$f":"HLOOKUP($B$3,BetriebszweigAuswertung!$E$3:$K$121,ROW(C108),FALSE)","v":0},0,0]
[null,{"$f":"BetriebszweigAuswertung!C111","v":""},{"$f":"HLOOKUP($B$3,BetriebszweigAuswertung!$E$3:$K$121,ROW(C109),FALSE)","v":0},0,0]
[null,{"$f":"BetriebszweigAuswertung!C112","v":""},{"$f":"HLOOKUP($B$3,BetriebszweigAuswertung!$E$3:$K$121,ROW(C110),FALSE)","v":0},0,0]
[]
[null,{"$f":"BetriebszweigAuswertung!C114","v":""},{"$f":"HLOOKUP($B$3,BetriebszweigAuswertung!$E$3:$K$121,ROW(C112),FALSE)","v":0},{"$f":"IF(OR($C112=0,D$5=0),0,$C112/D$5)","v":0},0]
[null,{"$f":"BetriebszweigAuswertung!C115","v":""},{"$f":"HLOOKUP($B$3,BetriebszweigAuswertung!$E$3:$K$121,ROW(C113),FALSE)","v":0},0,0]
[null,{"$f":"BetriebszweigAuswertung!C116","v":""},{"$f":"HLOOKUP($B$3,BetriebszweigAuswertung!$E$3:$K$121,ROW(C114),FALSE)","v":0},0,0]
[null,{"$f":"BetriebszweigAuswertung!C117","v":""},{"$f":"HLOOKUP($B$3,BetriebszweigAuswertung!$E$3:$K$121,ROW(C115),FALSE)","v":0},0,0]
[null,{"$f":"BetriebszweigAuswertung!C118","v":""},{"$f":"HLOOKUP($B$3,BetriebszweigAuswertung!$E$3:$K$121,ROW(C116),FALSE)","v":0},0,0]
[null,{"$f":"BetriebszweigAuswertung!C119","v":""},{"$f":"HLOOKUP($B$3,BetriebszweigAuswertung!$E$3:$K$121,ROW(C117),FALSE)","v":0},0,0]
[null,{"$f":"IF(WurzelBZweige!$AV116=\"\",\"\",WurzelBZweige!AV116)","v":"Summe Faktorkosten"},{"$f":"HLOOKUP($B$3,BetriebszweigAuswertung!$E$3:$K$121,ROW(C118),FALSE)","v":0},{"$f":"IF(OR($C118=\"\",D$5=0),0,$C118/D$5)","v":0},{"$f":"IF(OR($C118=0,E$5=0),0,$C118/E$5)","v":0}]
[null,"Kalkulatorisches Betriebszweigergebnis",{"$f":"C88-C118","v":0},{"$f":"D88-D118","v":0},{"$f":"E88-E118","v":0}]
[null,"Gesamtleistungen",{"$f":"C37+C87","v":0},{"$f":"IF(OR($C120=0,D$5=0),0,$C120/D$5)","v":0},0]
[null,"Gesamtkosten",{"$f":"C61+C81+C118","v":0},0,0]
[null,"Variable Kosten",{"$f":"+C61+C65+C67+C69+C66+C70+C68","v":0},0,0]
[null,"Pagatorische Kosten",{"$f":"+C61+C81+C91+C97+C112+C113+C92","v":0},0,0]
[null,"Kalkulatorische Kosten",{"$f":"+C90+C98+C104+C105+C99+C106+C107+C114+C117","v":0},0,0]
[null,"Gebäudekosten",{"$f":"+C72+C74+C105","v":0},0,0]
[null,"Abschreibungsgrad Gebäude (%)",{"$f":"1-Gebäude!F165/Gebäude!F161","v":{"$error":"#DIV/0!"}},{"$f":"C126","v":{"$error":"#DIV/0!"}},{"$f":"C126","v":{"$error":"#DIV/0!"}}]
[null,"Maschinenkosten inkl. MR ",{"$f":"+C71+C65+C66+C67+C68+C104","v":0},{"$f":"IF(OR($C127=0,D$5=0),0,$C127/D$5)","v":0},{"$f":"IF(OR($C127=0,E$5=0),0,$C127/E$5)","v":0}]
[null,"Abschreibungsgrad Maschinen (%)",{"$f":"1-Maschinen!F165/Maschinen!F163","v":{"$error":"#DIV/0!"}},{"$f":"C128","v":{"$error":"#DIV/0!"}},{"$f":"C128","v":{"$error":"#DIV/0!"}}]
[null,"Arbeitserledigungskosten",{"$f":"C127+C90+C91+C92","v":0},{"$f":"IF(OR($C129=0,D$5=0),0,$C129/D$5)","v":0},0]
[null,"Deckungsbeitrag",{"$f":"+C37-C122","v":0},0,0]
[null,"Beitrag zu den Einkünften",{"$f":"+C88-C92-C97-C112-C113","v":0},0,0]
[null,"Beitrag zu den Einkünften je AKh (EUR)",{"$f":"+C131/C135","v":{"$error":"#DIV/0!"}},{"$f":"C132","v":{"$error":"#DIV/0!"}},{"$f":"C132","v":{"$error":"#DIV/0!"}}]
[null,"Arbeitsertrag",{"$f":"C119+C90","v":0},{"$f":"IF(OR($C133=0,D$5=0),0,$C133/D$5)","v":0},{"$f":"IF(OR($C133=0,E$5=0),0,$C133/E$5)","v":0}]
[null,"Arbeitsertrag je AKh (EUR)",{"$f":"+(C119+C90)/C135","v":{"$error":"#DIV/0!"}},{"$f":"C134","v":{"$error":"#DIV/0!"}},{"$f":"C134","v":{"$error":"#DIV/0!"}}]
[null,"Arbeitszeit",{"$f":"HLOOKUP($B$3,BetriebszweigAuswertung!$E$3:$K$147,138,FALSE)","v":0},{"$f":"IF(OR($C135=0,D$5=0),0,$C135/D$5)","v":0},{"$f":"IF(OR($C135=0,E$5=0),0,$C135/E$5)","v":0}]
[null,"Kapitalrentabilität (%)",{"$f":"(C119+(C104+C105+C106+C107+C114+C117))/((C104+C105+C106+C107+C114+C117)/Zinssatz)","v":{"$error":"#DIV/0!"}},{"$f":"C136","v":{"$error":"#DIV/0!"}},{"$f":"C136","v":{"$error":"#DIV/0!"}}]
[null,"Kostendeckungspunkt 1",{"$f":"C123-C87-C12-C13-C16-C18-C22-C27-C36-C28-C32","v":0},{"$f":"IF(OR($C137=0,D$5=0),0,$C137/D$5)","v":0},{"$f":"IF(OR($C137=0,E$5=0),0,$C137/E$5)","v":0}]
[null,"Kostendeckungspunkt 2",{"$f":"C121-C87-C12-C13-C16-C18-C22-C27-C36-C28-C32","v":0},{"$f":"IF(OR($C138=0,D$5=0),0,$C138/D$5)","v":0},{"$f":"IF(OR($C138=0,E$5=0),0,$C138/E$5)","v":0}]

{"sheet":"BZA2","index":13,"n_rows":138,"n_cols":7,"rows_kept":138,"cut":false,"hidden":false,"merged":[[2,2,3,2],[2,1,3,1]]}
[null,null,null,null,"Menü"]
[null,{"$f":"VLOOKUP(B3,ExpNameListe,3,FALSE)","v":{"$error":"#N/A"}},{"$f":"$B$3","v":0},{"$f":"$B$3","v":0},{"$f":"$B$3","v":0}]
[null,{"$f":"_Zw2","v":0},{"$f":"\"Summe des Betriebszweiges \"&YEAR(WirtschaftsjahrAnfang)","v":"Summe des Betriebszweiges 2021"},{"$f":"AKNr","v":1},{"$f":"AKNr","v":1}]
[null,null,null,{"$f":"\"€ je \"&VLOOKUP($B$3,Einheitsliste,2,FALSE)","v":{"$error":"#N/A"}},{"$f":"VLOOKUP($B$3,Einheitsliste,6,FALSE)&VLOOKUP($B$3,Einheitsliste,4,FALSE)","v":{"$error":"#N/A"}},null,"Anmerkungen"]
[null,null,null,{"$f":"VLOOKUP($B$3,Einheitsliste,3,FALSE)","v":{"$error":"#N/A"}},{"$f":"VLOOKUP($B$3,Einheitsliste,7,FALSE)","v":{"$error":"#N/A"}}]
[null,"\nDirektleistungen",null,{"$f":"VLOOKUP($B$3,Einheitsliste,3,FALSE)&\" \"&VLOOKUP($B$3,Einheitsliste,2,FALSE)","v":{"$error":"#N/A"}},{"$f":"VLOOKUP($B$3,Einheitsliste,5,FALSE)&\" \"&VLOOKUP($B$3,Einheitsliste,4,FALSE)","v":{"$error":"#N/A"}}]
[null,{"$f":"BetriebszweigAuswertung!C8","v":""},{"$f":"HLOOKUP($B$3,BetriebszweigAuswertung!$E$3:$K$121,ROW(B6),FALSE)","v":0},{"$f":"IF(OR($C7=0,D$5=0),0,$C7/D$5)","v":{"$error":"#N/A"}},{"$error":"#N/A"}]
[null,{"$f":"BetriebszweigAuswertung!C9","v":""},{"$f":"HLOOKUP($B$3,BetriebszweigAuswertung!$E$3:$K$121,ROW(B7),FALSE)","v":0},{"$error":"#N/A"},{"$error":"#N/A"}]
[null,{"$f":"BetriebszweigAuswertung!C10","v":""},{"$f":"HLOOKUP($B$3,BetriebszweigAuswertung!$E$3:$K$121,ROW(B8),FALSE)","v":0},{"$error":"#N/A"},{"$error":"#N/A"}]
[null,{"$f":"BetriebszweigAuswertung!C11","v":""},{"$f":"HLOOKUP($B$3,BetriebszweigAuswertung!$E$3:$K$121,ROW(B9),FALSE)","v":0},{"$error":"#N/A"},{"$error":"#N/A"}]
[null,{"$f":"BetriebszweigAuswertung!C12","v":""},{"$f":"HLOOKUP($B$3,BetriebszweigAuswertung!$E$3:$K$121,ROW(B10),FALSE)","v":0},{"$error":"#N/A"},{"$error":"#N/A"}]
[null,{"$f":"BetriebszweigAuswertung!C13","v":""},{"$f":"HLOOKUP($B$3,BetriebszweigAuswertung!$E$3:$K$121,ROW(B11),FALSE)","v":0},{"$error":"#N/A"},{"$error":"#N/A"}]
[null,{"$f":"BetriebszweigAuswertung!C14","v":""},{"$f":"HLOOKUP($B$3,BetriebszweigAuswertung!$E$3:$K$121,ROW(B12),FALSE)","v":0},{"$error":"#N/A"},{"$error":"#N/A"}]
[null,{"$f":"BetriebszweigAuswertung!C15","v":""},{"$f":"HLOOKUP($B$3,BetriebszweigAuswertung!$E$3:$K$121,ROW(B13),FALSE)","v":0},{"$error":"#N/A"},{"$error":"#N/A"}]
[null,{"$f":"BetriebszweigAuswertung!C16","v":""},{"$f":"HLOOKUP($B$3,BetriebszweigAuswertung!$E$3:$K$121,ROW(B14),FALSE)","v":0},{"$error":"#N/A"},{"$error":"#N/A"}]
[null,{"$f":"BetriebszweigAuswertung!C17","v":""},{"$f":"HLOOKUP($B$3,BetriebszweigAuswertung!$E$3:$K$121,ROW(B15),FALSE)","v":0},{"$error":"#N/A"},{"$error":"#N/A"}]
[null,{"$f":"BetriebszweigAuswertung!C18","v":""},{"$f":"HLOOKUP($B$3,BetriebszweigAuswertung!$E$3:$K$121,ROW(B16),FALSE)","v":0},{"$error":"#N/A"},{"$error":"#N/A"}]
[null,{"$f":"BetriebszweigAuswertung!C19","v":""},{"$f":"HLOOKUP($B$3,BetriebszweigAuswertung!$E$3:$K$121,ROW(B17),FALSE)","v":0},{"$error":"#N/A"},{"$error":"#N/A"}]
[null,{"$f":"BetriebszweigAuswertung!C20","v":""},{"$f":"HLOOKUP($B$3,BetriebszweigAuswertung!$E$3:$K$121,ROW(B18),FALSE)","v":0},{"$error":"#N/A"},{"$error":"#N/A"}]
[null,{"$f":"BetriebszweigAuswertung!C21","v":""},{"$f":"HLOOKUP($B$3,BetriebszweigAuswertung!$E$3:$K$121,ROW(B19),FALSE)","v":0},{"$error":"#N/A"},{"$error":"#N/A"}]
[null,{"$f":"BetriebszweigAuswertung!C22","v":""},{"$f":"HLOOKUP($B$3,BetriebszweigAuswertung!$E$3:$K$121,ROW(B20),FALSE)","v":0},{"$error":"#N/A"},{"$error":"#N/A"}]
[null,{"$f":"BetriebszweigAuswertung!C23","v":""},{"$f":"HLOOKUP($B$3,BetriebszweigAuswertung!$E$3:$K$121,ROW(B21),FALSE)","v":0},{"$error":"#N/A"},{"$error":"#N/A"}]
[null,{"$f":"BetriebszweigAuswertung!C24","v":""},{"$f":"HLOOKUP($B$3,BetriebszweigAuswertung!$E$3:$K$121,ROW(B22),FALSE)","v":0},{"$error":"#N/A"},{"$error":"#N/A"}]
[null,{"$f":"BetriebszweigAuswertung!C25","v":""},{"$f":"HLOOKUP($B$3,BetriebszweigAuswertung!$E$3:$K$121,ROW(B23),FALSE)","v":0},{"$error":"#N/A"},{"$error":"#N/A"}]
[null,{"$f":"BetriebszweigAuswertung!C26","v":""},{"$f":"HLOOKUP($B$3,BetriebszweigAuswertung!$E$3:$K$121,ROW(B24),FALSE)","v":0},{"$error":"#N/A"},{"$error":"#N/A"}]
[null,{"$f":"BetriebszweigAuswertung!C27","v":""},{"$f":"HLOOKUP($B$3,BetriebszweigAuswertung!$E$3:$K$121,ROW(B25),FALSE)","v":0},{"$error":"#N/A"},{"$error":"#N/A"}]
[null,{"$f":"BetriebszweigAuswertung!C28","v":""},{"$f":"HLOOKUP($B$3,BetriebszweigAuswertung!$E$3:$K$121,ROW(B26),FALSE)","v":0},{"$error":"#N/A"},{"$error":"#N/A"}]
[null,{"$f":"BetriebszweigAuswertung!C29","v":"Sonstige Leistungen "},{"$f":"HLOOKUP($B$3,BetriebszweigAuswertung!$E$3:$K$121,ROW(B27),FALSE)","v":0},{"$error":"#N/A"},{"$error":"#N/A"}]
[null,{"$f":"BetriebszweigAuswertung!C30","v":""},{"$f":"HLOOKUP($B$3,BetriebszweigAuswertung!$E$3:$K$121,ROW(B28),FALSE)","v":0},{"$error":"#N/A"},{"$error":"#N/A"}]
[null,{"$f":"BetriebszweigAuswertung!C31","v":""},{"$f":"HLOOKUP($B$3,BetriebszweigAuswertung!$E$3:$K$121,ROW(B29),FALSE)","v":0},{"$error":"#N/A"},{"$error":"#N/A"}]
[null,{"$f":"BetriebszweigAuswertung!C32","v":""},{"$f":"HLOOKUP($B$3,BetriebszweigAuswertung!$E$3:$K$121,ROW(B30),FALSE)","v":0},{"$error":"#N/A"},{"$error":"#N/A"}]
[null,{"$f":"BetriebszweigAuswertung!C33","v":""},{"$f":"HLOOKUP($B$3,BetriebszweigAuswertung!$E$3:$K$121,ROW(B31),FALSE)","v":0},{"$error":"#N/A"},{"$error":"#N/A"}]
[null,{"$f":"BetriebszweigAuswertung!C34","v":""},{"$f":"HLOOKUP($B$3,BetriebszweigAuswertung!$E$3:$K$121,ROW(B32),FALSE)","v":0},{"$error":"#N/A"},{"$error":"#N/A"}]
[null,{"$f":"BetriebszweigAuswertung!C35","v":""},{"$f":"HLOOKUP($B$3,BetriebszweigAuswertung!$E$3:$K$121,ROW(B33),FALSE)","v":0},{"$error":"#N/A"},{"$error":"#N/A"}]
[null,{"$f":"BetriebszweigAuswertung!C36","v":""},{"$f":"HLOOKUP($B$3,BetriebszweigAuswertung!$E$3:$K$121,ROW(B34),FALSE)","v":0},{"$error":"#N/A"},{"$error":"#N/A"}]
[null,{"$f":"BetriebszweigAuswertung!C37","v":"Wirtschaftsdünger innerbetrieblich"},{"$f":"HLOOKUP($B$3,BetriebszweigAuswertung!$E$3:$K$121,ROW(B35),FALSE)","v":0},{"$error":"#N/A"},{"$error":"#N/A"}]
[null,"Summe Direktleistungen",{"$f":"HLOOKUP($B$3,BetriebszweigAuswertung!$E$3:$K$121,ROW(B36),FALSE)","v":0},{"$f":"IF(OR($C37=\"\",D$5=0),0,$C37/D$5)","v":{"$error":"#N/A"}},{"$f":"IF(OR($C37=0,E$5=0),0,$C37/E$5)","v":{"$error":"#N/A"}}]
[null,"Direktkosten ",null,"."]
[null,{"$f":"BetriebszweigAuswertung!C40","v":"Saatgut"},{"$f":"HLOOKUP($B$3,BetriebszweigAuswertung!$E$3:$K$121,ROW(C38),FALSE)","v":0},{"$f":"IF(OR($C39=0,D$5=0),0,$C39/D$5)","v":{"$error":"#N/A"}},{"$error":"#N/A"}]
[null,{"$f":"BetriebszweigAuswertung!C41","v":""},{"$f":"HLOOKUP($B$3,BetriebszweigAuswertung!$E$3:$K$121,ROW(C39),FALSE)","v":0},{"$error":"#N/A"},{"$error":"#N/A"}]
[null,{"$f":"BetriebszweigAuswertung!C42","v":"Dünger (Wirtschaftsdünger + Handelsdünger)"},{"$f":"HLOOKUP($B$3,BetriebszweigAuswertung!$E$3:$K$121,ROW(C40),FALSE)","v":0},{"$error":"#N/A"},{"$error":"#N/A"}]
[null,{"$f":"BetriebszweigAuswertung!C43","v":"Pflanzenschutz"},{"$f":"HLOOKUP($B$3,BetriebszweigAuswertung!$E$3:$K$121,ROW(C41),FALSE)","v":0},{"$error":"#N/A"},{"$error":"#N/A"}]
[null,{"$f":"BetriebszweigAuswertung!C44","v":""},{"$f":"HLOOKUP($B$3,BetriebszweigAuswertung!$E$3:$K$121,ROW(C42),FALSE)","v":0},{"$error":"#N/A"},{"$error":"#N/A"}]
[null,{"$f":"BetriebszweigAuswertung!C45","v":""},{"$f":"HLOOKUP($B$3,BetriebszweigAuswertung!$E$3:$K$121,ROW(C43),FALSE)","v":0},{"$error":"#N/A"},{"$error":"#N/A"}]
[null,{"$f":"BetriebszweigAuswertung!C46","v":""},{"$f":"HLOOKUP($B$3,BetriebszweigAuswertung!$E$3:$K$121,ROW(C44),FALSE)","v":0},{"$error":"#N/A"},{"$error":"#N/A"}]
[null,{"$f":"BetriebszweigAuswertung!C47","v":""},{"$f":"HLOOKUP($B$3,BetriebszweigAuswertung!$E$3:$K$121,ROW(C45),FALSE)","v":0},{"$error":"#N/A"},{"$error":"#N/A"}]
[null,{"$f":"BetriebszweigAuswertung!C48","v":""},{"$f":"HLOOKUP($B$3,BetriebszweigAuswertung!$E$3:$K$121,ROW(C46),FALSE)","v":0},{"$error":"#N/A"},{"$error":"#N/A"}]
[null,{"$f":"BetriebszweigAuswertung!C49","v":""},{"$f":"HLOOKUP($B$3,BetriebszweigAuswertung!$E$3:$K$121,ROW(C47),FALSE)","v":0},{"$error":"#N/A"},{"$error":"#N/A"}]
[null,{"$f":"BetriebszweigAuswertung!C50","v":""},{"$f":"HLOOKUP($B$3,BetriebszweigAuswertung!$E$3:$K$121,ROW(C48),FALSE)","v":0},{"$error":"#N/A"},{"$error":"#N/A"}]
[null,{"$f":"BetriebszweigAuswertung!C51","v":""},{"$f":"HLOOKUP($B$3,BetriebszweigAuswertung!$E$3:$K$121,ROW(C49),FALSE)","v":0},{"$error":"#N/A"},{"$error":"#N/A"}]
[null,{"$f":"BetriebszweigAuswertung!C52","v":""},{"$f":"HLOOKUP($B$3,BetriebszweigAuswertung!$E$3:$K$121,ROW(C50),FALSE)","v":0},{"$error":"#N/A"},{"$error":"#N/A"}]
[null,{"$f":"BetriebszweigAuswertung!C53","v":""},{"$f":"HLOOKUP($B$3,BetriebszweigAuswertung!$E$3:$K$121,ROW(C51),FALSE)","v":0},{"$error":"#N/A"},{"$error":"#N/A"}]
[null,{"$f":"BetriebszweigAuswertung!C54","v":"Sonstige direkte Kosten"},{"$f":"HLOOKUP($B$3,BetriebszweigAuswertung!$E$3:$K$121,ROW(C52),FALSE)","v":0},{"$error":"#N/A"},{"$error":"#N/A"}]
[null,{"$f":"BetriebszweigAuswertung!C55","v":""},{"$f":"HLOOKUP($B$3,BetriebszweigAuswertung!$E$3:$K$121,ROW(C53),FALSE)","v":0},{"$error":"#N/A"},{"$error":"#N/A"}]
[null,{"$f":"BetriebszweigAuswertung!C56","v":""},{"$f":"HLOOKUP($B$3,BetriebszweigAuswertung!$E$3:$K$121,ROW(C54),FALSE)","v":0},{"$error":"#N/A"},{"$error":"#N/A"}]
[null,{"$f":"BetriebszweigAuswertung!C57","v":""},{"$f":"HLOOKUP($B$3,BetriebszweigAuswertung!$E$3:$K$121,ROW(C55),FALSE)","v":0},{"$error":"#N/A"},{"$error":"#N/A"}]
[null,{"$f":"BetriebszweigAuswertung!C58","v":""},{"$f":"HLOOKUP($B$3,BetriebszweigAuswertung!$E$3:$K$121,ROW(C56),FALSE)","v":0},{"$error":"#N/A"},{"$error":"#N/A"}]
[null,{"$f":"BetriebszweigAuswertung!C59","v":""},{"$f":"HLOOKUP($B$3,BetriebszweigAuswertung!$E$3:$K$121,ROW(C57),FALSE)","v":0},{"$error":"#N/A"},{"$error":"#N/A"}]
[null,{"$f":"BetriebszweigAuswertung!C60","v":""},{"$f":"HLOOKUP($B$3,BetriebszweigAuswertung!$E$3:$K$121,ROW(C58),FALSE)","v":0},{"$error":"#N/A"},{"$error":"#N/A"}]
[null,{"$f":"BetriebszweigAuswertung!C61","v":""},{"$f":"HLOOKUP($B$3,BetriebszweigAuswertung!$E$3:$K$121,ROW(C59),FALSE)","v":0},{"$error":"#N/A"},{"$error":"#N/A"}]
[null,"Summe Direktkosten",{"$f":"HLOOKUP($B$3,BetriebszweigAuswertung!$E$3:$K$121,ROW(C60),FALSE)","v":0},{"$f":"IF(OR($C61=\"\",D$5=0),0,$C61/D$5)","v":{"$error":"#N/A"}},{"$f":"IF(OR($C61=0,E$5=0),0,$C61/E$5)","v":{"$error":"#N/A"}}]
[null,"Direktkostenfreie Leistungen",{"$f":"C37-C61","v":0},{"$f":"D37-D61","v":{"$error":"#N/A"}},{"$f":"E37-E61","v":{"$error":"#N/A"}}]
[null,"Übrige Vorleistungskosten",null,"."]
[null,{"$f":"BetriebszweigAuswertung!C65","v":"Betriebs- und Reparaturkosten Maschinen"}]
[null,{"$f":"BetriebszweigAuswertung!C66","v":"Treibstoffe"},{"$f":"HLOOKUP($B$3,BetriebszweigAuswertung!$E$3:$K$121,ROW(C64),FALSE)","v":0},{"$f":"IF(OR($C65=0,D$5=0),0,$C65/D$5)","v":{"$error":"#N/A"}},{"$error":"#N/A"}]
[null,{"$f":"BetriebszweigAuswertung!C67","v":""},{"$f":"HLOOKUP($B$3,BetriebszweigAuswertung!$E$3:$K$121,ROW(C65),FALSE)","v":0},{"$error":"#N/A"},{"$error":"#N/A"}]
[null,{"$f":"BetriebszweigAuswertung!C68","v":"Reparatur und Instandhaltung Maschinen"},{"$f":"HLOOKUP($B$3,BetriebszweigAuswertung!$E$3:$K$121,ROW(C66),FALSE)","v":0},{"$error":"#N/A"},{"$error":"#N/A"}]
[null,{"$f":"BetriebszweigAuswertung!C69","v":"Lohnmaschinen, Maschinenring"},{"$f":"HLOOKUP($B$3,BetriebszweigAuswertung!$E$3:$K$121,ROW(C67),FALSE)","v":0},{"$error":"#N/A"},{"$error":"#N/A"}]
[null,{"$f":"BetriebszweigAuswertung!C70","v":"Energie (Strom, Wärme)"},{"$f":"HLOOKUP($B$3,BetriebszweigAuswertung!$E$3:$K$121,ROW(C68),FALSE)","v":0},{"$error":"#N/A"},{"$error":"#N/A"}]
[null,{"$f":"BetriebszweigAuswertung!C71","v":"Wasser"},{"$f":"HLOOKUP($B$3,BetriebszweigAuswertung!$E$3:$K$121,ROW(C69),FALSE)","v":0},{"$error":"#N/A"},{"$error":"#N/A"}]
[null,{"$f":"BetriebszweigAuswertung!C72","v":"Abschreibung Maschinen und Geräte"},{"$f":"HLOOKUP($B$3,BetriebszweigAuswertung!$E$3:$K$121,ROW(C70),FALSE)","v":0},{"$error":"#N/A"},{"$error":"#N/A"}]
[null,{"$f":"BetriebszweigAuswertung!C73","v":"Abschreibung Gebäude und bauliche Anlagen"},{"$f":"HLOOKUP($B$3,BetriebszweigAuswertung!$E$3:$K$121,ROW(C71),FALSE)","v":0},{"$error":"#N/A"},{"$error":"#N/A"}]
[null,{"$f":"BetriebszweigAuswertung!C74","v":""},{"$f":"HLOOKUP($B$3,BetriebszweigAuswertung!$E$3:$K$121,ROW(C72),FALSE)","v":0},{"$error":"#N/A"},{"$error":"#N/A"}]
[null,{"$f":"BetriebszweigAuswertung!C75","v":"Instandhaltung Gebäude und bauliche Anlagen "},{"$f":"HLOOKUP($B$3,BetriebszweigAuswertung!$E$3:$K$121,ROW(C73),FALSE)","v":0},{"$error":"#N/A"},{"$error":"#N/A"}]
[null,{"$f":"BetriebszweigAuswertung!C76","v":"PKW - Betriebsanteil"},{"$f":"HLOOKUP($B$3,BetriebszweigAuswertung!$E$3:$K$121,ROW(C74),FALSE)","v":0},{"$error":"#N/A"},{"$error":"#N/A"}]
[null,{"$f":"BetriebszweigAuswertung!C77","v":"Sachversicherungen ohne Versicherung PKW"},{"$f":"HLOOKUP($B$3,BetriebszweigAuswertung!$E$3:$K$121,ROW(C75),FALSE)","v":0},{"$error":"#N/A"},{"$error":"#N/A"}]
[null,{"$f":"BetriebszweigAuswertung!C78","v":"Steuern, Betriebsabgaben "},{"$f":"HLOOKUP($B$3,BetriebszweigAuswertung!$E$3:$K$121,ROW(C76),FALSE)","v":0},{"$error":"#N/A"},{"$error":"#N/A"}]
[null,{"$f":"BetriebszweigAuswertung!C79","v":"Nur indirekt zuordenbare Mitgliedsbeiträge, Gebühren, Beratungs- und Weiterbildungskosten "},{"$f":"HLOOKUP($B$3,BetriebszweigAuswertung!$E$3:$K$121,ROW(C77),FALSE)","v":0},{"$error":"#N/A"},{"$error":"#N/A"}]
[null,{"$f":"BetriebszweigAuswertung!C80","v":"Allgemeine Verwaltungskosten und sonstige Vorleistungskosten"},{"$f":"HLOOKUP($B$3,BetriebszweigAuswertung!$E$3:$K$121,ROW(C78),FALSE)","v":0},{"$error":"#N/A"},{"$error":"#N/A"}]
[null,{"$f":"BetriebszweigAuswertung!C81","v":""},{"$f":"HLOOKUP($B$3,BetriebszweigAuswertung!$E$3:$K$121,ROW(C79),FALSE)","v":0},{"$error":"#N/A"},{"$error":"#N/A"}]
[null,"Summe übrige Vorleistungskosten",{"$f":"HLOOKUP($B$3,BetriebszweigAuswertung!$E$3:$K$121,ROW(C80),FALSE)","v":0},{"$f":"IF(OR($C81=\"\",D$5=0),0,$C81/D$5)","v":{"$error":"#N/A"}},{"$f":"IF(OR($C81=0,E$5=0),0,$C81/E$5)","v":{"$error":"#N/A"}}]
[null,"Gemeinleistungen",".","."]
[null,{"$f":"BetriebszweigAuswertung!C84","v":"Direktzahlungen"},{"$f":"HLOOKUP($B$3,BetriebszweigAuswertung!$E$3:$K$121,ROW(C82),FALSE)","v":0},{"$f":"IF(OR($C83=0,D$5=0),0,$C83/D$5)","v":{"$error":"#N/A"}},{"$error":"#N/A"}]
[null,{"$f":"BetriebszweigAuswertung!C85","v":"ÖPUL-Prämien"},{"$f":"HLOOKUP($B$3,BetriebszweigAuswertung!$E$3:$K$121,ROW(C83),FALSE)","v":0},{"$error":"#N/A"},{"$error":"#N/A"}]
[null,{"$f":"BetriebszweigAuswertung!C86","v":"Ausgleichszulage für benachteiligte Gebiete"},{"$f":"HLOOKUP($B$3,BetriebszweigAuswertung!$E$3:$K$121,ROW(C84),FALSE)","v":0},{"$error":"#N/A"},{"$error":"#N/A"}]
[null,{"$f":"BetriebszweigAuswertung!C87","v":"Sonstige Gemeinleistungen"},{"$f":"HLOOKUP($B$3,BetriebszweigAuswertung!$E$3:$K$121,ROW(C85),FALSE)","v":0},{"$error":"#N/A"},{"$error":"#N/A"}]
[null,"Summe Gemeinleistungen",{"$f":"HLOOKUP($B$3,BetriebszweigAuswertung!$E$3:$K$121,ROW(C86),FALSE)","v":0},{"$f":"IF(OR($C87=\"\",D$5=0),0,$C87/D$5)","v":{"$error":"#N/A"}},{"$f":"IF(OR($C87=0,E$5=0),0,$C87/E$5)","v":{"$error":"#N/A"}}]
[null,"Faktorentlohnung",{"$f":"C62-C81+C87","v":0},{"$f":"D62-D81+D87","v":{"$error":"#N/A"}},{"$f":"E62-E81+E87","v":{"$error":"#N/A"}}]
[null,"Faktorkosten",".","."]
[null,{"$f":"BetriebszweigAuswertung!C92","v":"Lohnansatz"},{"$f":"HLOOKUP($B$3,BetriebszweigAuswertung!$E$3:$K$121,ROW(C90),FALSE)","v":0},{"$f":"IF(OR($C90=0,D$5=0),0,$C90/D$5)","v":{"$error":"#N/A"}},{"$error":"#N/A"}]
[null,{"$f":"BetriebszweigAuswertung!C93","v":"Beiträge zur SVB"},{"$f":"HLOOKUP($B$3,BetriebszweigAuswertung!$E$3:$K$121,ROW(C91),FALSE)","v":0},{"$error":"#N/A"},{"$error":"#N/A"}]
[null,{"$f":"BetriebszweigAuswertung!C94","v":"Löhne"},{"$f":"HLOOKUP($B$3,BetriebszweigAuswertung!$E$3:$K$121,ROW(C92),FALSE)","v":0},{"$error":"#N/A"},{"$error":"#N/A"}]
[null,{"$f":"BetriebszweigAuswertung!C95","v":""},{"$f":"HLOOKUP($B$3,BetriebszweigAuswertung!$E$3:$K$121,ROW(C93),FALSE)","v":0},{"$error":"#N/A"},{"$error":"#N/A"}]
[null,{"$f":"BetriebszweigAuswertung!C96","v":""},{"$f":"HLOOKUP($B$3,BetriebszweigAuswertung!$E$3:$K$121,ROW(C94),FALSE)","v":0},{"$error":"#N/A"},{"$error":"#N/A"}]
[null,{"$f":"BetriebszweigAuswertung!C97","v":""},{"$f":"HLOOKUP($B$3,BetriebszweigAuswertung!$E$3:$K$121,ROW(C95),FALSE)","v":0},{"$error":"#N/A"},{"$error":"#N/A"}]
[]
[null,{"$f":"BetriebszweigAuswertung!C99","v":"Pachtkosten (Pachtland)"},{"$f":"HLOOKUP($B$3,BetriebszweigAuswertung!$E$3:$K$121,ROW(C97),FALSE)","v":0},{"$f":"IF(OR($C97=0,D$5=0),0,$C97/D$5)","v":{"$error":"#N/A"}},{"$error":"#N/A"}]
[null,{"$f":"BetriebszweigAuswertung!C100","v":"Pachtansatz (eigenes Land)"},{"$f":"HLOOKUP($B$3,BetriebszweigAuswertung!$E$3:$K$121,ROW(C98),FALSE)","v":0},{"$error":"#N/A"},{"$error":"#N/A"}]
[null,{"$f":"BetriebszweigAuswertung!C101","v":""},{"$f":"HLOOKUP($B$3,BetriebszweigAuswertung!$E$3:$K$121,ROW(C99),FALSE)","v":0},{"$error":"#N/A"},{"$error":"#N/A"}]
[null,{"$f":"BetriebszweigAuswertung!C102","v":""},{"$f":"HLOOKUP($B$3,BetriebszweigAuswertung!$E$3:$K$121,ROW(C100),FALSE)","v":0},{"$error":"#N/A"},{"$error":"#N/A"}]
[null,{"$f":"BetriebszweigAuswertung!C103","v":""},{"$f":"HLOOKUP($B$3,BetriebszweigAuswertung!$E$3:$K$121,ROW(C101),FALSE)","v":0},{"$error":"#N/A"},{"$error":"#N/A"}]
[null,{"$f":"BetriebszweigAuswertung!C104","v":""},{"$f":"HLOOKUP($B$3,BetriebszweigAuswertung!$E$3:$K$121,ROW(C102),FALSE)","v":0},{"$error":"#N/A"},{"$error":"#N/A"}]
[]
[null,{"$f":"BetriebszweigAuswertung!C106","v":"Zinsansatz Maschinen und Geräte"},{"$f":"HLOOKUP($B$3,BetriebszweigAuswertung!$E$3:$K$121,ROW(C104),FALSE)","v":0},{"$f":"IF(OR($C104=0,D$5=0),0,$C104/D$5)","v":{"$error":"#N/A"}},{"$error":"#N/A"}]
[null,{"$f":"BetriebszweigAuswertung!C107","v":"Zinsansatz Gebäude und bauliche Anlagen"},{"$f":"HLOOKUP($B$3,BetriebszweigAuswertung!$E$3:$K$121,ROW(C105),FALSE)","v":0},{"$error":"#N/A"},{"$error":"#N/A"}]
[null,{"$f":"BetriebszweigAuswertung!C108","v":"Zinsansatz Viehvermögen"},{"$f":"HLOOKUP($B$3,BetriebszweigAuswertung!$E$3:$K$121,ROW(C106),FALSE)","v":0},{"$error":"#N/A"},{"$error":"#N/A"}]
[null,{"$f":"BetriebszweigAuswertung!C109","v":"Zinsansatz Genossenschaftsanteile"},{"$f":"HLOOKUP($B$3,BetriebszweigAuswertung!$E$3:$K$121,ROW(C107),FALSE)","v":0},{"$error":"#N/A"},{"$error":"#N/A"}]
[null,{"$f":"BetriebszweigAuswertung!C110","v":""},{"$f":"HLOOKUP($B$3,BetriebszweigAuswertung!$E$3:$K$121,ROW(C108),FALSE)","v":0},{"$error":"#N/A"},{"$error":"#N/A"}]
[null,{"$f":"BetriebszweigAuswertung!C111","v":""},{"$f":"HLOOKUP($B$3,BetriebszweigAuswertung!$E$3:$K$121,ROW(C109),FALSE)","v":0},{"$error":"#N/A"},{"$error":"#N/A"}]
[null,{"$f":"BetriebszweigAuswertung!C112","v":""},{"$f":"HLOOKUP($B$3,BetriebszweigAuswertung!$E$3:$K$121,ROW(C110),FALSE)","v":0},{"$error":"#N/A"},{"$error":"#N/A"}]
[]
[null,{"$f":"BetriebszweigAuswertung!C114","v":""},{"$f":"HLOOKUP($B$3,BetriebszweigAuswertung!$E$3:$K$121,ROW(C112),FALSE)","v":0},{"$f":"IF(OR($C112=0,D$5=0),0,$C112/D$5)","v":{"$error":"#N/A"}},{"$error":"#N/A"}]
[null,{"$f":"BetriebszweigAuswertung!C115","v":""},{"$f":"HLOOKUP($B$3,BetriebszweigAuswertung!$E$3:$K$121,ROW(C113),FALSE)","v":0},{"$error":"#N/A"},{"$error":"#N/A"}]
[null,{"$f":"BetriebszweigAuswertung!C116","v":""},{"$f":"HLOOKUP($B$3,BetriebszweigAuswertung!$E$3:$K$121,ROW(C114),FALSE)","v":0},{"$error":"#N/A"},{"$error":"#N/A"}]
[null,{"$f":"BetriebszweigAuswertung!C117","v":""},{"$f":"HLOOKUP($B$3,BetriebszweigAuswertung!$E$3:$K$121,ROW(C115),FALSE)","v":0},{"$error":"#N/A"},{"$error":"#N/A"}]
[null,{"$f":"BetriebszweigAuswertung!C118","v":""},{"$f":"HLOOKUP($B$3,BetriebszweigAuswertung!$E$3:$K$121,ROW(C116),FALSE)","v":0},{"$error":"#N/A"},{"$error":"#N/A"}]
[null,{"$f":"BetriebszweigAuswertung!C119","v":""},{"$f":"HLOOKUP($B$3,BetriebszweigAuswertung!$E$3:$K$121,ROW(C117),FALSE)","v":0},{"$error":"#N/A"},{"$error":"#N/A"}]
[null,{"$f":"IF(WurzelBZweige!$AV116=\"\",\"\",WurzelBZweige!AV116)","v":"Summe Faktorkosten"},{"$f":"HLOOKUP($B$3,BetriebszweigAuswertung!$E$3:$K$121,ROW(C118),FALSE)","v":0},{"$f":"IF(OR($C118=\"\",D$5=0),0,$C118/D$5)","v":{"$error":"#N/A"}},{"$f":"IF(OR($C118=0,E$5=0),0,$C118/E$5)","v":{"$error":"#N/A"}}]
[null,"Kalkulatorisches Betriebszweigergebnis",{"$f":"C88-C118","v":0},{"$f":"D88-D118","v":{"$error":"#N/A"}},{"$f":"E88-E118","v":{"$error":"#N/A"}}]
[null,"Gesamtleistungen",{"$f":"C37+C87","v":0},{"$f":"IF(OR($C120=0,D$5=0),0,$C120/D$5)","v":{"$error":"#N/A"}},{"$error":"#N/A"}]
[null,"Gesamtkosten",{"$f":"C61+C81+C118","v":0},{"$error":"#N/A"},{"$error":"#N/A"}]
[null,"Variable Kosten",{"$f":"+C61+C65+C67+C69+C66+C70+C68","v":0},{"$error":"#N/A"},{"$error":"#N/A"}]
[null,"Pagatorische Kosten",{"$f":"+C61+C81+C91+C97+C112+C113+C92","v":0},{"$error":"#N/A"},{"$error":"#N/A"}]
[null,"Kalkulatorische Kosten",{"$f":"+C90+C98+C104+C105+C99+C106+C107+C114+C117","v":0},{"$error":"#N/A"},{"$error":"#N/A"}]
[null,"Gebäudekosten",{"$f":"+C72+C74+C105","v":0},{"$error":"#N/A"},{"$error":"#N/A"}]
[null,"Abschreibungsgrad Gebäude (%)",{"$f":"1-Gebäude!G165/Gebäude!G161","v":{"$error":"#DIV/0!"}},{"$f":"C126","v":{"$error":"#DIV/0!"}},{"$f":"C126","v":{"$error":"#DIV/0!"}}]
[null,"Maschinenkosten inkl. MR ",{"$f":"+C71+C65+C66+C67+C68+C104","v":0},{"$f":"IF(OR($C127=0,D$5=0),0,$C127/D$5)","v":{"$error":"#N/A"}},{"$f":"IF(OR($C127=0,E$5=0),0,$C127/E$5)","v":{"$error":"#N/A"}}]
[null,"Abschreibungsgrad Maschinen (%)",{"$f":"1-Maschinen!G165/Maschinen!G163","v":{"$error":"#DIV/0!"}},{"$f":"C128","v":{"$error":"#DIV/0!"}},{"$f":"C128","v":{"$error":"#DIV/0!"}}]
[null,"Arbeitserledigungskosten",{"$f":"C127+C90+C91+C92","v":0},{"$f":"IF(OR($C129=0,D$5=0),0,$C129/D$5)","v":{"$error":"#N/A"}},{"$error":"#N/A"}]
[null,"Deckungsbeitrag",{"$f":"+C37-C122","v":0},{"$error":"#N/A"},{"$error":"#N/A"}]
[null,"Beitrag zu den Einkünften",{"$f":"+C88-C92-C97-C112-C113","v":0},{"$error":"#N/A"},{"$error":"#N/A"}]
[null,"Beitrag zu den Einkünften je AKh (EUR)",{"$f":"+C131/C135","v":{"$error":"#DIV/0!"}},{"$f":"C132","v":{"$error":"#DIV/0!"}},{"$f":"C132","v":{"$error":"#DIV/0!"}}]
[null,"Arbeitsertrag",{"$f":"C119+C90","v":0},{"$f":"IF(OR($C133=0,D$5=0),0,$C133/D$5)","v":{"$error":"#N/A"}},{"$f":"IF(OR($C133=0,E$5=0),0,$C133/E$5)","v":{"$error":"#N/A"}}]
[null,"Arbeitsertrag je AKh (EUR)",{"$f":"+(C119+C90)/C135","v":{"$error":"#DIV/0!"}},{"$f":"C134","v":{"$error":"#DIV/0!"}},{"$f":"C134","v":{"$error":"#DIV/0!"}}]
[null,"Arbeitszeit",{"$f":"HLOOKUP($B$3,BetriebszweigAuswertung!$E$3:$K$147,138,FALSE)","v":0},{"$f":"IF(OR($C135=0,D$5=0),0,$C135/D$5)","v":{"$error":"#N/A"}},{"$f":"IF(OR($C135=0,E$5=0),0,$C135/E$5)","v":{"$error":"#N/A"}}]
[null,"Kapitalrentabilität (%)",{"$f":"(C119+(C104+C105+C106+C107+C114+C117))/((C104+C105+C106+C107+C114+C117)/Zinssatz)","v":{"$error":"#DIV/0!"}},{"$f":"C136","v":{"$error":"#DIV/0!"}},{"$f":"C136","v":{"$error":"#DIV/0!"}}]
[null,"Kostendeckungspunkt 1",{"$f":"C123-C87-C12-C13-C16-C18-C22-C27-C36-C28-C32","v":0},{"$f":"IF(OR($C137=0,D$5=0),0,$C137/D$5)","v":{"$error":"#N/A"}},{"$f":"IF(OR($C137=0,E$5=0),0,$C137/E$5)","v":{"$error":"#N/A"}}]
[null,"Kostendeckungspunkt 2",{"$f":"C121-C87-C12-C13-C16-C18-C22-C27-C36-C28-C32","v":0},{"$f":"IF(OR($C138=0,D$5=0),0,$C138/D$5)","v":{"$error":"#N/A"}},{"$f":"IF(OR($C138=0,E$5=0),0,$C138/E$5)","v":{"$error":"#N/A"}}]

{"sheet":"BZA3","index":14,"n_rows":138,"n_cols":7,"rows_kept":138,"cut":false,"hidden":false,"merged":[[2,2,3,2],[2,1,3,1]]}
[null,null,null,null,"Menü"]
[null,{"$f":"VLOOKUP(B3,ExpNameListe,3,FALSE)","v":{"$error":"#N/A"}},{"$f":"$B$3","v":0},{"$f":"$B$3","v":0},{"$f":"$B$3","v":0}]
[null,{"$f":"_Zw3","v":0},{"$f":"\"Summe des Betriebszweiges \"&YEAR(WirtschaftsjahrAnfang)","v":"Summe des Betriebszweiges 2021"},{"$f":"AKNr","v":1},{"$f":"AKNr","v":1}]
[null,null,null,{"$f":"\"€ je \"&VLOOKUP($B$3,Einheitsliste,2,FALSE)","v":{"$error":"#N/A"}},{"$f":"VLOOKUP($B$3,Einheitsliste,6,FALSE)&VLOOKUP($B$3,Einheitsliste,4,FALSE)","v":{"$error":"#N/A"}},null,"Anmerkungen"]
[null,null,null,{"$f":"VLOOKUP($B$3,Einheitsliste,3,FALSE)","v":{"$error":"#N/A"}},{"$f":"VLOOKUP($B$3,Einheitsliste,7,FALSE)","v":{"$error":"#N/A"}}]
[null,"\nDirektleistungen",null,{"$f":"VLOOKUP($B$3,Einheitsliste,3,FALSE)&\" \"&VLOOKUP($B$3,Einheitsliste,2,FALSE)","v":{"$error":"#N/A"}},{"$f":"VLOOKUP($B$3,Einheitsliste,5,FALSE)&\" \"&VLOOKUP($B$3,Einheitsliste,4,FALSE)","v":{"$error":"#N/A"}}]
[null,{"$f":"BetriebszweigAuswertung!C8","v":""},{"$f":"HLOOKUP($B$3,BetriebszweigAuswertung!$E$3:$K$121,ROW(B6),FALSE)","v":0},{"$f":"IF(OR($C7=0,D$5=0),0,$C7/D$5)","v":{"$error":"#N/A"}},{"$error":"#N/A"}]
[null,{"$f":"BetriebszweigAuswertung!C9","v":""},{"$f":"HLOOKUP($B$3,BetriebszweigAuswertung!$E$3:$K$121,ROW(B7),FALSE)","v":0},{"$error":"#N/A"},{"$error":"#N/A"}]
[null,{"$f":"BetriebszweigAuswertung!C10","v":""},{"$f":"HLOOKUP($B$3,BetriebszweigAuswertung!$E$3:$K$121,ROW(B8),FALSE)","v":0},{"$error":"#N/A"},{"$error":"#N/A"}]
[null,{"$f":"BetriebszweigAuswertung!C11","v":""},{"$f":"HLOOKUP($B$3,BetriebszweigAuswertung!$E$3:$K$121,ROW(B9),FALSE)","v":0},{"$error":"#N/A"},{"$error":"#N/A"}]
[null,{"$f":"BetriebszweigAuswertung!C12","v":""},{"$f":"HLOOKUP($B$3,BetriebszweigAuswertung!$E$3:$K$121,ROW(B10),FALSE)","v":0},{"$error":"#N/A"},{"$error":"#N/A"}]
[null,{"$f":"BetriebszweigAuswertung!C13","v":""},{"$f":"HLOOKUP($B$3,BetriebszweigAuswertung!$E$3:$K$121,ROW(B11),FALSE)","v":0},{"$error":"#N/A"},{"$error":"#N/A"}]
[null,{"$f":"BetriebszweigAuswertung!C14","v":""},{"$f":"HLOOKUP($B$3,BetriebszweigAuswertung!$E$3:$K$121,ROW(B12),FALSE)","v":0},{"$error":"#N/A"},{"$error":"#N/A"}]
[null,{"$f":"BetriebszweigAuswertung!C15","v":""},{"$f":"HLOOKUP($B$3,BetriebszweigAuswertung!$E$3:$K$121,ROW(B13),FALSE)","v":0},{"$error":"#N/A"},{"$error":"#N/A"}]
[null,{"$f":"BetriebszweigAuswertung!C16","v":""},{"$f":"HLOOKUP($B$3,BetriebszweigAuswertung!$E$3:$K$121,ROW(B14),FALSE)","v":0},{"$error":"#N/A"},{"$error":"#N/A"}]
[null,{"$f":"BetriebszweigAuswertung!C17","v":""},{"$f":"HLOOKUP($B$3,BetriebszweigAuswertung!$E$3:$K$121,ROW(B15),FALSE)","v":0},{"$error":"#N/A"},{"$error":"#N/A"}]
[null,{"$f":"BetriebszweigAuswertung!C18","v":""},{"$f":"HLOOKUP($B$3,BetriebszweigAuswertung!$E$3:$K$121,ROW(B16),FALSE)","v":0},{"$error":"#N/A"},{"$error":"#N/A"}]
[null,{"$f":"BetriebszweigAuswertung!C19","v":""},{"$f":"HLOOKUP($B$3,BetriebszweigAuswertung!$E$3:$K$121,ROW(B17),FALSE)","v":0},{"$error":"#N/A"},{"$error":"#N/A"}]
[null,{"$f":"BetriebszweigAuswertung!C20","v":""},{"$f":"HLOOKUP($B$3,BetriebszweigAuswertung!$E$3:$K$121,ROW(B18),FALSE)","v":0},{"$error":"#N/A"},{"$error":"#N/A"}]
[null,{"$f":"BetriebszweigAuswertung!C21","v":""},{"$f":"HLOOKUP($B$3,BetriebszweigAuswertung!$E$3:$K$121,ROW(B19),FALSE)","v":0},{"$error":"#N/A"},{"$error":"#N/A"}]
[null,{"$f":"BetriebszweigAuswertung!C22","v":""},{"$f":"HLOOKUP($B$3,BetriebszweigAuswertung!$E$3:$K$121,ROW(B20),FALSE)","v":0},{"$error":"#N/A"},{"$error":"#N/A"}]
[null,{"$f":"BetriebszweigAuswertung!C23","v":""},{"$f":"HLOOKUP($B$3,BetriebszweigAuswertung!$E$3:$K$121,ROW(B21),FALSE)","v":0},{"$error":"#N/A"},{"$error":"#N/A"}]
[null,{"$f":"BetriebszweigAuswertung!C24","v":""},{"$f":"HLOOKUP($B$3,BetriebszweigAuswertung!$E$3:$K$121,ROW(B22),FALSE)","v":0},{"$error":"#N/A"},{"$error":"#N/A"}]
[null,{"$f":"BetriebszweigAuswertung!C25","v":""},{"$f":"HLOOKUP($B$3,BetriebszweigAuswertung!$E$3:$K$121,ROW(B23),FALSE)","v":0},{"$error":"#N/A"},{"$error":"#N/A"}]
[null,{"$f":"BetriebszweigAuswertung!C26","v":""},{"$f":"HLOOKUP($B$3,BetriebszweigAuswertung!$E$3:$K$121,ROW(B24),FALSE)","v":0},{"$error":"#N/A"},{"$error":"#N/A"}]
[null,{"$f":"BetriebszweigAuswertung!C27","v":""},{"$f":"HLOOKUP($B$3,BetriebszweigAuswertung!$E$3:$K$121,ROW(B25),FALSE)","v":0},{"$error":"#N/A"},{"$error":"#N/A"}]
[null,{"$f":"BetriebszweigAuswertung!C28","v":""},{"$f":"HLOOKUP($B$3,BetriebszweigAuswertung!$E$3:$K$121,ROW(B26),FALSE)","v":0},{"$error":"#N/A"},{"$error":"#N/A"}]
[null,{"$f":"BetriebszweigAuswertung!C29","v":"Sonstige Leistungen "},{"$f":"HLOOKUP($B$3,BetriebszweigAuswertung!$E$3:$K$121,ROW(B27),FALSE)","v":0},{"$error":"#N/A"},{"$error":"#N/A"}]
[null,{"$f":"BetriebszweigAuswertung!C30","v":""},{"$f":"HLOOKUP($B$3,BetriebszweigAuswertung!$E$3:$K$121,ROW(B28),FALSE)","v":0},{"$error":"#N/A"},{"$error":"#N/A"}]
[null,{"$f":"BetriebszweigAuswertung!C31","v":""},{"$f":"HLOOKUP($B$3,BetriebszweigAuswertung!$E$3:$K$121,ROW(B29),FALSE)","v":0},{"$error":"#N/A"},{"$error":"#N/A"}]
[null,{"$f":"BetriebszweigAuswertung!C32","v":""},{"$f":"HLOOKUP($B$3,BetriebszweigAuswertung!$E$3:$K$121,ROW(B30),FALSE)","v":0},{"$error":"#N/A"},{"$error":"#N/A"}]
[null,{"$f":"BetriebszweigAuswertung!C33","v":""},{"$f":"HLOOKUP($B$3,BetriebszweigAuswertung!$E$3:$K$121,ROW(B31),FALSE)","v":0},{"$error":"#N/A"},{"$error":"#N/A"}]
[null,{"$f":"BetriebszweigAuswertung!C34","v":""},{"$f":"HLOOKUP($B$3,BetriebszweigAuswertung!$E$3:$K$121,ROW(B32),FALSE)","v":0},{"$error":"#N/A"},{"$error":"#N/A"}]
[null,{"$f":"BetriebszweigAuswertung!C35","v":""},{"$f":"HLOOKUP($B$3,BetriebszweigAuswertung!$E$3:$K$121,ROW(B33),FALSE)","v":0},{"$error":"#N/A"},{"$error":"#N/A"}]
[null,{"$f":"BetriebszweigAuswertung!C36","v":""},{"$f":"HLOOKUP($B$3,BetriebszweigAuswertung!$E$3:$K$121,ROW(B34),FALSE)","v":0},{"$error":"#N/A"},{"$error":"#N/A"}]
[null,{"$f":"BetriebszweigAuswertung!C37","v":"Wirtschaftsdünger innerbetrieblich"},{"$f":"HLOOKUP($B$3,BetriebszweigAuswertung!$E$3:$K$121,ROW(B35),FALSE)","v":0},{"$error":"#N/A"},{"$error":"#N/A"}]
[null,"Summe Direktleistungen",{"$f":"HLOOKUP($B$3,BetriebszweigAuswertung!$E$3:$K$121,ROW(B36),FALSE)","v":0},{"$f":"IF(OR($C37=\"\",D$5=0),0,$C37/D$5)","v":{"$error":"#N/A"}},{"$f":"IF(OR($C37=0,E$5=0),0,$C37/E$5)","v":{"$error":"#N/A"}}]
[null,"Direktkosten ",null,"."]
[null,{"$f":"BetriebszweigAuswertung!C40","v":"Saatgut"},{"$f":"HLOOKUP($B$3,BetriebszweigAuswertung!$E$3:$K$121,ROW(C38),FALSE)","v":0},{"$f":"IF(OR($C39=0,D$5=0),0,$C39/D$5)","v":{"$error":"#N/A"}},{"$error":"#N/A"}]
[null,{"$f":"BetriebszweigAuswertung!C41","v":""},{"$f":"HLOOKUP($B$3,BetriebszweigAuswertung!$E$3:$K$121,ROW(C39),FALSE)","v":0},{"$error":"#N/A"},{"$error":"#N/A"}]
[null,{"$f":"BetriebszweigAuswertung!C42","v":"Dünger (Wirtschaftsdünger + Handelsdünger)"},{"$f":"HLOOKUP($B$3,BetriebszweigAuswertung!$E$3:$K$121,ROW(C40),FALSE)","v":0},{"$error":"#N/A"},{"$error":"#N/A"}]
[null,{"$f":"BetriebszweigAuswertung!C43","v":"Pflanzenschutz"},{"$f":"HLOOKUP($B$3,BetriebszweigAuswertung!$E$3:$K$121,ROW(C41),FALSE)","v":0},{"$error":"#N/A"},{"$error":"#N/A"}]
[null,{"$f":"BetriebszweigAuswertung!C44","v":""},{"$f":"HLOOKUP($B$3,BetriebszweigAuswertung!$E$3:$K$121,ROW(C42),FALSE)","v":0},{"$error":"#N/A"},{"$error":"#N/A"}]
[null,{"$f":"BetriebszweigAuswertung!C45","v":""},{"$f":"HLOOKUP($B$3,BetriebszweigAuswertung!$E$3:$K$121,ROW(C43),FALSE)","v":0},{"$error":"#N/A"},{"$error":"#N/A"}]
[null,{"$f":"BetriebszweigAuswertung!C46","v":""},{"$f":"HLOOKUP($B$3,BetriebszweigAuswertung!$E$3:$K$121,ROW(C44),FALSE)","v":0},{"$error":"#N/A"},{"$error":"#N/A"}]
[null,{"$f":"BetriebszweigAuswertung!C47","v":""},{"$f":"HLOOKUP($B$3,BetriebszweigAuswertung!$E$3:$K$121,ROW(C45),FALSE)","v":0},{"$error":"#N/A"},{"$error":"#N/A"}]
[null,{"$f":"BetriebszweigAuswertung!C48","v":""},{"$f":"HLOOKUP($B$3,BetriebszweigAuswertung!$E$3:$K$121,ROW(C46),FALSE)","v":0},{"$error":"#N/A"},{"$error":"#N/A"}]
[null,{"$f":"BetriebszweigAuswertung!C49","v":""},{"$f":"HLOOKUP($B$3,BetriebszweigAuswertung!$E$3:$K$121,ROW(C47),FALSE)","v":0},{"$error":"#N/A"},{"$error":"#N/A"}]
[null,{"$f":"BetriebszweigAuswertung!C50","v":""},{"$f":"HLOOKUP($B$3,BetriebszweigAuswertung!$E$3:$K$121,ROW(C48),FALSE)","v":0},{"$error":"#N/A"},{"$error":"#N/A"}]
[null,{"$f":"BetriebszweigAuswertung!C51","v":""},{"$f":"HLOOKUP($B$3,BetriebszweigAuswertung!$E$3:$K$121,ROW(C49),FALSE)","v":0},{"$error":"#N/A"},{"$error":"#N/A"}]
[null,{"$f":"BetriebszweigAuswertung!C52","v":""},{"$f":"HLOOKUP($B$3,BetriebszweigAuswertung!$E$3:$K$121,ROW(C50),FALSE)","v":0},{"$error":"#N/A"},{"$error":"#N/A"}]
[null,{"$f":"BetriebszweigAuswertung!C53","v":""},{"$f":"HLOOKUP($B$3,BetriebszweigAuswertung!$E$3:$K$121,ROW(C51),FALSE)","v":0},{"$error":"#N/A"},{"$error":"#N/A"}]
[null,{"$f":"BetriebszweigAuswertung!C54","v":"Sonstige direkte Kosten"},{"$f":"HLOOKUP($B$3,BetriebszweigAuswertung!$E$3:$K$121,ROW(C52),FALSE)","v":0},{"$error":"#N/A"},{"$error":"#N/A"}]
[null,{"$f":"BetriebszweigAuswertung!C55","v":""},{"$f":"HLOOKUP($B$3,BetriebszweigAuswertung!$E$3:$K$121,ROW(C53),FALSE)","v":0},{"$error":"#N/A"},{"$error":"#N/A"}]
[null,{"$f":"BetriebszweigAuswertung!C56","v":""},{"$f":"HLOOKUP($B$3,BetriebszweigAuswertung!$E$3:$K$121,ROW(C54),FALSE)","v":0},{"$error":"#N/A"},{"$error":"#N/A"}]
[null,{"$f":"BetriebszweigAuswertung!C57","v":""},{"$f":"HLOOKUP($B$3,BetriebszweigAuswertung!$E$3:$K$121,ROW(C55),FALSE)","v":0},{"$error":"#N/A"},{"$error":"#N/A"}]
[null,{"$f":"BetriebszweigAuswertung!C58","v":""},{"$f":"HLOOKUP($B$3,BetriebszweigAuswertung!$E$3:$K$121,ROW(C56),FALSE)","v":0},{"$error":"#N/A"},{"$error":"#N/A"}]
[null,{"$f":"BetriebszweigAuswertung!C59","v":""},{"$f":"HLOOKUP($B$3,BetriebszweigAuswertung!$E$3:$K$121,ROW(C57),FALSE)","v":0},{"$error":"#N/A"},{"$error":"#N/A"}]
[null,{"$f":"BetriebszweigAuswertung!C60","v":""},{"$f":"HLOOKUP($B$3,BetriebszweigAuswertung!$E$3:$K$121,ROW(C58),FALSE)","v":0},{"$error":"#N/A"},{"$error":"#N/A"}]
[null,{"$f":"BetriebszweigAuswertung!C61","v":""},{"$f":"HLOOKUP($B$3,BetriebszweigAuswertung!$E$3:$K$121,ROW(C59),FALSE)","v":0},{"$error":"#N/A"},{"$error":"#N/A"}]
[null,"Summe Direktkosten",{"$f":"HLOOKUP($B$3,BetriebszweigAuswertung!$E$3:$K$121,ROW(C60),FALSE)","v":0},{"$f":"IF(OR($C61=\"\",D$5=0),0,$C61/D$5)","v":{"$error":"#N/A"}},{"$f":"IF(OR($C61=0,E$5=0),0,$C61/E$5)","v":{"$error":"#N/A"}}]
[null,"Direktkostenfreie Leistungen",{"$f":"C37-C61","v":0},{"$f":"D37-D61","v":{"$error":"#N/A"}},{"$f":"E37-E61","v":{"$error":"#N/A"}}]
[null,"Übrige Vorleistungskosten",null,"."]
[null,{"$f":"BetriebszweigAuswertung!C65","v":"Betriebs- und Reparaturkosten Maschinen"}]
[null,{"$f":"BetriebszweigAuswertung!C66","v":"Treibstoffe"},{"$f":"HLOOKUP($B$3,BetriebszweigAuswertung!$E$3:$K$121,ROW(C64),FALSE)","v":0},{"$f":"IF(OR($C65=0,D$5=0),0,$C65/D$5)","v":{"$error":"#N/A"}},{"$error":"#N/A"}]
[null,{"$f":"BetriebszweigAuswertung!C67","v":""},{"$f":"HLOOKUP($B$3,BetriebszweigAuswertung!$E$3:$K$121,ROW(C65),FALSE)","v":0},{"$error":"#N/A"},{"$error":"#N/A"}]
[null,{"$f":"BetriebszweigAuswertung!C68","v":"Reparatur und Instandhaltung Maschinen"},{"$f":"HLOOKUP($B$3,BetriebszweigAuswertung!$E$3:$K$121,ROW(C66),FALSE)","v":0},{"$error":"#N/A"},{"$error":"#N/A"}]
[null,{"$f":"BetriebszweigAuswertung!C69","v":"Lohnmaschinen, Maschinenring"},{"$f":"HLOOKUP($B$3,BetriebszweigAuswertung!$E$3:$K$121,ROW(C67),FALSE)","v":0},{"$error":"#N/A"},{"$error":"#N/A"}]
[null,{"$f":"BetriebszweigAuswertung!C70","v":"Energie (Strom, Wärme)"},{"$f":"HLOOKUP($B$3,BetriebszweigAuswertung!$E$3:$K$121,ROW(C68),FALSE)","v":0},{"$error":"#N/A"},{"$error":"#N/A"}]
[null,{"$f":"BetriebszweigAuswertung!C71","v":"Wasser"},{"$f":"HLOOKUP($B$3,BetriebszweigAuswertung!$E$3:$K$121,ROW(C69),FALSE)","v":0},{"$error":"#N/A"},{"$error":"#N/A"}]
[null,{"$f":"BetriebszweigAuswertung!C72","v":"Abschreibung Maschinen und Geräte"},{"$f":"HLOOKUP($B$3,BetriebszweigAuswertung!$E$3:$K$121,ROW(C70),FALSE)","v":0},{"$error":"#N/A"},{"$error":"#N/A"}]
[null,{"$f":"BetriebszweigAuswertung!C73","v":"Abschreibung Gebäude und bauliche Anlagen"},{"$f":"HLOOKUP($B$3,BetriebszweigAuswertung!$E$3:$K$121,ROW(C71),FALSE)","v":0},{"$error":"#N/A"},{"$error":"#N/A"}]
[null,{"$f":"BetriebszweigAuswertung!C74","v":""},{"$f":"HLOOKUP($B$3,BetriebszweigAuswertung!$E$3:$K$121,ROW(C72),FALSE)","v":0},{"$error":"#N/A"},{"$error":"#N/A"}]
[null,{"$f":"BetriebszweigAuswertung!C75","v":"Instandhaltung Gebäude und bauliche Anlagen "},{"$f":"HLOOKUP($B$3,BetriebszweigAuswertung!$E$3:$K$121,ROW(C73),FALSE)","v":0},{"$error":"#N/A"},{"$error":"#N/A"}]
[null,{"$f":"BetriebszweigAuswertung!C76","v":"PKW - Betriebsanteil"},{"$f":"HLOOKUP($B$3,BetriebszweigAuswertung!$E$3:$K$121,ROW(C74),FALSE)","v":0},{"$error":"#N/A"},{"$error":"#N/A"}]
[null,{"$f":"BetriebszweigAuswertung!C77","v":"Sachversicherungen ohne Versicherung PKW"},{"$f":"HLOOKUP($B$3,BetriebszweigAuswertung!$E$3:$K$121,ROW(C75),FALSE)","v":0},{"$error":"#N/A"},{"$error":"#N/A"}]
[null,{"$f":"BetriebszweigAuswertung!C78","v":"Steuern, Betriebsabgaben "},{"$f":"HLOOKUP($B$3,BetriebszweigAuswertung!$E$3:$K$121,ROW(C76),FALSE)","v":0},{"$error":"#N/A"},{"$error":"#N/A"}]
[null,{"$f":"BetriebszweigAuswertung!C79","v":"Nur indirekt zuordenbare Mitgliedsbeiträge, Gebühren, Beratungs- und Weiterbildungskosten "},{"$f":"HLOOKUP($B$3,BetriebszweigAuswertung!$E$3:$K$121,ROW(C77),FALSE)","v":0},{"$error":"#N/A"},{"$error":"#N/A"}]
[null,{"$f":"BetriebszweigAuswertung!C80","v":"Allgemeine Verwaltungskosten und sonstige Vorleistungskosten"},{"$f":"HLOOKUP($B$3,BetriebszweigAuswertung!$E$3:$K$121,ROW(C78),FALSE)","v":0},{"$error":"#N/A"},{"$error":"#N/A"}]
[null,{"$f":"BetriebszweigAuswertung!C81","v":""},{"$f":"HLOOKUP($B$3,BetriebszweigAuswertung!$E$3:$K$121,ROW(C79),FALSE)","v":0},{"$error":"#N/A"},{"$error":"#N/A"}]
[null,"Summe übrige Vorleistungskosten",{"$f":"HLOOKUP($B$3,BetriebszweigAuswertung!$E$3:$K$121,ROW(C80),FALSE)","v":0},{"$f":"IF(OR($C81=\"\",D$5=0),0,$C81/D$5)","v":{"$error":"#N/A"}},{"$f":"IF(OR($C81=0,E$5=0),0,$C81/E$5)","v":{"$error":"#N/A"}}]
[null,"Gemeinleistungen",".","."]
[null,{"$f":"BetriebszweigAuswertung!C84","v":"Direktzahlungen"},{"$f":"HLOOKUP($B$3,BetriebszweigAuswertung!$E$3:$K$121,ROW(C82),FALSE)","v":0},{"$f":"IF(OR($C83=0,D$5=0),0,$C83/D$5)","v":{"$error":"#N/A"}},{"$error":"#N/A"}]
[null,{"$f":"BetriebszweigAuswertung!C85","v":"ÖPUL-Prämien"},{"$f":"HLOOKUP($B$3,BetriebszweigAuswertung!$E$3:$K$121,ROW(C83),FALSE)","v":0},{"$error":"#N/A"},{"$error":"#N/A"}]
[null,{"$f":"BetriebszweigAuswertung!C86","v":"Ausgleichszulage für benachteiligte Gebiete"},{"$f":"HLOOKUP($B$3,BetriebszweigAuswertung!$E$3:$K$121,ROW(C84),FALSE)","v":0},{"$error":"#N/A"},{"$error":"#N/A"}]
[null,{"$f":"BetriebszweigAuswertung!C87","v":"Sonstige Gemeinleistungen"},{"$f":"HLOOKUP($B$3,BetriebszweigAuswertung!$E$3:$K$121,ROW(C85),FALSE)","v":0},{"$error":"#N/A"},{"$error":"#N/A"}]
[null,"Summe Gemeinleistungen",{"$f":"HLOOKUP($B$3,BetriebszweigAuswertung!$E$3:$K$121,ROW(C86),FALSE)","v":0},{"$f":"IF(OR($C87=\"\",D$5=0),0,$C87/D$5)","v":{"$error":"#N/A"}},{"$f":"IF(OR($C87=0,E$5=0),0,$C87/E$5)","v":{"$error":"#N/A"}}]
[null,"Faktorentlohnung",{"$f":"C62-C81+C87","v":0},{"$f":"D62-D81+D87","v":{"$error":"#N/A"}},{"$f":"E62-E81+E87","v":{"$error":"#N/A"}}]
[null,"Faktorkosten",".","."]
[null,{"$f":"BetriebszweigAuswertung!C92","v":"Lohnansatz"},{"$f":"HLOOKUP($B$3,BetriebszweigAuswertung!$E$3:$K$121,ROW(C90),FALSE)","v":0},{"$f":"IF(OR($C90=0,D$5=0),0,$C90/D$5)","v":{"$error":"#N/A"}},{"$error":"#N/A"}]
[null,{"$f":"BetriebszweigAuswertung!C93","v":"Beiträge zur SVB"},{"$f":"HLOOKUP($B$3,BetriebszweigAuswertung!$E$3:$K$121,ROW(C91),FALSE)","v":0},{"$error":"#N/A"},{"$error":"#N/A"}]
[null,{"$f":"BetriebszweigAuswertung!C94","v":"Löhne"},{"$f":"HLOOKUP($B$3,BetriebszweigAuswertung!$E$3:$K$121,ROW(C92),FALSE)","v":0},{"$error":"#N/A"},{"$error":"#N/A"}]
[null,{"$f":"BetriebszweigAuswertung!C95","v":""},{"$f":"HLOOKUP($B$3,BetriebszweigAuswertung!$E$3:$K$121,ROW(C93),FALSE)","v":0},{"$error":"#N/A"},{"$error":"#N/A"}]
[null,{"$f":"BetriebszweigAuswertung!C96","v":""},{"$f":"HLOOKUP($B$3,BetriebszweigAuswertung!$E$3:$K$121,ROW(C94),FALSE)","v":0},{"$error":"#N/A"},{"$error":"#N/A"}]
[null,{"$f":"BetriebszweigAuswertung!C97","v":""},{"$f":"HLOOKUP($B$3,BetriebszweigAuswertung!$E$3:$K$121,ROW(C95),FALSE)","v":0},{"$error":"#N/A"},{"$error":"#N/A"}]
[]
[null,{"$f":"BetriebszweigAuswertung!C99","v":"Pachtkosten (Pachtland)"},{"$f":"HLOOKUP($B$3,BetriebszweigAuswertung!$E$3:$K$121,ROW(C97),FALSE)","v":0},{"$f":"IF(OR($C97=0,D$5=0),0,$C97/D$5)","v":{"$error":"#N/A"}},{"$error":"#N/A"}]
[null,{"$f":"BetriebszweigAuswertung!C100","v":"Pachtansatz (eigenes Land)"},{"$f":"HLOOKUP($B$3,BetriebszweigAuswertung!$E$3:$K$121,ROW(C98),FALSE)","v":0},{"$error":"#N/A"},{"$error":"#N/A"}]
[null,{"$f":"BetriebszweigAuswertung!C101","v":""},{"$f":"HLOOKUP($B$3,BetriebszweigAuswertung!$E$3:$K$121,ROW(C99),FALSE)","v":0},{"$error":"#N/A"},{"$error":"#N/A"}]
[null,{"$f":"BetriebszweigAuswertung!C102","v":""},{"$f":"HLOOKUP($B$3,BetriebszweigAuswertung!$E$3:$K$121,ROW(C100),FALSE)","v":0},{"$error":"#N/A"},{"$error":"#N/A"}]
[null,{"$f":"BetriebszweigAuswertung!C103","v":""},{"$f":"HLOOKUP($B$3,BetriebszweigAuswertung!$E$3:$K$121,ROW(C101),FALSE)","v":0},{"$error":"#N/A"},{"$error":"#N/A"}]
[null,{"$f":"BetriebszweigAuswertung!C104","v":""},{"$f":"HLOOKUP($B$3,BetriebszweigAuswertung!$E$3:$K$121,ROW(C102),FALSE)","v":0},{"$error":"#N/A"},{"$error":"#N/A"}]
[]
[null,{"$f":"BetriebszweigAuswertung!C106","v":"Zinsansatz Maschinen und Geräte"},{"$f":"HLOOKUP($B$3,BetriebszweigAuswertung!$E$3:$K$121,ROW(C104),FALSE)","v":0},{"$f":"IF(OR($C104=0,D$5=0),0,$C104/D$5)","v":{"$error":"#N/A"}},{"$error":"#N/A"}]
[null,{"$f":"BetriebszweigAuswertung!C107","v":"Zinsansatz Gebäude und bauliche Anlagen"},{"$f":"HLOOKUP($B$3,BetriebszweigAuswertung!$E$3:$K$121,ROW(C105),FALSE)","v":0},{"$error":"#N/A"},{"$error":"#N/A"}]
[null,{"$f":"BetriebszweigAuswertung!C108","v":"Zinsansatz Viehvermögen"},{"$f":"HLOOKUP($B$3,BetriebszweigAuswertung!$E$3:$K$121,ROW(C106),FALSE)","v":0},{"$error":"#N/A"},{"$error":"#N/A"}]
[null,{"$f":"BetriebszweigAuswertung!C109","v":"Zinsansatz Genossenschaftsanteile"},{"$f":"HLOOKUP($B$3,BetriebszweigAuswertung!$E$3:$K$121,ROW(C107),FALSE)","v":0},{"$error":"#N/A"},{"$error":"#N/A"}]
[null,{"$f":"BetriebszweigAuswertung!C110","v":""},{"$f":"HLOOKUP($B$3,BetriebszweigAuswertung!$E$3:$K$121,ROW(C108),FALSE)","v":0},{"$error":"#N/A"},{"$error":"#N/A"}]
[null,{"$f":"BetriebszweigAuswertung!C111","v":""},{"$f":"HLOOKUP($B$3,BetriebszweigAuswertung!$E$3:$K$121,ROW(C109),FALSE)","v":0},{"$error":"#N/A"},{"$error":"#N/A"}]
[null,{"$f":"BetriebszweigAuswertung!C112","v":""},{"$f":"HLOOKUP($B$3,BetriebszweigAuswertung!$E$3:$K$121,ROW(C110),FALSE)","v":0},{"$error":"#N/A"},{"$error":"#N/A"}]
[]
[null,{"$f":"BetriebszweigAuswertung!C114","v":""},{"$f":"HLOOKUP($B$3,BetriebszweigAuswertung!$E$3:$K$121,ROW(C112),FALSE)","v":0},{"$f":"IF(OR($C112=0,D$5=0),0,$C112/D$5)","v":{"$error":"#N/A"}},{"$error":"#N/A"}]
[null,{"$f":"BetriebszweigAuswertung!C115","v":""},{"$f":"HLOOKUP($B$3,BetriebszweigAuswertung!$E$3:$K$121,ROW(C113),FALSE)","v":0},{"$error":"#N/A"},{"$error":"#N/A"}]
[null,{"$f":"BetriebszweigAuswertung!C116","v":""},{"$f":"HLOOKUP($B$3,BetriebszweigAuswertung!$E$3:$K$121,ROW(C114),FALSE)","v":0},{"$error":"#N/A"},{"$error":"#N/A"}]
[null,{"$f":"BetriebszweigAuswertung!C117","v":""},{"$f":"HLOOKUP($B$3,BetriebszweigAuswertung!$E$3:$K$121,ROW(C115),FALSE)","v":0},{"$error":"#N/A"},{"$error":"#N/A"}]
[null,{"$f":"BetriebszweigAuswertung!C118","v":""},{"$f":"HLOOKUP($B$3,BetriebszweigAuswertung!$E$3:$K$121,ROW(C116),FALSE)","v":0},{"$error":"#N/A"},{"$error":"#N/A"}]
[null,{"$f":"BetriebszweigAuswertung!C119","v":""},{"$f":"HLOOKUP($B$3,BetriebszweigAuswertung!$E$3:$K$121,ROW(C117),FALSE)","v":0},{"$error":"#N/A"},{"$error":"#N/A"}]
[null,{"$f":"IF(WurzelBZweige!$AV116=\"\",\"\",WurzelBZweige!AV116)","v":"Summe Faktorkosten"},{"$f":"HLOOKUP($B$3,BetriebszweigAuswertung!$E$3:$K$121,ROW(C118),FALSE)","v":0},{"$f":"IF(OR($C118=\"\",D$5=0),0,$C118/D$5)","v":{"$error":"#N/A"}},{"$f":"IF(OR($C118=0,E$5=0),0,$C118/E$5)","v":{"$error":"#N/A"}}]
[null,"Kalkulatorisches Betriebszweigergebnis",{"$f":"C88-C118","v":0},{"$f":"D88-D118","v":{"$error":"#N/A"}},{"$f":"E88-E118","v":{"$error":"#N/A"}}]
[null,"Gesamtleistungen",{"$f":"C37+C87","v":0},{"$f":"IF(OR($C120=0,D$5=0),0,$C120/D$5)","v":{"$error":"#N/A"}},{"$error":"#N/A"}]
[null,"Gesamtkosten",{"$f":"C61+C81+C118","v":0},{"$error":"#N/A"},{"$error":"#N/A"}]
[null,"Variable Kosten",{"$f":"+C61+C65+C67+C69+C66+C70+C68","v":0},{"$error":"#N/A"},{"$error":"#N/A"}]
[null,"Pagatorische Kosten",{"$f":"+C61+C81+C91+C97+C112+C113+C92","v":0},{"$error":"#N/A"},{"$error":"#N/A"}]
[null,"Kalkulatorische Kosten",{"$f":"+C90+C98+C104+C105+C99+C106+C107+C114+C117","v":0},{"$error":"#N/A"},{"$error":"#N/A"}]
[null,"Gebäudekosten",{"$f":"+C72+C74+C105","v":0},{"$error":"#N/A"},{"$error":"#N/A"}]
[null,"Abschreibungsgrad Gebäude (%)",{"$f":"1-Gebäude!H165/Gebäude!H161","v":{"$error":"#DIV/0!"}},{"$f":"C126","v":{"$error":"#DIV/0!"}},{"$f":"C126","v":{"$error":"#DIV/0!"}}]
[null,"Maschinenkosten inkl. MR ",{"$f":"+C71+C65+C66+C67+C68+C104","v":0},{"$f":"IF(OR($C127=0,D$5=0),0,$C127/D$5)","v":{"$error":"#N/A"}},{"$f":"IF(OR($C127=0,E$5=0),0,$C127/E$5)","v":{"$error":"#N/A"}}]
[null,"Abschreibungsgrad Maschinen (%)",{"$f":"1-Maschinen!H165/Maschinen!H163","v":{"$error":"#DIV/0!"}},{"$f":"C128","v":{"$error":"#DIV/0!"}},{"$f":"C128","v":{"$error":"#DIV/0!"}}]
[null,"Arbeitserledigungskosten",{"$f":"C127+C90+C91+C92","v":0},{"$f":"IF(OR($C129=0,D$5=0),0,$C129/D$5)","v":{"$error":"#N/A"}},{"$error":"#N/A"}]
[null,"Deckungsbeitrag",{"$f":"+C37-C122","v":0},{"$error":"#N/A"},{"$error":"#N/A"}]
[null,"Beitrag zu den Einkünften",{"$f":"+C88-C92-C97-C112-C113","v":0},{"$error":"#N/A"},{"$error":"#N/A"}]
[null,"Beitrag zu den Einkünften je AKh (EUR)",{"$f":"+C131/C135","v":{"$error":"#DIV/0!"}},{"$f":"C132","v":{"$error":"#DIV/0!"}},{"$f":"C132","v":{"$error":"#DIV/0!"}}]
[null,"Arbeitsertrag",{"$f":"C119+C90","v":0},{"$f":"IF(OR($C133=0,D$5=0),0,$C133/D$5)","v":{"$error":"#N/A"}},{"$f":"IF(OR($C133=0,E$5=0),0,$C133/E$5)","v":{"$error":"#N/A"}}]
[null,"Arbeitsertrag je AKh (EUR)",{"$f":"+(C119+C90)/C135","v":{"$error":"#DIV/0!"}},{"$f":"C134","v":{"$error":"#DIV/0!"}},{"$f":"C134","v":{"$error":"#DIV/0!"}}]
[null,"Arbeitszeit",{"$f":"HLOOKUP($B$3,BetriebszweigAuswertung!$E$3:$K$147,138,FALSE)","v":0},{"$f":"IF(OR($C135=0,D$5=0),0,$C135/D$5)","v":{"$error":"#N/A"}},{"$f":"IF(OR($C135=0,E$5=0),0,$C135/E$5)","v":{"$error":"#N/A"}}]
[null,"Kapitalrentabilität (%)",{"$f":"(C119+(C104+C105+C106+C107+C114+C117))/((C104+C105+C106+C107+C114+C117)/Zinssatz)","v":{"$error":"#DIV/0!"}},{"$f":"C136","v":{"$error":"#DIV/0!"}},{"$f":"C136","v":{"$error":"#DIV/0!"}}]
[null,"Kostendeckungspunkt 1",{"$f":"C123-C87-C12-C13-C16-C18-C22-C27-C36-C28-C32","v":0},{"$f":"IF(OR($C137=0,D$5=0),0,$C137/D$5)","v":{"$error":"#N/A"}},{"$f":"IF(OR($C137=0,E$5=0),0,$C137/E$5)","v":{"$error":"#N/A"}}]
[null,"Kostendeckungspunkt 2",{"$f":"C121-C87-C12-C13-C16-C18-C22-C27-C36-C28-C32","v":0},{"$f":"IF(OR($C138=0,D$5=0),0,$C138/D$5)","v":{"$error":"#N/A"}},{"$f":"IF(OR($C138=0,E$5=0),0,$C138/E$5)","v":{"$error":"#N/A"}}]

{"sheet":"BZA4","index":15,"n_rows":138,"n_cols":7,"rows_kept":138,"cut":false,"hidden":false,"merged":[[2,2,3,2],[2,1,3,1]]}
[null,null,null,null,"Menü"]
[null,{"$f":"VLOOKUP(B3,ExpNameListe,3,FALSE)","v":{"$error":"#N/A"}},{"$f":"$B$3","v":0},{"$f":"$B$3","v":0},{"$f":"$B$3","v":0}]
[null,{"$f":"_Zw4","v":0},{"$f":"\"Summe des Betriebszweiges \"&YEAR(WirtschaftsjahrAnfang)","v":"Summe des Betriebszweiges 2021"},{"$f":"AKNr","v":1},{"$f":"AKNr","v":1}]
[null,null,null,{"$f":"\"€ je \"&VLOOKUP($B$3,Einheitsliste,2,FALSE)","v":{"$error":"#N/A"}},{"$f":"VLOOKUP($B$3,Einheitsliste,6,FALSE)&VLOOKUP($B$3,Einheitsliste,4,FALSE)","v":{"$error":"#N/A"}},null,"Anmerkungen"]
[null,null,null,{"$f":"VLOOKUP($B$3,Einheitsliste,3,FALSE)","v":{"$error":"#N/A"}},{"$f":"VLOOKUP($B$3,Einheitsliste,7,FALSE)","v":{"$error":"#N/A"}}]
[null,"\nDirektleistungen",null,{"$f":"VLOOKUP($B$3,Einheitsliste,3,FALSE)&\" \"&VLOOKUP($B$3,Einheitsliste,2,FALSE)","v":{"$error":"#N/A"}},{"$f":"VLOOKUP($B$3,Einheitsliste,5,FALSE)&\" \"&VLOOKUP($B$3,Einheitsliste,4,FALSE)","v":{"$error":"#N/A"}}]
[null,{"$f":"BetriebszweigAuswertung!C8","v":""},{"$f":"HLOOKUP($B$3,BetriebszweigAuswertung!$E$3:$K$121,ROW(B6),FALSE)","v":0},{"$f":"IF(OR($C7=0,D$5=0),0,$C7/D$5)","v":{"$error":"#N/A"}},{"$error":"#N/A"}]
[null,{"$f":"BetriebszweigAuswertung!C9","v":""},{"$f":"HLOOKUP($B$3,BetriebszweigAuswertung!$E$3:$K$121,ROW(B7),FALSE)","v":0},{"$error":"#N/A"},{"$error":"#N/A"}]
[null,{"$f":"BetriebszweigAuswertung!C10","v":""},{"$f":"HLOOKUP($B$3,BetriebszweigAuswertung!$E$3:$K$121,ROW(B8),FALSE)","v":0},{"$error":"#N/A"},{"$error":"#N/A"}]
[null,{"$f":"BetriebszweigAuswertung!C11","v":""},{"$f":"HLOOKUP($B$3,BetriebszweigAuswertung!$E$3:$K$121,ROW(B9),FALSE)","v":0},{"$error":"#N/A"},{"$error":"#N/A"}]
[null,{"$f":"BetriebszweigAuswertung!C12","v":""},{"$f":"HLOOKUP($B$3,BetriebszweigAuswertung!$E$3:$K$121,ROW(B10),FALSE)","v":0},{"$error":"#N/A"},{"$error":"#N/A"}]
[null,{"$f":"BetriebszweigAuswertung!C13","v":""},{"$f":"HLOOKUP($B$3,BetriebszweigAuswertung!$E$3:$K$121,ROW(B11),FALSE)","v":0},{"$error":"#N/A"},{"$error":"#N/A"}]
[null,{"$f":"BetriebszweigAuswertung!C14","v":""},{"$f":"HLOOKUP($B$3,BetriebszweigAuswertung!$E$3:$K$121,ROW(B12),FALSE)","v":0},{"$error":"#N/A"},{"$error":"#N/A"}]
[null,{"$f":"BetriebszweigAuswertung!C15","v":""},{"$f":"HLOOKUP($B$3,BetriebszweigAuswertung!$E$3:$K$121,ROW(B13),FALSE)","v":0},{"$error":"#N/A"},{"$error":"#N/A"}]
[null,{"$f":"BetriebszweigAuswertung!C16","v":""},{"$f":"HLOOKUP($B$3,BetriebszweigAuswertung!$E$3:$K$121,ROW(B14),FALSE)","v":0},{"$error":"#N/A"},{"$error":"#N/A"}]
[null,{"$f":"BetriebszweigAuswertung!C17","v":""},{"$f":"HLOOKUP($B$3,BetriebszweigAuswertung!$E$3:$K$121,ROW(B15),FALSE)","v":0},{"$error":"#N/A"},{"$error":"#N/A"}]
[null,{"$f":"BetriebszweigAuswertung!C18","v":""},{"$f":"HLOOKUP($B$3,BetriebszweigAuswertung!$E$3:$K$121,ROW(B16),FALSE)","v":0},{"$error":"#N/A"},{"$error":"#N/A"}]
[null,{"$f":"BetriebszweigAuswertung!C19","v":""},{"$f":"HLOOKUP($B$3,BetriebszweigAuswertung!$E$3:$K$121,ROW(B17),FALSE)","v":0},{"$error":"#N/A"},{"$error":"#N/A"}]
[null,{"$f":"BetriebszweigAuswertung!C20","v":""},{"$f":"HLOOKUP($B$3,BetriebszweigAuswertung!$E$3:$K$121,ROW(B18),FALSE)","v":0},{"$error":"#N/A"},{"$error":"#N/A"}]
[null,{"$f":"BetriebszweigAuswertung!C21","v":""},{"$f":"HLOOKUP($B$3,BetriebszweigAuswertung!$E$3:$K$121,ROW(B19),FALSE)","v":0},{"$error":"#N/A"},{"$error":"#N/A"}]
[null,{"$f":"BetriebszweigAuswertung!C22","v":""},{"$f":"HLOOKUP($B$3,BetriebszweigAuswertung!$E$3:$K$121,ROW(B20),FALSE)","v":0},{"$error":"#N/A"},{"$error":"#N/A"}]
[null,{"$f":"BetriebszweigAuswertung!C23","v":""},{"$f":"HLOOKUP($B$3,BetriebszweigAuswertung!$E$3:$K$121,ROW(B21),FALSE)","v":0},{"$error":"#N/A"},{"$error":"#N/A"}]
[null,{"$f":"BetriebszweigAuswertung!C24","v":""},{"$f":"HLOOKUP($B$3,BetriebszweigAuswertung!$E$3:$K$121,ROW(B22),FALSE)","v":0},{"$error":"#N/A"},{"$error":"#N/A"}]
[null,{"$f":"BetriebszweigAuswertung!C25","v":""},{"$f":"HLOOKUP($B$3,BetriebszweigAuswertung!$E$3:$K$121,ROW(B23),FALSE)","v":0},{"$error":"#N/A"},{"$error":"#N/A"}]
[null,{"$f":"BetriebszweigAuswertung!C26","v":""},{"$f":"HLOOKUP($B$3,BetriebszweigAuswertung!$E$3:$K$121,ROW(B24),FALSE)","v":0},{"$error":"#N/A"},{"$error":"#N/A"}]
[null,{"$f":"BetriebszweigAuswertung!C27","v":""},{"$f":"HLOOKUP($B$3,BetriebszweigAuswertung!$E$3:$K$121,ROW(B25),FALSE)","v":0},{"$error":"#N/A"},{"$error":"#N/A"}]
[null,{"$f":"BetriebszweigAuswertung!C28","v":""},{"$f":"HLOOKUP($B$3,BetriebszweigAuswertung!$E$3:$K$121,ROW(B26),FALSE)","v":0},{"$error":"#N/A"},{"$error":"#N/A"}]
[null,{"$f":"BetriebszweigAuswertung!C29","v":"Sonstige Leistungen "},{"$f":"HLOOKUP($B$3,BetriebszweigAuswertung!$E$3:$K$121,ROW(B27),FALSE)","v":0},{"$error":"#N/A"},{"$error":"#N/A"}]
[null,{"$f":"BetriebszweigAuswertung!C30","v":""},{"$f":"HLOOKUP($B$3,BetriebszweigAuswertung!$E$3:$K$121,ROW(B28),FALSE)","v":0},{"$error":"#N/A"},{"$error":"#N/A"}]
[null,{"$f":"BetriebszweigAuswertung!C31","v":""},{"$f":"HLOOKUP($B$3,BetriebszweigAuswertung!$E$3:$K$121,ROW(B29),FALSE)","v":0},{"$error":"#N/A"},{"$error":"#N/A"}]
[null,{"$f":"BetriebszweigAuswertung!C32","v":""},{"$f":"HLOOKUP($B$3,BetriebszweigAuswertung!$E$3:$K$121,ROW(B30),FALSE)","v":0},{"$error":"#N/A"},{"$error":"#N/A"}]
[null,{"$f":"BetriebszweigAuswertung!C33","v":""},{"$f":"HLOOKUP($B$3,BetriebszweigAuswertung!$E$3:$K$121,ROW(B31),FALSE)","v":0},{"$error":"#N/A"},{"$error":"#N/A"}]
[null,{"$f":"BetriebszweigAuswertung!C34","v":""},{"$f":"HLOOKUP($B$3,BetriebszweigAuswertung!$E$3:$K$121,ROW(B32),FALSE)","v":0},{"$error":"#N/A"},{"$error":"#N/A"}]
[null,{"$f":"BetriebszweigAuswertung!C35","v":""},{"$f":"HLOOKUP($B$3,BetriebszweigAuswertung!$E$3:$K$121,ROW(B33),FALSE)","v":0},{"$error":"#N/A"},{"$error":"#N/A"}]
[null,{"$f":"BetriebszweigAuswertung!C36","v":""},{"$f":"HLOOKUP($B$3,BetriebszweigAuswertung!$E$3:$K$121,ROW(B34),FALSE)","v":0},{"$error":"#N/A"},{"$error":"#N/A"}]
[null,{"$f":"BetriebszweigAuswertung!C37","v":"Wirtschaftsdünger innerbetrieblich"},{"$f":"HLOOKUP($B$3,BetriebszweigAuswertung!$E$3:$K$121,ROW(B35),FALSE)","v":0},{"$error":"#N/A"},{"$error":"#N/A"}]
[null,"Summe Direktleistungen",{"$f":"HLOOKUP($B$3,BetriebszweigAuswertung!$E$3:$K$121,ROW(B36),FALSE)","v":0},{"$f":"IF(OR($C37=\"\",D$5=0),0,$C37/D$5)","v":{"$error":"#N/A"}},{"$f":"IF(OR($C37=0,E$5=0),0,$C37/E$5)","v":{"$error":"#N/A"}}]
[null,"Direktkosten ",null,"."]
[null,{"$f":"BetriebszweigAuswertung!C40","v":"Saatgut"},{"$f":"HLOOKUP($B$3,BetriebszweigAuswertung!$E$3:$K$121,ROW(C38),FALSE)","v":0},{"$f":"IF(OR($C39=0,D$5=0),0,$C39/D$5)","v":{"$error":"#N/A"}},{"$error":"#N/A"}]
[null,{"$f":"BetriebszweigAuswertung!C41","v":""},{"$f":"HLOOKUP($B$3,BetriebszweigAuswertung!$E$3:$K$121,ROW(C39),FALSE)","v":0},{"$error":"#N/A"},{"$error":"#N/A"}]
[null,{"$f":"BetriebszweigAuswertung!C42","v":"Dünger (Wirtschaftsdünger + Handelsdünger)"},{"$f":"HLOOKUP($B$3,BetriebszweigAuswertung!$E$3:$K$121,ROW(C40),FALSE)","v":0},{"$error":"#N/A"},{"$error":"#N/A"}]
[null,{"$f":"BetriebszweigAuswertung!C43","v":"Pflanzenschutz"},{"$f":"HLOOKUP($B$3,BetriebszweigAuswertung!$E$3:$K$121,ROW(C41),FALSE)","v":0},{"$error":"#N/A"},{"$error":"#N/A"}]
[null,{"$f":"BetriebszweigAuswertung!C44","v":""},{"$f":"HLOOKUP($B$3,BetriebszweigAuswertung!$E$3:$K$121,ROW(C42),FALSE)","v":0},{"$error":"#N/A"},{"$error":"#N/A"}]
[null,{"$f":"BetriebszweigAuswertung!C45","v":""},{"$f":"HLOOKUP($B$3,BetriebszweigAuswertung!$E$3:$K$121,ROW(C43),FALSE)","v":0},{"$error":"#N/A"},{"$error":"#N/A"}]
[null,{"$f":"BetriebszweigAuswertung!C46","v":""},{"$f":"HLOOKUP($B$3,BetriebszweigAuswertung!$E$3:$K$121,ROW(C44),FALSE)","v":0},{"$error":"#N/A"},{"$error":"#N/A"}]
[null,{"$f":"BetriebszweigAuswertung!C47","v":""},{"$f":"HLOOKUP($B$3,BetriebszweigAuswertung!$E$3:$K$121,ROW(C45),FALSE)","v":0},{"$error":"#N/A"},{"$error":"#N/A"}]
[null,{"$f":"BetriebszweigAuswertung!C48","v":""},{"$f":"HLOOKUP($B$3,BetriebszweigAuswertung!$E$3:$K$121,ROW(C46),FALSE)","v":0},{"$error":"#N/A"},{"$error":"#N/A"}]
[null,{"$f":"BetriebszweigAuswertung!C49","v":""},{"$f":"HLOOKUP($B$3,BetriebszweigAuswertung!$E$3:$K$121,ROW(C47),FALSE)","v":0},{"$error":"#N/A"},{"$error":"#N/A"}]
[null,{"$f":"BetriebszweigAuswertung!C50","v":""},{"$f":"HLOOKUP($B$3,BetriebszweigAuswertung!$E$3:$K$121,ROW(C48),FALSE)","v":0},{"$error":"#N/A"},{"$error":"#N/A"}]
[null,{"$f":"BetriebszweigAuswertung!C51","v":""},{"$f":"HLOOKUP($B$3,BetriebszweigAuswertung!$E$3:$K$121,ROW(C49),FALSE)","v":0},{"$error":"#N/A"},{"$error":"#N/A"}]
[null,{"$f":"BetriebszweigAuswertung!C52","v":""},{"$f":"HLOOKUP($B$3,BetriebszweigAuswertung!$E$3:$K$121,ROW(C50),FALSE)","v":0},{"$error":"#N/A"},{"$error":"#N/A"}]
[null,{"$f":"BetriebszweigAuswertung!C53","v":""},{"$f":"HLOOKUP($B$3,BetriebszweigAuswertung!$E$3:$K$121,ROW(C51),FALSE)","v":0},{"$error":"#N/A"},{"$error":"#N/A"}]
[null,{"$f":"BetriebszweigAuswertung!C54","v":"Sonstige direkte Kosten"},{"$f":"HLOOKUP($B$3,BetriebszweigAuswertung!$E$3:$K$121,ROW(C52),FALSE)","v":0},{"$error":"#N/A"},{"$error":"#N/A"}]
[null,{"$f":"BetriebszweigAuswertung!C55","v":""},{"$f":"HLOOKUP($B$3,BetriebszweigAuswertung!$E$3:$K$121,ROW(C53),FALSE)","v":0},{"$error":"#N/A"},{"$error":"#N/A"}]
[null,{"$f":"BetriebszweigAuswertung!C56","v":""},{"$f":"HLOOKUP($B$3,BetriebszweigAuswertung!$E$3:$K$121,ROW(C54),FALSE)","v":0},{"$error":"#N/A"},{"$error":"#N/A"}]
[null,{"$f":"BetriebszweigAuswertung!C57","v":""},{"$f":"HLOOKUP($B$3,BetriebszweigAuswertung!$E$3:$K$121,ROW(C55),FALSE)","v":0},{"$error":"#N/A"},{"$error":"#N/A"}]
[null,{"$f":"BetriebszweigAuswertung!C58","v":""},{"$f":"HLOOKUP($B$3,BetriebszweigAuswertung!$E$3:$K$121,ROW(C56),FALSE)","v":0},{"$error":"#N/A"},{"$error":"#N/A"}]
[null,{"$f":"BetriebszweigAuswertung!C59","v":""},{"$f":"HLOOKUP($B$3,BetriebszweigAuswertung!$E$3:$K$121,ROW(C57),FALSE)","v":0},{"$error":"#N/A"},{"$error":"#N/A"}]
[null,{"$f":"BetriebszweigAuswertung!C60","v":""},{"$f":"HLOOKUP($B$3,BetriebszweigAuswertung!$E$3:$K$121,ROW(C58),FALSE)","v":0},{"$error":"#N/A"},{"$error":"#N/A"}]
[null,{"$f":"BetriebszweigAuswertung!C61","v":""},{"$f":"HLOOKUP($B$3,BetriebszweigAuswertung!$E$3:$K$121,ROW(C59),FALSE)","v":0},{"$error":"#N/A"},{"$error":"#N/A"}]
[null,"Summe Direktkosten",{"$f":"HLOOKUP($B$3,BetriebszweigAuswertung!$E$3:$K$121,ROW(C60),FALSE)","v":0},{"$f":"IF(OR($C61=\"\",D$5=0),0,$C61/D$5)","v":{"$error":"#N/A"}},{"$f":"IF(OR($C61=0,E$5=0),0,$C61/E$5)","v":{"$error":"#N/A"}}]
[null,"Direktkostenfreie Leistungen",{"$f":"C37-C61","v":0},{"$f":"D37-D61","v":{"$error":"#N/A"}},{"$f":"E37-E61","v":{"$error":"#N/A"}}]
[null,"Übrige Vorleistungskosten",null,"."]
[null,{"$f":"BetriebszweigAuswertung!C65","v":"Betriebs- und Reparaturkosten Maschinen"}]
[null,{"$f":"BetriebszweigAuswertung!C66","v":"Treibstoffe"},{"$f":"HLOOKUP($B$3,BetriebszweigAuswertung!$E$3:$K$121,ROW(C64),FALSE)","v":0},{"$f":"IF(OR($C65=0,D$5=0),0,$C65/D$5)","v":{"$error":"#N/A"}},{"$error":"#N/A"}]
[null,{"$f":"BetriebszweigAuswertung!C67","v":""},{"$f":"HLOOKUP($B$3,BetriebszweigAuswertung!$E$3:$K$121,ROW(C65),FALSE)","v":0},{"$error":"#N/A"},{"$error":"#N/A"}]
[null,{"$f":"BetriebszweigAuswertung!C68","v":"Reparatur und Instandhaltung Maschinen"},{"$f":"HLOOKUP($B$3,BetriebszweigAuswertung!$E$3:$K$121,ROW(C66),FALSE)","v":0},{"$error":"#N/A"},{"$error":"#N/A"}]
[null,{"$f":"BetriebszweigAuswertung!C69","v":"Lohnmaschinen, Maschinenring"},{"$f":"HLOOKUP($B$3,BetriebszweigAuswertung!$E$3:$K$121,ROW(C67),FALSE)","v":0},{"$error":"#N/A"},{"$error":"#N/A"}]
[null,{"$f":"BetriebszweigAuswertung!C70","v":"Energie (Strom, Wärme)"},{"$f":"HLOOKUP($B$3,BetriebszweigAuswertung!$E$3:$K$121,ROW(C68),FALSE)","v":0},{"$error":"#N/A"},{"$error":"#N/A"}]
[null,{"$f":"BetriebszweigAuswertung!C71","v":"Wasser"},{"$f":"HLOOKUP($B$3,BetriebszweigAuswertung!$E$3:$K$121,ROW(C69),FALSE)","v":0},{"$error":"#N/A"},{"$error":"#N/A"}]
[null,{"$f":"BetriebszweigAuswertung!C72","v":"Abschreibung Maschinen und Geräte"},{"$f":"HLOOKUP($B$3,BetriebszweigAuswertung!$E$3:$K$121,ROW(C70),FALSE)","v":0},{"$error":"#N/A"},{"$error":"#N/A"}]
[null,{"$f":"BetriebszweigAuswertung!C73","v":"Abschreibung Gebäude und bauliche Anlagen"},{"$f":"HLOOKUP($B$3,BetriebszweigAuswertung!$E$3:$K$121,ROW(C71),FALSE)","v":0},{"$error":"#N/A"},{"$error":"#N/A"}]
[null,{"$f":"BetriebszweigAuswertung!C74","v":""},{"$f":"HLOOKUP($B$3,BetriebszweigAuswertung!$E$3:$K$121,ROW(C72),FALSE)","v":0},{"$error":"#N/A"},{"$error":"#N/A"}]
[null,{"$f":"BetriebszweigAuswertung!C75","v":"Instandhaltung Gebäude und bauliche Anlagen "},{"$f":"HLOOKUP($B$3,BetriebszweigAuswertung!$E$3:$K$121,ROW(C73),FALSE)","v":0},{"$error":"#N/A"},{"$error":"#N/A"}]
[null,{"$f":"BetriebszweigAuswertung!C76","v":"PKW - Betriebsanteil"},{"$f":"HLOOKUP($B$3,BetriebszweigAuswertung!$E$3:$K$121,ROW(C74),FALSE)","v":0},{"$error":"#N/A"},{"$error":"#N/A"}]
[null,{"$f":"BetriebszweigAuswertung!C77","v":"Sachversicherungen ohne Versicherung PKW"},{"$f":"HLOOKUP($B$3,BetriebszweigAuswertung!$E$3:$K$121,ROW(C75),FALSE)","v":0},{"$error":"#N/A"},{"$error":"#N/A"}]
[null,{"$f":"BetriebszweigAuswertung!C78","v":"Steuern, Betriebsabgaben "},{"$f":"HLOOKUP($B$3,BetriebszweigAuswertung!$E$3:$K$121,ROW(C76),FALSE)","v":0},{"$error":"#N/A"},{"$error":"#N/A"}]
[null,{"$f":"BetriebszweigAuswertung!C79","v":"Nur indirekt zuordenbare Mitgliedsbeiträge, Gebühren, Beratungs- und Weiterbildungskosten "},{"$f":"HLOOKUP($B$3,BetriebszweigAuswertung!$E$3:$K$121,ROW(C77),FALSE)","v":0},{"$error":"#N/A"},{"$error":"#N/A"}]
[null,{"$f":"BetriebszweigAuswertung!C80","v":"Allgemeine Verwaltungskosten und sonstige Vorleistungskosten"},{"$f":"HLOOKUP($B$3,BetriebszweigAuswertung!$E$3:$K$121,ROW(C78),FALSE)","v":0},{"$error":"#N/A"},{"$error":"#N/A"}]
[null,{"$f":"BetriebszweigAuswertung!C81","v":""},{"$f":"HLOOKUP($B$3,BetriebszweigAuswertung!$E$3:$K$121,ROW(C79),FALSE)","v":0},{"$error":"#N/A"},{"$error":"#N/A"}]
[null,"Summe übrige Vorleistungskosten",{"$f":"HLOOKUP($B$3,BetriebszweigAuswertung!$E$3:$K$121,ROW(C80),FALSE)","v":0},{"$f":"IF(OR($C81=\"\",D$5=0),0,$C81/D$5)","v":{"$error":"#N/A"}},{"$f":"IF(OR($C81=0,E$5=0),0,$C81/E$5)","v":{"$error":"#N/A"}}]
[null,"Gemeinleistungen",".","."]
[null,{"$f":"BetriebszweigAuswertung!C84","v":"Direktzahlungen"},{"$f":"HLOOKUP($B$3,BetriebszweigAuswertung!$E$3:$K$121,ROW(C82),FALSE)","v":0},{"$f":"IF(OR($C83=0,D$5=0),0,$C83/D$5)","v":{"$error":"#N/A"}},{"$error":"#N/A"}]
[null,{"$f":"BetriebszweigAuswertung!C85","v":"ÖPUL-Prämien"},{"$f":"HLOOKUP($B$3,BetriebszweigAuswertung!$E$3:$K$121,ROW(C83),FALSE)","v":0},{"$error":"#N/A"},{"$error":"#N/A"}]
[null,{"$f":"BetriebszweigAuswertung!C86","v":"Ausgleichszulage für benachteiligte Gebiete"},{"$f":"HLOOKUP($B$3,BetriebszweigAuswertung!$E$3:$K$121,ROW(C84),FALSE)","v":0},{"$error":"#N/A"},{"$error":"#N/A"}]
[null,{"$f":"BetriebszweigAuswertung!C87","v":"Sonstige Gemeinleistungen"},{"$f":"HLOOKUP($B$3,BetriebszweigAuswertung!$E$3:$K$121,ROW(C85),FALSE)","v":0},{"$error":"#N/A"},{"$error":"#N/A"}]
[null,"Summe Gemeinleistungen",{"$f":"HLOOKUP($B$3,BetriebszweigAuswertung!$E$3:$K$121,ROW(C86),FALSE)","v":0},{"$f":"IF(OR($C87=\"\",D$5=0),0,$C87/D$5)","v":{"$error":"#N/A"}},{"$f":"IF(OR($C87=0,E$5=0),0,$C87/E$5)","v":{"$error":"#N/A"}}]
[null,"Faktorentlohnung",{"$f":"C62-C81+C87","v":0},{"$f":"D62-D81+D87","v":{"$error":"#N/A"}},{"$f":"E62-E81+E87","v":{"$error":"#N/A"}}]
[null,"Faktorkosten",".","."]
[null,{"$f":"BetriebszweigAuswertung!C92","v":"Lohnansatz"},{"$f":"HLOOKUP($B$3,BetriebszweigAuswertung!$E$3:$K$121,ROW(C90),FALSE)","v":0},{"$f":"IF(OR($C90=0,D$5=0),0,$C90/D$5)","v":{"$error":"#N/A"}},{"$error":"#N/A"}]
[null,{"$f":"BetriebszweigAuswertung!C93","v":"Beiträge zur SVB"},{"$f":"HLOOKUP($B$3,BetriebszweigAuswertung!$E$3:$K$121,ROW(C91),FALSE)","v":0},{"$error":"#N/A"},{"$error":"#N/A"}]
[null,{"$f":"BetriebszweigAuswertung!C94","v":"Löhne"},{"$f":"HLOOKUP($B$3,BetriebszweigAuswertung!$E$3:$K$121,ROW(C92),FALSE)","v":0},{"$error":"#N/A"},{"$error":"#N/A"}]
[null,{"$f":"BetriebszweigAuswertung!C95","v":""},{"$f":"HLOOKUP($B$3,BetriebszweigAuswertung!$E$3:$K$121,ROW(C93),FALSE)","v":0},{"$error":"#N/A"},{"$error":"#N/A"}]
[null,{"$f":"BetriebszweigAuswertung!C96","v":""},{"$f":"HLOOKUP($B$3,BetriebszweigAuswertung!$E$3:$K$121,ROW(C94),FALSE)","v":0},{"$error":"#N/A"},{"$error":"#N/A"}]
[null,{"$f":"BetriebszweigAuswertung!C97","v":""},{"$f":"HLOOKUP($B$3,BetriebszweigAuswertung!$E$3:$K$121,ROW(C95),FALSE)","v":0},{"$error":"#N/A"},{"$error":"#N/A"}]
[]
[null,{"$f":"BetriebszweigAuswertung!C99","v":"Pachtkosten (Pachtland)"},{"$f":"HLOOKUP($B$3,BetriebszweigAuswertung!$E$3:$K$121,ROW(C97),FALSE)","v":0},{"$f":"IF(OR($C97=0,D$5=0),0,$C97/D$5)","v":{"$error":"#N/A"}},{"$error":"#N/A"}]
[null,{"$f":"BetriebszweigAuswertung!C100","v":"Pachtansatz (eigenes Land)"},{"$f":"HLOOKUP($B$3,BetriebszweigAuswertung!$E$3:$K$121,ROW(C98),FALSE)","v":0},{"$error":"#N/A"},{"$error":"#N/A"}]
[null,{"$f":"BetriebszweigAuswertung!C101","v":""},{"$f":"HLOOKUP($B$3,BetriebszweigAuswertung!$E$3:$K$121,ROW(C99),FALSE)","v":0},{"$error":"#N/A"},{"$error":"#N/A"}]
[null,{"$f":"BetriebszweigAuswertung!C102","v":""},{"$f":"HLOOKUP($B$3,BetriebszweigAuswertung!$E$3:$K$121,ROW(C100),FALSE)","v":0},{"$error":"#N/A"},{"$error":"#N/A"}]
[null,{"$f":"BetriebszweigAuswertung!C103","v":""},{"$f":"HLOOKUP($B$3,BetriebszweigAuswertung!$E$3:$K$121,ROW(C101),FALSE)","v":0},{"$error":"#N/A"},{"$error":"#N/A"}]
[null,{"$f":"BetriebszweigAuswertung!C104","v":""},{"$f":"HLOOKUP($B$3,BetriebszweigAuswertung!$E$3:$K$121,ROW(C102),FALSE)","v":0},{"$error":"#N/A"},{"$error":"#N/A"}]
[]
[null,{"$f":"BetriebszweigAuswertung!C106","v":"Zinsansatz Maschinen und Geräte"},{"$f":"HLOOKUP($B$3,BetriebszweigAuswertung!$E$3:$K$121,ROW(C104),FALSE)","v":0},{"$f":"IF(OR($C104=0,D$5=0),0,$C104/D$5)","v":{"$error":"#N/A"}},{"$error":"#N/A"}]
[null,{"$f":"BetriebszweigAuswertung!C107","v":"Zinsansatz Gebäude und bauliche Anlagen"},{"$f":"HLOOKUP($B$3,BetriebszweigAuswertung!$E$3:$K$121,ROW(C105),FALSE)","v":0},{"$error":"#N/A"},{"$error":"#N/A"}]
[null,{"$f":"BetriebszweigAuswertung!C108","v":"Zinsansatz Viehvermögen"},{"$f":"HLOOKUP($B$3,BetriebszweigAuswertung!$E$3:$K$121,ROW(C106),FALSE)","v":0},{"$error":"#N/A"},{"$error":"#N/A"}]
[null,{"$f":"BetriebszweigAuswertung!C109","v":"Zinsansatz Genossenschaftsanteile"},{"$f":"HLOOKUP($B$3,BetriebszweigAuswertung!$E$3:$K$121,ROW(C107),FALSE)","v":0},{"$error":"#N/A"},{"$error":"#N/A"}]
[null,{"$f":"BetriebszweigAuswertung!C110","v":""},{"$f":"HLOOKUP($B$3,BetriebszweigAuswertung!$E$3:$K$121,ROW(C108),FALSE)","v":0},{"$error":"#N/A"},{"$error":"#N/A"}]
[null,{"$f":"BetriebszweigAuswertung!C111","v":""},{"$f":"HLOOKUP($B$3,BetriebszweigAuswertung!$E$3:$K$121,ROW(C109),FALSE)","v":0},{"$error":"#N/A"},{"$error":"#N/A"}]
[null,{"$f":"BetriebszweigAuswertung!C112","v":""},{"$f":"HLOOKUP($B$3,BetriebszweigAuswertung!$E$3:$K$121,ROW(C110),FALSE)","v":0},{"$error":"#N/A"},{"$error":"#N/A"}]
[]
[null,{"$f":"BetriebszweigAuswertung!C114","v":""},{"$f":"HLOOKUP($B$3,BetriebszweigAuswertung!$E$3:$K$121,ROW(C112),FALSE)","v":0},{"$f":"IF(OR($C112=0,D$5=0),0,$C112/D$5)","v":{"$error":"#N/A"}},{"$error":"#N/A"}]
[null,{"$f":"BetriebszweigAuswertung!C115","v":""},{"$f":"HLOOKUP($B$3,BetriebszweigAuswertung!$E$3:$K$121,ROW(C113),FALSE)","v":0},{"$error":"#N/A"},{"$error":"#N/A"}]
[null,{"$f":"BetriebszweigAuswertung!C116","v":""},{"$f":"HLOOKUP($B$3,BetriebszweigAuswertung!$E$3:$K$121,ROW(C114),FALSE)","v":0},{"$error":"#N/A"},{"$error":"#N/A"}]
[null,{"$f":"BetriebszweigAuswertung!C117","v":""},{"$f":"HLOOKUP($B$3,BetriebszweigAuswertung!$E$3:$K$121,ROW(C115),FALSE)","v":0},{"$error":"#N/A"},{"$error":"#N/A"}]
[null,{"$f":"BetriebszweigAuswertung!C118","v":""},{"$f":"HLOOKUP($B$3,BetriebszweigAuswertung!$E$3:$K$121,ROW(C116),FALSE)","v":0},{"$error":"#N/A"},{"$error":"#N/A"}]
[null,{"$f":"BetriebszweigAuswertung!C119","v":""},{"$f":"HLOOKUP($B$3,BetriebszweigAuswertung!$E$3:$K$121,ROW(C117),FALSE)","v":0},{"$error":"#N/A"},{"$error":"#N/A"}]
[null,{"$f":"IF(WurzelBZweige!$AV116=\"\",\"\",WurzelBZweige!AV116)","v":"Summe Faktorkosten"},{"$f":"HLOOKUP($B$3,BetriebszweigAuswertung!$E$3:$K$121,ROW(C118),FALSE)","v":0},{"$f":"IF(OR($C118=\"\",D$5=0),0,$C118/D$5)","v":{"$error":"#N/A"}},{"$f":"IF(OR($C118=0,E$5=0),0,$C118/E$5)","v":{"$error":"#N/A"}}]
[null,"Kalkulatorisches Betriebszweigergebnis",{"$f":"C88-C118","v":0},{"$f":"D88-D118","v":{"$error":"#N/A"}},{"$f":"E88-E118","v":{"$error":"#N/A"}}]
[null,"Gesamtleistungen",{"$f":"C37+C87","v":0},{"$f":"IF(OR($C120=0,D$5=0),0,$C120/D$5)","v":{"$error":"#N/A"}},{"$error":"#N/A"}]
[null,"Gesamtkosten",{"$f":"C61+C81+C118","v":0},{"$error":"#N/A"},{"$error":"#N/A"}]
[null,"Variable Kosten",{"$f":"+C61+C65+C67+C69+C66+C70+C68","v":0},{"$error":"#N/A"},{"$error":"#N/A"}]
[null,"Pagatorische Kosten",{"$f":"+C61+C81+C91+C97+C112+C113+C92","v":0},{"$error":"#N/A"},{"$error":"#N/A"}]
[null,"Kalkulatorische Kosten",{"$f":"+C90+C98+C104+C105+C99+C106+C107+C114+C117","v":0},{"$error":"#N/A"},{"$error":"#N/A"}]
[null,"Gebäudekosten",{"$f":"+C72+C74+C105","v":0},{"$error":"#N/A"},{"$error":"#N/A"}]
[null,"Abschreibungsgrad Gebäude (%)",{"$f":"1-Gebäude!I165/Gebäude!I161","v":{"$error":"#DIV/0!"}},{"$f":"C126","v":{"$error":"#DIV/0!"}},{"$f":"C126","v":{"$error":"#DIV/0!"}}]
[null,"Maschinenkosten inkl. MR ",{"$f":"+C71+C65+C66+C67+C68+C104","v":0},{"$f":"IF(OR($C127=0,D$5=0),0,$C127/D$5)","v":{"$error":"#N/A"}},{"$f":"IF(OR($C127=0,E$5=0),0,$C127/E$5)","v":{"$error":"#N/A"}}]
[null,"Abschreibungsgrad Maschinen (%)",{"$f":"1-Maschinen!I165/Maschinen!I163","v":{"$error":"#DIV/0!"}},{"$f":"C128","v":{"$error":"#DIV/0!"}},{"$f":"C128","v":{"$error":"#DIV/0!"}}]
[null,"Arbeitserledigungskosten",{"$f":"C127+C90+C91+C92","v":0},{"$f":"IF(OR($C129=0,D$5=0),0,$C129/D$5)","v":{"$error":"#N/A"}},{"$error":"#N/A"}]
[null,"Deckungsbeitrag",{"$f":"+C37-C122","v":0},{"$error":"#N/A"},{"$error":"#N/A"}]
[null,"Beitrag zu den Einkünften",{"$f":"+C88-C92-C97-C112-C113","v":0},{"$error":"#N/A"},{"$error":"#N/A"}]
[null,"Beitrag zu den Einkünften je AKh (EUR)",{"$f":"+C131/C135","v":{"$error":"#DIV/0!"}},{"$f":"C132","v":{"$error":"#DIV/0!"}},{"$f":"C132","v":{"$error":"#DIV/0!"}}]
[null,"Arbeitsertrag",{"$f":"C119+C90","v":0},{"$f":"IF(OR($C133=0,D$5=0),0,$C133/D$5)","v":{"$error":"#N/A"}},{"$f":"IF(OR($C133=0,E$5=0),0,$C133/E$5)","v":{"$error":"#N/A"}}]
[null,"Arbeitsertrag je AKh (EUR)",{"$f":"+(C119+C90)/C135","v":{"$error":"#DIV/0!"}},{"$f":"C134","v":{"$error":"#DIV/0!"}},{"$f":"C134","v":{"$error":"#DIV/0!"}}]
[null,"Arbeitszeit",{"$f":"HLOOKUP($B$3,BetriebszweigAuswertung!$E$3:$K$147,138,FALSE)","v":0},{"$f":"IF(OR($C135=0,D$5=0),0,$C135/D$5)","v":{"$error":"#N/A"}},{"$f":"IF(OR($C135=0,E$5=0),0,$C135/E$5)","v":{"$error":"#N/A"}}]
[null,"Kapitalrentabilität (%)",{"$f":"(C119+(C104+C105+C106+C107+C114+C117))/((C104+C105+C106+C107+C114+C117)/Zinssatz)","v":{"$error":"#DIV/0!"}},{"$f":"C136","v":{"$error":"#DIV/0!"}},{"$f":"C136","v":{"$error":"#DIV/0!"}}]
[null,"Kostendeckungspunkt 1",{"$f":"C123-C87-C12-C13-C16-C18-C22-C27-C36-C28-C32","v":0},{"$f":"IF(OR($C137=0,D$5=0),0,$C137/D$5)","v":{"$error":"#N/A"}},{"$f":"IF(OR($C137=0,E$5=0),0,$C137/E$5)","v":{"$error":"#N/A"}}]
[null,"Kostendeckungspunkt 2",{"$f":"C121-C87-C12-C13-C16-C18-C22-C27-C36-C28-C32","v":0},{"$f":"IF(OR($C138=0,D$5=0),0,$C138/D$5)","v":{"$error":"#N/A"}},{"$f":"IF(OR($C138=0,E$5=0),0,$C138/E$5)","v":{"$error":"#N/A"}}]

{"sheet":"BZA5","index":16,"n_rows":138,"n_cols":7,"rows_kept":138,"cut":false,"hidden":false,"merged":[[2,2,3,2],[2,1,3,1]]}
[null,null,null,null,"Menü"]
[null,{"$f":"VLOOKUP(B3,ExpNameListe,3,FALSE)","v":{"$error":"#N/A"}},{"$f":"$B$3","v":0},{"$f":"$B$3","v":0},{"$f":"$B$3","v":0}]
[null,{"$f":"_Zw5","v":0},{"$f":"\"Summe des Betriebszweiges \"&YEAR(WirtschaftsjahrAnfang)","v":"Summe des Betriebszweiges 2021"},{"$f":"AKNr","v":1},{"$f":"AKNr","v":1}]
[null,null,null,{"$f":"\"€ je \"&VLOOKUP($B$3,Einheitsliste,2,FALSE)","v":{"$error":"#N/A"}},{"$f":"VLOOKUP($B$3,Einheitsliste,6,FALSE)&VLOOKUP($B$3,Einheitsliste,4,FALSE)","v":{"$error":"#N/A"}},null,"Anmerkungen"]
[null,null,null,{"$f":"VLOOKUP($B$3,Einheitsliste,3,FALSE)","v":{"$error":"#N/A"}},{"$f":"VLOOKUP($B$3,Einheitsliste,7,FALSE)","v":{"$error":"#N/A"}}]
[null,"\nDirektleistungen",null,{"$f":"VLOOKUP($B$3,Einheitsliste,3,FALSE)&\" \"&VLOOKUP($B$3,Einheitsliste,2,FALSE)","v":{"$error":"#N/A"}},{"$f":"VLOOKUP($B$3,Einheitsliste,5,FALSE)&\" \"&VLOOKUP($B$3,Einheitsliste,4,FALSE)","v":{"$error":"#N/A"}}]
[null,{"$f":"BetriebszweigAuswertung!C8","v":""},{"$f":"HLOOKUP($B$3,BetriebszweigAuswertung!$E$3:$K$121,ROW(B6),FALSE)","v":0},{"$f":"IF(OR($C7=0,D$5=0),0,$C7/D$5)","v":{"$error":"#N/A"}},{"$error":"#N/A"}]
[null,{"$f":"BetriebszweigAuswertung!C9","v":""},{"$f":"HLOOKUP($B$3,BetriebszweigAuswertung!$E$3:$K$121,ROW(B7),FALSE)","v":0},{"$error":"#N/A"},{"$error":"#N/A"}]
[null,{"$f":"BetriebszweigAuswertung!C10","v":""},{"$f":"HLOOKUP($B$3,BetriebszweigAuswertung!$E$3:$K$121,ROW(B8),FALSE)","v":0},{"$error":"#N/A"},{"$error":"#N/A"}]
[null,{"$f":"BetriebszweigAuswertung!C11","v":""},{"$f":"HLOOKUP($B$3,BetriebszweigAuswertung!$E$3:$K$121,ROW(B9),FALSE)","v":0},{"$error":"#N/A"},{"$error":"#N/A"}]
[null,{"$f":"BetriebszweigAuswertung!C12","v":""},{"$f":"HLOOKUP($B$3,BetriebszweigAuswertung!$E$3:$K$121,ROW(B10),FALSE)","v":0},{"$error":"#N/A"},{"$error":"#N/A"}]
[null,{"$f":"BetriebszweigAuswertung!C13","v":""},{"$f":"HLOOKUP($B$3,BetriebszweigAuswertung!$E$3:$K$121,ROW(B11),FALSE)","v":0},{"$error":"#N/A"},{"$error":"#N/A"}]
[null,{"$f":"BetriebszweigAuswertung!C14","v":""},{"$f":"HLOOKUP($B$3,BetriebszweigAuswertung!$E$3:$K$121,ROW(B12),FALSE)","v":0},{"$error":"#N/A"},{"$error":"#N/A"}]
[null,{"$f":"BetriebszweigAuswertung!C15","v":""},{"$f":"HLOOKUP($B$3,BetriebszweigAuswertung!$E$3:$K$121,ROW(B13),FALSE)","v":0},{"$error":"#N/A"},{"$error":"#N/A"}]
[null,{"$f":"BetriebszweigAuswertung!C16","v":""},{"$f":"HLOOKUP($B$3,BetriebszweigAuswertung!$E$3:$K$121,ROW(B14),FALSE)","v":0},{"$error":"#N/A"},{"$error":"#N/A"}]
[null,{"$f":"BetriebszweigAuswertung!C17","v":""},{"$f":"HLOOKUP($B$3,BetriebszweigAuswertung!$E$3:$K$121,ROW(B15),FALSE)","v":0},{"$error":"#N/A"},{"$error":"#N/A"}]
[null,{"$f":"BetriebszweigAuswertung!C18","v":""},{"$f":"HLOOKUP($B$3,BetriebszweigAuswertung!$E$3:$K$121,ROW(B16),FALSE)","v":0},{"$error":"#N/A"},{"$error":"#N/A"}]
[null,{"$f":"BetriebszweigAuswertung!C19","v":""},{"$f":"HLOOKUP($B$3,BetriebszweigAuswertung!$E$3:$K$121,ROW(B17),FALSE)","v":0},{"$error":"#N/A"},{"$error":"#N/A"}]
[null,{"$f":"BetriebszweigAuswertung!C20","v":""},{"$f":"HLOOKUP($B$3,BetriebszweigAuswertung!$E$3:$K$121,ROW(B18),FALSE)","v":0},{"$error":"#N/A"},{"$error":"#N/A"}]
[null,{"$f":"BetriebszweigAuswertung!C21","v":""},{"$f":"HLOOKUP($B$3,BetriebszweigAuswertung!$E$3:$K$121,ROW(B19),FALSE)","v":0},{"$error":"#N/A"},{"$error":"#N/A"}]
[null,{"$f":"BetriebszweigAuswertung!C22","v":""},{"$f":"HLOOKUP($B$3,BetriebszweigAuswertung!$E$3:$K$121,ROW(B20),FALSE)","v":0},{"$error":"#N/A"},{"$error":"#N/A"}]
[null,{"$f":"BetriebszweigAuswertung!C23","v":""},{"$f":"HLOOKUP($B$3,BetriebszweigAuswertung!$E$3:$K$121,ROW(B21),FALSE)","v":0},{"$error":"#N/A"},{"$error":"#N/A"}]
[null,{"$f":"BetriebszweigAuswertung!C24","v":""},{"$f":"HLOOKUP($B$3,BetriebszweigAuswertung!$E$3:$K$121,ROW(B22),FALSE)","v":0},{"$error":"#N/A"},{"$error":"#N/A"}]
[null,{"$f":"BetriebszweigAuswertung!C25","v":""},{"$f":"HLOOKUP($B$3,BetriebszweigAuswertung!$E$3:$K$121,ROW(B23),FALSE)","v":0},{"$error":"#N/A"},{"$error":"#N/A"}]
[null,{"$f":"BetriebszweigAuswertung!C26","v":""},{"$f":"HLOOKUP($B$3,BetriebszweigAuswertung!$E$3:$K$121,ROW(B24),FALSE)","v":0},{"$error":"#N/A"},{"$error":"#N/A"}]
[null,{"$f":"BetriebszweigAuswertung!C27","v":""},{"$f":"HLOOKUP($B$3,BetriebszweigAuswertung!$E$3:$K$121,ROW(B25),FALSE)","v":0},{"$error":"#N/A"},{"$error":"#N/A"}]
[null,{"$f":"BetriebszweigAuswertung!C28","v":""},{"$f":"HLOOKUP($B$3,BetriebszweigAuswertung!$E$3:$K$121,ROW(B26),FALSE)","v":0},{"$error":"#N/A"},{"$error":"#N/A"}]
[null,{"$f":"BetriebszweigAuswertung!C29","v":"Sonstige Leistungen "},{"$f":"HLOOKUP($B$3,BetriebszweigAuswertung!$E$3:$K$121,ROW(B27),FALSE)","v":0},{"$error":"#N/A"},{"$error":"#N/A"}]
[null,{"$f":"BetriebszweigAuswertung!C30","v":""},{"$f":"HLOOKUP($B$3,BetriebszweigAuswertung!$E$3:$K$121,ROW(B28),FALSE)","v":0},{"$error":"#N/A"},{"$error":"#N/A"}]
[null,{"$f":"BetriebszweigAuswertung!C31","v":""},{"$f":"HLOOKUP($B$3,BetriebszweigAuswertung!$E$3:$K$121,ROW(B29),FALSE)","v":0},{"$error":"#N/A"},{"$error":"#N/A"}]
[null,{"$f":"BetriebszweigAuswertung!C32","v":""},{"$f":"HLOOKUP($B$3,BetriebszweigAuswertung!$E$3:$K$121,ROW(B30),FALSE)","v":0},{"$error":"#N/A"},{"$error":"#N/A"}]
[null,{"$f":"BetriebszweigAuswertung!C33","v":""},{"$f":"HLOOKUP($B$3,BetriebszweigAuswertung!$E$3:$K$121,ROW(B31),FALSE)","v":0},{"$error":"#N/A"},{"$error":"#N/A"}]
[null,{"$f":"BetriebszweigAuswertung!C34","v":""},{"$f":"HLOOKUP($B$3,BetriebszweigAuswertung!$E$3:$K$121,ROW(B32),FALSE)","v":0},{"$error":"#N/A"},{"$error":"#N/A"}]
[null,{"$f":"BetriebszweigAuswertung!C35","v":""},{"$f":"HLOOKUP($B$3,BetriebszweigAuswertung!$E$3:$K$121,ROW(B33),FALSE)","v":0},{"$error":"#N/A"},{"$error":"#N/A"}]
[null,{"$f":"BetriebszweigAuswertung!C36","v":""},{"$f":"HLOOKUP($B$3,BetriebszweigAuswertung!$E$3:$K$121,ROW(B34),FALSE)","v":0},{"$error":"#N/A"},{"$error":"#N/A"}]
[null,{"$f":"BetriebszweigAuswertung!C37","v":"Wirtschaftsdünger innerbetrieblich"},{"$f":"HLOOKUP($B$3,BetriebszweigAuswertung!$E$3:$K$121,ROW(B35),FALSE)","v":0},{"$error":"#N/A"},{"$error":"#N/A"}]
[null,"Summe Direktleistungen",{"$f":"HLOOKUP($B$3,BetriebszweigAuswertung!$E$3:$K$121,ROW(B36),FALSE)","v":0},{"$f":"IF(OR($C37=\"\",D$5=0),0,$C37/D$5)","v":{"$error":"#N/A"}},{"$f":"IF(OR($C37=0,E$5=0),0,$C37/E$5)","v":{"$error":"#N/A"}}]
[null,"Direktkosten ",null,"."]
[null,{"$f":"BetriebszweigAuswertung!C40","v":"Saatgut"},{"$f":"HLOOKUP($B$3,BetriebszweigAuswertung!$E$3:$K$121,ROW(C38),FALSE)","v":0},{"$f":"IF(OR($C39=0,D$5=0),0,$C39/D$5)","v":{"$error":"#N/A"}},{"$error":"#N/A"}]
[null,{"$f":"BetriebszweigAuswertung!C41","v":""},{"$f":"HLOOKUP($B$3,BetriebszweigAuswertung!$E$3:$K$121,ROW(C39),FALSE)","v":0},{"$error":"#N/A"},{"$error":"#N/A"}]
[null,{"$f":"BetriebszweigAuswertung!C42","v":"Dünger (Wirtschaftsdünger + Handelsdünger)"},{"$f":"HLOOKUP($B$3,BetriebszweigAuswertung!$E$3:$K$121,ROW(C40),FALSE)","v":0},{"$error":"#N/A"},{"$error":"#N/A"}]
[null,{"$f":"BetriebszweigAuswertung!C43","v":"Pflanzenschutz"},{"$f":"HLOOKUP($B$3,BetriebszweigAuswertung!$E$3:$K$121,ROW(C41),FALSE)","v":0},{"$error":"#N/A"},{"$error":"#N/A"}]
[null,{"$f":"BetriebszweigAuswertung!C44","v":""},{"$f":"HLOOKUP($B$3,BetriebszweigAuswertung!$E$3:$K$121,ROW(C42),FALSE)","v":0},{"$error":"#N/A"},{"$error":"#N/A"}]
[null,{"$f":"BetriebszweigAuswertung!C45","v":""},{"$f":"HLOOKUP($B$3,BetriebszweigAuswertung!$E$3:$K$121,ROW(C43),FALSE)","v":0},{"$error":"#N/A"},{"$error":"#N/A"}]
[null,{"$f":"BetriebszweigAuswertung!C46","v":""},{"$f":"HLOOKUP($B$3,BetriebszweigAuswertung!$E$3:$K$121,ROW(C44),FALSE)","v":0},{"$error":"#N/A"},{"$error":"#N/A"}]
[null,{"$f":"BetriebszweigAuswertung!C47","v":""},{"$f":"HLOOKUP($B$3,BetriebszweigAuswertung!$E$3:$K$121,ROW(C45),FALSE)","v":0},{"$error":"#N/A"},{"$error":"#N/A"}]
[null,{"$f":"BetriebszweigAuswertung!C48","v":""},{"$f":"HLOOKUP($B$3,BetriebszweigAuswertung!$E$3:$K$121,ROW(C46),FALSE)","v":0},{"$error":"#N/A"},{"$error":"#N/A"}]
[null,{"$f":"BetriebszweigAuswertung!C49","v":""},{"$f":"HLOOKUP($B$3,BetriebszweigAuswertung!$E$3:$K$121,ROW(C47),FALSE)","v":0},{"$error":"#N/A"},{"$error":"#N/A"}]
[null,{"$f":"BetriebszweigAuswertung!C50","v":""},{"$f":"HLOOKUP($B$3,BetriebszweigAuswertung!$E$3:$K$121,ROW(C48),FALSE)","v":0},{"$error":"#N/A"},{"$error":"#N/A"}]
[null,{"$f":"BetriebszweigAuswertung!C51","v":""},{"$f":"HLOOKUP($B$3,BetriebszweigAuswertung!$E$3:$K$121,ROW(C49),FALSE)","v":0},{"$error":"#N/A"},{"$error":"#N/A"}]
[null,{"$f":"BetriebszweigAuswertung!C52","v":""},{"$f":"HLOOKUP($B$3,BetriebszweigAuswertung!$E$3:$K$121,ROW(C50),FALSE)","v":0},{"$error":"#N/A"},{"$error":"#N/A"}]
[null,{"$f":"BetriebszweigAuswertung!C53","v":""},{"$f":"HLOOKUP($B$3,BetriebszweigAuswertung!$E$3:$K$121,ROW(C51),FALSE)","v":0},{"$error":"#N/A"},{"$error":"#N/A"}]
[null,{"$f":"BetriebszweigAuswertung!C54","v":"Sonstige direkte Kosten"},{"$f":"HLOOKUP($B$3,BetriebszweigAuswertung!$E$3:$K$121,ROW(C52),FALSE)","v":0},{"$error":"#N/A"},{"$error":"#N/A"}]
[null,{"$f":"BetriebszweigAuswertung!C55","v":""},{"$f":"HLOOKUP($B$3,BetriebszweigAuswertung!$E$3:$K$121,ROW(C53),FALSE)","v":0},{"$error":"#N/A"},{"$error":"#N/A"}]
[null,{"$f":"BetriebszweigAuswertung!C56","v":""},{"$f":"HLOOKUP($B$3,BetriebszweigAuswertung!$E$3:$K$121,ROW(C54),FALSE)","v":0},{"$error":"#N/A"},{"$error":"#N/A"}]
[null,{"$f":"BetriebszweigAuswertung!C57","v":""},{"$f":"HLOOKUP($B$3,BetriebszweigAuswertung!$E$3:$K$121,ROW(C55),FALSE)","v":0},{"$error":"#N/A"},{"$error":"#N/A"}]
[null,{"$f":"BetriebszweigAuswertung!C58","v":""},{"$f":"HLOOKUP($B$3,BetriebszweigAuswertung!$E$3:$K$121,ROW(C56),FALSE)","v":0},{"$error":"#N/A"},{"$error":"#N/A"}]
[null,{"$f":"BetriebszweigAuswertung!C59","v":""},{"$f":"HLOOKUP($B$3,BetriebszweigAuswertung!$E$3:$K$121,ROW(C57),FALSE)","v":0},{"$error":"#N/A"},{"$error":"#N/A"}]
[null,{"$f":"BetriebszweigAuswertung!C60","v":""},{"$f":"HLOOKUP($B$3,BetriebszweigAuswertung!$E$3:$K$121,ROW(C58),FALSE)","v":0},{"$error":"#N/A"},{"$error":"#N/A"}]
[null,{"$f":"BetriebszweigAuswertung!C61","v":""},{"$f":"HLOOKUP($B$3,BetriebszweigAuswertung!$E$3:$K$121,ROW(C59),FALSE)","v":0},{"$error":"#N/A"},{"$error":"#N/A"}]
[null,"Summe Direktkosten",{"$f":"HLOOKUP($B$3,BetriebszweigAuswertung!$E$3:$K$121,ROW(C60),FALSE)","v":0},{"$f":"IF(OR($C61=\"\",D$5=0),0,$C61/D$5)","v":{"$error":"#N/A"}},{"$f":"IF(OR($C61=0,E$5=0),0,$C61/E$5)","v":{"$error":"#N/A"}}]
[null,"Direktkostenfreie Leistungen",{"$f":"C37-C61","v":0},{"$f":"D37-D61","v":{"$error":"#N/A"}},{"$f":"E37-E61","v":{"$error":"#N/A"}}]
[null,"Übrige Vorleistungskosten",null,"."]
[null,{"$f":"BetriebszweigAuswertung!C65","v":"Betriebs- und Reparaturkosten Maschinen"}]
[null,{"$f":"BetriebszweigAuswertung!C66","v":"Treibstoffe"},{"$f":"HLOOKUP($B$3,BetriebszweigAuswertung!$E$3:$K$121,ROW(C64),FALSE)","v":0},{"$f":"IF(OR($C65=0,D$5=0),0,$C65/D$5)","v":{"$error":"#N/A"}},{"$error":"#N/A"}]
[null,{"$f":"BetriebszweigAuswertung!C67","v":""},{"$f":"HLOOKUP($B$3,BetriebszweigAuswertung!$E$3:$K$121,ROW(C65),FALSE)","v":0},{"$error":"#N/A"},{"$error":"#N/A"}]
[null,{"$f":"BetriebszweigAuswertung!C68","v":"Reparatur und Instandhaltung Maschinen"},{"$f":"HLOOKUP($B$3,BetriebszweigAuswertung!$E$3:$K$121,ROW(C66),FALSE)","v":0},{"$error":"#N/A"},{"$error":"#N/A"}]
[null,{"$f":"BetriebszweigAuswertung!C69","v":"Lohnmaschinen, Maschinenring"},{"$f":"HLOOKUP($B$3,BetriebszweigAuswertung!$E$3:$K$121,ROW(C67),FALSE)","v":0},{"$error":"#N/A"},{"$error":"#N/A"}]
[null,{"$f":"BetriebszweigAuswertung!C70","v":"Energie (Strom, Wärme)"},{"$f":"HLOOKUP($B$3,BetriebszweigAuswertung!$E$3:$K$121,ROW(C68),FALSE)","v":0},{"$error":"#N/A"},{"$error":"#N/A"}]
[null,{"$f":"BetriebszweigAuswertung!C71","v":"Wasser"},{"$f":"HLOOKUP($B$3,BetriebszweigAuswertung!$E$3:$K$121,ROW(C69),FALSE)","v":0},{"$error":"#N/A"},{"$error":"#N/A"}]
[null,{"$f":"BetriebszweigAuswertung!C72","v":"Abschreibung Maschinen und Geräte"},{"$f":"HLOOKUP($B$3,BetriebszweigAuswertung!$E$3:$K$121,ROW(C70),FALSE)","v":0},{"$error":"#N/A"},{"$error":"#N/A"}]
[null,{"$f":"BetriebszweigAuswertung!C73","v":"Abschreibung Gebäude und bauliche Anlagen"},{"$f":"HLOOKUP($B$3,BetriebszweigAuswertung!$E$3:$K$121,ROW(C71),FALSE)","v":0},{"$error":"#N/A"},{"$error":"#N/A"}]
[null,{"$f":"BetriebszweigAuswertung!C74","v":""},{"$f":"HLOOKUP($B$3,BetriebszweigAuswertung!$E$3:$K$121,ROW(C72),FALSE)","v":0},{"$error":"#N/A"},{"$error":"#N/A"}]
[null,{"$f":"BetriebszweigAuswertung!C75","v":"Instandhaltung Gebäude und bauliche Anlagen "},{"$f":"HLOOKUP($B$3,BetriebszweigAuswertung!$E$3:$K$121,ROW(C73),FALSE)","v":0},{"$error":"#N/A"},{"$error":"#N/A"}]
[null,{"$f":"BetriebszweigAuswertung!C76","v":"PKW - Betriebsanteil"},{"$f":"HLOOKUP($B$3,BetriebszweigAuswertung!$E$3:$K$121,ROW(C74),FALSE)","v":0},{"$error":"#N/A"},{"$error":"#N/A"}]
[null,{"$f":"BetriebszweigAuswertung!C77","v":"Sachversicherungen ohne Versicherung PKW"},{"$f":"HLOOKUP($B$3,BetriebszweigAuswertung!$E$3:$K$121,ROW(C75),FALSE)","v":0},{"$error":"#N/A"},{"$error":"#N/A"}]
[null,{"$f":"BetriebszweigAuswertung!C78","v":"Steuern, Betriebsabgaben "},{"$f":"HLOOKUP($B$3,BetriebszweigAuswertung!$E$3:$K$121,ROW(C76),FALSE)","v":0},{"$error":"#N/A"},{"$error":"#N/A"}]
[null,{"$f":"BetriebszweigAuswertung!C79","v":"Nur indirekt zuordenbare Mitgliedsbeiträge, Gebühren, Beratungs- und Weiterbildungskosten "},{"$f":"HLOOKUP($B$3,BetriebszweigAuswertung!$E$3:$K$121,ROW(C77),FALSE)","v":0},{"$error":"#N/A"},{"$error":"#N/A"}]
[null,{"$f":"BetriebszweigAuswertung!C80","v":"Allgemeine Verwaltungskosten und sonstige Vorleistungskosten"},{"$f":"HLOOKUP($B$3,BetriebszweigAuswertung!$E$3:$K$121,ROW(C78),FALSE)","v":0},{"$error":"#N/A"},{"$error":"#N/A"}]
[null,{"$f":"BetriebszweigAuswertung!C81","v":""},{"$f":"HLOOKUP($B$3,BetriebszweigAuswertung!$E$3:$K$121,ROW(C79),FALSE)","v":0},{"$error":"#N/A"},{"$error":"#N/A"}]
[null,"Summe übrige Vorleistungskosten",{"$f":"HLOOKUP($B$3,BetriebszweigAuswertung!$E$3:$K$121,ROW(C80),FALSE)","v":0},{"$f":"IF(OR($C81=\"\",D$5=0),0,$C81/D$5)","v":{"$error":"#N/A"}},{"$f":"IF(OR($C81=0,E$5=0),0,$C81/E$5)","v":{"$error":"#N/A"}}]
[null,"Gemeinleistungen",".","."]
[null,{"$f":"BetriebszweigAuswertung!C84","v":"Direktzahlungen"},{"$f":"HLOOKUP($B$3,BetriebszweigAuswertung!$E$3:$K$121,ROW(C82),FALSE)","v":0},{"$f":"IF(OR($C83=0,D$5=0),0,$C83/D$5)","v":{"$error":"#N/A"}},{"$error":"#N/A"}]
[null,{"$f":"BetriebszweigAuswertung!C85","v":"ÖPUL-Prämien"},{"$f":"HLOOKUP($B$3,BetriebszweigAuswertung!$E$3:$K$121,ROW(C83),FALSE)","v":0},{"$error":"#N/A"},{"$error":"#N/A"}]
[null,{"$f":"BetriebszweigAuswertung!C86","v":"Ausgleichszulage für benachteiligte Gebiete"},{"$f":"HLOOKUP($B$3,BetriebszweigAuswertung!$E$3:$K$121,ROW(C84),FALSE)","v":0},{"$error":"#N/A"},{"$error":"#N/A"}]
[null,{"$f":"BetriebszweigAuswertung!C87","v":"Sonstige Gemeinleistungen"},{"$f":"HLOOKUP($B$3,BetriebszweigAuswertung!$E$3:$K$121,ROW(C85),FALSE)","v":0},{"$error":"#N/A"},{"$error":"#N/A"}]
[null,"Summe Gemeinleistungen",{"$f":"HLOOKUP($B$3,BetriebszweigAuswertung!$E$3:$K$121,ROW(C86),FALSE)","v":0},{"$f":"IF(OR($C87=\"\",D$5=0),0,$C87/D$5)","v":{"$error":"#N/A"}},{"$f":"IF(OR($C87=0,E$5=0),0,$C87/E$5)","v":{"$error":"#N/A"}}]
[null,"Faktorentlohnung",{"$f":"C62-C81+C87","v":0},{"$f":"D62-D81+D87","v":{"$error":"#N/A"}},{"$f":"E62-E81+E87","v":{"$error":"#N/A"}}]
[null,"Faktorkosten",".","."]
[null,{"$f":"BetriebszweigAuswertung!C92","v":"Lohnansatz"},{"$f":"HLOOKUP($B$3,BetriebszweigAuswertung!$E$3:$K$121,ROW(C90),FALSE)","v":0},{"$f":"IF(OR($C90=0,D$5=0),0,$C90/D$5)","v":{"$error":"#N/A"}},{"$error":"#N/A"}]
[null,{"$f":"BetriebszweigAuswertung!C93","v":"Beiträge zur SVB"},{"$f":"HLOOKUP($B$3,BetriebszweigAuswertung!$E$3:$K$121,ROW(C91),FALSE)","v":0},{"$error":"#N/A"},{"$error":"#N/A"}]
[null,{"$f":"BetriebszweigAuswertung!C94","v":"Löhne"},{"$f":"HLOOKUP($B$3,BetriebszweigAuswertung!$E$3:$K$121,ROW(C92),FALSE)","v":0},{"$error":"#N/A"},{"$error":"#N/A"}]
[null,{"$f":"BetriebszweigAuswertung!C95","v":""},{"$f":"HLOOKUP($B$3,BetriebszweigAuswertung!$E$3:$K$121,ROW(C93),FALSE)","v":0},{"$error":"#N/A"},{"$error":"#N/A"}]
[null,{"$f":"BetriebszweigAuswertung!C96","v":""},{"$f":"HLOOKUP($B$3,BetriebszweigAuswertung!$E$3:$K$121,ROW(C94),FALSE)","v":0},{"$error":"#N/A"},{"$error":"#N/A"}]
[null,{"$f":"BetriebszweigAuswertung!C97","v":""},{"$f":"HLOOKUP($B$3,BetriebszweigAuswertung!$E$3:$K$121,ROW(C95),FALSE)","v":0},{"$error":"#N/A"},{"$error":"#N/A"}]
[]
[null,{"$f":"BetriebszweigAuswertung!C99","v":"Pachtkosten (Pachtland)"},{"$f":"HLOOKUP($B$3,BetriebszweigAuswertung!$E$3:$K$121,ROW(C97),FALSE)","v":0},{"$f":"IF(OR($C97=0,D$5=0),0,$C97/D$5)","v":{"$error":"#N/A"}},{"$error":"#N/A"}]
[null,{"$f":"BetriebszweigAuswertung!C100","v":"Pachtansatz (eigenes Land)"},{"$f":"HLOOKUP($B$3,BetriebszweigAuswertung!$E$3:$K$121,ROW(C98),FALSE)","v":0},{"$error":"#N/A"},{"$error":"#N/A"}]
[null,{"$f":"BetriebszweigAuswertung!C101","v":""},{"$f":"HLOOKUP($B$3,BetriebszweigAuswertung!$E$3:$K$121,ROW(C99),FALSE)","v":0},{"$error":"#N/A"},{"$error":"#N/A"}]
[null,{"$f":"BetriebszweigAuswertung!C102","v":""},{"$f":"HLOOKUP($B$3,BetriebszweigAuswertung!$E$3:$K$121,ROW(C100),FALSE)","v":0},{"$error":"#N/A"},{"$error":"#N/A"}]
[null,{"$f":"BetriebszweigAuswertung!C103","v":""},{"$f":"HLOOKUP($B$3,BetriebszweigAuswertung!$E$3:$K$121,ROW(C101),FALSE)","v":0},{"$error":"#N/A"},{"$error":"#N/A"}]
[null,{"$f":"BetriebszweigAuswertung!C104","v":""},{"$f":"HLOOKUP($B$3,BetriebszweigAuswertung!$E$3:$K$121,ROW(C102),FALSE)","v":0},{"$error":"#N/A"},{"$error":"#N/A"}]
[]
[null,{"$f":"BetriebszweigAuswertung!C106","v":"Zinsansatz Maschinen und Geräte"},{"$f":"HLOOKUP($B$3,BetriebszweigAuswertung!$E$3:$K$121,ROW(C104),FALSE)","v":0},{"$f":"IF(OR($C104=0,D$5=0),0,$C104/D$5)","v":{"$error":"#N/A"}},{"$error":"#N/A"}]
[null,{"$f":"BetriebszweigAuswertung!C107","v":"Zinsansatz Gebäude und bauliche Anlagen"},{"$f":"HLOOKUP($B$3,BetriebszweigAuswertung!$E$3:$K$121,ROW(C105),FALSE)","v":0},{"$error":"#N/A"},{"$error":"#N/A"}]
[null,{"$f":"BetriebszweigAuswertung!C108","v":"Zinsansatz Viehvermögen"},{"$f":"HLOOKUP($B$3,BetriebszweigAuswertung!$E$3:$K$121,ROW(C106),FALSE)","v":0},{"$error":"#N/A"},{"$error":"#N/A"}]
[null,{"$f":"BetriebszweigAuswertung!C109","v":"Zinsansatz Genossenschaftsanteile"},{"$f":"HLOOKUP($B$3,BetriebszweigAuswertung!$E$3:$K$121,ROW(C107),FALSE)","v":0},{"$error":"#N/A"},{"$error":"#N/A"}]
[null,{"$f":"BetriebszweigAuswertung!C110","v":""},{"$f":"HLOOKUP($B$3,BetriebszweigAuswertung!$E$3:$K$121,ROW(C108),FALSE)","v":0},{"$error":"#N/A"},{"$error":"#N/A"}]
[null,{"$f":"BetriebszweigAuswertung!C111","v":""},{"$f":"HLOOKUP($B$3,BetriebszweigAuswertung!$E$3:$K$121,ROW(C109),FALSE)","v":0},{"$error":"#N/A"},{"$error":"#N/A"}]
[null,{"$f":"BetriebszweigAuswertung!C112","v":""},{"$f":"HLOOKUP($B$3,BetriebszweigAuswertung!$E$3:$K$121,ROW(C110),FALSE)","v":0},{"$error":"#N/A"},{"$error":"#N/A"}]
[]
[null,{"$f":"BetriebszweigAuswertung!C114","v":""},{"$f":"HLOOKUP($B$3,BetriebszweigAuswertung!$E$3:$K$121,ROW(C112),FALSE)","v":0},{"$f":"IF(OR($C112=0,D$5=0),0,$C112/D$5)","v":{"$error":"#N/A"}},{"$error":"#N/A"}]
[null,{"$f":"BetriebszweigAuswertung!C115","v":""},{"$f":"HLOOKUP($B$3,BetriebszweigAuswertung!$E$3:$K$121,ROW(C113),FALSE)","v":0},{"$error":"#N/A"},{"$error":"#N/A"}]
[null,{"$f":"BetriebszweigAuswertung!C116","v":""},{"$f":"HLOOKUP($B$3,BetriebszweigAuswertung!$E$3:$K$121,ROW(C114),FALSE)","v":0},{"$error":"#N/A"},{"$error":"#N/A"}]
[null,{"$f":"BetriebszweigAuswertung!C117","v":""},{"$f":"HLOOKUP($B$3,BetriebszweigAuswertung!$E$3:$K$121,ROW(C115),FALSE)","v":0},{"$error":"#N/A"},{"$error":"#N/A"}]
[null,{"$f":"BetriebszweigAuswertung!C118","v":""},{"$f":"HLOOKUP($B$3,BetriebszweigAuswertung!$E$3:$K$121,ROW(C116),FALSE)","v":0},{"$error":"#N/A"},{"$error":"#N/A"}]
[null,{"$f":"BetriebszweigAuswertung!C119","v":""},{"$f":"HLOOKUP($B$3,BetriebszweigAuswertung!$E$3:$K$121,ROW(C117),FALSE)","v":0},{"$error":"#N/A"},{"$error":"#N/A"}]
[null,{"$f":"IF(WurzelBZweige!$AV116=\"\",\"\",WurzelBZweige!AV116)","v":"Summe Faktorkosten"},{"$f":"HLOOKUP($B$3,BetriebszweigAuswertung!$E$3:$K$121,ROW(C118),FALSE)","v":0},{"$f":"IF(OR($C118=\"\",D$5=0),0,$C118/D$5)","v":{"$error":"#N/A"}},{"$f":"IF(OR($C118=0,E$5=0),0,$C118/E$5)","v":{"$error":"#N/A"}}]
[null,"Kalkulatorisches Betriebszweigergebnis",{"$f":"C88-C118","v":0},{"$f":"D88-D118","v":{"$error":"#N/A"}},{"$f":"E88-E118","v":{"$error":"#N/A"}}]
[null,"Gesamtleistungen",{"$f":"C37+C87","v":0},{"$f":"IF(OR($C120=0,D$5=0),0,$C120/D$5)","v":{"$error":"#N/A"}},{"$error":"#N/A"}]
[null,"Gesamtkosten",{"$f":"C61+C81+C118","v":0},{"$error":"#N/A"},{"$error":"#N/A"}]
[null,"Variable Kosten",{"$f":"+C61+C65+C67+C69+C66+C70+C68","v":0},{"$error":"#N/A"},{"$error":"#N/A"}]
[null,"Pagatorische Kosten",{"$f":"+C61+C81+C91+C97+C112+C113+C92","v":0},{"$error":"#N/A"},{"$error":"#N/A"}]
[null,"Kalkulatorische Kosten",{"$f":"+C90+C98+C104+C105+C99+C106+C107+C114+C117","v":0},{"$error":"#N/A"},{"$error":"#N/A"}]
[null,"Gebäudekosten",{"$f":"+C72+C74+C105","v":0},{"$error":"#N/A"},{"$error":"#N/A"}]
[null,"Abschreibungsgrad Gebäude (%)",{"$f":"1-Gebäude!J165/Gebäude!J161","v":{"$error":"#DIV/0!"}},{"$f":"C126","v":{"$error":"#DIV/0!"}},{"$f":"C126","v":{"$error":"#DIV/0!"}}]
[null,"Maschinenkosten inkl. MR ",{"$f":"+C71+C65+C66+C67+C68+C104","v":0},{"$f":"IF(OR($C127=0,D$5=0),0,$C127/D$5)","v":{"$error":"#N/A"}},{"$f":"IF(OR($C127=0,E$5=0),0,$C127/E$5)","v":{"$error":"#N/A"}}]
[null,"Abschreibungsgrad Maschinen (%)",{"$f":"1-Maschinen!J165/Maschinen!J163","v":{"$error":"#DIV/0!"}},{"$f":"C128","v":{"$error":"#DIV/0!"}},{"$f":"C128","v":{"$error":"#DIV/0!"}}]
[null,"Arbeitserledigungskosten",{"$f":"C127+C90+C91+C92","v":0},{"$f":"IF(OR($C129=0,D$5=0),0,$C129/D$5)","v":{"$error":"#N/A"}},{"$error":"#N/A"}]
[null,"Deckungsbeitrag",{"$f":"+C37-C122","v":0},{"$error":"#N/A"},{"$error":"#N/A"}]
[null,"Beitrag zu den Einkünften",{"$f":"+C88-C92-C97-C112-C113","v":0},{"$error":"#N/A"},{"$error":"#N/A"}]
[null,"Beitrag zu den Einkünften je AKh (EUR)",{"$f":"+C131/C135","v":{"$error":"#DIV/0!"}},{"$f":"C132","v":{"$error":"#DIV/0!"}},{"$f":"C132","v":{"$error":"#DIV/0!"}}]
[null,"Arbeitsertrag",{"$f":"C119+C90","v":0},{"$f":"IF(OR($C133=0,D$5=0),0,$C133/D$5)","v":{"$error":"#N/A"}},{"$f":"IF(OR($C133=0,E$5=0),0,$C133/E$5)","v":{"$error":"#N/A"}}]
[null,"Arbeitsertrag je AKh (EUR)",{"$f":"+(C119+C90)/C135","v":{"$error":"#DIV/0!"}},{"$f":"C134","v":{"$error":"#DIV/0!"}},{"$f":"C134","v":{"$error":"#DIV/0!"}}]
[null,"Arbeitszeit",{"$f":"HLOOKUP($B$3,BetriebszweigAuswertung!$E$3:$K$147,138,FALSE)","v":0},{"$f":"IF(OR($C135=0,D$5=0),0,$C135/D$5)","v":{"$error":"#N/A"}},{"$f":"IF(OR($C135=0,E$5=0),0,$C135/E$5)","v":{"$error":"#N/A"}}]
[null,"Kapitalrentabilität (%)",{"$f":"(C119+(C104+C105+C106+C107+C114+C117))/((C104+C105+C106+C107+C114+C117)/Zinssatz)","v":{"$error":"#DIV/0!"}},{"$f":"C136","v":{"$error":"#DIV/0!"}},{"$f":"C136","v":{"$error":"#DIV/0!"}}]
[null,"Kostendeckungspunkt 1",{"$f":"C123-C87-C12-C13-C16-C18-C22-C27-C36-C28-C32","v":0},{"$f":"IF(OR($C137=0,D$5=0),0,$C137/D$5)","v":{"$error":"#N/A"}},{"$f":"IF(OR($C137=0,E$5=0),0,$C137/E$5)","v":{"$error":"#N/A"}}]
[null,"Kostendeckungspunkt 2",{"$f":"C121-C87-C12-C13-C16-C18-C22-C27-C36-C28-C32","v":0},{"$f":"IF(OR($C138=0,D$5=0),0,$C138/D$5)","v":{"$error":"#N/A"}},{"$f":"IF(OR($C138=0,E$5=0),0,$C138/E$5)","v":{"$error":"#N/A"}}]

{"sheet":"BZA6","index":17,"n_rows":138,"n_cols":7,"rows_kept":138,"cut":false,"hidden":false,"merged":[[2,2,3,2],[2,1,3,1]]}
[null,null,null,null,"Menü"]
[null,{"$f":"VLOOKUP(B3,ExpNameListe,3,FALSE)","v":{"$error":"#N/A"}},{"$f":"$B$3","v":0},{"$f":"$B$3","v":0},{"$f":"$B$3","v":0}]
[null,{"$f":"_Zw6","v":0},{"$f":"\"Summe der Umlagekostenstelle \"&YEAR(WirtschaftsjahrAnfang)","v":"Summe der Umlagekostenstelle 2021"},{"$f":"AKNr","v":1},{"$f":"AKNr","v":1}]
[null,null,null,{"$f":"\"€ je \"&VLOOKUP($B$3,Einheitsliste,2,FALSE)","v":{"$error":"#N/A"}},{"$f":"VLOOKUP($B$3,Einheitsliste,6,FALSE)&VLOOKUP($B$3,Einheitsliste,4,FALSE)","v":{"$error":"#N/A"}},null,"Anmerkungen"]
[null,null,null,{"$f":"VLOOKUP($B$3,Einheitsliste,3,FALSE)","v":{"$error":"#N/A"}},{"$f":"VLOOKUP($B$3,Einheitsliste,7,FALSE)","v":{"$error":"#N/A"}}]
[null,"\nDirektleistungen",null,{"$f":"VLOOKUP($B$3,Einheitsliste,3,FALSE)&\" \"&VLOOKUP($B$3,Einheitsliste,2,FALSE)","v":{"$error":"#N/A"}},{"$f":"VLOOKUP($B$3,Einheitsliste,5,FALSE)&\" \"&VLOOKUP($B$3,Einheitsliste,4,FALSE)","v":{"$error":"#N/A"}}]
[null,{"$f":"BetriebszweigAuswertung!C8","v":""},{"$f":"KoSteRe!L6","v":0},{"$f":"IF(OR($C7=0,D$5=0),0,$C7/D$5)","v":{"$error":"#N/A"}},{"$error":"#N/A"}]
[null,{"$f":"BetriebszweigAuswertung!C9","v":""},{"$f":"KoSteRe!L7","v":0},{"$error":"#N/A"},{"$error":"#N/A"}]
[null,{"$f":"BetriebszweigAuswertung!C10","v":""},{"$f":"KoSteRe!L8","v":0},{"$error":"#N/A"},{"$error":"#N/A"}]
[null,{"$f":"BetriebszweigAuswertung!C11","v":""},{"$f":"KoSteRe!L9","v":0},{"$error":"#N/A"},{"$error":"#N/A"}]
[null,{"$f":"BetriebszweigAuswertung!C12","v":""},{"$f":"KoSteRe!L10","v":0},{"$error":"#N/A"},{"$error":"#N/A"}]
[null,{"$f":"BetriebszweigAuswertung!C13","v":""},{"$f":"KoSteRe!L11","v":0},{"$error":"#N/A"},{"$error":"#N/A"}]
[null,{"$f":"BetriebszweigAuswertung!C14","v":""},{"$f":"KoSteRe!L12","v":0},{"$error":"#N/A"},{"$error":"#N/A"}]
[null,{"$f":"BetriebszweigAuswertung!C15","v":""},{"$f":"KoSteRe!L13","v":0},{"$error":"#N/A"},{"$error":"#N/A"}]
[null,{"$f":"BetriebszweigAuswertung!C16","v":""},{"$f":"KoSteRe!L14","v":0},{"$error":"#N/A"},{"$error":"#N/A"}]
[null,{"$f":"BetriebszweigAuswertung!C17","v":""},{"$f":"KoSteRe!L15","v":0},{"$error":"#N/A"},{"$error":"#N/A"}]
[null,{"$f":"BetriebszweigAuswertung!C18","v":""},{"$f":"KoSteRe!L16","v":0},{"$error":"#N/A"},{"$error":"#N/A"}]
[null,{"$f":"BetriebszweigAuswertung!C19","v":""},{"$f":"KoSteRe!L17","v":0},{"$error":"#N/A"},{"$error":"#N/A"}]
[null,{"$f":"BetriebszweigAuswertung!C20","v":""},{"$f":"KoSteRe!L18","v":0},{"$error":"#N/A"},{"$error":"#N/A"}]
[null,{"$f":"BetriebszweigAuswertung!C21","v":""},{"$f":"KoSteRe!L19","v":0},{"$error":"#N/A"},{"$error":"#N/A"}]
[null,{"$f":"BetriebszweigAuswertung!C22","v":""},{"$f":"KoSteRe!L20","v":0},{"$error":"#N/A"},{"$error":"#N/A"}]
[null,{"$f":"BetriebszweigAuswertung!C23","v":""},{"$f":"KoSteRe!L21","v":0},{"$error":"#N/A"},{"$error":"#N/A"}]
[null,{"$f":"BetriebszweigAuswertung!C24","v":""},{"$f":"KoSteRe!L22","v":0},{"$error":"#N/A"},{"$error":"#N/A"}]
[null,{"$f":"BetriebszweigAuswertung!C25","v":""},{"$f":"KoSteRe!L23","v":0},{"$error":"#N/A"},{"$error":"#N/A"}]
[null,{"$f":"BetriebszweigAuswertung!C26","v":""},{"$f":"KoSteRe!L24","v":0},{"$error":"#N/A"},{"$error":"#N/A"}]
[null,{"$f":"BetriebszweigAuswertung!C27","v":""},{"$f":"KoSteRe!L25","v":0},{"$error":"#N/A"},{"$error":"#N/A"}]
[null,{"$f":"BetriebszweigAuswertung!C28","v":""},{"$f":"KoSteRe!L26","v":0},{"$error":"#N/A"},{"$error":"#N/A"}]
[null,{"$f":"BetriebszweigAuswertung!C29","v":"Sonstige Leistungen "},{"$f":"KoSteRe!L27","v":0},{"$error":"#N/A"},{"$error":"#N/A"}]
[null,{"$f":"BetriebszweigAuswertung!C30","v":""},{"$f":"KoSteRe!L28","v":0},{"$error":"#N/A"},{"$error":"#N/A"}]
[null,{"$f":"BetriebszweigAuswertung!C31","v":""},{"$f":"KoSteRe!L29","v":0},{"$error":"#N/A"},{"$error":"#N/A"}]
[null,{"$f":"BetriebszweigAuswertung!C32","v":""},{"$f":"KoSteRe!L30","v":0},{"$error":"#N/A"},{"$error":"#N/A"}]
[null,{"$f":"BetriebszweigAuswertung!C33","v":""},{"$f":"KoSteRe!L31","v":0},{"$error":"#N/A"},{"$error":"#N/A"}]
[null,{"$f":"BetriebszweigAuswertung!C34","v":""},{"$f":"KoSteRe!L32","v":0},{"$error":"#N/A"},{"$error":"#N/A"}]
[null,{"$f":"BetriebszweigAuswertung!C35","v":""},{"$f":"KoSteRe!L33","v":0},{"$error":"#N/A"},{"$error":"#N/A"}]
[null,{"$f":"BetriebszweigAuswertung!C36","v":""},{"$f":"KoSteRe!L34","v":0},{"$error":"#N/A"},{"$error":"#N/A"}]
[null,{"$f":"BetriebszweigAuswertung!C37","v":"Wirtschaftsdünger innerbetrieblich"},{"$f":"KoSteRe!L35","v":0},{"$error":"#N/A"},{"$error":"#N/A"}]
[null,"Summe Direktleistungen",{"$f":"KoSteRe!L36","v":0},{"$f":"IF(OR($C37=\"\",D$5=0),0,$C37/D$5)","v":{"$error":"#N/A"}},{"$f":"IF(OR($C37=0,E$5=0),0,$C37/E$5)","v":{"$error":"#N/A"}}]
[null,"Direktkosten ",null,"."]
[null,{"$f":"BetriebszweigAuswertung!C40","v":"Saatgut"},{"$f":"KoSteRe!L38","v":0},{"$f":"IF(OR($C39=0,D$5=0),0,$C39/D$5)","v":{"$error":"#N/A"}},{"$error":"#N/A"}]
[null,{"$f":"BetriebszweigAuswertung!C41","v":""},{"$f":"KoSteRe!L39","v":0},{"$error":"#N/A"},{"$error":"#N/A"}]
[null,{"$f":"BetriebszweigAuswertung!C42","v":"Dünger (Wirtschaftsdünger + Handelsdünger)"},{"$f":"KoSteRe!L40","v":0},{"$error":"#N/A"},{"$error":"#N/A"}]
[null,{"$f":"BetriebszweigAuswertung!C43","v":"Pflanzenschutz"},{"$f":"KoSteRe!L41","v":0},{"$error":"#N/A"},{"$error":"#N/A"}]
[null,{"$f":"BetriebszweigAuswertung!C44","v":""},{"$f":"KoSteRe!L42","v":0},{"$error":"#N/A"},{"$error":"#N/A"}]
[null,{"$f":"BetriebszweigAuswertung!C45","v":""},{"$f":"KoSteRe!L43","v":0},{"$error":"#N/A"},{"$error":"#N/A"}]
[null,{"$f":"BetriebszweigAuswertung!C46","v":""},{"$f":"KoSteRe!L44","v":0},{"$error":"#N/A"},{"$error":"#N/A"}]
[null,{"$f":"BetriebszweigAuswertung!C47","v":""},{"$f":"KoSteRe!L45","v":0},{"$error":"#N/A"},{"$error":"#N/A"}]
[null,{"$f":"BetriebszweigAuswertung!C48","v":""},{"$f":"KoSteRe!L46","v":0},{"$error":"#N/A"},{"$error":"#N/A"}]
[null,{"$f":"BetriebszweigAuswertung!C49","v":""},{"$f":"KoSteRe!L47","v":0},{"$error":"#N/A"},{"$error":"#N/A"}]
[null,{"$f":"BetriebszweigAuswertung!C50","v":""},{"$f":"KoSteRe!L48","v":0},{"$error":"#N/A"},{"$error":"#N/A"}]
[null,{"$f":"BetriebszweigAuswertung!C51","v":""},{"$f":"KoSteRe!L49","v":0},{"$error":"#N/A"},{"$error":"#N/A"}]
[null,{"$f":"BetriebszweigAuswertung!C52","v":""},{"$f":"KoSteRe!L50","v":0},{"$error":"#N/A"},{"$error":"#N/A"}]
[null,{"$f":"BetriebszweigAuswertung!C53","v":""},{"$f":"KoSteRe!L51","v":0},{"$error":"#N/A"},{"$error":"#N/A"}]
[null,{"$f":"BetriebszweigAuswertung!C54","v":"Sonstige direkte Kosten"},{"$f":"KoSteRe!L52","v":0},{"$error":"#N/A"},{"$error":"#N/A"}]
[null,{"$f":"BetriebszweigAuswertung!C55","v":""},{"$f":"KoSteRe!L53","v":0},{"$error":"#N/A"},{"$error":"#N/A"}]
[null,{"$f":"BetriebszweigAuswertung!C56","v":""},{"$f":"KoSteRe!L54","v":0},{"$error":"#N/A"},{"$error":"#N/A"}]
[null,{"$f":"BetriebszweigAuswertung!C57","v":""},{"$f":"KoSteRe!L55","v":0},{"$error":"#N/A"},{"$error":"#N/A"}]
[null,{"$f":"BetriebszweigAuswertung!C58","v":""},{"$f":"KoSteRe!L56","v":0},{"$error":"#N/A"},{"$error":"#N/A"}]
[null,{"$f":"BetriebszweigAuswertung!C59","v":""},{"$f":"KoSteRe!L57","v":0},{"$error":"#N/A"},{"$error":"#N/A"}]
[null,{"$f":"BetriebszweigAuswertung!C60","v":""},{"$f":"KoSteRe!L58","v":0},{"$error":"#N/A"},{"$error":"#N/A"}]
[null,{"$f":"BetriebszweigAuswertung!C61","v":""},{"$f":"KoSteRe!L59","v":0},{"$error":"#N/A"},{"$error":"#N/A"}]
[null,"Summe Direktkosten",{"$f":"KoSteRe!L60","v":0},{"$f":"IF(OR($C61=\"\",D$5=0),0,$C61/D$5)","v":{"$error":"#N/A"}},{"$f":"IF(OR($C61=0,E$5=0),0,$C61/E$5)","v":{"$error":"#N/A"}}]
[null,"Direktkostenfreie Leistungen",{"$f":"C37-C61","v":0},{"$f":"D37-D61","v":{"$error":"#N/A"}},{"$f":"E37-E61","v":{"$error":"#N/A"}}]
[null,"Übrige Vorleistungskosten",null,"."]
[null,{"$f":"BetriebszweigAuswertung!C65","v":"Betriebs- und Reparaturkosten Maschinen"}]
[null,{"$f":"BetriebszweigAuswertung!C66","v":"Treibstoffe"},{"$f":"KoSteRe!L63","v":0},{"$f":"IF(OR($C65=0,D$5=0),0,$C65/D$5)","v":{"$error":"#N/A"}},{"$error":"#N/A"}]
[null,{"$f":"BetriebszweigAuswertung!C67","v":""},{"$f":"KoSteRe!L64","v":0},{"$error":"#N/A"},{"$error":"#N/A"}]
[null,{"$f":"BetriebszweigAuswertung!C68","v":"Reparatur und Instandhaltung Maschinen"},{"$f":"KoSteRe!L65","v":0},{"$error":"#N/A"},{"$error":"#N/A"}]
[null,{"$f":"BetriebszweigAuswertung!C69","v":"Lohnmaschinen, Maschinenring"},{"$f":"KoSteRe!L66","v":0},{"$error":"#N/A"},{"$error":"#N/A"}]
[null,{"$f":"BetriebszweigAuswertung!C70","v":"Energie (Strom, Wärme)"},{"$f":"KoSteRe!L67","v":0},{"$error":"#N/A"},{"$error":"#N/A"}]
[null,{"$f":"BetriebszweigAuswertung!C71","v":"Wasser"},{"$f":"KoSteRe!L68","v":0},{"$error":"#N/A"},{"$error":"#N/A"}]
[null,{"$f":"BetriebszweigAuswertung!C72","v":"Abschreibung Maschinen und Geräte"},{"$f":"KoSteRe!L69","v":0},{"$error":"#N/A"},{"$error":"#N/A"}]
[null,{"$f":"BetriebszweigAuswertung!C73","v":"Abschreibung Gebäude und bauliche Anlagen"},{"$f":"KoSteRe!L70","v":0},{"$error":"#N/A"},{"$error":"#N/A"}]
[null,{"$f":"BetriebszweigAuswertung!C74","v":""},{"$f":"KoSteRe!L71","v":0},{"$error":"#N/A"},{"$error":"#N/A"}]
[null,{"$f":"BetriebszweigAuswertung!C75","v":"Instandhaltung Gebäude und bauliche Anlagen "},{"$f":"KoSteRe!L72","v":0},{"$error":"#N/A"},{"$error":"#N/A"}]
[null,{"$f":"BetriebszweigAuswertung!C76","v":"PKW - Betriebsanteil"},{"$f":"KoSteRe!L73","v":0},{"$error":"#N/A"},{"$error":"#N/A"}]
[null,{"$f":"BetriebszweigAuswertung!C77","v":"Sachversicherungen ohne Versicherung PKW"},{"$f":"KoSteRe!L74","v":0},{"$error":"#N/A"},{"$error":"#N/A"}]
[null,{"$f":"BetriebszweigAuswertung!C78","v":"Steuern, Betriebsabgaben "},{"$f":"KoSteRe!L75","v":0},{"$error":"#N/A"},{"$error":"#N/A"}]
[null,{"$f":"BetriebszweigAuswertung!C79","v":"Nur indirekt zuordenbare Mitgliedsbeiträge, Gebühren, Beratungs- und Weiterbildungskosten "},{"$f":"KoSteRe!L76","v":0},{"$error":"#N/A"},{"$error":"#N/A"}]
[null,{"$f":"BetriebszweigAuswertung!C80","v":"Allgemeine Verwaltungskosten und sonstige Vorleistungskosten"},{"$f":"KoSteRe!L77","v":0},{"$error":"#N/A"},{"$error":"#N/A"}]
[null,{"$f":"BetriebszweigAuswertung!C81","v":""},{"$f":"KoSteRe!L78","v":0},{"$error":"#N/A"},{"$error":"#N/A"}]
[null,"Summe übrige Vorleistungskosten",{"$f":"KoSteRe!L79","v":0},{"$f":"IF(OR($C81=\"\",D$5=0),0,$C81/D$5)","v":{"$error":"#N/A"}},{"$f":"IF(OR($C81=0,E$5=0),0,$C81/E$5)","v":{"$error":"#N/A"}}]
[null,"Gemeinleistungen",null,"."]
[null,{"$f":"BetriebszweigAuswertung!C84","v":"Direktzahlungen"},{"$f":"KoSteRe!L81","v":0},{"$f":"IF(OR($C83=0,D$5=0),0,$C83/D$5)","v":{"$error":"#N/A"}},{"$error":"#N/A"}]
[null,{"$f":"BetriebszweigAuswertung!C85","v":"ÖPUL-Prämien"},{"$f":"KoSteRe!L82","v":0},{"$error":"#N/A"},{"$error":"#N/A"}]
[null,{"$f":"BetriebszweigAuswertung!C86","v":"Ausgleichszulage für benachteiligte Gebiete"},{"$f":"KoSteRe!L83","v":0},{"$error":"#N/A"},{"$error":"#N/A"}]
[null,{"$f":"BetriebszweigAuswertung!C87","v":"Sonstige Gemeinleistungen"},{"$f":"KoSteRe!L84","v":0},{"$error":"#N/A"},{"$error":"#N/A"}]
[null,"Summe Gemeinleistungen",{"$f":"KoSteRe!L85","v":0},{"$f":"IF(OR($C87=\"\",D$5=0),0,$C87/D$5)","v":{"$error":"#N/A"}},{"$f":"IF(OR($C87=0,E$5=0),0,$C87/E$5)","v":{"$error":"#N/A"}}]
[null,"Faktorentlohnung",{"$f":"C62-C81+C87","v":0},{"$f":"D62-D81+D87","v":{"$error":"#N/A"}},{"$f":"E62-E81+E87","v":{"$error":"#N/A"}}]
[null,"Faktorkosten",null,"."]
[null,{"$f":"BetriebszweigAuswertung!C92","v":"Lohnansatz"},{"$f":"KoSteRe!L88","v":0},{"$f":"IF(OR($C90=0,D$5=0),0,$C90/D$5)","v":{"$error":"#N/A"}},{"$error":"#N/A"}]
[null,{"$f":"BetriebszweigAuswertung!C93","v":"Beiträge zur SVB"},{"$f":"KoSteRe!L89","v":0},{"$error":"#N/A"},{"$error":"#N/A"}]
[null,{"$f":"BetriebszweigAuswertung!C94","v":"Löhne"},{"$f":"KoSteRe!L90","v":0},{"$error":"#N/A"},{"$error":"#N/A"}]
[null,{"$f":"BetriebszweigAuswertung!C95","v":""},{"$f":"KoSteRe!L91","v":0},{"$error":"#N/A"},{"$error":"#N/A"}]
[null,{"$f":"BetriebszweigAuswertung!C96","v":""},{"$f":"KoSteRe!L92","v":0},{"$error":"#N/A"},{"$error":"#N/A"}]
[null,{"$f":"BetriebszweigAuswertung!C97","v":""},{"$f":"KoSteRe!L93","v":0},{"$error":"#N/A"},{"$error":"#N/A"}]
[]
[null,{"$f":"BetriebszweigAuswertung!C99","v":"Pachtkosten (Pachtland)"},{"$f":"KoSteRe!L95","v":0},{"$f":"IF(OR($C97=0,D$5=0),0,$C97/D$5)","v":{"$error":"#N/A"}},{"$error":"#N/A"}]
[null,{"$f":"BetriebszweigAuswertung!C100","v":"Pachtansatz (eigenes Land)"},{"$f":"KoSteRe!L96","v":0},{"$error":"#N/A"},{"$error":"#N/A"}]
[null,{"$f":"BetriebszweigAuswertung!C101","v":""},{"$f":"KoSteRe!L97","v":0},{"$error":"#N/A"},{"$error":"#N/A"}]
[null,{"$f":"BetriebszweigAuswertung!C102","v":""},{"$f":"KoSteRe!L98","v":0},{"$error":"#N/A"},{"$error":"#N/A"}]
[null,{"$f":"BetriebszweigAuswertung!C103","v":""},{"$f":"KoSteRe!L99","v":0},{"$error":"#N/A"},{"$error":"#N/A"}]
[null,{"$f":"BetriebszweigAuswertung!C104","v":""},{"$f":"KoSteRe!L100","v":0},{"$error":"#N/A"},{"$error":"#N/A"}]
[]
[null,{"$f":"BetriebszweigAuswertung!C106","v":"Zinsansatz Maschinen und Geräte"},{"$f":"KoSteRe!L102","v":0},{"$f":"IF(OR($C104=0,D$5=0),0,$C104/D$5)","v":{"$error":"#N/A"}},{"$error":"#N/A"}]
[null,{"$f":"BetriebszweigAuswertung!C107","v":"Zinsansatz Gebäude und bauliche Anlagen"},{"$f":"KoSteRe!L103","v":0},{"$error":"#N/A"},{"$error":"#N/A"}]
[null,{"$f":"BetriebszweigAuswertung!C108","v":"Zinsansatz Viehvermögen"},{"$f":"KoSteRe!L104","v":0},{"$error":"#N/A"},{"$error":"#N/A"}]
[null,{"$f":"BetriebszweigAuswertung!C109","v":"Zinsansatz Genossenschaftsanteile"},{"$f":"KoSteRe!L105","v":0},{"$error":"#N/A"},{"$error":"#N/A"}]
[null,{"$f":"BetriebszweigAuswertung!C110","v":""},{"$f":"KoSteRe!L106","v":0},{"$error":"#N/A"},{"$error":"#N/A"}]
[null,{"$f":"BetriebszweigAuswertung!C111","v":""},{"$f":"KoSteRe!L107","v":0},{"$error":"#N/A"},{"$error":"#N/A"}]
[null,{"$f":"BetriebszweigAuswertung!C112","v":""},{"$f":"KoSteRe!L108","v":0},{"$error":"#N/A"},{"$error":"#N/A"}]
[]
[null,{"$f":"BetriebszweigAuswertung!C114","v":""},{"$f":"KoSteRe!L110","v":0},{"$f":"IF(OR($C112=0,D$5=0),0,$C112/D$5)","v":{"$error":"#N/A"}},{"$error":"#N/A"}]
[null,{"$f":"BetriebszweigAuswertung!C115","v":""},{"$f":"KoSteRe!L111","v":0},{"$error":"#N/A"},{"$error":"#N/A"}]
[null,{"$f":"BetriebszweigAuswertung!C116","v":""},{"$f":"KoSteRe!L112","v":0},{"$error":"#N/A"},{"$error":"#N/A"}]
[null,{"$f":"BetriebszweigAuswertung!C117","v":""},{"$f":"KoSteRe!L113","v":0},{"$error":"#N/A"},{"$error":"#N/A"}]
[null,{"$f":"BetriebszweigAuswertung!C118","v":""},{"$f":"KoSteRe!L114","v":0},{"$error":"#N/A"},{"$error":"#N/A"}]
[null,{"$f":"BetriebszweigAuswertung!C119","v":""},{"$f":"KoSteRe!L115","v":0},{"$error":"#N/A"},{"$error":"#N/A"}]
[null,{"$f":"IF(WurzelBZweige!$AV116=\"\",\"\",WurzelBZweige!AV116)","v":"Summe Faktorkosten"},{"$f":"KoSteRe!L116","v":0},{"$f":"IF(OR($C118=\"\",D$5=0),0,$C118/D$5)","v":{"$error":"#N/A"}},{"$f":"IF(OR($C118=0,E$5=0),0,$C118/E$5)","v":{"$error":"#N/A"}}]
[null,"Kalkulatorisches Betriebszweigergebnis",{"$f":"C88-C118","v":0},{"$f":"D88-D118","v":{"$error":"#N/A"}},{"$f":"E88-E118","v":{"$error":"#N/A"}}]
[null,"Gesamtleistungen",{"$f":"C37+C87","v":0},{"$f":"IF(OR($C120=0,D$5=0),0,$C120/D$5)","v":{"$error":"#N/A"}},{"$error":"#N/A"}]
[null,"Gesamtkosten",{"$f":"C61+C81+C118","v":0},{"$error":"#N/A"},{"$error":"#N/A"}]
[null,"Variable Kosten",{"$f":"+C61+C65+C67+C69+C66+C70+C68","v":0},{"$error":"#N/A"},{"$error":"#N/A"}]
[null,"Pagatorische Kosten",{"$f":"+C61+C81+C91+C97+C112+C113+C92","v":0},{"$error":"#N/A"},{"$error":"#N/A"}]
[null,"Kalkulatorische Kosten",{"$f":"+C90+C98+C104+C105+C99+C106+C107+C114+C117","v":0},{"$error":"#N/A"},{"$error":"#N/A"}]
[null,"Gebäudekosten",{"$f":"+C72+C74+C105","v":0},{"$error":"#N/A"},{"$error":"#N/A"}]
[null,"Abschreibungsgrad Gebäude (%)",{"$f":"1-Gebäude!K165/Gebäude!K161","v":{"$error":"#DIV/0!"}},{"$f":"C126","v":{"$error":"#DIV/0!"}},{"$f":"C126","v":{"$error":"#DIV/0!"}}]
[null,"Maschinenkosten inkl. MR ",{"$f":"+C71+C65+C66+C67+C68+C104","v":0},{"$f":"IF(OR($C127=0,D$5=0),0,$C127/D$5)","v":{"$error":"#N/A"}},{"$f":"IF(OR($C127=0,E$5=0),0,$C127/E$5)","v":{"$error":"#N/A"}}]
[null,"Abschreibungsgrad Maschinen (%)",{"$f":"1-Maschinen!K165/Maschinen!K163","v":{"$error":"#DIV/0!"}},{"$f":"C128","v":{"$error":"#DIV/0!"}},{"$f":"C128","v":{"$error":"#DIV/0!"}}]
[null,"Arbeitserledigungskosten",{"$f":"C127+C90+C91+C92","v":0},{"$f":"IF(OR($C129=0,D$5=0),0,$C129/D$5)","v":{"$error":"#N/A"}},{"$error":"#N/A"}]
[null,"Deckungsbeitrag",{"$f":"+C37-C122","v":0},{"$error":"#N/A"},{"$error":"#N/A"}]
[null,"Beitrag zu den Einkünften",{"$f":"+C88-C92-C97-C112-C113","v":0},{"$error":"#N/A"},{"$error":"#N/A"}]
[null,"Beitrag zu den Einkünften je AKh (EUR)",{"$f":"+C131/C135","v":{"$error":"#DIV/0!"}},{"$f":"C132","v":{"$error":"#DIV/0!"}},{"$f":"C132","v":{"$error":"#DIV/0!"}}]
[null,"Arbeitsertrag",{"$f":"C119+C90","v":0},{"$f":"IF(OR($C133=0,D$5=0),0,$C133/D$5)","v":{"$error":"#N/A"}},{"$f":"IF(OR($C133=0,E$5=0),0,$C133/E$5)","v":{"$error":"#N/A"}}]
[null,"Arbeitsertrag je AKh (EUR)",{"$f":"+(C119+C90)/C135","v":{"$error":"#DIV/0!"}},{"$f":"C134","v":{"$error":"#DIV/0!"}},{"$f":"C134","v":{"$error":"#DIV/0!"}}]
[null,"Arbeitszeit",{"$f":"Schlüssel!H153","v":0},{"$f":"IF(OR($C135=0,D$5=0),0,$C135/D$5)","v":{"$error":"#N/A"}},{"$f":"IF(OR($C135=0,E$5=0),0,$C135/E$5)","v":{"$error":"#N/A"}}]
[null,"Kapitalrentabilität (%)",{"$f":"(C119+(C104+C105+C106+C107+C114+C117))/((C104+C105+C106+C107+C114+C117)/Zinssatz)","v":{"$error":"#DIV/0!"}},{"$f":"C136","v":{"$error":"#DIV/0!"}},{"$f":"C136","v":{"$error":"#DIV/0!"}}]
[null,"Kostendeckungspunkt 1",{"$f":"C123-C87-C12-C13-C16-C18-C22-C27-C36-C28-C32","v":0},{"$f":"IF(OR($C137=0,D$5=0),0,$C137/D$5)","v":{"$error":"#N/A"}},{"$f":"IF(OR($C137=0,E$5=0),0,$C137/E$5)","v":{"$error":"#N/A"}}]
[null,"Kostendeckungspunkt 2",{"$f":"C121-C87-C12-C13-C16-C18-C22-C27-C36-C28-C32","v":0},{"$f":"IF(OR($C138=0,D$5=0),0,$C138/D$5)","v":{"$error":"#N/A"}},{"$f":"IF(OR($C138=0,E$5=0),0,$C138/E$5)","v":{"$error":"#N/A"}}]

{"sheet":"BZA7","index":18,"n_rows":138,"n_cols":7,"rows_kept":138,"cut":false,"hidden":false,"merged":[[2,2,3,2],[2,1,3,1]]}
[null,null,null,null,"Menü"]
[null,{"$f":"VLOOKUP(B3,ExpNameListe,3,FALSE)","v":{"$error":"#N/A"}},{"$f":"$B$3","v":0},{"$f":"$B$3","v":0},{"$f":"$B$3","v":0}]
[null,{"$f":"_Zw7","v":0},{"$f":"\"Summe der Umlagekostenstelle \"&YEAR(WirtschaftsjahrAnfang)","v":"Summe der Umlagekostenstelle 2021"},{"$f":"AKNr","v":1},{"$f":"AKNr","v":1}]
[null,null,null,{"$f":"\"€ je \"&VLOOKUP($B$3,Einheitsliste,2,FALSE)","v":{"$error":"#N/A"}},{"$f":"VLOOKUP($B$3,Einheitsliste,6,FALSE)&VLOOKUP($B$3,Einheitsliste,4,FALSE)","v":{"$error":"#N/A"}},null,"Anmerkungen"]
[null,null,null,{"$f":"VLOOKUP($B$3,Einheitsliste,3,FALSE)","v":{"$error":"#N/A"}},{"$f":"VLOOKUP($B$3,Einheitsliste,7,FALSE)","v":{"$error":"#N/A"}}]
[null,"\nDirektleistungen",null,{"$f":"VLOOKUP($B$3,Einheitsliste,3,FALSE)&\" \"&VLOOKUP($B$3,Einheitsliste,2,FALSE)","v":{"$error":"#N/A"}},{"$f":"VLOOKUP($B$3,Einheitsliste,5,FALSE)&\" \"&VLOOKUP($B$3,Einheitsliste,4,FALSE)","v":{"$error":"#N/A"}}]
[null,{"$f":"BetriebszweigAuswertung!C8","v":""},{"$f":"KoSteRe!M6","v":0},{"$f":"IF(OR($C7=0,D$5=0),0,$C7/D$5)","v":{"$error":"#N/A"}},{"$error":"#N/A"}]
[null,{"$f":"BetriebszweigAuswertung!C9","v":""},{"$f":"KoSteRe!M7","v":0},{"$error":"#N/A"},{"$error":"#N/A"}]
[null,{"$f":"BetriebszweigAuswertung!C10","v":""},{"$f":"KoSteRe!M8","v":0},{"$error":"#N/A"},{"$error":"#N/A"}]
[null,{"$f":"BetriebszweigAuswertung!C11","v":""},{"$f":"KoSteRe!M9","v":0},{"$error":"#N/A"},{"$error":"#N/A"}]
[null,{"$f":"BetriebszweigAuswertung!C12","v":""},{"$f":"KoSteRe!M10","v":0},{"$error":"#N/A"},{"$error":"#N/A"}]
[null,{"$f":"BetriebszweigAuswertung!C13","v":""},{"$f":"KoSteRe!M11","v":0},{"$error":"#N/A"},{"$error":"#N/A"}]
[null,{"$f":"BetriebszweigAuswertung!C14","v":""},{"$f":"KoSteRe!M12","v":0},{"$error":"#N/A"},{"$error":"#N/A"}]
[null,{"$f":"BetriebszweigAuswertung!C15","v":""},{"$f":"KoSteRe!M13","v":0},{"$error":"#N/A"},{"$error":"#N/A"}]
[null,{"$f":"BetriebszweigAuswertung!C16","v":""},{"$f":"KoSteRe!M14","v":0},{"$error":"#N/A"},{"$error":"#N/A"}]
[null,{"$f":"BetriebszweigAuswertung!C17","v":""},{"$f":"KoSteRe!M15","v":0},{"$error":"#N/A"},{"$error":"#N/A"}]
[null,{"$f":"BetriebszweigAuswertung!C18","v":""},{"$f":"KoSteRe!M16","v":0},{"$error":"#N/A"},{"$error":"#N/A"}]
[null,{"$f":"BetriebszweigAuswertung!C19","v":""},{"$f":"KoSteRe!M17","v":0},{"$error":"#N/A"},{"$error":"#N/A"}]
[null,{"$f":"BetriebszweigAuswertung!C20","v":""},{"$f":"KoSteRe!M18","v":0},{"$error":"#N/A"},{"$error":"#N/A"}]
[null,{"$f":"BetriebszweigAuswertung!C21","v":""},{"$f":"KoSteRe!M19","v":0},{"$error":"#N/A"},{"$error":"#N/A"}]
[null,{"$f":"BetriebszweigAuswertung!C22","v":""},{"$f":"KoSteRe!M20","v":0},{"$error":"#N/A"},{"$error":"#N/A"}]
[null,{"$f":"BetriebszweigAuswertung!C23","v":""},{"$f":"KoSteRe!M21","v":0},{"$error":"#N/A"},{"$error":"#N/A"}]
[null,{"$f":"BetriebszweigAuswertung!C24","v":""},{"$f":"KoSteRe!M22","v":0},{"$error":"#N/A"},{"$error":"#N/A"}]
[null,{"$f":"BetriebszweigAuswertung!C25","v":""},{"$f":"KoSteRe!M23","v":0},{"$error":"#N/A"},{"$error":"#N/A"}]
[null,{"$f":"BetriebszweigAuswertung!C26","v":""},{"$f":"KoSteRe!M24","v":0},{"$error":"#N/A"},{"$error":"#N/A"}]
[null,{"$f":"BetriebszweigAuswertung!C27","v":""},{"$f":"KoSteRe!M25","v":0},{"$error":"#N/A"},{"$error":"#N/A"}]
[null,{"$f":"BetriebszweigAuswertung!C28","v":""},{"$f":"KoSteRe!M26","v":0},{"$error":"#N/A"},{"$error":"#N/A"}]
[null,{"$f":"BetriebszweigAuswertung!C29","v":"Sonstige Leistungen "},{"$f":"KoSteRe!M27","v":0},{"$error":"#N/A"},{"$error":"#N/A"}]
[null,{"$f":"BetriebszweigAuswertung!C30","v":""},{"$f":"KoSteRe!M28","v":0},{"$error":"#N/A"},{"$error":"#N/A"}]
[null,{"$f":"BetriebszweigAuswertung!C31","v":""},{"$f":"KoSteRe!M29","v":0},{"$error":"#N/A"},{"$error":"#N/A"}]
[null,{"$f":"BetriebszweigAuswertung!C32","v":""},{"$f":"KoSteRe!M30","v":0},{"$error":"#N/A"},{"$error":"#N/A"}]
[null,{"$f":"BetriebszweigAuswertung!C33","v":""},{"$f":"KoSteRe!M31","v":0},{"$error":"#N/A"},{"$error":"#N/A"}]
[null,{"$f":"BetriebszweigAuswertung!C34","v":""},{"$f":"KoSteRe!M32","v":0},{"$error":"#N/A"},{"$error":"#N/A"}]
[null,{"$f":"BetriebszweigAuswertung!C35","v":""},{"$f":"KoSteRe!M33","v":0},{"$error":"#N/A"},{"$error":"#N/A"}]
[null,{"$f":"BetriebszweigAuswertung!C36","v":""},{"$f":"KoSteRe!M34","v":0},{"$error":"#N/A"},{"$error":"#N/A"}]
[null,{"$f":"BetriebszweigAuswertung!C37","v":"Wirtschaftsdünger innerbetrieblich"},{"$f":"KoSteRe!M35","v":0},{"$error":"#N/A"},{"$error":"#N/A"}]
[null,"Summe Direktleistungen",{"$f":"KoSteRe!M36","v":0},{"$f":"IF(OR($C37=\"\",D$5=0),0,$C37/D$5)","v":{"$error":"#N/A"}},{"$f":"IF(OR($C37=0,E$5=0),0,$C37/E$5)","v":{"$error":"#N/A"}}]
[null,"Direktkosten ",null,"."]
[null,{"$f":"BetriebszweigAuswertung!C40","v":"Saatgut"},{"$f":"KoSteRe!M38","v":0},{"$f":"IF(OR($C39=0,D$5=0),0,$C39/D$5)","v":{"$error":"#N/A"}},{"$error":"#N/A"}]
[null,{"$f":"BetriebszweigAuswertung!C41","v":""},{"$f":"KoSteRe!M39","v":0},{"$error":"#N/A"},{"$error":"#N/A"}]
[null,{"$f":"BetriebszweigAuswertung!C42","v":"Dünger (Wirtschaftsdünger + Handelsdünger)"},{"$f":"KoSteRe!M40","v":0},{"$error":"#N/A"},{"$error":"#N/A"}]
[null,{"$f":"BetriebszweigAuswertung!C43","v":"Pflanzenschutz"},{"$f":"KoSteRe!M41","v":0},{"$error":"#N/A"},{"$error":"#N/A"}]
[null,{"$f":"BetriebszweigAuswertung!C44","v":""},{"$f":"KoSteRe!M42","v":0},{"$error":"#N/A"},{"$error":"#N/A"}]
[null,{"$f":"BetriebszweigAuswertung!C45","v":""},{"$f":"KoSteRe!M43","v":0},{"$error":"#N/A"},{"$error":"#N/A"}]
[null,{"$f":"BetriebszweigAuswertung!C46","v":""},{"$f":"KoSteRe!M44","v":0},{"$error":"#N/A"},{"$error":"#N/A"}]
[null,{"$f":"BetriebszweigAuswertung!C47","v":""},{"$f":"KoSteRe!M45","v":0},{"$error":"#N/A"},{"$error":"#N/A"}]
[null,{"$f":"BetriebszweigAuswertung!C48","v":""},{"$f":"KoSteRe!M46","v":0},{"$error":"#N/A"},{"$error":"#N/A"}]
[null,{"$f":"BetriebszweigAuswertung!C49","v":""},{"$f":"KoSteRe!M47","v":0},{"$error":"#N/A"},{"$error":"#N/A"}]
[null,{"$f":"BetriebszweigAuswertung!C50","v":""},{"$f":"KoSteRe!M48","v":0},{"$error":"#N/A"},{"$error":"#N/A"}]
[null,{"$f":"BetriebszweigAuswertung!C51","v":""},{"$f":"KoSteRe!M49","v":0},{"$error":"#N/A"},{"$error":"#N/A"}]
[null,{"$f":"BetriebszweigAuswertung!C52","v":""},{"$f":"KoSteRe!M50","v":0},{"$error":"#N/A"},{"$error":"#N/A"}]
[null,{"$f":"BetriebszweigAuswertung!C53","v":""},{"$f":"KoSteRe!M51","v":0},{"$error":"#N/A"},{"$error":"#N/A"}]
[null,{"$f":"BetriebszweigAuswertung!C54","v":"Sonstige direkte Kosten"},{"$f":"KoSteRe!M52","v":0},{"$error":"#N/A"},{"$error":"#N/A"}]
[null,{"$f":"BetriebszweigAuswertung!C55","v":""},{"$f":"KoSteRe!M53","v":0},{"$error":"#N/A"},{"$error":"#N/A"}]
[null,{"$f":"BetriebszweigAuswertung!C56","v":""},{"$f":"KoSteRe!M54","v":0},{"$error":"#N/A"},{"$error":"#N/A"}]
[null,{"$f":"BetriebszweigAuswertung!C57","v":""},{"$f":"KoSteRe!M55","v":0},{"$error":"#N/A"},{"$error":"#N/A"}]
[null,{"$f":"BetriebszweigAuswertung!C58","v":""},{"$f":"KoSteRe!M56","v":0},{"$error":"#N/A"},{"$error":"#N/A"}]
[null,{"$f":"BetriebszweigAuswertung!C59","v":""},{"$f":"KoSteRe!M57","v":0},{"$error":"#N/A"},{"$error":"#N/A"}]
[null,{"$f":"BetriebszweigAuswertung!C60","v":""},{"$f":"KoSteRe!M58","v":0},{"$error":"#N/A"},{"$error":"#N/A"}]
[null,{"$f":"BetriebszweigAuswertung!C61","v":""},{"$f":"KoSteRe!M59","v":0},{"$error":"#N/A"},{"$error":"#N/A"}]
[null,"Summe Direktkosten",{"$f":"KoSteRe!M60","v":0},{"$f":"IF(OR($C61=\"\",D$5=0),0,$C61/D$5)","v":{"$error":"#N/A"}},{"$f":"IF(OR($C61=0,E$5=0),0,$C61/E$5)","v":{"$error":"#N/A"}}]
[null,"Direktkostenfreie Leistungen",{"$f":"C37-C61","v":0},{"$f":"D37-D61","v":{"$error":"#N/A"}},{"$f":"E37-E61","v":{"$error":"#N/A"}}]
[null,"Übrige Vorleistungskosten",null,"."]
[null,{"$f":"BetriebszweigAuswertung!C65","v":"Betriebs- und Reparaturkosten Maschinen"}]
[null,{"$f":"BetriebszweigAuswertung!C66","v":"Treibstoffe"},{"$f":"KoSteRe!M63","v":0},{"$f":"IF(OR($C65=0,D$5=0),0,$C65/D$5)","v":{"$error":"#N/A"}},{"$error":"#N/A"}]
[null,{"$f":"BetriebszweigAuswertung!C67","v":""},{"$f":"KoSteRe!M64","v":0},{"$error":"#N/A"},{"$error":"#N/A"}]
[null,{"$f":"BetriebszweigAuswertung!C68","v":"Reparatur und Instandhaltung Maschinen"},{"$f":"KoSteRe!M65","v":0},{"$error":"#N/A"},{"$error":"#N/A"}]
[null,{"$f":"BetriebszweigAuswertung!C69","v":"Lohnmaschinen, Maschinenring"},{"$f":"KoSteRe!M66","v":0},{"$error":"#N/A"},{"$error":"#N/A"}]
[null,{"$f":"BetriebszweigAuswertung!C70","v":"Energie (Strom, Wärme)"},{"$f":"KoSteRe!M67","v":0},{"$error":"#N/A"},{"$error":"#N/A"}]
[null,{"$f":"BetriebszweigAuswertung!C71","v":"Wasser"},{"$f":"KoSteRe!M68","v":0},{"$error":"#N/A"},{"$error":"#N/A"}]
[null,{"$f":"BetriebszweigAuswertung!C72","v":"Abschreibung Maschinen und Geräte"},{"$f":"KoSteRe!M69","v":0},{"$error":"#N/A"},{"$error":"#N/A"}]
[null,{"$f":"BetriebszweigAuswertung!C73","v":"Abschreibung Gebäude und bauliche Anlagen"},{"$f":"KoSteRe!M70","v":0},{"$error":"#N/A"},{"$error":"#N/A"}]
[null,{"$f":"BetriebszweigAuswertung!C74","v":""},{"$f":"KoSteRe!M71","v":0},{"$error":"#N/A"},{"$error":"#N/A"}]
[null,{"$f":"BetriebszweigAuswertung!C75","v":"Instandhaltung Gebäude und bauliche Anlagen "},{"$f":"KoSteRe!M72","v":0},{"$error":"#N/A"},{"$error":"#N/A"}]
[null,{"$f":"BetriebszweigAuswertung!C76","v":"PKW - Betriebsanteil"},{"$f":"KoSteRe!M73","v":0},{"$error":"#N/A"},{"$error":"#N/A"}]
[null,{"$f":"BetriebszweigAuswertung!C77","v":"Sachversicherungen ohne Versicherung PKW"},{"$f":"KoSteRe!M74","v":0},{"$error":"#N/A"},{"$error":"#N/A"}]
[null,{"$f":"BetriebszweigAuswertung!C78","v":"Steuern, Betriebsabgaben "},{"$f":"KoSteRe!M75","v":0},{"$error":"#N/A"},{"$error":"#N/A"}]
[null,{"$f":"BetriebszweigAuswertung!C79","v":"Nur indirekt zuordenbare Mitgliedsbeiträge, Gebühren, Beratungs- und Weiterbildungskosten "},{"$f":"KoSteRe!M76","v":0},{"$error":"#N/A"},{"$error":"#N/A"}]
[null,{"$f":"BetriebszweigAuswertung!C80","v":"Allgemeine Verwaltungskosten und sonstige Vorleistungskosten"},{"$f":"KoSteRe!M77","v":0},{"$error":"#N/A"},{"$error":"#N/A"}]
[null,{"$f":"BetriebszweigAuswertung!C81","v":""},{"$f":"KoSteRe!M78","v":0},{"$error":"#N/A"},{"$error":"#N/A"}]
[null,"Summe übrige Vorleistungskosten",{"$f":"KoSteRe!M79","v":0},{"$f":"IF(OR($C81=\"\",D$5=0),0,$C81/D$5)","v":{"$error":"#N/A"}},{"$f":"IF(OR($C81=0,E$5=0),0,$C81/E$5)","v":{"$error":"#N/A"}}]
[null,"Gemeinleistungen",null,"."]
[null,{"$f":"BetriebszweigAuswertung!C84","v":"Direktzahlungen"},{"$f":"KoSteRe!M81","v":0},{"$f":"IF(OR($C83=0,D$5=0),0,$C83/D$5)","v":{"$error":"#N/A"}},{"$error":"#N/A"}]
[null,{"$f":"BetriebszweigAuswertung!C85","v":"ÖPUL-Prämien"},{"$f":"KoSteRe!M82","v":0},{"$error":"#N/A"},{"$error":"#N/A"}]
[null,{"$f":"BetriebszweigAuswertung!C86","v":"Ausgleichszulage für benachteiligte Gebiete"},{"$f":"KoSteRe!M83","v":0},{"$error":"#N/A"},{"$error":"#N/A"}]
[null,{"$f":"BetriebszweigAuswertung!C87","v":"Sonstige Gemeinleistungen"},{"$f":"KoSteRe!M84","v":0},{"$error":"#N/A"},{"$error":"#N/A"}]
[null,"Summe Gemeinleistungen",{"$f":"KoSteRe!M85","v":0},{"$f":"IF(OR($C87=\"\",D$5=0),0,$C87/D$5)","v":{"$error":"#N/A"}},{"$f":"IF(OR($C87=0,E$5=0),0,$C87/E$5)","v":{"$error":"#N/A"}}]
[null,"Faktorentlohnung",{"$f":"C62-C81+C87","v":0},{"$f":"D62-D81+D87","v":{"$error":"#N/A"}},{"$f":"E62-E81+E87","v":{"$error":"#N/A"}}]
[null,"Faktorkosten",null,"."]
[null,{"$f":"BetriebszweigAuswertung!C92","v":"Lohnansatz"},{"$f":"KoSteRe!M88","v":0},{"$f":"IF(OR($C90=0,D$5=0),0,$C90/D$5)","v":{"$error":"#N/A"}},{"$error":"#N/A"}]
[null,{"$f":"BetriebszweigAuswertung!C93","v":"Beiträge zur SVB"},{"$f":"KoSteRe!M89","v":0},{"$error":"#N/A"},{"$error":"#N/A"}]
[null,{"$f":"BetriebszweigAuswertung!C94","v":"Löhne"},{"$f":"KoSteRe!M90","v":0},{"$error":"#N/A"},{"$error":"#N/A"}]
[null,{"$f":"BetriebszweigAuswertung!C95","v":""},{"$f":"KoSteRe!M91","v":0},{"$error":"#N/A"},{"$error":"#N/A"}]
[null,{"$f":"BetriebszweigAuswertung!C96","v":""},{"$f":"KoSteRe!M92","v":0},{"$error":"#N/A"},{"$error":"#N/A"}]
[null,{"$f":"BetriebszweigAuswertung!C97","v":""},{"$f":"KoSteRe!M93","v":0},{"$error":"#N/A"},{"$error":"#N/A"}]
[]
[null,{"$f":"BetriebszweigAuswertung!C99","v":"Pachtkosten (Pachtland)"},{"$f":"KoSteRe!M95","v":0},{"$f":"IF(OR($C97=0,D$5=0),0,$C97/D$5)","v":{"$error":"#N/A"}},{"$error":"#N/A"}]
[null,{"$f":"BetriebszweigAuswertung!C100","v":"Pachtansatz (eigenes Land)"},{"$f":"KoSteRe!M96","v":0},{"$error":"#N/A"},{"$error":"#N/A"}]
[null,{"$f":"BetriebszweigAuswertung!C101","v":""},{"$f":"KoSteRe!M97","v":0},{"$error":"#N/A"},{"$error":"#N/A"}]
[null,{"$f":"BetriebszweigAuswertung!C102","v":""},{"$f":"KoSteRe!M98","v":0},{"$error":"#N/A"},{"$error":"#N/A"}]
[null,{"$f":"BetriebszweigAuswertung!C103","v":""},{"$f":"KoSteRe!M99","v":0},{"$error":"#N/A"},{"$error":"#N/A"}]
[null,{"$f":"BetriebszweigAuswertung!C104","v":""},{"$f":"KoSteRe!M100","v":0},{"$error":"#N/A"},{"$error":"#N/A"}]
[]
[null,{"$f":"BetriebszweigAuswertung!C106","v":"Zinsansatz Maschinen und Geräte"},{"$f":"KoSteRe!M102","v":0},{"$f":"IF(OR($C104=0,D$5=0),0,$C104/D$5)","v":{"$error":"#N/A"}},{"$error":"#N/A"}]
[null,{"$f":"BetriebszweigAuswertung!C107","v":"Zinsansatz Gebäude und bauliche Anlagen"},{"$f":"KoSteRe!M103","v":0},{"$error":"#N/A"},{"$error":"#N/A"}]
[null,{"$f":"BetriebszweigAuswertung!C108","v":"Zinsansatz Viehvermögen"},{"$f":"KoSteRe!M104","v":0},{"$error":"#N/A"},{"$error":"#N/A"}]
[null,{"$f":"BetriebszweigAuswertung!C109","v":"Zinsansatz Genossenschaftsanteile"},{"$f":"KoSteRe!M105","v":0},{"$error":"#N/A"},{"$error":"#N/A"}]
[null,{"$f":"BetriebszweigAuswertung!C110","v":""},{"$f":"KoSteRe!M106","v":0},{"$error":"#N/A"},{"$error":"#N/A"}]
[null,{"$f":"BetriebszweigAuswertung!C111","v":""},{"$f":"KoSteRe!M107","v":0},{"$error":"#N/A"},{"$error":"#N/A"}]
[null,{"$f":"BetriebszweigAuswertung!C112","v":""},{"$f":"KoSteRe!M108","v":0},{"$error":"#N/A"},{"$error":"#N/A"}]
[]
[null,{"$f":"BetriebszweigAuswertung!C114","v":""},{"$f":"KoSteRe!M110","v":0},{"$f":"IF(OR($C112=0,D$5=0),0,$C112/D$5)","v":{"$error":"#N/A"}},{"$error":"#N/A"}]
[null,{"$f":"BetriebszweigAuswertung!C115","v":""},{"$f":"KoSteRe!M111","v":0},{"$error":"#N/A"},{"$error":"#N/A"}]
[null,{"$f":"BetriebszweigAuswertung!C116","v":""},{"$f":"KoSteRe!M112","v":0},{"$error":"#N/A"},{"$error":"#N/A"}]
[null,{"$f":"BetriebszweigAuswertung!C117","v":""},{"$f":"KoSteRe!M113","v":0},{"$error":"#N/A"},{"$error":"#N/A"}]
[null,{"$f":"BetriebszweigAuswertung!C118","v":""},{"$f":"KoSteRe!M114","v":0},{"$error":"#N/A"},{"$error":"#N/A"}]
[null,{"$f":"BetriebszweigAuswertung!C119","v":""},{"$f":"KoSteRe!M115","v":0},{"$error":"#N/A"},{"$error":"#N/A"}]
[null,{"$f":"IF(WurzelBZweige!$AV116=\"\",\"\",WurzelBZweige!AV116)","v":"Summe Faktorkosten"},{"$f":"KoSteRe!M116","v":0},{"$f":"IF(OR($C118=\"\",D$5=0),0,$C118/D$5)","v":{"$error":"#N/A"}},{"$f":"IF(OR($C118=0,E$5=0),0,$C118/E$5)","v":{"$error":"#N/A"}}]
[null,"Kalkulatorisches Betriebszweigergebnis",{"$f":"C88-C118","v":0},{"$f":"D88-D118","v":{"$error":"#N/A"}},{"$f":"E88-E118","v":{"$error":"#N/A"}}]
[null,"Gesamtleistungen",{"$f":"C37+C87","v":0},{"$f":"IF(OR($C120=0,D$5=0),0,$C120/D$5)","v":{"$error":"#N/A"}},{"$error":"#N/A"}]
[null,"Gesamtkosten",{"$f":"C61+C81+C118","v":0},{"$error":"#N/A"},{"$error":"#N/A"}]
[null,"Variable Kosten",{"$f":"+C61+C65+C67+C69+C66+C70+C68","v":0},{"$error":"#N/A"},{"$error":"#N/A"}]
[null,"Pagatorische Kosten",{"$f":"+C61+C81+C91+C97+C112+C113+C92","v":0},{"$error":"#N/A"},{"$error":"#N/A"}]
[null,"Kalkulatorische Kosten",{"$f":"+C90+C98+C104+C105+C99+C106+C107+C114+C117","v":0},{"$error":"#N/A"},{"$error":"#N/A"}]
[null,"Gebäudekosten",{"$f":"+C72+C74+C105","v":0},{"$error":"#N/A"},{"$error":"#N/A"}]
[null,"Abschreibungsgrad Gebäude (%)",{"$f":"1-Gebäude!L165/Gebäude!L161","v":{"$error":"#DIV/0!"}},{"$f":"C126","v":{"$error":"#DIV/0!"}},{"$f":"C126","v":{"$error":"#DIV/0!"}}]
[null,"Maschinenkosten inkl. MR ",{"$f":"+C71+C65+C66+C67+C68+C104","v":0},{"$f":"IF(OR($C127=0,D$5=0),0,$C127/D$5)","v":{"$error":"#N/A"}},{"$f":"IF(OR($C127=0,E$5=0),0,$C127/E$5)","v":{"$error":"#N/A"}}]
[null,"Abschreibungsgrad Maschinen (%)",{"$f":"1-Maschinen!L165/Maschinen!L163","v":{"$error":"#DIV/0!"}},{"$f":"C128","v":{"$error":"#DIV/0!"}},{"$f":"C128","v":{"$error":"#DIV/0!"}}]
[null,"Arbeitserledigungskosten",{"$f":"C127+C90+C91+C92","v":0},{"$f":"IF(OR($C129=0,D$5=0),0,$C129/D$5)","v":{"$error":"#N/A"}},{"$error":"#N/A"}]
[null,"Deckungsbeitrag",{"$f":"+C37-C122","v":0},{"$error":"#N/A"},{"$error":"#N/A"}]
[null,"Beitrag zu den Einkünften",{"$f":"+C88-C92-C97-C112-C113","v":0},{"$error":"#N/A"},{"$error":"#N/A"}]
[null,"Beitrag zu den Einkünften je AKh (EUR)",{"$f":"+C131/C135","v":{"$error":"#DIV/0!"}},{"$f":"C132","v":{"$error":"#DIV/0!"}},{"$f":"C132","v":{"$error":"#DIV/0!"}}]
[null,"Arbeitsertrag",{"$f":"C119+C90","v":0},{"$f":"IF(OR($C133=0,D$5=0),0,$C133/D$5)","v":{"$error":"#N/A"}},{"$f":"IF(OR($C133=0,E$5=0),0,$C133/E$5)","v":{"$error":"#N/A"}}]
[null,"Arbeitsertrag je AKh (EUR)",{"$f":"+(C119+C90)/C135","v":{"$error":"#DIV/0!"}},{"$f":"C134","v":{"$error":"#DIV/0!"}},{"$f":"C134","v":{"$error":"#DIV/0!"}}]
[null,"Arbeitszeit",{"$f":"Schlüssel!I153","v":0},{"$f":"IF(OR($C135=0,D$5=0),0,$C135/D$5)","v":{"$error":"#N/A"}},{"$f":"IF(OR($C135=0,E$5=0),0,$C135/E$5)","v":{"$error":"#N/A"}}]
[null,"Kapitalrentabilität (%)",{"$f":"(C119+(C104+C105+C106+C107+C114+C117))/((C104+C105+C106+C107+C114+C117)/Zinssatz)","v":{"$error":"#DIV/0!"}},{"$f":"C136","v":{"$error":"#DIV/0!"}},{"$f":"C136","v":{"$error":"#DIV/0!"}}]
[null,"Kostendeckungspunkt 1",{"$f":"C123-C87-C12-C13-C16-C18-C22-C27-C36-C28-C32","v":0},{"$f":"IF(OR($C137=0,D$5=0),0,$C137/D$5)","v":{"$error":"#N/A"}},{"$f":"IF(OR($C137=0,E$5=0),0,$C137/E$5)","v":{"$error":"#N/A"}}]
[null,"Kostendeckungspunkt 2",{"$f":"C121-C87-C12-C13-C16-C18-C22-C27-C36-C28-C32","v":0},{"$f":"IF(OR($C138=0,D$5=0),0,$C138/D$5)","v":{"$error":"#N/A"}},{"$f":"IF(OR($C138=0,E$5=0),0,$C138/E$5)","v":{"$error":"#N/A"}}]

{"sheet":"Grafik1","index":19,"n_rows":10,"n_cols":17,"rows_kept":10,"cut":false,"hidden":false,"merged":[[3,15,3,16],[3,11,3,12],[3,3,3,4],[3,5,3,6],[3,7,3,8],[3,9,3,10],[3,13,3,14]]}
[null,"Menü"]
[]
[null,null,null,"Leistungen","Kosten"]
[null,null,"Daten",{"$f":"BetriebszweigAuswertung!E3","v":"Sonstiges"},null,{"$f":"BetriebszweigAuswertung!F3","v":0},null,{"$f":"BetriebszweigAuswertung!G3","v":0},null,{"$f":"BetriebszweigAuswertung!H3","v":0},null,{"$f":"BetriebszweigAuswertung!I3","v":0},null,{"$f":"BetriebszweigAuswertung!J3","v":0},null,{"$f":"BetriebszweigAuswertung!K3","v":0}]
[null,null,null,"Leistungen","Kosten","Leistungen","Kosten","Leistungen","Kosten","Leistungen","Kosten","Leistungen","Kosten","Leistungen","Kosten","Leistungen","Kosten"]
[null,null,{"$f":"BetriebszweigAuswertung!C124","v":"Direktleistungen"},{"$f":"TRUNC(BetriebszweigAuswertung!E124,2)","v":0},null,{"$f":"TRUNC(BetriebszweigAuswertung!F124,2)","v":0},null,{"$f":"TRUNC(BetriebszweigAuswertung!G124,2)","v":0},null,{"$f":"TRUNC(BetriebszweigAuswertung!H124,2)","v":0},null,{"$f":"TRUNC(BetriebszweigAuswertung!I124,2)","v":0},null,{"$f":"TRUNC(BetriebszweigAuswertung!J124,2)","v":0},null,{"$f":"TRUNC(BetriebszweigAuswertung!K124,2)","v":0}]
[null,null,{"$f":"BetriebszweigAuswertung!C125","v":"Direktkosten"},null,{"$f":"TRUNC(BetriebszweigAuswertung!E125,2)","v":0},null,{"$f":"TRUNC(BetriebszweigAuswertung!F125,2)","v":0},null,{"$f":"TRUNC(BetriebszweigAuswertung!G125,2)","v":0},null,{"$f":"TRUNC(BetriebszweigAuswertung!H125,2)","v":0},null,{"$f":"TRUNC(BetriebszweigAuswertung!I125,2)","v":0},null,{"$f":"TRUNC(BetriebszweigAuswertung!J125,2)","v":0},null,{"$f":"TRUNC(BetriebszweigAuswertung!K125,2)","v":0}]
[null,null,{"$f":"BetriebszweigAuswertung!C126","v":"Übrige Vorleistungskosten"},null,{"$f":"TRUNC(BetriebszweigAuswertung!E126,2)","v":0},null,{"$f":"TRUNC(BetriebszweigAuswertung!F126,2)","v":0},null,{"$f":"TRUNC(BetriebszweigAuswertung!G126,2)","v":0},null,{"$f":"TRUNC(BetriebszweigAuswertung!H126,2)","v":0},null,{"$f":"TRUNC(BetriebszweigAuswertung!I126,2)","v":0},null,{"$f":"TRUNC(BetriebszweigAuswertung!J126,2)","v":0},null,{"$f":"TRUNC(BetriebszweigAuswertung!K126,2)","v":0}]
[null,null,{"$f":"BetriebszweigAuswertung!C127","v":"Gemeinleistungen"},{"$f":"TRUNC(BetriebszweigAuswertung!E127,2)","v":0},null,{"$f":"TRUNC(BetriebszweigAuswertung!F127,2)","v":0},null,{"$f":"TRUNC(BetriebszweigAuswertung!G127,2)","v":0},null,{"$f":"TRUNC(BetriebszweigAuswertung!H127,2)","v":0},null,{"$f":"TRUNC(BetriebszweigAuswertung!I127,2)","v":0},null,{"$f":"TRUNC(BetriebszweigAuswertung!J127,2)","v":0},null,{"$f":"TRUNC(BetriebszweigAuswertung!K127,2)","v":0}]
[null,null,{"$f":"BetriebszweigAuswertung!C128","v":"Faktorkosten"},null,{"$f":"TRUNC(BetriebszweigAuswertung!E128,2)","v":0},null,{"$f":"TRUNC(BetriebszweigAuswertung!F128,2)","v":0},null,{"$f":"TRUNC(BetriebszweigAuswertung!G128,2)","v":0},null,{"$f":"TRUNC(BetriebszweigAuswertung!H128,2)","v":0},null,{"$f":"TRUNC(BetriebszweigAuswertung!I128,2)","v":0},null,{"$f":"TRUNC(BetriebszweigAuswertung!J128,2)","v":0},null,{"$f":"TRUNC(BetriebszweigAuswertung!K128,2)","v":0}]

{"sheet":"Grafik2","index":20,"n_rows":20,"n_cols":10,"rows_kept":20,"cut":false,"hidden":true,"merged":[]}
[null,"Menü"]
[]
[]
[]
[null,"Grafik 1",null,{"$f":"BetriebszweigAuswertung!E3","v":"Sonstiges"},{"$f":"BetriebszweigAuswertung!F3","v":0},{"$f":"BetriebszweigAuswertung!G3","v":0},{"$f":"BetriebszweigAuswertung!H3","v":0},{"$f":"BetriebszweigAuswertung!I3","v":0}]
[null,null,"Direktleistungen",{"$f":"TRUNC(BetriebszweigAuswertung!E38,2)","v":0},{"$f":"TRUNC(BetriebszweigAuswertung!F38,2)","v":0},{"$f":"TRUNC(BetriebszweigAuswertung!G38,2)","v":0},{"$f":"TRUNC(BetriebszweigAuswertung!H38,2)","v":0},{"$f":"TRUNC(BetriebszweigAuswertung!I38,2)","v":0}]
[]
[null,"Grafik 2",null,{"$f":"D5","v":"Sonstiges"},{"$f":"E5","v":0},{"$f":"F5","v":0},{"$f":"G5","v":0},{"$f":"H5","v":0}]
[null,null,"Gesamtkosten",{"$f":"TRUNC((BetriebszweigAuswertung!E62+BetriebszweigAuswertung!E82+BetriebszweigAuswertung!E120),2)","v":0},{"$f":"TRUNC((BetriebszweigAuswertung!F62+BetriebszweigAuswertung!F82+BetriebszweigAuswertung!F120),2)","v":0},{"$f":"TRUNC((BetriebszweigAuswertung!G62+BetriebszweigAuswertung!G82+BetriebszweigAuswertung!G120),2)","v":0},{"$f":"TRUNC((BetriebszweigAuswertung!H62+BetriebszweigAuswertung!H82+BetriebszweigAuswertung!H120),2)","v":0},{"$f":"TRUNC((BetriebszweigAuswertung!I62+BetriebszweigAuswertung!I82+BetriebszweigAuswertung!I120),2)","v":0}]
[]
[null,"Grafik 3",{"$f":"C13& \" \"&D11","v":" 0"},{"$f":"'BZA6'!B3","v":0},{"$f":"IF($D$11=1,1,'BZA6'!D6)","v":{"$error":"#N/A"}},{"$f":"IF($D$11=1,1,'BZA6'!E6)","v":{"$error":"#N/A"}}]
[null,null,null,"Summe",{"$f":"IF($D$11=1,1,'BZA6'!D4)","v":{"$error":"#N/A"}},{"$f":"IF($D$11=1,1,'BZA6'!E4)","v":{"$error":"#N/A"}}]
[null,null,{"$f":"'BZA6'!B110","v":""},{"$f":"IF($D$11=1,1,TRUNC('BZA6'!C110,0))","v":0},{"$f":"IF($D$11=1,1,TRUNC('BZA6'!D110,0))","v":{"$error":"#N/A"}},{"$f":"IF($D$11=1,1,TRUNC('BZA6'!E110,0))","v":{"$error":"#N/A"}}]
[]
[null,"Gafik 4",{"$f":"C17&\" \"&D15","v":" 0"},{"$f":"'BZA7'!B3","v":0},{"$f":"IF($D$15=1,1,'BZA7'!D6)","v":{"$error":"#N/A"}},{"$f":"IF($D$15=1,1,'BZA7'!E6)","v":{"$error":"#N/A"}}]
[null,null,null,"Summe",{"$f":"IF($D$15=1,1,'BZA7'!D4)","v":{"$error":"#N/A"}},{"$f":"IF($D$15=1,1,'BZA7'!E4)","v":{"$error":"#N/A"}}]
[null,null,{"$f":"'BZA7'!B110","v":""},{"$f":"IF($D$15=1,1,TRUNC('BZA7'!C110,0))","v":0},{"$f":"IF($D$15=1,1,TRUNC('BZA7'!D110,0))","v":{"$error":"#N/A"}},{"$f":"IF($D$15=1,1,TRUNC('BZA7'!E110,0))","v":{"$error":"#N/A"}}]
[]
[null,"Grafik 5",null,{"$f":"BetriebszweigAuswertung!E3","v":"Sonstiges"},{"$f":"BetriebszweigAuswertung!F3","v":0},{"$f":"BetriebszweigAuswertung!G3","v":0},{"$f":"BetriebszweigAuswertung!H3","v":0},{"$f":"BetriebszweigAuswertung!I3","v":0},{"$f":"BetriebszweigAuswertung!J3","v":0},{"$f":"BetriebszweigAuswertung!K3","v":0}]
[null,null,{"$f":"BetriebszweigAuswertung!C140","v":"Nichtentlohnte Akh"},{"$f":"BetriebszweigAuswertung!E140","v":0},{"$f":"BetriebszweigAuswertung!F140","v":0},{"$f":"BetriebszweigAuswertung!G140","v":0},{"$f":"BetriebszweigAuswertung!H140","v":0},{"$f":"BetriebszweigAuswertung!I140","v":0},{"$f":"BetriebszweigAuswertung!J140","v":0},{"$f":"BetriebszweigAuswertung!K140","v":0}]

{"sheet":"Maschinen","index":21,"n_rows":166,"n_cols":16,"rows_kept":166,"cut":false,"hidden":false,"merged":[[3,5,3,11],[4,1,4,2],[2,15,2,19],[4,13,4,14],[3,16,3,21],[4,16,4,20],[4,10,4,11],[4,5,4,8]]}
["Maschinenliste",null,"Zurück","Menü",null,null,null,null,null,null,null,null,null,true]
[null,null,null,null,null,null,null,null,null,null,null,null,null,false]
[]
[null,null,null,null,null,"Verwendung für … in % (Innenwirtschaft, Außenwirtschaft, Maschinenring,…)"]
[null,"Anschaffungs-",null,null,null,null,null,null,null,null,null,null,null,"Wert am "]
["Maschinen und Geräte","Jahr","Wert","Nutzungs-dauer ","AfA/Jahr",{"$f":"_Zw1","v":"Sonstiges"},{"$f":"_Zw2","v":0},{"$f":"_Zw3","v":0},{"$f":"_Zw4","v":0},{"$f":"_Zw5","v":0},{"$f":"_Zw6","v":0},{"$f":"_Zw7","v":0},"Σ Aufteilung"," Beginn Wirtschaftsjahr"," Ende Wirtschaftsjahr","Stunden / Jahr"]
["Summe",null,{"$f":"SUM(C8:C158)","v":0},null,{"$f":"SUM(E8:E158)","v":0},null,null,null,null,null,null,null,null,{"$f":"SUM(N8:N158)","v":0},{"$f":"SUM(O8:O158)","v":0}]
["Summeneingabe Maschinen",null,null,null,null,null,null,null,null,null,null,null,{"$f":"SUM(F8:L8)","v":0}]
[null,null,null,null,{"$f":"IF(OR(C9=\"\",(B9+D9)<=YEAR(WirtschaftsjahrAnfang)),0,C9/D9)","v":0},null,null,null,null,null,null,null,{"$f":"SUM(F9:L9)","v":0},{"$f":"IF(E9>0,((B9+D9)-YEAR(WirtschaftsjahrAnfang))*E9,0)","v":0},{"$f":"IF(N9>0,((B9+D9)-YEAR(WirtschaftsjahrEnde))*E9,0)","v":0}]
[null,null,null,null,0,null,null,null,null,null,null,null,{"$f":"SUM(F10:L10)","v":0},{"$f":"IF(E10>0,((B10+D10)-YEAR(WirtschaftsjahrAnfang))*E10,0)","v":0},{"$f":"IF(N10>0,((B10+D10)-YEAR(WirtschaftsjahrEnde))*E10,0)","v":0}]
[null,null,null,null,0,null,null,null,null,null,null,null,0,0,0]
[null,null,null,null,0,null,null,null,null,null,null,null,0,0,0]
[null,null,null,null,0,null,null,null,null,null,null,null,0,0,0]
[null,null,null,null,0,null,null,null,null,null,null,null,0,0,0]
[null,null,null,null,0,null,null,null,null,null,null,null,0,0,0]
[null,null,null,null,0,null,null,null,null,null,null,null,0,0,0]
[null,null,null,null,0,null,null,null,null,null,null,null,0,0,0]
[null,null,null,null,0,null,null,null,null,null,null,null,0,0,0]
[null,null,null,null,0,null,null,null,null,null,null,null,0,0,0]
[null,null,null,null,0,null,null,null,null,null,null,null,{"$f":"SUM(F20:L20)","v":0},{"$f":"IF(E20>0,((B20+D20)-YEAR(WirtschaftsjahrAnfang))*E20,0)","v":0},{"$f":"IF(N20>0,((B20+D20)-YEAR(WirtschaftsjahrEnde))*E20,0)","v":0}]
[null,null,null,null,0,null,null,null,null,null,null,null,0,0,0]
[null,null,null,null,0,null,null,null,null,null,null,null,0,0,0]
[null,null,null,null,0,null,null,null,null,null,null,null,0,0,0]
[null,null,null,null,0,null,null,null,null,null,null,null,0,0,0]
[null,null,null,null,0,null,null,null,null,null,null,null,0,0,0]
[null,null,null,null,0,null,null,null,null,null,null,null,0,0,0]
[null,null,null,null,0,null,null,null,null,null,null,null,0,0,0]
[null,null,null,null,0,null,null,null,null,null,null,null,0,0,0]
[null,null,null,null,0,null,null,null,null,null,null,null,0,0,0]
[null,null,null,null,0,null,null,null,null,null,null,null,0,0,0]
[null,null,null,null,0,null,null,null,null,null,null,null,0,0,0]
[null,null,null,null,0,null,null,null,null,null,null,null,0,0,0]
[null,null,null,null,0,null,null,null,null,null,null,null,0,0,0]
[null,null,null,null,0,null,null,null,null,null,null,null,0,0,0]
[null,null,null,null,0,null,null,null,null,null,null,null,0,0,0]
[null,null,null,null,0,null,null,null,null,null,null,null,0,0,0]
[null,null,null,null,0,null,null,null,null,null,null,null,0,0,0]
[null,null,null,null,0,null,null,null,null,null,null,null,0,0,0]
[null,null,null,null,0,null,null,null,null,null,null,null,0,0,0]
[null,null,null,null,0,null,null,null,null,null,null,null,0,0,0]
[null,null,null,null,0,null,null,null,null,null,null,null,0,0,0]
[null,null,null,null,0,null,null,null,null,null,null,null,0,0,0]
[null,null,null,null,0,null,null,null,null,null,null,null,0,0,0]
[null,null,null,null,0,null,null,null,null,null,null,null,0,0,0]
[null,null,null,null,0,null,null,null,null,null,null,null,0,0,0]
[null,null,null,null,0,null,null,null,null,null,null,null,0,0,0]
[null,null,null,null,0,null,null,null,null,null,null,null,0,0,0]
[null,null,null,null,0,null,null,null,null,null,null,null,0,0,0]
[null,null,null,null,0,null,null,null,null,null,null,null,0,0,0]
[null,null,null,null,0,null,null,null,null,null,null,null,0,0,0]
[null,null,null,null,0,null,null,null,null,null,null,null,0,0,0]
[null,null,null,null,0,null,null,null,null,null,null,null,0,0,0]
[null,null,null,null,0,null,null,null,null,null,null,null,0,0,0]
[null,null,null,null,0,null,null,null,null,null,null,null,0,0,0]
[null,null,null,null,0,null,null,null,null,null,null,null,0,0,0]
[null,null,null,null,0,null,null,null,null,null,null,null,0,0,0]
[null,null,null,null,0,null,null,null,null,null,null,null,0,0,0]
[null,null,null,null,0,null,null,null,null,null,null,null,0,0,0]
[null,null,null,null,0,null,null,null,null,null,null,null,0,0,0]
[null,null,null,null,0,null,null,null,null,null,null,null,0,0,0]
[null,null,null,null,0,null,null,null,null,null,null,null,0,0,0]
[null,null,null,null,0,null,null,null,null,null,null,null,0,0,0]
[null,null,null,null,0,null,null,null,null,null,null,null,0,0,0]
[null,null,null,null,0,null,null,null,null,null,null,null,0,0,0]
[null,null,null,null,0,null,null,null,null,null,null,null,0,0,0]
[null,null,null,null,0,null,null,null,null,null,null,null,0,0,0]
[null,null,null,null,0,null,null,null,null,null,null,null,0,0,0]
[null,null,null,null,0,null,null,null,null,null,null,null,0,0,0]
[null,null,null,null,0,null,null,null,null,null,null,null,0,0,0]
[null,null,null,null,0,null,null,null,null,null,null,null,0,0,0]
[null,null,null,null,0,null,null,null,null,null,null,null,0,0,0]
[null,null,null,null,0,null,null,null,null,null,null,null,0,0,0]
[null,null,null,null,0,null,null,null,null,null,null,null,0,0,0]
[null,null,null,null,0,null,null,null,null,null,null,null,0,0,0]
[null,null,null,null,{"$f":"IF(OR(C75=\"\",(B75+D75)<=YEAR(WirtschaftsjahrAnfang)),0,C75/D75)","v":0},null,null,null,null,null,null,null,0,0,0]
[null,null,null,null,{"$f":"IF(OR(C76=\"\",(B76+D76)<=YEAR(WirtschaftsjahrAnfang)),0,C76/D76)","v":0},null,null,null,null,null,null,null,0,0,0]
[null,null,null,null,{"$f":"IF(OR(C77=\"\",(B77+D77)<=YEAR(WirtschaftsjahrAnfang)),0,C77/D77)","v":0},null,null,null,null,null,null,null,0,0,0]
[null,null,null,null,{"$f":"IF(OR(C78=\"\",(B78+D78)<=YEAR(WirtschaftsjahrAnfang)),0,C78/D78)","v":0},null,null,null,null,null,null,null,0,0,0]
[null,null,null,null,{"$f":"IF(OR(C79=\"\",(B79+D79)<=YEAR(WirtschaftsjahrAnfang)),0,C79/D79)","v":0},null,null,null,null,null,null,null,0,0,0]
[null,null,null,null,0,null,null,null,null,null,null,null,0,0,0]
[null,null,null,null,0,null,null,null,null,null,null,null,0,0,0]
[null,null,null,null,0,null,null,null,null,null,null,null,0,0,0]
[null,null,null,null,0,null,null,null,null,null,null,null,0,0,0]
[null,null,null,null,0,null,null,null,null,null,null,null,{"$f":"SUM(F84:L84)","v":0},{"$f":"IF(E84>0,((B84+D84)-YEAR(WirtschaftsjahrAnfang))*E84,0)","v":0},{"$f":"IF(N84>0,((B84+D84)-YEAR(WirtschaftsjahrEnde))*E84,0)","v":0}]
[null,null,null,null,0,null,null,null,null,null,null,null,0,0,0]
[null,null,null,null,0,null,null,null,null,null,null,null,0,0,0]
[null,null,null,null,0,null,null,null,null,null,null,null,0,0,0]
[null,null,null,null,0,null,null,null,null,null,null,null,0,0,0]
[null,null,null,null,0,null,null,null,null,null,null,null,0,0,0]
[null,null,null,null,0,null,null,null,null,null,null,null,0,0,0]
[null,null,null,null,0,null,null,null,null,null,null,null,0,0,0]
[null,null,null,null,0,null,null,null,null,null,null,null,0,0,0]
[null,null,null,null,0,null,null,null,null,null,null,null,0,0,0]
[null,null,null,null,0,null,null,null,null,null,null,null,0,0,0]
[null,null,null,null,0,null,null,null,null,null,null,null,0,0,0]
[null,null,null,null,0,null,null,null,null,null,null,null,0,0,0]
[null,null,null,null,0,null,null,null,null,null,null,null,{"$f":"SUM(F97:L97)","v":0},0,0]
[null,null,null,null,0,null,null,null,null,null,null,null,0,0,0]
[null,null,null,null,0,null,null,null,null,null,null,null,0,0,0]
[null,null,null,null,0,null,null,null,null,null,null,null,0,0,0]
[null,null,null,null,0,null,null,null,null,null,null,null,0,0,0]
[null,null,null,null,0,null,null,null,null,null,null,null,0,0,0]
[null,null,null,null,0,null,null,null,null,null,null,null,0,0,0]
[null,null,null,null,0,null,null,null,null,null,null,null,0,0,0]
[null,null,null,null,0,null,null,null,null,null,null,null,0,0,0]
[null,null,null,null,0,null,null,null,null,null,null,null,0,0,0]
[null,null,null,null,0,null,null,null,null,null,null,null,0,0,0]
[null,null,null,null,0,null,null,null,null,null,null,null,0,0,0]
[null,null,null,null,0,null,null,null,null,null,null,null,0,0,0]
[null,null,null,null,0,null,null,null,null,null,null,null,0,0,0]
[null,null,null,null,0,null,null,null,null,null,null,null,0,0,0]
[null,null,null,null,0,null,null,null,null,null,null,null,0,0,0]
[null,null,null,null,0,null,null,null,null,null,null,null,0,0,0]
[null,null,null,null,0,null,null,null,null,null,null,null,{"$f":"SUM(F114:L114)","v":0},0,0]
[null,null,null,null,0,null,null,null,null,null,null,null,0,0,0]
[null,null,null,null,0,null,null,null,null,null,null,null,0,0,0]
[null,null,null,null,0,null,null,null,null,null,null,null,0,{"$f":"IF(E117>0,((B117+D117)-YEAR(WirtschaftsjahrAnfang))*E117,0)","v":0},{"$f":"IF(N117>0,((B117+D117)-YEAR(WirtschaftsjahrEnde))*E117,0)","v":0}]
[null,null,null,null,0,null,null,null,null,null,null,null,0,0,0]
[null,null,null,null,0,null,null,null,null,null,null,null,0,0,0]
[null,null,null,null,0,null,null,null,null,null,null,null,0,{"$f":"IF(E120>0,((B120+D120)-YEAR(WirtschaftsjahrAnfang))*E120,0)","v":0},{"$f":"IF(N120>0,((B120+D120)-YEAR(WirtschaftsjahrEnde))*E120,0)","v":0}]
[null,null,null,null,0,null,null,null,null,null,null,null,0,{"$f":"IF(E121>0,((B121+D121)-YEAR(WirtschaftsjahrAnfang))*E121,0)","v":0},{"$f":"IF(N121>0,((B121+D121)-YEAR(WirtschaftsjahrEnde))*E121,0)","v":0}]
[null,null,null,null,0,null,null,null,null,null,null,null,0,{"$f":"IF(E122>0,((B122+D122)-YEAR(WirtschaftsjahrAnfang))*E122,0)","v":0},{"$f":"IF(N122>0,((B122+D122)-YEAR(WirtschaftsjahrEnde))*E122,0)","v":0}]
[null,null,null,null,0,null,null,null,null,null,null,null,0,0,0]
[null,null,null,null,0,null,null,null,null,null,null,null,0,0,0]
[null,null,null,null,0,null,null,null,null,null,null,null,0,0,0]
[null,null,null,null,0,null,null,null,null,null,null,null,0,0,0]
[null,null,null,null,0,null,null,null,null,null,null,null,0,0,0]
[null,null,null,null,0,null,null,null,null,null,null,null,0,0,0]
[null,null,null,null,0,null,null,null,null,null,null,null,0,0,0]
[null,null,null,null,0,null,null,null,null,null,null,null,0,0,0]
[null,null,null,null,0,null,null,null,null,null,null,null,0,0,0]
[null,null,null,null,0,null,null,null,null,null,null,null,0,0,0]
[null,null,null,null,0,null,null,null,null,null,null,null,0,0,0]
[null,null,null,null,0,null,null,null,null,null,null,null,0,0,0]
[null,null,null,null,0,null,null,null,null,null,null,null,0,0,0]
[null,null,null,null,0,null,null,null,null,null,null,null,0,0,0]
[null,null,null,null,{"$f":"IF(OR(C137=\"\",(B137+D137)<=YEAR(WirtschaftsjahrAnfang)),0,C137/D137)","v":0},null,null,null,null,null,null,null,{"$f":"SUM(F137:L137)","v":0},0,0]
[null,null,null,null,0,null,null,null,null,null,null,null,0,0,0]
[null,null,null,null,0,null,null,null,null,null,null,null,0,0,0]
[null,null,null,null,0,null,null,null,null,null,null,null,0,0,0]
[null,null,null,null,0,null,null,null,null,null,null,null,0,0,0]
[null,null,null,null,0,null,null,null,null,null,null,null,0,0,0]
[null,null,null,null,0,null,null,null,null,null,null,null,0,0,0]
[null,null,null,null,0,null,null,null,null,null,null,null,0,0,0]
[null,null,null,null,0,null,null,null,null,null,null,null,0,0,0]
[null,null,null,null,0,null,null,null,null,null,null,null,0,0,0]
[null,null,null,null,0,null,null,null,null,null,null,null,0,0,0]
[null,null,null,null,0,null,null,null,null,null,null,null,0,0,0]
[null,null,null,null,0,null,null,null,null,null,null,null,0,0,0]
[null,null,null,null,0,null,null,null,null,null,null,null,0,0,0]
[null,null,null,null,0,null,null,null,null,null,null,null,0,0,0]
[null,null,null,null,0,null,null,null,null,null,null,null,0,{"$f":"IF(E152>0,((B152+D152)-YEAR(WirtschaftsjahrAnfang))*E152,0)","v":0},{"$f":"IF(N152>0,((B152+D152)-YEAR(WirtschaftsjahrEnde))*E152,0)","v":0}]
[null,null,null,null,0,null,null,null,null,null,null,null,0,0,0]
[null,null,null,null,0,null,null,null,null,null,null,null,0,0,0]
[null,null,null,null,0,null,null,null,null,null,null,null,0,0,0]
[null,null,null,null,0,null,null,null,null,null,null,null,{"$f":"SUM(F156:L156)","v":0},{"$f":"IF(E156>0,((B156+D156)-YEAR(WirtschaftsjahrAnfang))*E156,0)","v":0},{"$f":"IF(N156>0,((B156+D156)-YEAR(WirtschaftsjahrEnde))*E156,0)","v":0}]
[null,null,null,null,0,null,null,null,null,null,null,null,0,0,0]
[null,null,null,null,0,null,null,null,null,null,null,null,0,0,0]
[null,null,null,null,{"$f":"IF(OR(C159=\"\",(B159+D159)<=YEAR(WirtschaftsjahrAnfang)),0,C159/D159)","v":0}]
["Schlüssel"]
[null,null,null,null,"Abschreibung",{"$f":"SUMPRODUCT(Maschinen!F8:F158,Maschinen!$E$8:$E$158)","v":0},{"$f":"SUMPRODUCT(Maschinen!G8:G158,Maschinen!$E$8:$E$158)","v":0},{"$f":"SUMPRODUCT(Maschinen!H8:H158,Maschinen!$E$8:$E$158)","v":0},{"$f":"SUMPRODUCT(Maschinen!I8:I158,Maschinen!$E$8:$E$158)","v":0},{"$f":"SUMPRODUCT(Maschinen!J8:J158,Maschinen!$E$8:$E$158)","v":0},{"$f":"SUMPRODUCT(Maschinen!K8:K158,Maschinen!$E$8:$E$158)","v":0},{"$f":"SUMPRODUCT(Maschinen!L8:L158,Maschinen!$E$8:$E$158)","v":0},{"$f":"SUM(F161:L161)","v":0},"€"]
[null,null,null,null,"AfA Maschinen Schlüssel",{"$f":"F161/$M$161","v":{"$error":"#DIV/0!"}},{"$f":"G161/$M$161","v":{"$error":"#DIV/0!"}},{"$error":"#DIV/0!"},{"$error":"#DIV/0!"},{"$error":"#DIV/0!"},{"$error":"#DIV/0!"},{"$error":"#DIV/0!"},{"$error":"#DIV/0!"}]
[null,null,null,null,"Anschaffungswert",{"$f":"SUMPRODUCT(Maschinen!F8:F158,Maschinen!$C$8:$C$158)","v":0},{"$f":"SUMPRODUCT(Maschinen!G8:G158,Maschinen!$C$8:$C$158)","v":0},{"$f":"SUMPRODUCT(Maschinen!H8:H158,Maschinen!$C$8:$C$158)","v":0},{"$f":"SUMPRODUCT(Maschinen!I8:I158,Maschinen!$C$8:$C$158)","v":0},{"$f":"SUMPRODUCT(Maschinen!J8:J158,Maschinen!$C$8:$C$158)","v":0},{"$f":"SUMPRODUCT(Maschinen!K8:K158,Maschinen!$C$8:$C$158)","v":0},{"$f":"SUMPRODUCT(Maschinen!L8:L158,Maschinen!$C$8:$C$158)","v":0},{"$f":"SUM(F163:L163)","v":0},"€"]
[null,null,null,null,"Anschaffungswert Maschinen Schlüssel",{"$f":"+F163/$M$163","v":{"$error":"#DIV/0!"}},{"$f":"+G163/$M$163","v":{"$error":"#DIV/0!"}},{"$error":"#DIV/0!"},{"$error":"#DIV/0!"},{"$error":"#DIV/0!"},{"$error":"#DIV/0!"},{"$error":"#DIV/0!"},{"$error":"#DIV/0!"}]
[null,null,null,null,"Zeitwert",{"$f":"SUMPRODUCT(Maschinen!F8:F158,Maschinen!$O$8:$O$158)","v":0},{"$f":"SUMPRODUCT(Maschinen!G8:G158,Maschinen!$O$8:$O$158)","v":0},{"$f":"SUMPRODUCT(Maschinen!H8:H158,Maschinen!$O$8:$O$158)","v":0},{"$f":"SUMPRODUCT(Maschinen!I8:I158,Maschinen!$O$8:$O$158)","v":0},{"$f":"SUMPRODUCT(Maschinen!J8:J158,Maschinen!$O$8:$O$158)","v":0},{"$f":"SUMPRODUCT(Maschinen!K8:K158,Maschinen!$O$8:$O$158)","v":0},{"$f":"SUMPRODUCT(Maschinen!L8:L158,Maschinen!$O$8:$O$158)","v":0},{"$f":"SUM(F165:L165)","v":0},"€"]
[null,null,null,null,"Zeitwert Maschinen Schlüssel",{"$f":"+F165/$M$165","v":{"$error":"#DIV/0!"}},{"$f":"+G165/$M$165","v":{"$error":"#DIV/0!"}},{"$error":"#DIV/0!"},{"$error":"#DIV/0!"},{"$error":"#DIV/0!"},{"$error":"#DIV/0!"},{"$error":"#DIV/0!"},{"$error":"#DIV/0!"}]

{"sheet":"Gebäude","index":22,"n_rows":166,"n_cols":16,"rows_kept":166,"cut":false,"hidden":false,"merged":[[3,5,3,11],[4,1,4,2],[4,13,4,14],[4,10,4,11],[4,5,4,8]]}
["Gebäudeliste",null,"Zurück","Menü",null,null,null,null,null,null,null,null,null,true]
[null,null,null,null,null,null,null,null,null,null,null,null,null,false]
[]
[null,null,null,null,null,"Verwendung für … in %"]
[null,"Anschaffungs-",null,null,null,null,null,null,null,null,null,null,null,"Wert am "]
["Gebäude und bauliche Anlagen","Jahr","Wert","Nutzungs-dauer ","AfA/Jahr",{"$f":"_Zw1","v":"Sonstiges"},{"$f":"_Zw2","v":0},{"$f":"_Zw3","v":0},{"$f":"_Zw4","v":0},{"$f":"_Zw5","v":0},{"$f":"_Zw6","v":0},{"$f":"_Zw7","v":0},"Σ Aufteilung"," Beginn Wirtschaftsjahr"," Ende Wirtschaftsjahr","Stunden / Jahr"]
["Summe",null,{"$f":"SUM(C8:C158)","v":0},null,{"$f":"SUM(E8:E158)","v":0},null,null,null,null,null,null,null,null,{"$f":"SUM(N8:N158)","v":0},{"$f":"SUM(O8:O158)","v":0}]
["Summeneingabe Gebäude",null,null,null,null,null,null,null,null,null,null,null,{"$f":"SUM(F8:L8)","v":0}]
[null,null,null,null,{"$f":"IF(OR(C9=\"\",(B9+D9)<=YEAR(WirtschaftsjahrAnfang)),0,C9/D9)","v":0},null,null,null,null,null,null,null,0,{"$f":"IF(E9>0,((B9+D9)-YEAR(WirtschaftsjahrAnfang))*E9,0)","v":0},{"$f":"IF(N9>0,((B9+D9)-YEAR(WirtschaftsjahrEnde))*E9,0)","v":0}]
[null,null,null,null,0,null,null,null,null,null,null,null,0,0,0]
[null,null,null,null,0,null,null,null,null,null,null,null,0,0,0]
[null,null,null,null,0,null,null,null,null,null,null,null,0,0,0]
[null,null,null,null,0,null,null,null,null,null,null,null,0,0,0]
[null,null,null,null,0,null,null,null,null,null,null,null,0,0,0]
[null,null,null,null,0,null,null,null,null,null,null,null,0,0,0]
[null,null,null,null,0,null,null,null,null,null,null,null,0,0,0]
[null,null,null,null,0,null,null,null,null,null,null,null,0,0,0]
[null,null,null,null,0,null,null,null,null,null,null,null,0,0,0]
[null,null,null,null,0,null,null,null,null,null,null,null,0,0,0]
[null,null,null,null,0,null,null,null,null,null,null,null,0,0,0]
[null,null,null,null,{"$f":"IF(OR(C21=\"\",(B21+D21)<=YEAR(WirtschaftsjahrAnfang)),0,C21/D21)","v":0},null,null,null,null,null,null,null,0,0,0]
[null,null,null,null,0,null,null,null,null,null,null,null,0,0,0]
[null,null,null,null,0,null,null,null,null,null,null,null,0,0,0]
[null,null,null,null,0,null,null,null,null,null,null,null,0,0,0]
[null,null,null,null,0,null,null,null,null,null,null,null,0,0,0]
[null,null,null,null,0,null,null,null,null,null,null,null,0,0,0]
[null,null,null,null,0,null,null,null,null,null,null,null,0,0,0]
[null,null,null,null,0,null,null,null,null,null,null,null,0,0,0]
[null,null,null,null,0,null,null,null,null,null,null,null,0,0,0]
[null,null,null,null,0,null,null,null,null,null,null,null,0,0,0]
[null,null,null,null,0,null,null,null,null,null,null,null,0,0,0]
[null,null,null,null,0,null,null,null,null,null,null,null,0,0,0]
[null,null,null,null,0,null,null,null,null,null,null,null,0,0,0]
[null,null,null,null,0,null,null,null,null,null,null,null,0,0,0]
[null,null,null,null,0,null,null,null,null,null,null,null,0,0,0]
[null,null,null,null,0,null,null,null,null,null,null,null,0,0,0]
[null,null,null,null,0,null,null,null,null,null,null,null,0,0,0]
[null,null,null,null,0,null,null,null,null,null,null,null,0,0,0]
[null,null,null,null,0,null,null,null,null,null,null,null,0,0,0]
[null,null,null,null,0,null,null,null,null,null,null,null,0,0,0]
[null,null,null,null,0,null,null,null,null,null,null,null,0,0,0]
[null,null,null,null,0,null,null,null,null,null,null,null,0,0,0]
[null,null,null,null,0,null,null,null,null,null,null,null,0,0,0]
[null,null,null,null,0,null,null,null,null,null,null,null,0,0,0]
[null,null,null,null,0,null,null,null,null,null,null,null,0,0,0]
[null,null,null,null,0,null,null,null,null,null,null,null,0,0,0]
[null,null,null,null,0,null,null,null,null,null,null,null,0,0,0]
[null,null,null,null,0,null,null,null,null,null,null,null,0,0,0]
[null,null,null,null,{"$f":"IF(OR(C49=\"\",(B49+D49)<=YEAR(WirtschaftsjahrAnfang)),0,C49/D49)","v":0},null,null,null,null,null,null,null,0,0,0]
[null,null,null,null,0,null,null,null,null,null,null,null,0,0,0]
[null,null,null,null,0,null,null,null,null,null,null,null,0,0,0]
[null,null,null,null,0,null,null,null,null,null,null,null,0,0,0]
[null,null,null,null,0,null,null,null,null,null,null,null,0,0,0]
[null,null,null,null,0,null,null,null,null,null,null,null,{"$f":"SUM(F54:L54)","v":0},{"$f":"IF(E54>0,((B54+D54)-YEAR(WirtschaftsjahrAnfang))*E54,0)","v":0},{"$f":"IF(N54>0,((B54+D54)-YEAR(WirtschaftsjahrEnde))*E54,0)","v":0}]
[null,null,null,null,0,null,null,null,null,null,null,null,0,0,0]
[null,null,null,null,0,null,null,null,null,null,null,null,0,0,0]
[null,null,null,null,0,null,null,null,null,null,null,null,0,0,0]
[null,null,null,null,0,null,null,null,null,null,null,null,0,0,0]
[null,null,null,null,0,null,null,null,null,null,null,null,0,0,0]
[null,null,null,null,0,null,null,null,null,null,null,null,0,0,0]
[null,null,null,null,0,null,null,null,null,null,null,null,0,0,0]
[null,null,null,null,{"$f":"IF(OR(C62=\"\",(B62+D62)<=YEAR(WirtschaftsjahrAnfang)),0,C62/D62)","v":0},null,null,null,null,null,null,null,0,0,0]
[null,null,null,null,0,null,null,null,null,null,null,null,0,0,0]
[null,null,null,null,0,null,null,null,null,null,null,null,0,0,0]
[null,null,null,null,0,null,null,null,null,null,null,null,0,0,0]
[null,null,null,null,0,null,null,null,null,null,null,null,0,0,0]
[null,null,null,null,0,null,null,null,null,null,null,null,0,0,0]
[null,null,null,null,0,null,null,null,null,null,null,null,0,0,0]
[null,null,null,null,0,null,null,null,null,null,null,null,0,0,0]
[null,null,null,null,0,null,null,null,null,null,null,null,0,0,0]
[null,null,null,null,0,null,null,null,null,null,null,null,0,0,0]
[null,null,null,null,0,null,null,null,null,null,null,null,0,0,0]
[null,null,null,null,0,null,null,null,null,null,null,null,0,0,0]
[null,null,null,null,0,null,null,null,null,null,null,null,0,0,0]
[null,null,null,null,0,null,null,null,null,null,null,null,0,0,0]
[null,null,null,null,0,null,null,null,null,null,null,null,0,0,0]
[null,null,null,null,0,null,null,null,null,null,null,null,0,0,0]
[null,null,null,null,0,null,null,null,null,null,null,null,0,0,0]
[null,null,null,null,0,null,null,null,null,null,null,null,0,0,0]
[null,null,null,null,0,null,null,null,null,null,null,null,0,0,0]
[null,null,null,null,0,null,null,null,null,null,null,null,0,0,0]
[null,null,null,null,0,null,null,null,null,null,null,null,0,0,0]
[null,null,null,null,0,null,null,null,null,null,null,null,0,0,0]
[null,null,null,null,0,null,null,null,null,null,null,null,0,0,0]
[null,null,null,null,0,null,null,null,null,null,null,null,0,0,0]
[null,null,null,null,0,null,null,null,null,null,null,null,0,0,0]
[null,null,null,null,0,null,null,null,null,null,null,null,0,0,0]
[null,null,null,null,0,null,null,null,null,null,null,null,0,0,0]
[null,null,null,null,0,null,null,null,null,null,null,null,0,0,0]
[null,null,null,null,0,null,null,null,null,null,null,null,0,0,0]
[null,null,null,null,0,null,null,null,null,null,null,null,0,0,0]
[null,null,null,null,0,null,null,null,null,null,null,null,0,0,0]
[null,null,null,null,0,null,null,null,null,null,null,null,0,0,0]
[null,null,null,null,0,null,null,null,null,null,null,null,0,0,0]
[null,null,null,null,0,null,null,null,null,null,null,null,0,0,0]
[null,null,null,null,0,null,null,null,null,null,null,null,0,0,0]
[null,null,null,null,0,null,null,null,null,null,null,null,0,0,0]
[null,null,null,null,0,null,null,null,null,null,null,null,0,0,0]
[null,null,null,null,0,null,null,null,null,null,null,null,0,0,0]
[null,null,null,null,0,null,null,null,null,null,null,null,0,0,0]
[null,null,null,null,0,null,null,null,null,null,null,null,0,0,0]
[null,null,null,null,0,null,null,null,null,null,null,null,0,0,0]
[null,null,null,null,0,null,null,null,null,null,null,null,0,0,0]
[null,null,null,null,0,null,null,null,null,null,null,null,0,0,0]
[null,null,null,null,{"$f":"IF(OR(C105=\"\",(B105+D105)<=YEAR(WirtschaftsjahrAnfang)),0,C105/D105)","v":0},null,null,null,null,null,null,null,0,0,0]
[null,null,null,null,0,null,null,null,null,null,null,null,0,0,0]
[null,null,null,null,0,null,null,null,null,null,null,null,0,0,0]
[null,null,null,null,0,null,null,null,null,null,null,null,0,0,0]
[null,null,null,null,0,null,null,null,null,null,null,null,0,0,0]
[null,null,null,null,0,null,null,null,null,null,null,null,0,0,0]
[null,null,null,null,0,null,null,null,null,null,null,null,0,0,0]
[null,null,null,null,0,null,null,null,null,null,null,null,0,0,0]
[null,null,null,null,0,null,null,null,null,null,null,null,0,0,0]
[null,null,null,null,0,null,null,null,null,null,null,null,0,0,0]
[null,null,null,null,0,null,null,null,null,null,null,null,0,0,0]
[null,null,null,null,0,null,null,null,null,null,null,null,0,0,0]
[null,null,null,null,0,null,null,null,null,null,null,null,0,0,0]
[null,null,null,null,0,null,null,null,null,null,null,null,0,0,0]
[null,null,null,null,0,null,null,null,null,null,null,null,0,0,0]
[null,null,null,null,0,null,null,null,null,null,null,null,0,0,0]
[null,null,null,null,0,null,null,null,null,null,null,null,0,0,0]
[null,null,null,null,0,null,null,null,null,null,null,null,0,0,0]
[null,null,null,null,0,null,null,null,null,null,null,null,0,0,0]
[null,null,null,null,0,null,null,null,null,null,null,null,0,0,0]
[null,null,null,null,0,null,null,null,null,null,null,null,0,0,0]
[null,null,null,null,0,null,null,null,null,null,null,null,0,0,0]
[null,null,null,null,0,null,null,null,null,null,null,null,0,0,0]
[null,null,null,null,0,null,null,null,null,null,null,null,0,0,0]
[null,null,null,null,0,null,null,null,null,null,null,null,0,0,0]
[null,null,null,null,0,null,null,null,null,null,null,null,0,0,0]
[null,null,null,null,0,null,null,null,null,null,null,null,0,0,0]
[null,null,null,null,0,null,null,null,null,null,null,null,0,0,0]
[null,null,null,null,0,null,null,null,null,null,null,null,0,0,0]
[null,null,null,null,0,null,null,null,null,null,null,null,0,0,0]
[null,null,null,null,0,null,null,null,null,null,null,null,0,0,0]
[null,null,null,null,{"$f":"IF(OR(C136=\"\",(B136+D136)<=YEAR(WirtschaftsjahrAnfang)),0,C136/D136)","v":0},null,null,null,null,null,null,null,{"$f":"SUM(F136:L136)","v":0},{"$f":"IF(E136>0,((B136+D136)-YEAR(WirtschaftsjahrAnfang))*E136,0)","v":0},{"$f":"IF(N136>0,((B136+D136)-YEAR(WirtschaftsjahrEnde))*E136,0)","v":0}]
[null,null,null,null,0,null,null,null,null,null,null,null,0,0,0]
[null,null,null,null,0,null,null,null,null,null,null,null,0,0,0]
[null,null,null,null,0,null,null,null,null,null,null,null,0,0,0]
[null,null,null,null,0,null,null,null,null,null,null,null,0,0,0]
[null,null,null,null,0,null,null,null,null,null,null,null,0,0,0]
[null,null,null,null,0,null,null,null,null,null,null,null,0,0,0]
[null,null,null,null,0,null,null,null,null,null,null,null,0,0,0]
[null,null,null,null,0,null,null,null,null,null,null,null,0,0,0]
[null,null,null,null,0,null,null,null,null,null,null,null,0,0,0]
[null,null,null,null,0,null,null,null,null,null,null,null,0,0,0]
[null,null,null,null,0,null,null,null,null,null,null,null,0,0,0]
[null,null,null,null,0,null,null,null,null,null,null,null,0,0,0]
[null,null,null,null,0,null,null,null,null,null,null,null,0,0,0]
[null,null,null,null,0,null,null,null,null,null,null,null,0,0,0]
[null,null,null,null,{"$f":"IF(OR(C151=\"\",(B151+D151)<=YEAR(WirtschaftsjahrAnfang)),0,C151/D151)","v":0},null,null,null,null,null,null,null,{"$f":"SUM(F151:L151)","v":0},{"$f":"IF(E151>0,((B151+D151)-YEAR(WirtschaftsjahrAnfang))*E151,0)","v":0},{"$f":"IF(N151>0,((B151+D151)-YEAR(WirtschaftsjahrEnde))*E151,0)","v":0}]
[null,null,null,null,0,null,null,null,null,null,null,null,0,0,0]
[null,null,null,null,0,null,null,null,null,null,null,null,0,0,0]
[null,null,null,null,0,null,null,null,null,null,null,null,0,0,0]
[null,null,null,null,0,null,null,null,null,null,null,null,0,0,0]
[null,null,null,null,{"$f":"IF(OR(C156=\"\",(B156+D156)<=YEAR(WirtschaftsjahrAnfang)),0,C156/D156)","v":0},null,null,null,null,null,null,null,{"$f":"SUM(F156:L156)","v":0},{"$f":"IF(E156>0,((B156+D156)-YEAR(WirtschaftsjahrAnfang))*E156,0)","v":0},{"$f":"IF(N156>0,((B156+D156)-YEAR(WirtschaftsjahrEnde))*E156,0)","v":0}]
[null,null,null,null,0,null,null,null,null,null,null,null,0,0,0]
[null,null,null,null,0,null,null,null,null,null,null,null,0,0,0]
[null,null,null,null,0]
[null,"Schlüssel"]
[null,null,null,null,"Anschaffungswert",{"$f":"SUMPRODUCT(Gebäude!$C$8:$C$158,F8:F158)","v":0},{"$f":"SUMPRODUCT(Gebäude!$C$8:$C$158,G8:G158)","v":0},{"$f":"SUMPRODUCT(Gebäude!$C$8:$C$158,H8:H158)","v":0},{"$f":"SUMPRODUCT(Gebäude!$C$8:$C$158,I8:I158)","v":0},{"$f":"SUMPRODUCT(Gebäude!$C$8:$C$158,J8:J158)","v":0},{"$f":"SUMPRODUCT(Gebäude!$C$8:$C$158,K8:K158)","v":0},{"$f":"SUMPRODUCT(Gebäude!$C$8:$C$158,L8:L158)","v":0},{"$f":"SUM(F161:L161)","v":0},"€"]
[null,null,null,null,"Anschaffungswert Gebäude Schlüssel",{"$f":"F161/$M$161","v":{"$error":"#DIV/0!"}},{"$f":"G161/$M$161","v":{"$error":"#DIV/0!"}},{"$error":"#DIV/0!"},{"$error":"#DIV/0!"},{"$error":"#DIV/0!"},{"$error":"#DIV/0!"},{"$error":"#DIV/0!"},{"$error":"#DIV/0!"}]
[null,null,null,null,"Abschreibung",{"$f":"SUMPRODUCT(Gebäude!$E$8:$E$158,F8:F158)","v":0},{"$f":"SUMPRODUCT(Gebäude!$E$8:$E$158,G8:G158)","v":0},{"$f":"SUMPRODUCT(Gebäude!$E$8:$E$158,H8:H158)","v":0},{"$f":"SUMPRODUCT(Gebäude!$E$8:$E$158,I8:I158)","v":0},{"$f":"SUMPRODUCT(Gebäude!$E$8:$E$158,J8:J158)","v":0},{"$f":"SUMPRODUCT(Gebäude!$E$8:$E$158,K8:K158)","v":0},{"$f":"SUMPRODUCT(Gebäude!$E$8:$E$158,L8:L158)","v":0},{"$f":"SUM(F163:L163)","v":0},"€"]
[null,null,null,null,"AfA Gebäude Schlüssel",{"$f":"F163/$M$163","v":{"$error":"#DIV/0!"}},{"$f":"G163/$M$163","v":{"$error":"#DIV/0!"}},{"$error":"#DIV/0!"},{"$error":"#DIV/0!"},{"$error":"#DIV/0!"},{"$error":"#DIV/0!"},{"$error":"#DIV/0!"},{"$error":"#DIV/0!"}]
[null,null,null,null,"Zeitwert",{"$f":"SUMPRODUCT(F8:F158,Gebäude!$O$8:$O$158)","v":0},{"$f":"SUMPRODUCT(G8:G158,Gebäude!$O$8:$O$158)","v":0},{"$f":"SUMPRODUCT(H8:H158,Gebäude!$O$8:$O$158)","v":0},{"$f":"SUMPRODUCT(I8:I158,Gebäude!$O$8:$O$158)","v":0},{"$f":"SUMPRODUCT(J8:J158,Gebäude!$O$8:$O$158)","v":0},{"$f":"SUMPRODUCT(K8:K158,Gebäude!$O$8:$O$158)","v":0},{"$f":"SUMPRODUCT(L8:L158,Gebäude!$O$8:$O$158)","v":0},{"$f":"SUM(F165:L165)","v":0},"€"]
[null,null,null,null,"Zeitwert Gebäude Schlüssel",{"$f":"F165/$M$165","v":{"$error":"#DIV/0!"}},{"$f":"G165/$M$165","v":{"$error":"#DIV/0!"}},{"$error":"#DIV/0!"},{"$error":"#DIV/0!"},{"$error":"#DIV/0!"},{"$error":"#DIV/0!"},{"$error":"#DIV/0!"},{"$error":"#DIV/0!"}]

{"sheet":"Dieselverbrauch","index":23,"n_rows":26,"n_cols":12,"rows_kept":26,"cut":false,"hidden":false,"merged":[[6,4,6,10]]}
["Dieselverbrauch",null,"Zurück","Menü"]
[]
[]
[]
["Tätigkeiten","Liter / h","h / Jahr","Σ Liter",{"$f":"_Zw1","v":"Sonstiges"},{"$f":"_Zw2","v":0},{"$f":"_Zw3","v":0},{"$f":"_Zw4","v":0},{"$f":"_Zw5","v":0},{"$f":"_Zw6","v":0},{"$f":"_Zw7","v":0}]
[null,null,"Summe Dieselverbrauch Außenwirtschaft",{"$f":"DieselAussen","v":0},{"$f":"Schlüssel!C93","v":0},{"$f":"Schlüssel!D93","v":0},{"$f":"Schlüssel!E93","v":0},{"$f":"Schlüssel!F93","v":0},{"$f":"Schlüssel!G93","v":0},{"$f":"Schlüssel!H93","v":0},{"$f":"Schlüssel!I93","v":0}]
[null,null,null,null,"Aufteilung in %"]
["Treibstoffverbrauch für innerbetrieblichen Verkehr und Maschinenring (Auftragnehmer)"]
[null,null,null,{"$f":"B9*C9","v":0},null,null,null,null,null,null,null,{"$f":"IF(OR(SUM(E9:K9)=0,SUM(E9:K9)=1),\"\",\"!!!\")","v":""}]
[null,null,null,0,null,null,null,null,null,null,null,""]
[null,null,null,0,null,null,null,null,null,null,null,""]
[null,null,null,0,null,null,null,null,null,null,null,""]
[null,null,null,0,null,null,null,null,null,null,null,""]
[null,null,null,0,null,null,null,null,null,null,null,""]
[null,null,null,0,null,null,null,null,null,null,null,""]
[null,null,null,0,null,null,null,null,null,null,null,""]
[null,null,null,0,null,null,null,null,null,null,null,""]
[null,null,null,0,null,null,null,null,null,null,null,""]
[null,null,null,0,null,null,null,null,null,null,null,""]
[null,null,null,0,null,null,null,null,null,null,null,""]
[null,null,null,0,null,null,null,null,null,null,null,""]
["Gülleausbringung",null,{"$f":"ROUND(Arbeitszeit!J49,0)","v":0},0,{"$f":"Arbeitszeit!K49","v":0},{"$f":"Arbeitszeit!L49","v":0},{"$f":"Arbeitszeit!M49","v":0},{"$f":"Arbeitszeit!N49","v":0},{"$f":"Arbeitszeit!O49","v":0},{"$f":"Arbeitszeit!P49","v":0},{"$f":"Arbeitszeit!Q49","v":0},""]
["Festmistausbringung",null,{"$f":"ROUND(Arbeitszeit!J48,0)","v":0},0,{"$f":"Arbeitszeit!K48","v":0},{"$f":"Arbeitszeit!L48","v":0},{"$f":"Arbeitszeit!M48","v":0},{"$f":"Arbeitszeit!N48","v":0},{"$f":"Arbeitszeit!O48","v":0},{"$f":"Arbeitszeit!P48","v":0},{"$f":"Arbeitszeit!Q48","v":0},""]
[null,null,"Summe sonstiger Dieselverbrauch",{"$f":"SUM(D9:D23)","v":0},{"$f":"SUMPRODUCT($D$9:$D$23,E9:E23)","v":0},0,0,0,0,0,0]
[null,null,"Gesamt",{"$f":"D6+D24","v":0},0,0,0,0,0,0,0]
[null,null,null,"Dieselverbrauch Schlüssel",{"$f":"VLOOKUP($D$26,Schlüsselliste,COLUMN()-3,FALSE)","v":0},0,0,0,0,0,0]

{"sheet":"Gemeinleistungen","index":24,"n_rows":33,"n_cols":16,"rows_kept":33,"cut":false,"hidden":false,"merged":[]}
["ÖPUL-Prämien und sonstige Gemeinleistungen",null,null,null,null,null,null,"Menü",{"$f":"IF(OR($D1=\"\",$F1=\"\"),\"\",VLOOKUP($F1,Schlüsselliste,COLUMN()-5,FALSE)*$D1)","v":""},{"$f":"IF(OR($D1=\"\",$F1=\"\"),\"\",VLOOKUP($F1,Schlüsselliste,COLUMN()-5,FALSE)*$D1)","v":""},{"$f":"IF(OR($D1=\"\",$F1=\"\"),\"\",VLOOKUP($F1,Schlüsselliste,COLUMN()-5,FALSE)*$D1)","v":""},{"$f":"IF(OR($D1=\"\",$F1=\"\"),\"\",VLOOKUP($F1,Schlüsselliste,COLUMN()-5,FALSE)*$D1)","v":""},{"$f":"IF(OR($D1=\"\",$F1=\"\"),\"\",VLOOKUP($F1,Schlüsselliste,COLUMN()-5,FALSE)*$D1)","v":""}]
[]
[null,null,"Gemeinleistungen","Betrag",null,"Schlüssel",{"$f":"_Zw1","v":"Sonstiges"},{"$f":"_Zw2","v":0},{"$f":"_Zw3","v":0},{"$f":"_Zw4","v":0},{"$f":"_Zw5","v":0},{"$f":"_Zw6","v":0},{"$f":"_Zw7","v":0}]
[null,"Direktzahlungen",null,0,"","Betriebsprämienfähige Fläche Schlüssel","","","","",null,null,"",null,null,0]
[null,"ÖPUL-Prämien"]
[null,null,"UBB Ausgleichszahlungen",0,null,"UBB Prämien Schlüssel",{"$f":"IF(OR($D6=\"\",$F6=\"\"),\"\",VLOOKUP($F6,Schlüsselliste,COLUMN()-5,FALSE)*$D6)","v":{"$error":"#DIV/0!"}},{"$error":"#DIV/0!"},{"$error":"#DIV/0!"},{"$error":"#DIV/0!"},{"$error":"#DIV/0!"},{"$error":"#DIV/0!"},{"$error":"#DIV/0!"}]
[null,null,"Silageverzicht",0,null,"RGVE Schlüssel",{"$f":"IF(OR($D7=\"\",$F7=\"\"),\"\",VLOOKUP($F7,Schlüsselliste,COLUMN()-5,FALSE)*$D7)","v":0},0,0,0,0,0,0]
[null,null,"Einschränkung ertragssteigender Betriebsmittel",0,null,"Einsch.Ertragst.Betriebsm.Schlüssel",{"$error":"#DIV/0!"},{"$error":"#DIV/0!"},{"$error":"#DIV/0!"},{"$error":"#DIV/0!"},{"$error":"#DIV/0!"},{"$error":"#DIV/0!"},{"$error":"#DIV/0!"}]
[null,null,"Begrünungsprämien",null,null,"Begrünungsprämie Schlüssel","","","","","","",""]
[null,null,"Biologische Wirtschaftsweise",null,null,"Bio-Prämien Schlüssel","","","","","","",""]
[null,null,"Bodennahe Gülleausbringung",null,null,"GVE Schlüssel",{"$f":"IF(OR($D11=\"\",$F11=\"\"),\"\",VLOOKUP($F11,Schlüsselliste,COLUMN()-5,FALSE)*$D11)","v":""},"","","","","",""]
[]
[]
[]
[]
[]
[]
[null,null,null,{"$f":"SUM(D6:D17)","v":0},null,null,{"$f":"SUM(G6:G17)","v":{"$error":"#DIV/0!"}},{"$error":"#DIV/0!"},{"$error":"#DIV/0!"},{"$error":"#DIV/0!"},{"$error":"#DIV/0!"},{"$error":"#DIV/0!"},{"$error":"#DIV/0!"}]
[null,"Ausgleichszulage für benachteiligte Gebiete",null,0,"","AZ Prämien Schlüssel",0,0,0,0,0,0,0]
[null,"Sonstige Gemeinleistungen"]
[]
[]
[]
[]
[]
[]
[]
[]
[null,null,"Sonstige Gemeinleistungen",{"$f":"SUM(D21:D28)","v":0},null,null,{"$f":"SUM(G21:G28)","v":0},0,0,0,0,0,0]
[null,null,"Gemeinleistungen Kostenstellenrechnung",0,"",null,0,0,0,0,0,0,0]
[null,null,"Summe ÖPUL-Prämien und sonstige Gemeinleistungen",{"$f":"+D29+D18","v":0},null,{"$f":"SUM(G31:M31)","v":{"$error":"#DIV/0!"}},{"$f":"+G29+G18","v":{"$error":"#DIV/0!"}},{"$error":"#DIV/0!"},{"$error":"#DIV/0!"},{"$error":"#DIV/0!"},{"$error":"#DIV/0!"},{"$error":"#DIV/0!"},{"$error":"#DIV/0!"}]
[null,null,null,null,null,"ÖPUL Schlüssel",{"$f":"IF($D$18=0,0,G18/SUM($G$18:$M$18))","v":0},{"$f":"IF($D$18=0,0,H18/SUM($G$18:$M$18))","v":0},0,0,0,0,0]
[null,null,null,null,null,"Sonstige Gemeinleistung Schlüssel",{"$f":"IF(SUM($G$29:$M$29)=0,0,G29/SUM($G$29:$M$29))","v":0},{"$f":"IF(SUM($G$29:$M$29)=0,0,H29/SUM($G$29:$M$29))","v":0},0,0,0,0,0]

{"sheet":"Arbeitszeit","index":25,"n_rows":90,"n_cols":26,"rows_kept":90,"cut":false,"hidden":false,"merged":[[64,3,64,4],[65,3,65,4],[66,3,66,4],[72,3,72,4],[73,3,73,4],[62,7,62,8],[63,7,63,8],[64,7,64,8],[65,7,65,8],[72,7,72,8],[73,7,73,8],[67,7,67,8],[70,7,70,8],[71,7,71,8],[66,7,66,8],[68,7,68,8],[69,7,69,8],[69,3,69,4],[67,3,67,4],[68,3,68,4],[71,3,71,4],[70,3,70,4],[62,3,62,4],[81,1,81,2],[80,1,80,2],[71,1,71,2],[72,1,72,2],[81,3,81,4],[74,3,74,4],[75,3,75,4],[76,3,76,4],[77,3,77,4],[80,3,80,4],[78,3,78,4],[79,3,79,4],[64,1,64,2],[57,1,57,2],[58,1,58,2],[59,1,59,2],[60,1,60,2],[77,1,77,2],[78,1,78,2],[79,1,79,2],[73,1,73,2],[74,1,74,2],[75,1,75,2],[76,1,76,2],[69,1,69,2],[70,1,70,2],[65,1,65,2],[66,1,66,2],[68,1,68,2],[67,1,67,2],[61,1,61,2],[62,1,62,2],[54,1,54,2],[55,1,55,2],[56,1,56,2],[61,3,61,4],[63,1,63,2],[57,3,57,4],[58,3,58,4],[59,3,59,4],[60,3,60,4],[54,3,54,4],[55,3,55,4],[56,3,56,4],[63,3,63,4],[82,7,82,8],[51,9,52,9],[52,10,52,16],[52,18,52,24],[51,7,51,8],[54,7,54,8],[55,7,55,8],[47,25,47,26],[48,25,48,26],[56,7,56,8],[57,7,57,8],[58,7,58,8],[59,7,59,8],[60,7,60,8],[61,7,61,8],[80,7,80,8],[81,7,81,8],[74,7,74,8],[75,7,75,8],[76,7,76,8],[77,7,77,8],[78,7,78,8],[79,7,79,8],[24,1,24,2],[45,25,45,26],[3,18,3,24],[45,3,45,4],[3,1,3,5],[3,10,3,16],[53,7,53,8],[46,3,46,4],[45,7,45,8],[46,7,46,8],[47,3,47,4],[48,3,48,4],[53,3,53,4],[46,18,46,24],[46,10,46,16],[51,5,52,5],[51,6,52,6],[47,7,47,8],[48,7,48,8],[52,7,52,8],[46,25,46,26],[51,1,52,2],[51,3,52,4],[53,1,53,2]]}
["Arbeitszeitbedarf","Zurück KoSteRe",null,null,"Menü",null,null,null,"Gesamtsumme Arbeitszeit",{"$f":"J89","v":0},"Akh / Jahr",null,null,null,null,null,null,"Summe Akh je Zweig und Jahr",{"$f":"S89","v":0},{"$f":"T89","v":0},0,0,0,0,0,{"$f":"ROUND(SUM(S1:Y1),0)","v":0}]
[null,"Zurück Dieselverbrauch"]
["Innenwirtschaft","Morgen\n","Zwischen-mahlzeiten","Mittag","Abend","Management, Futterbereitung, …","Arbeitszeit je Tag","Anpassung","Tage in Periode","Stunden gesamt",{"$f":"_Zw1","v":"Sonstiges"},{"$f":"_Zw2","v":0},{"$f":"_Zw3","v":0},{"$f":"_Zw4","v":0},{"$f":"_Zw5","v":0},{"$f":"_Zw6","v":0},{"$f":"_Zw7","v":0},".",{"$f":"_Zw1","v":"Sonstiges"},{"$f":"_Zw2","v":0},{"$f":"_Zw3","v":0},{"$f":"_Zw4","v":0},{"$f":"_Zw5","v":0},{"$f":"_Zw6","v":0},{"$f":"_Zw7","v":0}]
["Stallarbeitszeit Winter","Akh (Arbeitskraftstunden)",null,null,null,null,null,null,null,null,"Aufteilung in %",null,null,null,null,null,null,null,"Aufteilung in Akh"]
["Betriebsleiter/in",null,null,null,null,null,{"$f":"SUM(B5:F5)","v":0},1,null,{"$f":"G5*H5*I5","v":0},null,null,null,null,null,null,null,null,{"$f":"$J5*K5","v":0},0,0,0,0,{"$f":"$J5*P5","v":0},{"$f":"$J5*Q5","v":0},{"$f":"IF(SUM(S5:W5)=J5,\"\",\"!!!\")","v":""}]
["Gatte/in",null,null,null,null,null,0,1,null,0,null,null,null,null,null,null,null,null,0,0,0,0,0,0,0,""]
["Familienarbeitskraft (Opa, Oma)",null,null,null,null,null,0,1,null,0,null,null,null,null,null,null,null,null,0,0,0,0,0,0,0,""]
["(Schwieger-) Söhne und Töchter",null,null,null,null,null,0,1,null,0,null,null,null,null,null,null,null,null,0,0,0,0,0,0,0,""]
[null,null,null,null,null,null,0,1,null,0,null,null,null,null,null,null,null,null,0,0,0,0,0,0,0,""]
[null,null,null,null,null,null,{"$f":"SUM(B10:F10)","v":0},1,null,{"$f":"G10*H10*I10","v":0},null,null,null,null,null,null,null,null,0,0,0,0,0,0,0,""]
[null,null,null,null,null,null,{"$f":"SUM(B11:F11)","v":0},1,null,{"$f":"G11*H11*I11","v":0},null,null,null,null,null,null,null,null,0,0,0,0,0,0,0,""]
[null,null,null,null,null,null,0,1,null,0,null,null,null,null,null,null,null,null,0,0,0,0,0,0,0,""]
[null,null,null,null,null,"Summe Wintertag",{"$f":"SUM(G5:G12)","v":0},null,null,{"$f":"SUM(J5:J12)","v":0},null,null,null,null,null,null,null,null,{"$f":"SUM(S5:S12)","v":0},0,0,0,0,0,0,""]
["Stallarbeitszeit Sommer"]
[{"$f":"A5","v":"Betriebsleiter/in"},null,null,null,null,null,{"$f":"SUM(B15:F15)","v":0},1,null,{"$f":"G15*H15*I15","v":0},null,null,null,null,null,null,null,null,{"$f":"$J15*K15","v":0},0,0,0,0,{"$f":"$J15*P15","v":0},{"$f":"$J15*Q15","v":0},{"$f":"IF(SUM(S15:W15)=J15,\"\",\"!!!\")","v":""}]
["Gatte/in",null,null,null,null,null,0,1,null,0,null,null,null,null,null,null,null,null,0,0,0,0,0,0,0,{"$f":"IF(SUM(S16:W16)=J16,\"\",\"!!!\")","v":""}]
["Familienarbeitskraft (Opa, Oma)",null,null,null,null,null,0,1,null,0,null,null,null,null,null,null,null,null,0,0,0,0,0,0,0,{"$f":"IF(SUM(S17:W17)=J17,\"\",\"!!!\")","v":""}]
["(Schwieger-) Söhne und Töchter",null,null,null,null,null,0,1,null,0,null,null,null,null,null,null,null,null,0,0,0,0,0,0,0,{"$f":"IF(SUM(S18:W18)=J18,\"\",\"!!!\")","v":""}]
[0,null,null,null,null,null,{"$f":"SUM(B19:F19)","v":0},1,null,{"$f":"G19*H19*I19","v":0},null,null,null,null,null,null,null,null,0,0,0,0,0,0,0,{"$f":"IF(SUM(S19:W19)=J19,\"\",\"!!!\")","v":""}]
[0,null,null,null,null,null,{"$f":"SUM(B20:F20)","v":0},1,null,{"$f":"G20*H20*I20","v":0},null,null,null,null,null,null,null,null,0,0,0,0,0,0,0]
[0,null,null,null,null,null,{"$f":"SUM(B21:F21)","v":0},1,null,{"$f":"G21*H21*I21","v":0},null,null,null,null,null,null,null,null,0,0,0,0,0,0,0]
[0,null,null,null,null,null,0,1,null,0,null,null,null,null,null,null,null,null,0,0,0,0,0,0,0,{"$f":"IF(SUM(S22:W22)=J22,\"\",\"!!!\")","v":""}]
[null,null,null,null,null,"Summe Sommertag",{"$f":"SUM(G15:G22)","v":0},null,null,{"$f":"SUM(J15:J22)","v":0},null,null,null,null,null,null,null,null,{"$f":"SUM(S15:S22)","v":0},0,0,0,0,0,0,{"$f":"IF(SUM(S23:W23)=J23,\"\",\"!!!\")","v":""}]
["Sonstige Arbeitszeit"]
[null,"Akh Bedarf je Maßnahme",null,"Anzahl / Jahr",null,null,"Akh/Jahr","Anpassung",null,null,{"$f":"K3","v":"Sonstiges"},{"$f":"L3","v":0},0,0,0,0,0,null,{"$f":"S3","v":"Sonstiges"},{"$f":"T3","v":0},0,0,0,0,0]
["Klauenpflege",null,null,null,null,null,{"$f":"B26*D26","v":0},1,null,{"$f":"G26*H26","v":0},null,null,null,null,null,null,null,null,{"$f":"$J26*K26","v":0},0,0,0,0,{"$f":"$J26*P26","v":0},{"$f":"$J26*Q26","v":0},{"$f":"IF(SUM(S26:W26)=J26,\"\",\"!!!\")","v":""}]
["Stalldesinfektion",null,null,null,null,null,{"$f":"B27*D27","v":0},1,null,0,null,null,null,null,null,null,null,null,0,0,0,0,0,0,0,""]
["Mahlen und Mischen",null,null,null,null,null,0,1,null,0,null,null,null,null,null,null,null,null,0,0,0,0,0,0,0,""]
["Viehversteigerungen",null,null,null,null,null,0,1,null,0,null,null,null,null,null,null,null,null,0,0,0,0,0,0,0,""]
["Viehausstellungen",null,null,null,null,null,0,1,null,0,null,null,null,null,null,null,null,null,0,0,0,0,0,0,0,""]
["Almwirtschaft (z.B. Zäunen)",null,null,null,null,null,0,1,null,0,null,null,null,null,null,null,null,null,0,0,0,0,0,0,0,""]
[null,null,null,null,null,null,0,1,null,0,null,null,null,null,null,null,null,null,0,0,0,0,0,0,0,""]
[null,null,null,null,null,null,0,1,null,0,null,null,null,null,null,null,null,null,0,0,0,0,0,0,0,""]
[null,null,null,null,null,null,0,1,null,0,null,null,null,null,null,null,null,null,0,0,0,0,0,0,0,""]
[null,null,null,null,null,null,0,1,null,0,null,null,null,null,null,null,null,null,0,0,0,0,0,0,0,""]
[null,null,null,null,null,null,0,1,null,0,null,null,null,null,null,null,null,null,0,0,0,0,0,0,0,""]
[null,null,null,null,null,null,0,1,null,0,null,null,null,null,null,null,null,null,0,0,0,0,0,0,0,""]
[null,null,null,null,null,null,{"$f":"B38*D38","v":0},1,null,{"$f":"G38*H38","v":0},null,null,null,null,null,null,null,null,0,0,0,0,0,0,0]
[null,null,null,null,null,null,{"$f":"B39*D39","v":0},1,null,{"$f":"G39*H39","v":0},null,null,null,null,null,null,null,null,0,0,0,0,0,0,0]
[null,null,null,null,null,null,0,1,null,0,null,null,null,null,null,null,null,null,0,0,0,0,0,0,0,{"$f":"IF(SUM(S40:W40)=J40,\"\",\"!!!\")","v":""}]
[null,null,null,null,null,"Summe sonstige Arbeiten",{"$f":"SUM(G26:G40)","v":0},null,null,{"$f":"SUM(J26:J40)","v":0},null,null,null,null,null,null,null,null,{"$f":"SUM(S26:S40)","v":0},0,0,0,0,0,0,{"$f":"IF(SUM(S41:W41)=J41,\"\",\"!!!\")","v":""}]
[]
[null,null,null,null,null,"Summe Innenwirtschaft (tägliche - periodische Arbeiten)",null,null,null,{"$f":"J41+J23+J13","v":0},null,null,null,null,null,null,null,null,{"$f":"S41+S23+S13","v":0},0,0,0,0,0,0,{"$f":"IF(SUM(S43:W43)=J43,\"\",\"!!!\")","v":""}]
[]
["Außenwirtschaft"]
["Wirtschaftsdüngerausbringung","Anfall","Verdünnungsfaktor","Fassgröße / Streuergröße",null,"Zeit / Fuhre","Summe Akh","Bezahlte Fremdleistung",null,"Eigene Akh",{"$f":"K3","v":"Sonstiges"},{"$f":"L3","v":0},0,0,0,0,0,null,{"$f":"BZw_1","v":"Sonstiges"},{"$f":"BZw_2","v":0},{"$f":"BZw_3","v":0},{"$f":"BZw_4","v":0},{"$f":"BZw_5","v":0},{"$f":"BZw_6","v":0},{"$f":"BZw_7","v":0},"Schlüssel"]
[null,"m³ / Jahr","%","m³",null,"Stunden",null,"%",null,null,"Aufteilung in %",null,null,null,null,null,null,null,"Aufteilung in Akh"]
["Festmist",{"$f":"Festmist","v":0},null,null,null,null,{"$f":"IF(ISERROR(((1+C48)*B48)/D48*F48)=TRUE,0,((1+C48)*B48)/D48*F48)","v":0},0,null,{"$f":"G48-(G48*H48)","v":0},{"$f":"VLOOKUP($Z48,Schlüsselliste,COLUMN()-9,FALSE)","v":0},0,0,0,0,0,0,null,{"$f":"$J48*K48","v":0},0,0,0,0,0,0,"Festmist Schlüssel"]
["Gülle/Jauche",{"$f":"Flüssigmist","v":0},null,null,null,null,{"$f":"IF(ISERROR(((1+C49)*B49)/D49*F49)=TRUE,0,((1+C49)*B49)/D49*F49)","v":0},0,null,{"$f":"G49-(G49*H49)","v":0},0,0,0,0,0,0,0,null,0,0,0,0,0,0,0,"Flüssigmist Schlüssel"]
[null,null,null,null,null,"Summe Wirtschaftsdüngerausbringung",{"$f":"SUM(G48:G49)","v":0},null,null,{"$f":"SUM(J48:J49)","v":0},null,null,null,null,null,null,null,null,{"$f":"SUM(S48:S49)","v":0},0,0,0,0,0,0]
[]
["Flächenbewirtschaftung","Anzahl \nArbeitsgänge / Jahr",null,"Bearbeitete Einheit (zB. ha, Schnitt) je Arbeitsgang",null,"Zeitaufwand / Arbeitsgang und Einheit","Summe \nAkh","bezahlte Fremdleistung",null,"Summe eigen Akh",{"$f":"K3","v":"Sonstiges"},{"$f":"L3","v":0},0,0,0,0,0,null,{"$f":"BZw_1","v":"Sonstiges"},{"$f":"BZw_2","v":0},{"$f":"BZw_3","v":0},{"$f":"BZw_4","v":0},{"$f":"BZw_5","v":0},{"$f":"BZw_6","v":0},{"$f":"BZw_7","v":0}]
[null,null,null,null,null,null,null,"%",null,null,"Aufteilung in %",null,null,null,null,null,null,null,"Aufteilung in Akh"]
["Grundbodenbearbeitung",null,null,null,null,null,{"$f":"B54*D54*F54","v":0},null,null,{"$f":"G54*(1-H54)","v":0},null,null,null,null,null,null,null,null,{"$f":"$J54*K54","v":0},0,0,0,0,0,0]
["Saatbettbearbeitung",null,null,null,null,null,0,null,null,0,null,null,null,null,null,null,null,null,0,0,0,0,0,0,0]
["Aussaat",null,null,null,null,null,0,null,null,0,null,null,null,null,null,null,null,null,0,0,0,0,0,0,0]
["Ausbringung Handelsdünger",null,null,null,null,null,0,null,null,0,null,null,null,null,null,null,null,null,0,0,0,0,0,0,0]
["Pflanzenschutz",null,null,null,null,null,0,null,null,0,null,null,null,null,null,null,null,null,0,0,0,0,0,0,0]
["Ernte",null,null,null,null,null,0,null,null,0,null,null,null,null,null,null,null,null,0,0,0,0,0,0,0]
[null,null,null,null,null,null,0,null,null,0,null,null,null,null,null,null,null,null,0,0,0,0,0,0,0]
[null,null,null,null,null,null,0,null,null,0,null,null,null,null,null,null,null,null,0,0,0,0,0,0,0]
[null,null,null,null,null,null,0,null,null,0,null,null,null,null,null,null,null,null,0,0,0,0,0,0,0]
[null,null,null,null,null,null,0,null,null,0,null,null,null,null,null,null,null,null,0,0,0,0,0,0,0]
[null,null,null,null,null,null,0,null,null,0,null,null,null,null,null,null,null,null,0,0,0,0,0,0,0]
["Verteilen, Verdichten, Abdecken",null,null,null,null,null,0,null,null,0,null,null,null,null,null,null,null,null,0,0,0,0,0,0,0]
["Abschleppen",null,null,null,null,null,0,null,null,0,null,null,null,null,null,null,null,null,0,0,0,0,0,0,0]
["Mähen",null,null,null,null,null,0,null,null,0,null,null,null,null,null,null,null,null,0,0,0,0,0,0,0]
["Zetten und Wenden",null,null,null,null,null,0,null,null,0,null,null,null,null,null,null,null,null,0,0,0,0,0,0,0]
["Schwaden",null,null,null,null,null,0,null,null,0,null,null,null,null,null,null,null,null,0,0,0,0,0,0,0]
["Ernte (Laden, Einbringen)",null,null,null,null,null,0,null,null,0,null,null,null,null,null,null,null,null,0,0,0,0,0,0,0]
["Verteilen, Verdichten, Abdecken",null,null,null,null,null,0,null,null,0,null,null,null,null,null,null,null,null,0,0,0,0,0,0,0]
[null,null,null,null,null,null,0,null,null,0,null,null,null,null,null,null,null,null,0,0,0,0,0,0,0]
[null,null,null,null,null,null,0,null,null,0,null,null,null,null,null,null,null,null,0,0,0,0,0,0,0]
[null,null,null,null,null,null,0,null,null,0,null,null,null,null,null,null,null,null,0,0,0,0,0,0,0]
[null,null,null,null,null,null,0,null,null,0,null,null,null,null,null,null,null,null,0,0,0,0,0,0,0]
[null,null,null,null,null,null,0,null,null,0,null,null,null,null,null,null,null,null,0,0,0,0,0,0,0]
[null,null,null,null,null,null,0,null,null,0,null,null,null,null,null,null,null,null,0,0,0,0,0,0,0]
[null,null,null,null,null,null,0,null,null,0,null,null,null,null,null,null,null,null,0,0,0,0,0,0,0]
[null,null,null,null,null,null,0,null,null,0,null,null,null,null,null,null,null,null,0,0,0,0,0,0,0]
[null,null,null,null,null,null,0,null,null,0,null,null,null,null,null,null,null,null,0,0,0,0,0,0,0]
[null,null,null,null,null,null,0,null,null,0,null,null,null,null,null,null,null,null,0,0,0,0,0,0,0]
[null,null,null,null,null,null,0,null,null,0,null,null,null,null,null,null,null,null,0,0,0,0,0,0,0]
[null,null,null,null,null,"Summe Flächenbewirtschaftung",{"$f":"SUM(G54:G82)","v":0},null,null,{"$f":"SUM(J54:J82)","v":0},null,null,null,null,null,null,null,null,{"$f":"SUM(S54:S82)","v":0},{"$f":"SUM(T54:T82)","v":0},0,0,0,0,0]
[]
[null,null,null,null,null,"Summe Außenwirtschaft (Flächen, Wirtschaftsdünger)",{"$f":"G83+G50","v":0},null,null,{"$f":"J83+J50","v":0},null,null,null,null,null,null,null,null,{"$f":"S83+S50","v":0},{"$f":"T83+T50","v":0},0,0,0,0,0]
[]
["Summe Arbeitszeit Innen- und Außenwirtschaft",null,null,null,null,null,null,null,"Akh",{"$f":"J85+J43","v":0},null,null,null,null,null,null,"Akh",null,{"$f":"S85+S43","v":0},{"$f":"T85+T43","v":0},0,0,0,0,0]
["Arbeitszeitzuschlag (%) für sonstige Arbeitszeit (zB. Büroarbeiten, Organisation, Weiterbildung, Reparaturen)",null,null,null,null,null,null,null,null,"je B-Zweig",0.1,0.1,0.1,0.1,0.1,0.1,0.1,null,{"$f":"S87*K88","v":0},0,0,0,0,0,0]
[null,null,null,null,null,null,null,null,"Summe Gesamt-Akh",{"$f":"J87+SUM(S88:Y88)","v":0},null,null,null,null,null,null,"Arbeitszeitbedarf je Betriebszweig (Akh)",null,{"$f":"S87+S88","v":0},{"$f":"T87+T88","v":0},0,0,0,0,0]
[null,null,null,null,null,null,null,null,null,null,null,null,null,null,null,null,"Akh Schlüssel",null,{"$f":"IF(ZeitGesamt=0,0,S89/$J$89)","v":0},0,0,0,0,0,0]

{"sheet":"BZweige","index":26,"n_rows":29,"n_cols":8,"rows_kept":29,"cut":false,"hidden":false,"merged":[[0,1,0,4],[16,4,32,4],[16,3,27,3],[28,3,31,3],[1,3,15,3],[14,4,15,4],[1,4,13,4]]}
[null,"Betriebszweigsauswahl",null,null,null,null,"Zurück","Menü"]
[null,null,null,"Flächen","Hauptkostenstellen",null,"Sie haben"]
[null,null,null,null,null,null,{"$f":"AnzahlHauptBZw","v":1},"Hauptkostenstellen"]
[null,null,null,null,null,null,{"$f":"AnzahlUmlageKSt","v":0},"Umlagekostenstellen"]
[null,null,null,null,null,null,"ausgewählt"]
[]
[]
[]
[]
[]
[]
[]
[]
[]
[null,null,null,null,"Umlagekst."]
[]
[null,null,null,"Tiere","Hauptkostenstellen"]
[]
[]
[]
[]
[]
[]
[]
[]
[]
[]
[]
[null,null,null,"Nebentätigk."]

{"sheet":"Schlüssel","index":27,"n_rows":181,"n_cols":14,"rows_kept":181,"cut":false,"hidden":false,"merged":[[3,9,3,12],[103,7,103,8],[4,10,4,11],[45,0,48,0],[45,2,45,6]]}
["Schlüsselungen und Berechnungen",null,"Menü","Verwendete Werte und Schlüssel werden in Fettdruck dargestellt."]
[]
[]
[null,null,null,null,null,null,null,null,null,"Schlüsselliste für"]
[null,null,{"$f":"BZw_1","v":"Sonstiges"},{"$f":"BZw_2","v":0},{"$f":"BZw_3","v":0},{"$f":"BZw_4","v":0},{"$f":"BZw_5","v":0},{"$f":"BZw_6","v":0},{"$f":"BZw_7","v":0},"Direkt- leistungen","Vorleistungs- kosten",null,"Faktor- kosten","ÖPUL-Blatt"]
[null,{"$f":"B109","v":"Düngerkosten Schlüssel"},0,0,0,0,0,0,0]
[null,{"$f":"B53","v":"Festmist Schlüssel"},0,0,0,0,0,0,0,"Standarddüngekosten Schlüssel","GVE Schlüssel",null,"Akh Schlüssel","Flüssigmist Schlüssel"]
[null,{"$f":"B56","v":"Flüssigmist Schlüssel"},0,0,0,0,0,0,0,"Festmist Schlüssel","RGVE Schlüssel",null,"DfL Schlüssel","RGVE Schlüssel"]
[null,"Wirtschaftsdüngerwert Schlüssel",{"$f":"C51","v":0},0,0,0,0,0,0,"Flüssigmist Schlüssel","Anschaffungswert Maschinen Schlüssel",null,"Flächeneinheitswert Schlüssel","Alm RGVE Schlüssel"]
[null,{"$f":"B59","v":"GVE Schlüssel"},0,0,0,0,0,0,0,"GVE Schlüssel","Anschaffungswert Gebäude Schlüssel",null,"Einheitswert Schlüssel","Landwirtschaftliche Nutzfläche Schlüssel"]
[null,{"$f":"B62","v":"RGVE Schlüssel"},0,0,0,0,0,0,0,"Wirtschaftsdüngerwert Schlüssel","Flächeneinheitswert Schlüssel",null,null,"Direktzahlungen Schlüssel"]
[null,{"$f":"B65","v":"Alm RGVE Schlüssel"},0,0,0,0,0,0,0,null,"Landwirtschaftliche Nutzfläche Schlüssel",null,null,"UBB Prämien Schlüssel"]
[null,{"$f":"B92","v":"Landwirtschaftliche Nutzfläche Schlüssel"},0,0,0,0,0,0,0,null,"Dieselverbrauch Schlüssel",null,null,"Einsch.Ertragst.Betriebsm.Schlüssel"]
[null,{"$f":"B90","v":"Gesamtflächenschlüssel"},0,0,0,0,0,0,0,null,"Standarddieselverbrauch Schlüssel",null,null,"Bio-Prämien Schlüssel"]
[null,{"$f":"B99","v":"Flächeneinheitswert Schlüssel"},0,0,0,0,0,0,0,null,"Akh Schlüssel",null,null,"Begrünungsprämie Schlüssel"]
[null,{"$f":"B71","v":"GF Bedarf Schlüssel"},0,0,0,0,0,0,0,null,"DfL Schlüssel",null,null,"Silageverzicht Prämien Schlüssel"]
[null,{"$f":"B75","v":"AfA Maschinen Schlüssel"},{"$error":"#DIV/0!"},{"$error":"#DIV/0!"},{"$error":"#DIV/0!"},{"$error":"#DIV/0!"},{"$error":"#DIV/0!"},{"$error":"#DIV/0!"},{"$error":"#DIV/0!"},null,"Sonstiger Gemeinleistungs Schlüssel",null,null,"GVE Schlüssel"]
[null,{"$f":"B77","v":"Anschaffungswert Maschinen Schlüssel"},{"$error":"#DIV/0!"},{"$error":"#DIV/0!"},{"$error":"#DIV/0!"},{"$error":"#DIV/0!"},{"$error":"#DIV/0!"},{"$error":"#DIV/0!"},{"$error":"#DIV/0!"},null,null,null,null,"Grundwasserschutz auf Ackerflächen Schlüssel"]
[null,{"$f":"B79","v":"Zeitwert Maschinen Schlüssel"},{"$error":"#DIV/0!"},{"$error":"#DIV/0!"},{"$error":"#DIV/0!"},{"$error":"#DIV/0!"},{"$error":"#DIV/0!"},{"$error":"#DIV/0!"},{"$error":"#DIV/0!"},null,null,null,null,"Gesamtflächenschlüssel"]
[null,{"$f":"B85","v":"AfA Gebäude Schlüssel"},{"$error":"#DIV/0!"},{"$error":"#DIV/0!"},{"$error":"#DIV/0!"},{"$error":"#DIV/0!"},{"$error":"#DIV/0!"},{"$error":"#DIV/0!"},{"$error":"#DIV/0!"}]
[null,{"$f":"B83","v":"Anschaffungswert Gebäude Schlüssel"},{"$error":"#DIV/0!"},{"$error":"#DIV/0!"},{"$error":"#DIV/0!"},{"$error":"#DIV/0!"},{"$error":"#DIV/0!"},{"$error":"#DIV/0!"},{"$error":"#DIV/0!"}]
[null,{"$f":"B87","v":"Zeitwert Gebäude Schlüssel"},{"$error":"#DIV/0!"},{"$error":"#DIV/0!"},{"$error":"#DIV/0!"},{"$error":"#DIV/0!"},{"$error":"#DIV/0!"},{"$error":"#DIV/0!"},{"$error":"#DIV/0!"}]
[null,{"$f":"B96","v":"Dieselverbrauch Schlüssel"},0,0,0,0,0,0,0]
[null,{"$f":"B$97","v":"Standarddieselverbrauch Schlüssel"},0,0,0,0,0,0,0]
[null,{"$f":"B154","v":"Akh Schlüssel"},0,0,0,0,0,0,0]
[null,{"$f":"B122","v":"AZ Prämien Schlüssel"},{"$error":"#DIV/0!"},{"$error":"#DIV/0!"},{"$error":"#DIV/0!"},{"$error":"#DIV/0!"},{"$error":"#DIV/0!"},{"$error":"#DIV/0!"},{"$error":"#DIV/0!"}]
[null,{"$f":"B128","v":"Bio-Prämien Schlüssel"},{"$f":"C128","v":{"$error":"#DIV/0!"}},{"$f":"D128","v":{"$error":"#DIV/0!"}},{"$error":"#DIV/0!"},{"$error":"#DIV/0!"},{"$error":"#DIV/0!"},{"$error":"#DIV/0!"},{"$error":"#DIV/0!"}]
[null,{"$f":"B134","v":"UBB Prämien Schlüssel"},{"$f":"C134","v":{"$error":"#DIV/0!"}},{"$f":"D134","v":{"$error":"#DIV/0!"}},{"$error":"#DIV/0!"},{"$error":"#DIV/0!"},{"$error":"#DIV/0!"},{"$error":"#DIV/0!"},{"$error":"#DIV/0!"}]
[null,{"$f":"B139","v":"Silageverzicht Prämien Schlüssel"},{"$f":"C139","v":{"$error":"#DIV/0!"}},{"$f":"D139","v":{"$error":"#DIV/0!"}},{"$error":"#DIV/0!"},{"$error":"#DIV/0!"},{"$error":"#DIV/0!"},{"$error":"#DIV/0!"},{"$error":"#DIV/0!"}]
[null,{"$f":"B142","v":"Begrünungsprämie Schlüssel"},0,0,0,0,0,0,0]
[null,{"$f":"B145","v":"ÖPUL Schlüssel"},{"$error":"#DIV/0!"},{"$error":"#DIV/0!"},{"$error":"#DIV/0!"},{"$error":"#DIV/0!"},{"$error":"#DIV/0!"},{"$error":"#DIV/0!"},{"$error":"#DIV/0!"}]
[null,{"$f":"B148","v":"Silomais Schlüssel"},0,0,0,0,0,0,0]
[null,"Grundfutterzukauf Schlüssel",0,0,0,0,0,0,0]
[null,"Grundfutter ohne Silomais Schlüssel",0,0,0,0,0,0,0]
[null,{"$f":"$B$158","v":"Direktzahlungen Schlüssel"},{"$f":"C158","v":0},{"$f":"D158","v":0},0,0,0,0,0]
[null,"Einsch.Ertragst.Betriebsm.Schlüssel",{"$f":"C162","v":{"$error":"#DIV/0!"}},{"$f":"D162","v":{"$error":"#DIV/0!"}},{"$error":"#DIV/0!"},{"$error":"#DIV/0!"},{"$error":"#DIV/0!"},{"$error":"#DIV/0!"},{"$error":"#DIV/0!"}]
[null,"Pachtansatz Schlüssel",{"$f":"C169","v":{"$error":"#DIV/0!"}},{"$f":"D169","v":{"$error":"#DIV/0!"}},{"$error":"#DIV/0!"},{"$error":"#DIV/0!"},{"$error":"#DIV/0!"},{"$error":"#DIV/0!"},{"$error":"#DIV/0!"}]
[null,"Pachtkosten Schlüssel",{"$f":"C170","v":0},0,0,0,0,0,0]
[null,"Milchkuh Schlüssel",{"$f":"C67","v":0},{"$f":"D67","v":0},{"$f":"E67","v":0},{"$f":"F67","v":0},{"$f":"G67","v":0},0,0]
[null,"DfL Schlüssel",{"$f":"C175","v":0},{"$f":"D175","v":0},0,0,0,0,0]
[null,"Grundwasserschutz auf Ackerflächen Schlüssel",{"$f":"+C181","v":0},{"$f":"+D181","v":0},0,0,0,0,0]
[null,"Bestandeswert Schlüssel",{"$f":"C68","v":0},0,0,0,0,0,0]
[null,"Einheitswert Schlüssel",{"$f":"C102","v":{"$error":"#DIV/0!"}},{"$f":"D102","v":{"$error":"#DIV/0!"}},{"$error":"#DIV/0!"},{"$error":"#DIV/0!"},{"$error":"#DIV/0!"},{"$error":"#DIV/0!"},{"$error":"#DIV/0!"}]
[null,"Sonstiger Gemeinleistungs Schlüssel",{"$f":"C177","v":0},0,0,0,0,0,0]
[]
["Wirtschaftsdüngeraufteilung, -bewertung",null,"Menge",null,null,null,null,null,null,"Σ Menge",null,null,"Σ Wert"]
[null,"N: ",{"$f":"Tiere!J84","v":{"$error":"#DIV/0!"}},{"$f":"Tiere!K84","v":{"$error":"#DIV/0!"}},{"$f":"Tiere!L84","v":{"$error":"#DIV/0!"}},{"$f":"Tiere!M84","v":{"$error":"#DIV/0!"}},{"$f":"Tiere!N84","v":{"$error":"#DIV/0!"}},{"$f":"Tiere!O84","v":{"$error":"#DIV/0!"}},{"$f":"Tiere!P84","v":{"$error":"#DIV/0!"}},{"$f":"Tiere!R84","v":0},null,null,{"$f":"Tiere!S84","v":0}]
[null,"P: ",{"$f":"Tiere!J85","v":{"$error":"#DIV/0!"}},{"$f":"Tiere!K85","v":{"$error":"#DIV/0!"}},{"$f":"Tiere!L85","v":{"$error":"#DIV/0!"}},{"$f":"Tiere!M85","v":{"$error":"#DIV/0!"}},{"$f":"Tiere!N85","v":{"$error":"#DIV/0!"}},{"$f":"Tiere!O85","v":{"$error":"#DIV/0!"}},{"$f":"Tiere!P85","v":{"$error":"#DIV/0!"}},{"$f":"Tiere!R85","v":0},null,null,{"$f":"Tiere!S85","v":0}]
[null,"K: ",{"$f":"Tiere!J86","v":{"$error":"#DIV/0!"}},{"$f":"Tiere!K86","v":{"$error":"#DIV/0!"}},{"$f":"Tiere!L86","v":{"$error":"#DIV/0!"}},{"$f":"Tiere!M86","v":{"$error":"#DIV/0!"}},{"$f":"Tiere!N86","v":{"$error":"#DIV/0!"}},{"$f":"Tiere!O86","v":{"$error":"#DIV/0!"}},{"$f":"Tiere!P86","v":{"$error":"#DIV/0!"}},{"$f":"Tiere!R86","v":0},null,null,{"$f":"Tiere!S86","v":0}]
[null,"Wert:",{"$f":"Tiere!J87","v":0},{"$f":"Tiere!K87","v":0},{"$f":"Tiere!L87","v":0},{"$f":"Tiere!M87","v":0},{"$f":"Tiere!N87","v":0},{"$f":"Tiere!O87","v":0},{"$f":"Tiere!P87","v":0},null,null,null,{"$f":"ROUND(Tiere!S87,2)","v":0}]
[null,"Wirtschaftsdüngerwertschlüssel",{"$f":"Tiere!J88","v":0},{"$f":"Tiere!K88","v":0},{"$f":"Tiere!L88","v":0},{"$f":"Tiere!M88","v":0},{"$f":"Tiere!N88","v":0},{"$f":"Tiere!O88","v":0},{"$f":"Tiere!P88","v":0},{"$f":"Tiere!R88","v":0}]
[null,"Mist:",{"$f":"Tiere!J89","v":0},{"$f":"Tiere!K89","v":0},{"$f":"Tiere!L89","v":0},{"$f":"Tiere!M89","v":0},{"$f":"Tiere!N89","v":0},{"$f":"Tiere!O89","v":0},{"$f":"Tiere!P89","v":0},{"$f":"Tiere!R89","v":0},{"$f":"Tiere!S89","v":"m³"}]
[null,"Festmist Schlüssel",{"$f":"Tiere!J92","v":0},{"$f":"Tiere!K92","v":0},{"$f":"Tiere!L92","v":0},{"$f":"Tiere!M92","v":0},{"$f":"Tiere!N92","v":0},{"$f":"Tiere!O92","v":0},{"$f":"Tiere!P92","v":0},{"$f":"Tiere!R92","v":0},{"$f":"Tiere!S92","v":"%"}]
[null,"Jauche:",{"$f":"Tiere!J93","v":0},{"$f":"Tiere!K93","v":0},{"$f":"Tiere!L93","v":0},{"$f":"Tiere!M93","v":0},{"$f":"Tiere!N93","v":0},{"$f":"Tiere!O93","v":0},{"$f":"Tiere!P93","v":0},{"$f":"Tiere!R93","v":0},{"$f":"Tiere!S93","v":"m³"}]
[null,"Gülle:",{"$f":"Tiere!J94","v":0},{"$f":"Tiere!K94","v":0},{"$f":"Tiere!L94","v":0},{"$f":"Tiere!M94","v":0},{"$f":"Tiere!N94","v":0},{"$f":"Tiere!O94","v":0},{"$f":"Tiere!P94","v":0},{"$f":"Tiere!R94","v":0},{"$f":"Tiere!S94","v":"m³"}]
[null,"Flüssigmist Schlüssel",{"$f":"Tiere!J95","v":0},{"$f":"Tiere!K95","v":0},{"$f":"Tiere!L95","v":0},{"$f":"Tiere!M95","v":0},{"$f":"Tiere!N95","v":0},{"$f":"Tiere!O95","v":0},{"$f":"Tiere!P95","v":0},{"$f":"Tiere!R95","v":0}]
[]
["GVE ",null,{"$f":"Tiere!J72","v":0},{"$f":"Tiere!K72","v":0},{"$f":"Tiere!L72","v":0},{"$f":"Tiere!M72","v":0},{"$f":"Tiere!N72","v":0},{"$f":"Tiere!O72","v":0},{"$f":"Tiere!P72","v":0},{"$f":"SUM(C58:I58)","v":0}]
[null,"GVE Schlüssel",{"$f":"Tiere!J73","v":0},{"$f":"Tiere!K73","v":0},{"$f":"Tiere!L73","v":0},{"$f":"Tiere!M73","v":0},{"$f":"Tiere!N73","v":0},{"$f":"Tiere!O73","v":0},{"$f":"Tiere!P73","v":0},{"$f":"SUM(C59:I59)","v":0}]
[]
["RGVE",null,{"$f":"Tiere!J74","v":0},{"$f":"Tiere!K74","v":0},{"$f":"Tiere!L74","v":0},{"$f":"Tiere!M74","v":0},{"$f":"Tiere!N74","v":0},{"$f":"Tiere!O74","v":0},{"$f":"Tiere!P74","v":0},0]
[null,"RGVE Schlüssel",{"$f":"Tiere!J75","v":0},{"$f":"Tiere!K75","v":0},{"$f":"Tiere!L75","v":0},{"$f":"Tiere!M75","v":0},{"$f":"Tiere!N75","v":0},{"$f":"Tiere!O75","v":0},{"$f":"Tiere!P75","v":0},0]
[]
["ALM RGVE",null,{"$f":"Tiere!J76","v":0},{"$f":"Tiere!K76","v":0},{"$f":"Tiere!L76","v":0},{"$f":"Tiere!M76","v":0},{"$f":"Tiere!N76","v":0},{"$f":"Tiere!O76","v":0},{"$f":"Tiere!P76","v":0},0]
[null,"Alm RGVE Schlüssel",{"$f":"Tiere!J77","v":0},{"$f":"Tiere!K77","v":0},{"$f":"Tiere!L77","v":0},{"$f":"Tiere!M77","v":0},{"$f":"Tiere!N77","v":0},{"$f":"Tiere!O77","v":0},{"$f":"Tiere!P77","v":0},0]
["Geamtflächen",null,{"$f":"Tiere!J78","v":0},{"$f":"Tiere!K78","v":0},{"$f":"Tiere!L78","v":0},{"$f":"Tiere!M78","v":0},{"$f":"Tiere!N78","v":0},{"$f":"Tiere!O78","v":0},{"$f":"Tiere!P78","v":0},0,"Milchkühe"]
[null,"Milchkuh Schlüssel",{"$f":"Tiere!J79","v":0},{"$f":"Tiere!K79","v":0},{"$f":"Tiere!L79","v":0},{"$f":"Tiere!M79","v":0},{"$f":"Tiere!N79","v":0},{"$f":"Tiere!O79","v":0},{"$f":"Tiere!P79","v":0},0]
[null,"Bestandeswert Schlüssel",{"$f":"Tiere!J82","v":0},{"$f":"Tiere!K82","v":0},{"$f":"Tiere!L82","v":0},{"$f":"Tiere!M82","v":0},{"$f":"Tiere!N82","v":0},{"$f":"Tiere!O82","v":0},{"$f":"Tiere!P82","v":0},0]
[]
["Grundfutter TM-Bedarf",null,{"$f":"Tiere!J80","v":0},{"$f":"Tiere!K80","v":0},{"$f":"Tiere!L80","v":0},{"$f":"Tiere!M80","v":0},{"$f":"Tiere!N80","v":0},{"$f":"Tiere!O80","v":0},{"$f":"Tiere!P80","v":0},0,"kg"]
[null,"GF Bedarf Schlüssel",{"$f":"Tiere!J81","v":0},{"$f":"Tiere!K81","v":0},{"$f":"Tiere!L81","v":0},{"$f":"Tiere!M81","v":0},{"$f":"Tiere!N81","v":0},{"$f":"Tiere!O81","v":0},{"$f":"Tiere!P81","v":0},{"$f":"J70/$J$70","v":{"$error":"#DIV/0!"}}]
[]
["Maschinen/Geräte"]
[null,"Abschreibung",{"$f":"Maschinen!F161","v":0},{"$f":"Maschinen!G161","v":0},{"$f":"Maschinen!H161","v":0},{"$f":"Maschinen!I161","v":0},{"$f":"Maschinen!J161","v":0},{"$f":"Maschinen!K161","v":0},{"$f":"Maschinen!L161","v":0},{"$f":"Maschinen!M161","v":0},"€"]
[null,"AfA Maschinen Schlüssel",{"$f":"Maschinen!F162","v":{"$error":"#DIV/0!"}},{"$f":"Maschinen!G162","v":{"$error":"#DIV/0!"}},{"$f":"Maschinen!H162","v":{"$error":"#DIV/0!"}},{"$f":"Maschinen!I162","v":{"$error":"#DIV/0!"}},{"$f":"Maschinen!J162","v":{"$error":"#DIV/0!"}},{"$f":"Maschinen!K162","v":{"$error":"#DIV/0!"}},{"$f":"Maschinen!L162","v":{"$error":"#DIV/0!"}},{"$f":"Maschinen!M162","v":{"$error":"#DIV/0!"}}]
[null,"Anschaffungswert",{"$f":"Maschinen!F163","v":0},{"$f":"Maschinen!G163","v":0},{"$f":"Maschinen!H163","v":0},{"$f":"Maschinen!I163","v":0},{"$f":"Maschinen!J163","v":0},{"$f":"Maschinen!K163","v":0},{"$f":"Maschinen!L163","v":0},{"$f":"Maschinen!M163","v":0},"€"]
[null,"Anschaffungswert Maschinen Schlüssel",{"$f":"Maschinen!F164","v":{"$error":"#DIV/0!"}},{"$f":"Maschinen!G164","v":{"$error":"#DIV/0!"}},{"$f":"Maschinen!H164","v":{"$error":"#DIV/0!"}},{"$f":"Maschinen!I164","v":{"$error":"#DIV/0!"}},{"$f":"Maschinen!J164","v":{"$error":"#DIV/0!"}},{"$f":"Maschinen!K164","v":{"$error":"#DIV/0!"}},{"$f":"Maschinen!L164","v":{"$error":"#DIV/0!"}},{"$f":"Maschinen!M164","v":{"$error":"#DIV/0!"}}]
[null,"Zeitwert",{"$f":"Maschinen!F165","v":0},{"$f":"Maschinen!G165","v":0},{"$f":"Maschinen!H165","v":0},{"$f":"Maschinen!I165","v":0},{"$f":"Maschinen!J165","v":0},{"$f":"Maschinen!K165","v":0},{"$f":"Maschinen!L165","v":0},{"$f":"Maschinen!M165","v":0},"€"]
[null,"Zeitwert Maschinen Schlüssel",{"$f":"Maschinen!F166","v":{"$error":"#DIV/0!"}},{"$f":"Maschinen!G166","v":{"$error":"#DIV/0!"}},{"$f":"Maschinen!H166","v":{"$error":"#DIV/0!"}},{"$f":"Maschinen!I166","v":{"$error":"#DIV/0!"}},{"$f":"Maschinen!J166","v":{"$error":"#DIV/0!"}},{"$f":"Maschinen!K166","v":{"$error":"#DIV/0!"}},{"$f":"Maschinen!L166","v":{"$error":"#DIV/0!"}},{"$f":"Maschinen!M166","v":{"$error":"#DIV/0!"}}]
[]
["Gebäude und bauliche Anlagen"]
[null,"Anschaffungswert",{"$f":"Gebäude!F161","v":0},{"$f":"Gebäude!G161","v":0},{"$f":"Gebäude!H161","v":0},{"$f":"Gebäude!I161","v":0},{"$f":"Gebäude!J161","v":0},{"$f":"Gebäude!K161","v":0},{"$f":"Gebäude!L161","v":0},{"$f":"Gebäude!M161","v":0},"€"]
[null,"Anschaffungswert Gebäude Schlüssel",{"$f":"Gebäude!F162","v":{"$error":"#DIV/0!"}},{"$f":"Gebäude!G162","v":{"$error":"#DIV/0!"}},{"$f":"Gebäude!H162","v":{"$error":"#DIV/0!"}},{"$f":"Gebäude!I162","v":{"$error":"#DIV/0!"}},{"$f":"Gebäude!J162","v":{"$error":"#DIV/0!"}},{"$f":"Gebäude!K162","v":{"$error":"#DIV/0!"}},{"$f":"Gebäude!L162","v":{"$error":"#DIV/0!"}},{"$f":"Gebäude!M162","v":{"$error":"#DIV/0!"}}]
[null,"Abschreibung",{"$f":"Gebäude!F163","v":0},{"$f":"Gebäude!G163","v":0},{"$f":"Gebäude!H163","v":0},{"$f":"Gebäude!I163","v":0},{"$f":"Gebäude!J163","v":0},{"$f":"Gebäude!K163","v":0},{"$f":"Gebäude!L163","v":0},{"$f":"Gebäude!M163","v":0},"€"]
[null,"AfA Gebäude Schlüssel",{"$f":"Gebäude!F164","v":{"$error":"#DIV/0!"}},{"$f":"Gebäude!G164","v":{"$error":"#DIV/0!"}},{"$f":"Gebäude!H164","v":{"$error":"#DIV/0!"}},{"$f":"Gebäude!I164","v":{"$error":"#DIV/0!"}},{"$f":"Gebäude!J164","v":{"$error":"#DIV/0!"}},{"$f":"Gebäude!K164","v":{"$error":"#DIV/0!"}},{"$f":"Gebäude!L164","v":{"$error":"#DIV/0!"}},{"$f":"Gebäude!M164","v":{"$error":"#DIV/0!"}}]
[null,"Zeitwert",{"$f":"Gebäude!F165","v":0},{"$f":"Gebäude!G165","v":0},{"$f":"Gebäude!H165","v":0},{"$f":"Gebäude!I165","v":0},{"$f":"Gebäude!J165","v":0},{"$f":"Gebäude!K165","v":0},{"$f":"Gebäude!L165","v":0},{"$f":"Gebäude!M165","v":0},"€"]
[null,"Zeitwert Gebäude Schlüssel",{"$f":"Gebäude!F166","v":{"$error":"#DIV/0!"}},{"$f":"Gebäude!G166","v":{"$error":"#DIV/0!"}},{"$f":"Gebäude!H166","v":{"$error":"#DIV/0!"}},{"$f":"Gebäude!I166","v":{"$error":"#DIV/0!"}},{"$f":"Gebäude!J166","v":{"$error":"#DIV/0!"}},{"$f":"Gebäude!K166","v":{"$error":"#DIV/0!"}},{"$f":"Gebäude!L166","v":{"$error":"#DIV/0!"}},{"$f":"Gebäude!M166","v":{"$error":"#DIV/0!"}}]
[]
["Flächenbasierte Schüssel",null,{"$f":"Flächennutzung!K117*Wald","v":0},{"$f":"Flächennutzung!L117*Wald","v":0},{"$f":"Flächennutzung!M117*Wald","v":0},{"$f":"Flächennutzung!N117*Wald","v":0},{"$f":"Flächennutzung!O117*Wald","v":0},{"$f":"Flächennutzung!P117*Wald","v":0},{"$f":"Flächennutzung!Q117*Wald","v":0},{"$f":"Flächennutzung!R117*Wald","v":0},"ha"]
[null,"Gesamtflächenschlüssel",{"$f":"IF((C89+C91)=0,0,(C89+C91)/$L$90)","v":0},0,0,0,0,0,0,{"$f":"+SUM(C90:I90)","v":0},"%",{"$f":"+J89+J91","v":0},"ha"]
[null,"Σ LN",{"$f":"Flächennutzung!K116","v":0},{"$f":"Flächennutzung!L116","v":0},{"$f":"Flächennutzung!M116","v":0},{"$f":"Flächennutzung!N116","v":0},{"$f":"Flächennutzung!O116","v":0},{"$f":"Flächennutzung!P116","v":0},{"$f":"Flächennutzung!Q116","v":0},{"$f":"Flächennutzung!R116","v":0},"ha"]
[null,"Landwirtschaftliche Nutzfläche Schlüssel",{"$f":"Flächennutzung!K118","v":0},{"$f":"Flächennutzung!L118","v":0},{"$f":"Flächennutzung!M118","v":0},{"$f":"Flächennutzung!N118","v":0},{"$f":"Flächennutzung!O118","v":0},{"$f":"Flächennutzung!P118","v":0},{"$f":"Flächennutzung!Q118","v":0},{"$f":"Flächennutzung!R118","v":0}]
[null,"Standarddieselverbrauch Flächen",{"$f":"Flächennutzung!K119","v":0},{"$f":"Flächennutzung!L119","v":0},{"$f":"Flächennutzung!M119","v":0},{"$f":"Flächennutzung!N119","v":0},{"$f":"Flächennutzung!O119","v":0},{"$f":"Flächennutzung!P119","v":0},{"$f":"Flächennutzung!Q119","v":0},{"$f":"Flächennutzung!R119","v":0},"Liter"]
[null,"Dieselverbrauch Innen plus MR",{"$f":"Flächennutzung!K120","v":0},{"$f":"Flächennutzung!L120","v":0},{"$f":"Flächennutzung!M120","v":0},{"$f":"Flächennutzung!N120","v":0},{"$f":"Flächennutzung!O120","v":0},{"$f":"Flächennutzung!P120","v":0},{"$f":"Flächennutzung!Q120","v":0},{"$f":"Flächennutzung!R120","v":0},"Liter"]
[null,"Σ Diesel",{"$f":"Flächennutzung!K121","v":0},{"$f":"Flächennutzung!L121","v":0},{"$f":"Flächennutzung!M121","v":0},{"$f":"Flächennutzung!N121","v":0},{"$f":"Flächennutzung!O121","v":0},{"$f":"Flächennutzung!P121","v":0},{"$f":"Flächennutzung!Q121","v":0},{"$f":"Flächennutzung!R121","v":0},"Liter"]
[null,"Dieselverbrauch Schlüssel",{"$f":"Flächennutzung!K122","v":0},{"$f":"Flächennutzung!L122","v":0},{"$f":"Flächennutzung!M122","v":0},{"$f":"Flächennutzung!N122","v":0},{"$f":"Flächennutzung!O122","v":0},{"$f":"Flächennutzung!P122","v":0},{"$f":"Flächennutzung!Q122","v":0},{"$f":"Flächennutzung!R122","v":0}]
[null,"Standarddieselverbrauch Schlüssel",{"$f":"Flächennutzung!K123","v":0},{"$f":"Flächennutzung!L123","v":0},{"$f":"Flächennutzung!M123","v":0},{"$f":"Flächennutzung!N123","v":0},{"$f":"Flächennutzung!O123","v":0},{"$f":"Flächennutzung!P123","v":0},{"$f":"Flächennutzung!Q123","v":0},{"$f":"Flächennutzung!R123","v":0}]
[null,"Fächeneinheitswert (inkl. ForstEHW)",{"$f":"Flächennutzung!K124","v":0},{"$f":"Flächennutzung!L124","v":0},{"$f":"Flächennutzung!M124","v":0},{"$f":"Flächennutzung!N124","v":0},{"$f":"Flächennutzung!O124","v":0},{"$f":"Flächennutzung!P124","v":0},{"$f":"Flächennutzung!Q124","v":0},{"$f":"Flächennutzung!R124","v":0},"€"]
[null,"Flächeneinheitswert Schlüssel",{"$f":"Flächennutzung!K125","v":0},{"$f":"Flächennutzung!L125","v":0},{"$f":"Flächennutzung!M125","v":0},{"$f":"Flächennutzung!N125","v":0},{"$f":"Flächennutzung!O125","v":0},{"$f":"Flächennutzung!P125","v":0},{"$f":"Flächennutzung!Q125","v":0},{"$f":"Flächennutzung!R125","v":0}]
[null,"Tierzuschlag EHW",{"$f":"C59*Einheitswertzuschlag","v":0},{"$f":"D59*Einheitswertzuschlag","v":0},0,0,0,0,0,{"$f":"SUM(C100:I100)","v":0}]
[null,"Einheitswert Gesamt",{"$f":"C98+C100","v":0},{"$f":"D98+D100","v":0},0,0,0,0,0,0]
[null,"Einheitswert Schlüssel",{"$f":"C101/$J$101","v":{"$error":"#DIV/0!"}},{"$f":"D101/$J$101","v":{"$error":"#DIV/0!"}},{"$error":"#DIV/0!"},{"$error":"#DIV/0!"},{"$error":"#DIV/0!"},{"$error":"#DIV/0!"},{"$error":"#DIV/0!"},{"$error":"#DIV/0!"}]
[]
["Standarddüngerkosten",null,null,null,null,null,"Menge","Menge"]
[null,"N:",{"$f":"Flächennutzung!K128","v":0},{"$f":"Flächennutzung!L128","v":0},{"$f":"Flächennutzung!M128","v":0},{"$f":"Flächennutzung!N128","v":0},{"$f":"Flächennutzung!O128","v":0},{"$f":"Flächennutzung!P128","v":0},{"$f":"Flächennutzung!Q128","v":0},{"$f":"Flächennutzung!R128","v":0},{"$f":"Flächennutzung!S128","v":"kg rein N"},{"$f":"Flächennutzung!T128","v":0},{"$f":"Flächennutzung!U128","v":"€"}]
[null,"P:",{"$f":"Flächennutzung!K129","v":0},{"$f":"Flächennutzung!L129","v":0},{"$f":"Flächennutzung!M129","v":0},{"$f":"Flächennutzung!N129","v":0},{"$f":"Flächennutzung!O129","v":0},{"$f":"Flächennutzung!P129","v":0},{"$f":"Flächennutzung!Q129","v":0},{"$f":"Flächennutzung!R129","v":0},{"$f":"Flächennutzung!S129","v":"kg rein P"},{"$f":"Flächennutzung!T129","v":0},{"$f":"Flächennutzung!U129","v":"€"}]
[null,"K:",{"$f":"Flächennutzung!K130","v":0},{"$f":"Flächennutzung!L130","v":0},{"$f":"Flächennutzung!M130","v":0},{"$f":"Flächennutzung!N130","v":0},{"$f":"Flächennutzung!O130","v":0},{"$f":"Flächennutzung!P130","v":0},{"$f":"Flächennutzung!Q130","v":0},{"$f":"Flächennutzung!R130","v":0},{"$f":"Flächennutzung!S130","v":"kg rein K"},{"$f":"Flächennutzung!T130","v":0},{"$f":"Flächennutzung!U130","v":"€"}]
[null,"Wert:",{"$f":"Flächennutzung!K131","v":0},{"$f":"Flächennutzung!L131","v":0},{"$f":"Flächennutzung!M131","v":0},{"$f":"Flächennutzung!N131","v":0},{"$f":"Flächennutzung!O131","v":0},{"$f":"Flächennutzung!P131","v":0},{"$f":"Flächennutzung!Q131","v":0},{"$f":"Flächennutzung!R131","v":0},{"$f":"Flächennutzung!S131","v":"€"},{"$f":"Flächennutzung!T131","v":0},{"$f":"Flächennutzung!U131","v":"€"}]
[null,"Düngerkosten Schlüssel",{"$f":"IF($J$108=0,0,C108/$J$108)","v":0},{"$f":"IF($J$108=0,0,D108/$J$108)","v":0},0,0,0,0,0,0]
[]
["Ausgleichszahlungen / Leistungsentgelte"]
[null,"AZ Prämie potentiell inkl. Alm",{"$f":"AZ_Berechnung!I12+AZ_Berechnung!I23","v":{"$error":"#DIV/0!"}},"€"]
[null,"AZ Prämie potentiell ohne Alm",{"$f":"AZ_Berechnung!$C$3","v":{"$error":"#DIV/0!"}},"€"]
[null,"AZ RGVE loser Betrieb",{"$f":"AZ_Berechnung!C4","v":0},"€"]
[null,"AZ Prämienanteil Tiere ohne Alm",{"$f":"+C113-C114","v":{"$error":"#DIV/0!"}},"€"]
[null,"AZ Prämie für Σ AlmRGVE",{"$f":"+C112-C113","v":{"$error":"#DIV/0!"}},"€"]
[]
["AZ-Prämien"]
[null,"AZ Flächenanteil",{"$f":"+$C$114*Flächennutzung!K142","v":0},{"$f":"+$C$114*Flächennutzung!L142","v":0},{"$f":"+$C$114*Flächennutzung!M142","v":0},{"$f":"+$C$114*Flächennutzung!N142","v":0},{"$f":"+$C$114*Flächennutzung!O142","v":0},{"$f":"+$C$114*Flächennutzung!P142","v":0},{"$f":"+$C$114*Flächennutzung!Q142","v":0},{"$f":"SUM(C119:I119)","v":0}]
[null,"AZ Tieranteil ohne Alm",{"$f":"+$C$115*C62","v":{"$error":"#DIV/0!"}},{"$f":"+$C$115*D62","v":{"$error":"#DIV/0!"}},{"$f":"+$C$115*E62","v":{"$error":"#DIV/0!"}},{"$f":"+$C$115*F62","v":{"$error":"#DIV/0!"}},{"$f":"+$C$115*G62","v":{"$error":"#DIV/0!"}},null,null,{"$f":"SUM(C120:I120)","v":{"$error":"#DIV/0!"}}]
[null,"AZ Almanteil",{"$f":"+$C$116*C65","v":{"$error":"#DIV/0!"}},{"$f":"+$C$116*D65","v":{"$error":"#DIV/0!"}},{"$f":"+$C$116*E65","v":{"$error":"#DIV/0!"}},{"$f":"+$C$116*F65","v":{"$error":"#DIV/0!"}},{"$f":"+$C$116*G65","v":{"$error":"#DIV/0!"}},null,null,{"$f":"SUM(C121:I121)","v":{"$error":"#DIV/0!"}}]
[null,"AZ Prämien Schlüssel",{"$f":"+SUM(C119:C121)/SUM($J$119:$J$121)","v":{"$error":"#DIV/0!"}},{"$f":"+SUM(D119:D121)/SUM($J$119:$J$121)","v":{"$error":"#DIV/0!"}},{"$error":"#DIV/0!"},{"$error":"#DIV/0!"},{"$error":"#DIV/0!"},{"$error":"#DIV/0!"},{"$error":"#DIV/0!"}]
[]
["Bio-Prämien"]
[null,"Prämie Grünland und Ackerfutter ohne Tiere",{"$f":"(BioPoT*Flächennutzung!K147)","v":0},{"$f":"(BioPoT*Flächennutzung!L147)","v":0},{"$f":"(BioPoT*Flächennutzung!M147)","v":0},{"$f":"(BioPoT*Flächennutzung!N147)","v":0},{"$f":"(BioPoT*Flächennutzung!O147)","v":0},{"$f":"(BioPoT*Flächennutzung!P147)","v":0},{"$f":"(BioPoT*Flächennutzung!Q147)","v":0},{"$f":"K125/SUM($K$125:$K$127)","v":{"$error":"#DIV/0!"}},{"$f":"BioPoT*Flächennutzung!R147","v":0},"€"]
[null,"Prämie für Acker ohne Ackerfutter",{"$f":"(BioPAcker*Flächennutzung!K148)","v":0},{"$f":"(BioPAcker*Flächennutzung!L148)","v":0},{"$f":"(BioPAcker*Flächennutzung!M148)","v":0},{"$f":"(BioPAcker*Flächennutzung!N148)","v":0},{"$f":"(BioPAcker*Flächennutzung!O148)","v":0},{"$f":"(BioPAcker*Flächennutzung!P148)","v":0},{"$f":"(BioPAcker*Flächennutzung!Q148)","v":0},{"$f":"K126/SUM($K$125:$K$127)","v":{"$error":"#DIV/0!"}},{"$f":"BioPAcker*Flächennutzung!R148","v":0},"€"]
[null,"Prämie Grünland und Ackerfutter für Tiere",{"$f":"+$K$127*C62","v":0},0,0,0,0,0,0,{"$f":"K127/SUM($K$125:$K$127)","v":{"$error":"#DIV/0!"}},{"$f":"IF(RGVE<2,0,(BioPmT*Flächennutzung!R147-K125))","v":0},"€"]
[null,"Bio-Prämien Schlüssel",{"$f":"SUM(C125:C127)/$K$128","v":{"$error":"#DIV/0!"}},{"$f":"SUM(D125:D127)/$K$128","v":{"$error":"#DIV/0!"}},{"$error":"#DIV/0!"},{"$error":"#DIV/0!"},{"$error":"#DIV/0!"},{"$error":"#DIV/0!"},{"$error":"#DIV/0!"},{"$f":"SUM(J125:J127)","v":{"$error":"#DIV/0!"}},{"$f":"SUM(K125:K127)","v":0}]
[]
["UBB-Prämien"]
[null,"Prämie Grünland und Ackerfutter ohne Tiere",{"$f":"(UBBPoT*Flächennutzung!K147)","v":0},{"$f":"(UBBPoT*Flächennutzung!L147)","v":0},{"$f":"(UBBPoT*Flächennutzung!M147)","v":0},{"$f":"(UBBPoT*Flächennutzung!N147)","v":0},{"$f":"(UBBPoT*Flächennutzung!O147)","v":0},{"$f":"(UBBPoT*Flächennutzung!P147)","v":0},{"$f":"(UBBPoT*Flächennutzung!Q147)","v":0},{"$f":"K131/SUM($K$131:$K$133)","v":{"$error":"#DIV/0!"}},{"$f":"(UBBPoT*Flächennutzung!R147)","v":0},"€"]
[null,"Prämie für Acker ohne Ackerfutter",{"$f":"(UBBPAcker*Flächennutzung!K148)","v":0},{"$f":"(UBBPAcker*Flächennutzung!L148)","v":0},{"$f":"(UBBPAcker*Flächennutzung!M148)","v":0},{"$f":"(UBBPAcker*Flächennutzung!N148)","v":0},{"$f":"(UBBPAcker*Flächennutzung!O148)","v":0},{"$f":"(UBBPAcker*Flächennutzung!P148)","v":0},{"$f":"(UBBPAcker*Flächennutzung!Q148)","v":0},{"$f":"K132/SUM($K$131:$K$133)","v":{"$error":"#DIV/0!"}},{"$f":"(UBBPAcker*Flächennutzung!R148)","v":0},"€"]
[null,"Prämie Grünland und Ackerfutter für Tiere",{"$f":"+$K$133*C62","v":0},0,0,0,0,0,0,{"$f":"K133/SUM($K$131:$K$133)","v":{"$error":"#DIV/0!"}},{"$f":"IF(RGVE<2,0,(UBBPmT*Flächennutzung!R147-K131))","v":0},"€"]
[null,"UBB Prämien Schlüssel",{"$f":"SUM(C131:C133)/$K$134","v":{"$error":"#DIV/0!"}},{"$f":"SUM(D131:D133)/$K$134","v":{"$error":"#DIV/0!"}},{"$error":"#DIV/0!"},{"$error":"#DIV/0!"},{"$error":"#DIV/0!"},{"$error":"#DIV/0!"},{"$error":"#DIV/0!"},{"$f":"SUM(J131:J133)","v":{"$error":"#DIV/0!"}},{"$f":"SUM(K131:K133)","v":0}]
[]
["Silageverzicht-Prämien"]
[null,"Prämie Grünland und Ackerfutter für Milch",{"$f":"+$K$137*C62","v":0},0,0,0,0,0,0,null,{"$f":"+Flächennutzung!R147*SilagePMilch-K138","v":0},"€"]
[null,"PrämieTiere ohne Milch",{"$f":"+Flächennutzung!K147*SilagePoMilch","v":0},{"$f":"+Flächennutzung!L147*SilagePoMilch","v":0},{"$f":"+Flächennutzung!M147*SilagePoMilch","v":0},{"$f":"+Flächennutzung!N147*SilagePoMilch","v":0},{"$f":"+Flächennutzung!O147*SilagePoMilch","v":0},{"$f":"+Flächennutzung!P147*SilagePoMilch","v":0},{"$f":"+Flächennutzung!Q147*SilagePoMilch","v":0},null,{"$f":"SUM(C138:I138)","v":0},"€"]
[null,"Silageverzicht Prämien Schlüssel",{"$f":"SUM(C137:C138)/$K$139","v":{"$error":"#DIV/0!"}},{"$f":"SUM(D137:D138)/$K$139","v":{"$error":"#DIV/0!"}},{"$error":"#DIV/0!"},{"$error":"#DIV/0!"},{"$error":"#DIV/0!"},{"$error":"#DIV/0!"},{"$error":"#DIV/0!"},null,{"$f":"SUM(K137:K138)","v":0}]
[]
["Begrünungsprämie",null,{"$f":"+Flächennutzung!K144","v":0},{"$f":"+Flächennutzung!L144","v":0},{"$f":"+Flächennutzung!M144","v":0},{"$f":"+Flächennutzung!N144","v":0},{"$f":"+Flächennutzung!O144","v":0},{"$f":"+Flächennutzung!P144","v":0},{"$f":"+Flächennutzung!Q144","v":0},{"$f":"SUM(C141:I141)","v":0}]
[null,"Begrünungsprämie Schlüssel",{"$f":"IF($J$141=0,0,C141/$J$141)","v":0},0,0,0,0,0,0,0]
[]
["ÖPUL","Öpul",{"$f":"Gemeinleistungen!G18","v":{"$error":"#DIV/0!"}},{"$f":"Gemeinleistungen!H18","v":{"$error":"#DIV/0!"}},{"$f":"Gemeinleistungen!I18","v":{"$error":"#DIV/0!"}},{"$f":"Gemeinleistungen!J18","v":{"$error":"#DIV/0!"}},{"$f":"Gemeinleistungen!K18","v":{"$error":"#DIV/0!"}},{"$f":"Gemeinleistungen!L18","v":{"$error":"#DIV/0!"}},{"$f":"Gemeinleistungen!M18","v":{"$error":"#DIV/0!"}},{"$f":"SUM(C144:I144)","v":{"$error":"#DIV/0!"}}]
[null,"ÖPUL Schlüssel",{"$f":"IF($J$144=0,0,C144/$J$144)","v":{"$error":"#DIV/0!"}},{"$f":"IF($J$144=0,0,D144/$J$144)","v":{"$error":"#DIV/0!"}},{"$error":"#DIV/0!"},{"$error":"#DIV/0!"},{"$error":"#DIV/0!"},{"$error":"#DIV/0!"},{"$error":"#DIV/0!"},{"$error":"#DIV/0!"}]
[]
["Grundfutteraufteilung"]
[null,"Silomais Schlüssel",{"$f":"Grundfutteraufteilung!E11","v":0},{"$f":"Grundfutteraufteilung!F11","v":0},{"$f":"Grundfutteraufteilung!G11","v":0},{"$f":"Grundfutteraufteilung!H11","v":0},{"$f":"Grundfutteraufteilung!I11","v":0},{"$f":"Grundfutteraufteilung!J11","v":0},{"$f":"Grundfutteraufteilung!K11","v":0},{"$f":"SUM(C148:I148)","v":0}]
[null,"Grundfutterzukauf Schlüssel",{"$f":"Grundfutteraufteilung!E8","v":0},{"$f":"Grundfutteraufteilung!F8","v":0},{"$f":"Grundfutteraufteilung!G8","v":0},{"$f":"Grundfutteraufteilung!H8","v":0},{"$f":"Grundfutteraufteilung!I8","v":0},{"$f":"Grundfutteraufteilung!J8","v":0},{"$f":"Grundfutteraufteilung!K8","v":0},{"$f":"SUM(C149:I149)","v":0}]
[null,"Grundfutter ohne Silomais Schlüssel",{"$f":"Grundfutteraufteilung!E7","v":0},{"$f":"Grundfutteraufteilung!F7","v":0},{"$f":"Grundfutteraufteilung!G7","v":0},{"$f":"Grundfutteraufteilung!H7","v":0},{"$f":"Grundfutteraufteilung!I7","v":0},{"$f":"Grundfutteraufteilung!J7","v":0},{"$f":"Grundfutteraufteilung!K7","v":0},{"$f":"SUM(C150:I150)","v":0}]
[]
["Arbeitskraftstunden"]
[null,"Σ Akh",{"$f":"Arbeitszeit!S89","v":0},{"$f":"Arbeitszeit!T89","v":0},{"$f":"Arbeitszeit!U89","v":0},{"$f":"Arbeitszeit!V89","v":0},{"$f":"Arbeitszeit!W89","v":0},{"$f":"Arbeitszeit!X89","v":0},{"$f":"Arbeitszeit!Y89","v":0},{"$f":"SUM(C153:I153)","v":0},"Akh"]
[null,"Akh Schlüssel",{"$f":"Arbeitszeit!S90","v":0},{"$f":"Arbeitszeit!T90","v":0},{"$f":"Arbeitszeit!U90","v":0},{"$f":"Arbeitszeit!V90","v":0},{"$f":"Arbeitszeit!W90","v":0},{"$f":"Arbeitszeit!X90","v":0},{"$f":"Arbeitszeit!Y90","v":0},{"$f":"J153/SummeAkh","v":{"$error":"#DIV/0!"}}]
[]
["Direktzahlungen"]
[null,"Σ ha",{"$f":"Flächennutzung!K135","v":0},{"$f":"Flächennutzung!L135","v":0},{"$f":"Flächennutzung!M135","v":0},{"$f":"Flächennutzung!N135","v":0},{"$f":"Flächennutzung!O135","v":0},{"$f":"Flächennutzung!P135","v":0},{"$f":"Flächennutzung!Q135","v":0},{"$f":"SUM(C157:I157)","v":0}]
[null,"Direktzahlungen Schlüssel",{"$f":"Flächennutzung!K136","v":0},{"$f":"Flächennutzung!L136","v":0},{"$f":"Flächennutzung!M136","v":0},{"$f":"Flächennutzung!N136","v":0},{"$f":"Flächennutzung!O136","v":0},{"$f":"Flächennutzung!P136","v":0},{"$f":"Flächennutzung!Q136","v":0},{"$f":"SUM(C158:I158)","v":0}]
[]
[null,"Einschränkung ertragssteigender Betriebsmittel Schlüssel",{"$f":"+Flächennutzung!K148*EBBPAcker","v":0},{"$f":"+Flächennutzung!L148*EBBPAcker","v":0},{"$f":"+Flächennutzung!M148*EBBPAcker","v":0},{"$f":"+Flächennutzung!N148*EBBPAcker","v":0},{"$f":"+Flächennutzung!O148*EBBPAcker","v":0},{"$f":"+Flächennutzung!P148*EBBPAcker","v":0},{"$f":"+Flächennutzung!Q148*EBBPGlFF","v":0},{"$f":"SUM(C160:I160)","v":0}]
[]
["Flächenaufteilung nach Zweige","ha",{"$f":"+C160/$J$160","v":{"$error":"#DIV/0!"}},{"$f":"+D160/$J$160","v":{"$error":"#DIV/0!"}},{"$error":"#DIV/0!"},{"$error":"#DIV/0!"},{"$error":"#DIV/0!"},{"$error":"#DIV/0!"},{"$error":"#DIV/0!"},{"$f":"SUM(C162:I162)","v":{"$error":"#DIV/0!"}}]
["Schlüsselberechnung für den Faktor Boden"]
["Pachtanteil Grünlandfläche",{"$f":"IF(Grünland=0,0,GrünlandPacht/Grünland)","v":0}]
["Pachtanteil Ackerfläche",{"$f":"IF(Acker=0,0,AckerPacht/Acker)","v":0}]
[]
[null,"Pachtansatz",{"$f":"Flächennutzung!K$144*(1-Schlüssel!$B$165)*PachtAcker+Flächennutzung!K$145*(1-$B$164)*PachtGrünland","v":0},{"$f":"Flächennutzung!L144*(1-Schlüssel!$B$165)*PachtAcker+Flächennutzung!L145*(1-$B$164)*PachtGrünland","v":0},{"$f":"Flächennutzung!M144*(1-Schlüssel!$B$165)*PachtAcker+Flächennutzung!M145*(1-$B$164)*PachtGrünland","v":0},{"$f":"Flächennutzung!N144*(1-Schlüssel!$B$165)*PachtAcker+Flächennutzung!N145*(1-$B$164)*PachtGrünland","v":0},{"$f":"Flächennutzung!O144*(1-Schlüssel!$B$165)*PachtAcker+Flächennutzung!O145*(1-$B$164)*PachtGrünland","v":0},{"$f":"Flächennutzung!P144*(1-Schlüssel!$B$165)*PachtAcker+Flächennutzung!P145*(1-$B$164)*PachtGrünland","v":0},{"$f":"Flächennutzung!Q144*(1-Schlüssel!$B$165)*PachtAcker+Flächennutzung!Q145*(1-$B$164)*PachtGrünland","v":0}]
[null,"Pachtkosten",{"$f":"Flächennutzung!K$144*Schlüssel!$B$165*PachtAcker+Flächennutzung!K$145*$B$164*PachtGrünland","v":0},{"$f":"Flächennutzung!L$144*Schlüssel!$B$165*PachtAcker+Flächennutzung!L$145*$B$164*PachtGrünland","v":0},{"$f":"Flächennutzung!M$144*Schlüssel!$B$165*PachtAcker+Flächennutzung!M$145*$B$164*PachtGrünland","v":0},{"$f":"Flächennutzung!N$144*Schlüssel!$B$165*PachtAcker+Flächennutzung!N$145*$B$164*PachtGrünland","v":0},{"$f":"Flächennutzung!O$144*Schlüssel!$B$165*PachtAcker+Flächennutzung!O$145*$B$164*PachtGrünland","v":0},{"$f":"Flächennutzung!P$144*Schlüssel!$B$165*PachtAcker+Flächennutzung!P$145*$B$164*PachtGrünland","v":0},{"$f":"Flächennutzung!Q$144*Schlüssel!$B$165*PachtAcker+Flächennutzung!Q$145*$B$164*PachtGrünland","v":0}]
[null,"Pachtansatz Schlüssel",{"$f":"C167/SUM($C167:$I167)","v":{"$error":"#DIV/0!"}},{"$f":"D167/SUM($C167:$I167)","v":{"$error":"#DIV/0!"}},{"$error":"#DIV/0!"},{"$error":"#DIV/0!"},{"$error":"#DIV/0!"},{"$error":"#DIV/0!"},{"$error":"#DIV/0!"}]
[null,"Pachtkosten Schlüssel",{"$f":"IF(($B$164+$B$165)=0,0,C168/SUM($C168:$I168))","v":0},{"$f":"IF(($B$164+$B$165)=0,0,D168/SUM($C168:$I168))","v":0},0,0,0,0,0]
[]
["Direktkostenfreie Leistung","DL",{"$f":"BetriebszweigAuswertung!E124","v":0},{"$f":"BetriebszweigAuswertung!F124","v":0},{"$f":"BetriebszweigAuswertung!G124","v":0},{"$f":"BetriebszweigAuswertung!H124","v":0},{"$f":"BetriebszweigAuswertung!I124","v":0},{"$f":"BetriebszweigAuswertung!J124","v":0},{"$f":"BetriebszweigAuswertung!K124","v":0},{"$f":"SUM(C172:I172)","v":0},"€"]
[null,"DK",{"$f":"BetriebszweigAuswertung!E125","v":0},{"$f":"BetriebszweigAuswertung!F125","v":0},{"$f":"BetriebszweigAuswertung!G125","v":0},{"$f":"BetriebszweigAuswertung!H125","v":0},{"$f":"BetriebszweigAuswertung!I125","v":0},{"$f":"BetriebszweigAuswertung!J125","v":0},{"$f":"BetriebszweigAuswertung!K125","v":0},{"$f":"SUM(C173:I173)","v":0},"€"]
[null,"DfL Schlüssel",{"$f":"BetriebszweigAuswertung!E133","v":0},{"$f":"BetriebszweigAuswertung!F133","v":0},{"$f":"BetriebszweigAuswertung!G133","v":0},{"$f":"BetriebszweigAuswertung!H133","v":0},{"$f":"BetriebszweigAuswertung!I133","v":0},{"$f":"BetriebszweigAuswertung!J133","v":0},{"$f":"BetriebszweigAuswertung!K133","v":0},{"$f":"SUM(C174:I174)","v":0},"€"]
[null,"DfL Schlüssel",{"$f":"BetriebszweigAuswertung!E151","v":0},{"$f":"BetriebszweigAuswertung!F151","v":0},{"$f":"BetriebszweigAuswertung!G151","v":0},{"$f":"BetriebszweigAuswertung!H151","v":0},{"$f":"BetriebszweigAuswertung!I151","v":0},{"$f":"BetriebszweigAuswertung!J151","v":0},{"$f":"BetriebszweigAuswertung!K151","v":0},{"$f":"SUM(C175:I175)","v":0}]
[]
[null,{"$f":"+Gemeinleistungen!F33","v":"Sonstige Gemeinleistung Schlüssel"},{"$f":"+Gemeinleistungen!G33","v":0},{"$f":"+Gemeinleistungen!H33","v":0},{"$f":"+Gemeinleistungen!I33","v":0},{"$f":"+Gemeinleistungen!J33","v":0},{"$f":"+Gemeinleistungen!K33","v":0},{"$f":"+Gemeinleistungen!L33","v":0},{"$f":"+Gemeinleistungen!M33","v":0}]
[]
["Grundwasserschutz auf Ackerflächen"]
[null,"Öpul",{"$f":"+C141","v":0},{"$f":"+D141","v":0},0,0,0,0,0,0]
[null,"Grundwasserschutz auf Acker Schlüssel",{"$f":"+C142","v":0},{"$f":"+D142","v":0},0,0,0,0,0,{"$f":"IF($J$144=0,0,J180/$J$144)","v":{"$error":"#DIV/0!"}}]

{"sheet":"WurzelHDWD","index":28,"n_rows":29,"n_cols":14,"rows_kept":29,"cut":false,"hidden":false,"merged":[[1,6,1,8]]}
["Zurück","Menü"]
["Mineraldünger","Nährstoffgehalt in %",null,null,null,"Wirtschaftsdünger","N-anfall- Stallverluste - Lagerverluste - Ausbringverluste ",null,null,"kg P2O5 pro Tier/Platz und Jahr","kg K2O pro Tier/Platz und Jahr"]
[null,"N","P2O5","K2O",null,null,"Gülle","Jauche","Mist",null,null,"Gülle","Jauche","Mist"]
["Kalkstickstoff",20,0,0,null,"Milchvieh Stallmist (einstreuarm) ",null,null,1.7,2.5,4.2,null,null,1]
["Harnstoff",46,0,0,null,"Milchvieh Jauche (unverdünnt) ",null,3,null,0.2,9.5,null,1]
["Kalkammonsalpeter NAC",27,0,0,null,"Milchvieh Gülle (1+1 verdünnt)",1.3,null,null,1,3.3,1]
["Weide NAC",20,0,0,null,"Mastrindergülle (unverdünnt)",3.4,null,null,2.5,5,1]
["NP 18/46 (DAP)",18,46,0]
["NPK 6/12/18",6,12,18,null,"Zuchtsauenmist",null,null,2.2999999999999998,5.5,3.6,null,null,1]
["NPK 13/13/21 VK grün",13,13,21,null,"Zuchtsauen   Gülle (1+1 verdünnt)",2.4,null,null,2.2000000000000002,2,1]
["NPK 15/15/15 VK gelb",15,15,15,null,"Mastschweine   Gülle (Futtergrundlage MKS-CCM)",4.5,null,null,3.5,3.5,1]
["VK plus NPK 20/8/8",20,8,8,null,"Mastschweine   Gülle (Futtergrundlage Getreide)",5.0999999999999996,null,null,5,4,1]
["VK rosa NPK 15/10/10",15,10,10,null,"Mastschweine   Tiefstallmist  ",null,null,4,4.5999999999999996,7.3,null,null,1]
["Thomasphosphat 12",0,12,0]
["Thomasphosphat 15",0,15,0,null,"Legehennen   Frischkot (= unverd. Gülle)",2.1,null,null,2.5,1.5,1]
["Superphosphat",0,18,0,null,"Legehennen   Trockenkot  ",null,null,4.5999999999999996,12,7,null,null,1]
["Kornkali 40er",0,0,40,null,"Masthühnermist",null,null,5,10,8,null,null,1]
["Kornkali 60er",0,0,60,null,"Putenfestmist",null,null,4.2,10,8,null,null,1]
["Kalimagnesia",0,0,30]
["Kaliumsulfat",0,0,50]
["Magnesia-Kainit",0,0,11]
["DC 45 neu",0,12,20]
["DC start",6,10,16]
["Hyperkorn",0,26,0]
["Hyperfein",0,29,0]
["Carbokalk",0.3,0.7,0]
["Rein N",100]
["Rein P2O5",null,100]
["Rein K2O",null,null,100]

{"sheet":"ImportTiere","index":29,"n_rows":3000,"n_cols":39,"rows_kept":3000,"cut":false,"hidden":true,"merged":[[4,37,4,38]]}
[null,null,"Importdatenbereich",null,null,null,null,null,null,null,null,null,null,null,null,null,{"$f":"WirtschaftsjahrAnfang","v":"2021-01-01"},{"$f":"WJahrEnde","v":"2021-12-31"}]
[null,null,null,null,"Geburt","Geschl","R1","R2","Mutter","Vater","Zugang","Abgang","K1","K2","K3","K4","Beginn","Ende","Kalbgrenze","Jungvieh bis1","Jungvieh bis 2","Geschlecht","Kalbtage","Jungvieh 1","Jungvieh 2","Rinder über 2","Σ Futtertage Jungvieh","Σ Futtertage zeitraum","Kuhstatus","Lebenstage","InventHimmel","InventHölle",null,"Geschlecht","Daten","Ergebnis"]
[null,null,null,null,null,null,null,null,null,null,null,null,null,null,null,null,{"$f":"IF(OR(K3<$Q$1,K3=\"Altbestand\"),$Q$1,IF(AND(K3=\"Nachzucht\",E3>$Q$1),E3,IF(K3=\"Nachzucht\",$Q$1,K3)))","v":"2021-01-01"},{"$f":"IF(OR(L3>$R$1,L3=\"Nein\"),$R$1,L3)","v":"00:00:00"},{"$f":"IF(OR(R3<Q3,(E3+183)<Q3),Q3,IF((E3+183)>R3,R3,(E3+183)))","v":"2021-01-01"},{"$f":"IF(OR(S3=R3,(E3+365)<Q3,R3<Q3),S3,IF((E3+365)>R3,R3,(E3+365)))","v":"2021-01-01"},{"$f":"IF(OR(T3=R3,S3=R3,(E3+365*2)<Q3,R3<Q3),T3,IF((E3+365*2)>R3,R3,(E3+365*2)))","v":"2021-01-01"},{"$f":"IF(AC3=\"Kuh\",\"Kuh\",F3)","v":0},{"$f":"S3-Q3","v":0},{"$f":"+T3-S3","v":0},{"$f":"+U3-T3","v":0},{"$f":"IF(AB3=\"\",0,AB3-AA3)","v":0},{"$f":"SUM(W3:Y3)","v":0},{"$f":"IF(R3<Q3,\"\",R3-Q3)","v":""},{"$f":"IF(OR((ISNA(VLOOKUP(C3,$I$3:$I$138,1,FALSE))=FALSE),AND(AD3>1200,F3=\"w\"),M3=\"Ja\"),\"Kuh\",\"\")","v":""},{"$f":"IF(OR(L3=\"Nein\",L3=\"Ja\"),$R$1-E3,L3-E3)","v":0},{"$f":"IF(OR($Q3>$Q$1,$R3<$Q$1),0,YEARFRAC($E3,$Q3,1))*12","v":0},{"$f":"IF(OR($Q3>$R$1,$R3<$R$1),0,YEARFRAC($E3,$R3,1))*12","v":0},null,0,"Summe von Kalbtage",0,{"$f":"+GETPIVOTDATA(\"Summe von Kalbtage\",$AH$2,\"Geschlecht\",\"Kuh\")/365","v":{"$error":"#REF!"}}]
[null,null,null,null,null,null,null,null,null,null,null,null,null,null,null,null,{"$f":"IF(OR(K4<$Q$1,K4=\"Altbestand\"),$Q$1,IF(AND(K4=\"Nachzucht\",E4>$Q$1),E4,IF(K4=\"Nachzucht\",$Q$1,K4)))","v":"2021-01-01"},{"$f":"IF(OR(L4>$R$1,L4=\"Nein\"),$R$1,L4)","v":"00:00:00"},{"$f":"IF(OR(R4<Q4,(E4+183)<Q4),Q4,IF((E4+183)>R4,R4,(E4+183)))","v":"2021-01-01"},{"$f":"IF(OR(S4=R4,(E4+365)<Q4,R4<Q4),S4,IF((E4+365)>R4,R4,(E4+365)))","v":"2021-01-01"},{"$f":"IF(OR(T4=R4,S4=R4,(E4+365*2)<Q4,R4<Q4),T4,IF((E4+365*2)>R4,R4,(E4+365*2)))","v":"2021-01-01"},{"$f":"IF(AC4=\"Kuh\",\"Kuh\",F4)","v":0},{"$f":"S4-Q4","v":0},{"$f":"+T4-S4","v":0},{"$f":"+U4-T4","v":0},{"$f":"IF(AB4=\"\",0,AB4-AA4)","v":0},{"$f":"SUM(W4:Y4)","v":0},{"$f":"IF(R4<Q4,\"\",R4-Q4)","v":""},{"$f":"IF(OR((ISNA(VLOOKUP(C4,$I$3:$I$138,1,FALSE))=FALSE),AND(AD4>1200,F4=\"w\"),M4=\"Ja\"),\"Kuh\",\"\")","v":""},{"$f":"IF(OR(L4=\"Nein\",L4=\"Ja\"),$R$1-E4,L4-E4)","v":0},0,0,null,null,"Summe von Jungvieh 1",0,{"$f":"+GETPIVOTDATA(\"Summe von Jungvieh 1\",$AH$2,\"Geschlecht\",\"Kuh\")/365","v":{"$error":"#REF!"}}]
[null,null,null,null,null,null,null,null,null,null,null,null,null,null,null,null,"2021-01-01","00:00:00","2021-01-01","2021-01-01","2021-01-01",0,0,0,0,0,0,"","",0,0,0,null,null,"Summe von Jungvieh 2",0,{"$f":"+GETPIVOTDATA(\"Summe von Jungvieh 2\",$AH$2,\"Geschlecht\",\"Kuh\")/365","v":{"$error":"#REF!"}},"Ø Tierbestand Rinder"]
[null,null,null,null,null,null,null,null,null,null,null,null,null,null,null,null,"2021-01-01","00:00:00","2021-01-01","2021-01-01","2021-01-01",0,0,0,0,0,0,"","",0,0,0,null,null,"Summe von Rinder über 2",0,{"$f":"+GETPIVOTDATA(\"Summe von Rinder über 2\",$AH$2,\"Geschlecht\",\"Kuh\")/365","v":{"$error":"#REF!"}},"Kühe",{"$f":"+AK6","v":{"$error":"#REF!"}}]
[null,null,null,null,null,null,null,null,null,null,null,null,null,null,null,null,"2021-01-01","00:00:00","2021-01-01","2021-01-01","2021-01-01",0,0,0,0,0,0,"","",0,0,0,null,"Gesamt: Summe von Kalbtage",null,0,{"$f":"+GETPIVOTDATA(\"Summe von Kalbtage\",$AH$2,\"Geschlecht\",\"m\")/365","v":{"$error":"#REF!"}},"Kalb m",{"$f":"+AK7","v":{"$error":"#REF!"}}]
[null,null,null,null,null,null,null,null,null,null,null,null,null,null,null,null,"2021-01-01","00:00:00","2021-01-01","2021-01-01","2021-01-01",0,0,0,0,0,0,"","",0,0,0,null,"Gesamt: Summe von Jungvieh 1",null,0,{"$f":"+GETPIVOTDATA(\"Summe von Jungvieh 1\",$AH$2,\"Geschlecht\",\"m\")/365","v":{"$error":"#REF!"}},"Jungvieh m bis 1Jahr",{"$f":"+AK8","v":{"$error":"#REF!"}}]
[null,null,null,null,null,null,null,null,null,null,null,null,null,null,null,null,"2021-01-01","00:00:00","2021-01-01","2021-01-01","2021-01-01",0,0,0,0,0,0,"","",0,0,0,null,"Gesamt: Summe von Jungvieh 2",null,0,{"$f":"+GETPIVOTDATA(\"Summe von Jungvieh 2\",$AH$2,\"Geschlecht\",\"m\")/365","v":{"$error":"#REF!"}},"Jungvieh m 1-2 Jahr",{"$f":"+AK9","v":{"$error":"#REF!"}}]
[null,null,null,null,null,null,null,null,null,null,null,null,null,null,null,null,"2021-01-01","00:00:00","2021-01-01","2021-01-01","2021-01-01",0,0,0,0,0,0,"","",0,0,0,null,"Gesamt: Summe von Rinder über 2",null,0,{"$f":"+GETPIVOTDATA(\"Summe von Rinder über 2\",$AH$2,\"Geschlecht\",\"m\")/365","v":{"$error":"#REF!"}},"Jungvieh m über 2 Jahr",{"$f":"+AK10","v":{"$error":"#REF!"}}]
[null,null,null,null,null,null,null,null,null,null,null,null,null,null,null,null,"2021-01-01","00:00:00","2021-01-01","2021-01-01","2021-01-01",0,0,0,0,0,0,"","",0,0,0,null,null,null,null,{"$f":"+GETPIVOTDATA(\"Summe von Kalbtage\",$AH$2,\"Geschlecht\",\"w\")/365","v":{"$error":"#REF!"}},"Kalb w",{"$f":"+AK11+AK3","v":{"$error":"#REF!"}}]
[null,null,null,null,null,null,null,null,null,null,null,null,null,null,null,null,"2021-01-01","00:00:00","2021-01-01","2021-01-01","2021-01-01",0,0,0,0,0,0,"","",0,0,0,null,null,null,null,{"$f":"+GETPIVOTDATA(\"Summe von Jungvieh 1\",$AH$2,\"Geschlecht\",\"w\")/365","v":{"$error":"#REF!"}},"Jungvieh w bis 1Jahr",{"$f":"+AK12+AK4","v":{"$error":"#REF!"}}]
[null,null,null,null,null,null,null,null,null,null,null,null,null,null,null,null,"2021-01-01","00:00:00","2021-01-01","2021-01-01","2021-01-01",0,0,0,0,0,0,"","",0,0,0,null,null,null,null,{"$f":"+GETPIVOTDATA(\"Summe von Jungvieh 2\",$AH$2,\"Geschlecht\",\"w\")/365","v":{"$error":"#REF!"}},"Jungvieh w 1-2 Jahr",{"$f":"+AK13+AK5","v":{"$error":"#REF!"}}]
[null,null,null,null,null,null,null,null,null,null,null,null,null,null,null,null,"2021-01-01","00:00:00","2021-01-01","2021-01-01","2021-01-01",0,0,0,0,0,0,"","",0,0,0,null,null,null,null,{"$f":"+GETPIVOTDATA(\"Summe von Rinder über 2\",$AH$2,\"Geschlecht\",\"w\")/365","v":{"$error":"#REF!"}},"Jungvieh w über 2 Jahr",{"$f":"+AK14","v":{"$error":"#REF!"}}]
[null,null,null,null,null,null,null,null,null,null,null,null,null,null,null,null,"2021-01-01","00:00:00","2021-01-01","2021-01-01","2021-01-01",0,0,0,0,0,0,"","",0,0,0,null,null,null,null,null,"Summe Rinder",{"$f":"SUM(AM6:AM14)","v":{"$error":"#REF!"}}]
[null,null,null,null,null,null,null,null,null,null,null,null,null,null,null,null,"2021-01-01","00:00:00","2021-01-01","2021-01-01","2021-01-01",0,0,0,0,0,0,"","",0,0,0]
[null,null,null,null,null,null,null,null,null,null,null,null,null,null,null,null,"2021-01-01","00:00:00","2021-01-01","2021-01-01","2021-01-01",0,0,0,0,0,0,"","",0,0,0]
[null,null,null,null,null,null,null,null,null,null,null,null,null,null,null,null,"2021-01-01","00:00:00","2021-01-01","2021-01-01","2021-01-01",0,0,0,0,0,0,"","",0,0,0]
[null,null,null,null,null,null,null,null,null,null,null,null,null,null,null,null,"2021-01-01","00:00:00","2021-01-01","2021-01-01","2021-01-01",0,0,0,0,0,0,"","",0,0,0]
[null,null,null,null,null,null,null,null,null,null,null,null,null,null,null,null,"2021-01-01","00:00:00","2021-01-01","2021-01-01","2021-01-01",0,0,0,0,0,0,"","",0,0,0]
[null,null,null,null,null,null,null,null,null,null,null,null,null,null,null,null,"2021-01-01","00:00:00","2021-01-01","2021-01-01","2021-01-01",0,0,0,0,0,0,"","",0,0,0]
[null,null,null,null,null,null,null,null,null,null,null,null,null,null,null,null,"2021-01-01","00:00:00","2021-01-01","2021-01-01","2021-01-01",0,0,0,0,0,0,"","",0,0,0]
[null,null,null,null,null,null,null,null,null,null,null,null,null,null,null,null,"2021-01-01","00:00:00","2021-01-01","2021-01-01","2021-01-01",0,0,0,0,0,0,"","",0,0,0]
[null,null,null,null,null,null,null,null,null,null,null,null,null,null,null,null,"2021-01-01","00:00:00","2021-01-01","2021-01-01","2021-01-01",0,0,0,0,0,0,"","",0,0,0]
[null,null,null,null,null,null,null,null,null,null,null,null,null,null,null,null,"2021-01-01","00:00:00","2021-01-01","2021-01-01","2021-01-01",0,0,0,0,0,0,"","",0,0,0]
[null,null,null,null,null,null,null,null,null,null,null,null,null,null,null,null,"2021-01-01","00:00:00","2021-01-01","2021-01-01","2021-01-01",0,0,0,0,0,0,"","",0,0,0]
[null,null,null,null,null,null,null,null,null,null,null,null,null,null,null,null,"2021-01-01","00:00:00","2021-01-01","2021-01-01","2021-01-01",0,0,0,0,0,0,"","",0,0,0]
[null,null,null,null,null,null,null,null,null,null,null,null,null,null,null,null,"2021-01-01","00:00:00","2021-01-01","2021-01-01","2021-01-01",0,0,0,0,0,0,"","",0,0,0,null,null,"Daten aus Import eAmA",{"$f":"Q1","v":"2021-01-01"},{"$f":"R1","v":"2021-12-31"}]
[null,null,null,null,null,null,null,null,null,null,null,null,null,null,null,null,"2021-01-01","00:00:00","2021-01-01","2021-01-01","2021-01-01",0,0,0,0,0,0,"","",0,0,0,null,null,"Alle Rinder"]
[null,null,null,null,null,null,null,null,null,null,null,null,null,null,null,null,"2021-01-01","00:00:00","2021-01-01","2021-01-01","2021-01-01",0,0,0,0,0,0,"","",0,0,0,null,null,"0M - 3M",{"$f":"SUM(IF($AE$3:$AE$3000>0,IF($AE$3:$AE$3000<3,1,0),0))","v":0},{"$f":"SUM(IF($AF$3:$AF$3000>0,IF($AF$3:$AF$3000<3,1,0),0))","v":0}]
[null,null,null,null,null,null,null,null,null,null,null,null,null,null,null,null,"2021-01-01","00:00:00","2021-01-01","2021-01-01","2021-01-01",0,0,0,0,0,0,"","",0,0,0,null,null,"3M - 6M",{"$f":"SUM(,IF($AE$3:$AE$3000>3,IF($AE$3:$AE$3000<6,1,0),0))","v":0},{"$f":"SUM(IF($AF$3:$AF$3000>3,IF($AF$3:$AF$3000<6,1,0),0))","v":0}]
[null,null,null,null,null,null,null,null,null,null,null,null,null,null,null,null,"2021-01-01","00:00:00","2021-01-01","2021-01-01","2021-01-01",0,0,0,0,0,0,"","",0,0,0,null,null,"6M- 12M",{"$f":"SUM(,IF($AE$3:$AE$3000>6,IF($AE$3:$AE$3000<12,1,0),0))","v":0},{"$f":"SUM(IF($AF$3:$AF$3000>6,IF($AF$3:$AF$3000<12,1,0),0))","v":0}]
[null,null,null,null,null,null,null,null,null,null,null,null,null,null,null,null,"2021-01-01","00:00:00","2021-01-01","2021-01-01","2021-01-01",0,0,0,0,0,0,"","",0,0,0,null,null,"12M- 18M",{"$f":"SUM(,IF($AE$3:$AE$3000>12,IF($AE$3:$AE$3000<18,1,0),0))","v":0},{"$f":"SUM(IF($AF$3:$AF$3000>12,IF($AF$3:$AF$3000<18,1,0),0))","v":0}]
[null,null,null,null,null,null,null,null,null,null,null,null,null,null,null,null,"2021-01-01","00:00:00","2021-01-01","2021-01-01","2021-01-01",0,0,0,0,0,0,"","",0,0,0,null,null,"18M - 24M",{"$f":"SUM(,IF($AE$3:$AE$3000>18,IF($AE$3:$AE$3000<24,1,0),0))","v":0},{"$f":"SUM(IF($AF$3:$AF$3000>18,IF($AF$3:$AF$3000<24,1,0),0))","v":0}]
[null,null,null,null,null,null,null,null,null,null,null,null,null,null,null,null,"2021-01-01","00:00:00","2021-01-01","2021-01-01","2021-01-01",0,0,0,0,0,0,"","",0,0,0,null,null,"über 24M",{"$f":"SUM(,IF($AE$3:$AE$3000>24,IF($AE$3:$AE$3000<1000,1,0),0))","v":0},{"$f":"SUM(IF($AF$3:$AF$3000>24,IF($AF$3:$AF$3000<1000,1,0),0))","v":0}]
[null,null,null,null,null,null,null,null,null,null,null,null,null,null,null,null,"2021-01-01","00:00:00","2021-01-01","2021-01-01","2021-01-01",0,0,0,0,0,0,"","",0,0,0,null,null,"Männliche Rinder"]
[null,null,null,null,null,null,null,null,null,null,null,null,null,null,null,null,"2021-01-01","00:00:00","2021-01-01","2021-01-01","2021-01-01",0,0,0,0,0,0,"","",0,0,0,null,null,"0M - 3M",{"$f":"SUM(IF($V$3:$V$3000=\"m\",IF($AE$3:$AE$3000>0,IF($AE$3:$AE$3000<3,1,0),0),0))","v":0},{"$f":"SUM(IF($V$3:$V$3000=\"m\",IF($AF$3:$AF$3000>0,IF($AF$3:$AF$3000<3,1,0),0),0))","v":0}]
[null,null,null,null,null,null,null,null,null,null,null,null,null,null,null,null,"2021-01-01","00:00:00","2021-01-01","2021-01-01","2021-01-01",0,0,0,0,0,0,"","",0,0,0,null,null,"3M - 6M",{"$f":"SUM(IF($V$3:$V$3000=\"m\",IF($AE$3:$AE$3000>3,IF($AE$3:$AE$3000<6,1,0),0),0))","v":0},{"$f":"SUM(IF($V$3:$V$3000=\"m\",IF($AF$3:$AF$3000>3,IF($AF$3:$AF$3000<6,1,0),0),0))","v":0}]
[null,null,null,null,null,null,null,null,null,null,null,null,null,null,null,null,"2021-01-01","00:00:00","2021-01-01","2021-01-01","2021-01-01",0,0,0,0,0,0,"","",0,0,0,null,null,"6M- 12M",{"$f":"SUM(IF($V$3:$V$3000=\"m\",IF($AE$3:$AE$3000>6,IF($AE$3:$AE$3000<12,1,0),0),0))","v":0},{"$f":"SUM(IF($V$3:$V$3000=\"m\",IF($AF$3:$AF$3000>6,IF($AF$3:$AF$3000<12,1,0),0),0))","v":0}]
[null,null,null,null,null,null,null,null,null,null,null,null,null,null,null,null,"2021-01-01","00:00:00","2021-01-01","2021-01-01","2021-01-01",0,0,0,0,0,0,"","",0,0,0,null,null,"12M- 18M",{"$f":"SUM(IF($V$3:$V$3000=\"m\",IF($AE$3:$AE$3000>12,IF($AE$3:$AE$3000<18,1,0),0),0))","v":0},{"$f":"SUM(IF($V$3:$V$3000=\"m\",IF($AF$3:$AF$3000>12,IF($AF$3:$AF$3000<18,1,0),0),0))","v":0}]
[null,null,null,null,null,null,null,null,null,null,null,null,null,null,null,null,"2021-01-01","00:00:00","2021-01-01","2021-01-01","2021-01-01",0,0,0,0,0,0,"","",0,0,0,null,null,"über 18 M",{"$f":"SUM(IF($V$3:$V$3000=\"m\",IF($AE$3:$AE$3000>18,IF($AE$3:$AE$3000<24,1,0),0),0))","v":0},{"$f":"SUM(IF($V$3:$V$3000=\"m\",IF($AF$3:$AF$3000>18,IF($AF$3:$AF$3000<24,1,0),0),0))","v":0}]
[null,null,null,null,null,null,null,null,null,null,null,null,null,null,null,null,"2021-01-01","00:00:00","2021-01-01","2021-01-01","2021-01-01",0,0,0,0,0,0,"","",0,0,0,null,null,"über 24M",{"$f":"SUM(IF($V$3:$V$3000=\"m\",IF($AE$3:$AE$3000>24,IF($AE$3:$AE$3000<1000,1,0),0),0))","v":0},{"$f":"SUM(IF($V$3:$V$3000=\"m\",IF($AF$3:$AF$3000>24,IF($AF$3:$AF$3000<1000,1,0),0),0))","v":0}]
[null,null,null,null,null,null,null,null,null,null,null,null,null,null,null,null,"2021-01-01","00:00:00","2021-01-01","2021-01-01","2021-01-01",0,0,0,0,0,0,"","",0,0,0,null,null,"Weibliche Rinder"]
[null,null,null,null,null,null,null,null,null,null,null,null,null,null,null,null,"2021-01-01","00:00:00","2021-01-01","2021-01-01","2021-01-01",0,0,0,0,0,0,"","",0,0,0,null,null,"0M - 3M",{"$f":"+AJ30-AJ37","v":0},{"$f":"+AK30-AK37","v":0}]
[null,null,null,null,null,null,null,null,null,null,null,null,null,null,null,null,"2021-01-01","00:00:00","2021-01-01","2021-01-01","2021-01-01",0,0,0,0,0,0,"","",0,0,0,null,null,"3M - 6M",{"$f":"+AJ31-AJ38","v":0},0]
[null,null,null,null,null,null,null,null,null,null,null,null,null,null,null,null,"2021-01-01","00:00:00","2021-01-01","2021-01-01","2021-01-01",0,0,0,0,0,0,"","",0,0,0,null,null,"6M- 12M",0,0]
[null,null,null,null,null,null,null,null,null,null,null,null,null,null,null,null,"2021-01-01","00:00:00","2021-01-01","2021-01-01","2021-01-01",0,0,0,0,0,0,"","",0,0,0,null,null,"12M- 18M",0,0]
[null,null,null,null,null,null,null,null,null,null,null,null,null,null,null,null,"2021-01-01","00:00:00","2021-01-01","2021-01-01","2021-01-01",0,0,0,0,0,0,"","",0,0,0,null,null,"18M - 24M",0,0]
[null,null,null,null,null,null,null,null,null,null,null,null,null,null,null,null,"2021-01-01","00:00:00","2021-01-01","2021-01-01","2021-01-01",0,0,0,0,0,0,"","",0,0,0,null,null,"über 24M",0,0]
[null,null,null,null,null,null,null,null,null,null,null,null,null,null,null,null,"2021-01-01","00:00:00","2021-01-01","2021-01-01","2021-01-01",0,0,0,0,0,0,"","",0,0,0,null,null,null,{"$f":"SUM(AJ37:AJ49)","v":0},{"$f":"SUM(AK37:AK49)","v":0}]
[null,null,null,null,null,null,null,null,null,null,null,null,null,null,null,null,"2021-01-01","00:00:00","2021-01-01","2021-01-01","2021-01-01",0,0,0,0,0,0,"","",0,0,0]
[null,null,null,null,null,null,null,null,null,null,null,null,null,null,null,null,"2021-01-01","00:00:00","2021-01-01","2021-01-01","2021-01-01",0,0,0,0,0,0,"","",0,0,0]
[null,null,null,null,null,null,null,null,null,null,null,null,null,null,null,null,"2021-01-01","00:00:00","2021-01-01","2021-01-01","2021-01-01",0,0,0,0,0,0,"","",0,0,0]
[null,null,null,null,null,null,null,null,null,null,null,null,null,null,null,null,"2021-01-01","00:00:00","2021-01-01","2021-01-01","2021-01-01",0,0,0,0,0,0,"","",0,0,0]
[null,null,null,null,null,null,null,null,null,null,null,null,null,null,null,null,"2021-01-01","00:00:00","2021-01-01","2021-01-01","2021-01-01",0,0,0,0,0,0,"","",0,0,0]
[null,null,null,null,null,null,null,null,null,null,null,null,null,null,null,null,"2021-01-01","00:00:00","2021-01-01","2021-01-01","2021-01-01",0,0,0,0,0,0,"","",0,0,0]
[null,null,null,null,null,null,null,null,null,null,null,null,null,null,null,null,"2021-01-01","00:00:00","2021-01-01","2021-01-01","2021-01-01",0,0,0,0,0,0,"","",0,0,0]
[null,null,null,null,null,null,null,null,null,null,null,null,null,null,null,null,"2021-01-01","00:00:00","2021-01-01","2021-01-01","2021-01-01",0,0,0,0,0,0,"","",0,0,0]
[null,null,null,null,null,null,null,null,null,null,null,null,null,null,null,null,"2021-01-01","00:00:00","2021-01-01","2021-01-01","2021-01-01",0,0,0,0,0,0,"","",0,0,0]
[null,null,null,null,null,null,null,null,null,null,null,null,null,null,null,null,"2021-01-01","00:00:00","2021-01-01","2021-01-01","2021-01-01",0,0,0,0,0,0,"","",0,0,0]
[null,null,null,null,null,null,null,null,null,null,null,null,null,null,null,null,"2021-01-01","00:00:00","2021-01-01","2021-01-01","2021-01-01",0,0,0,0,0,0,"","",0,0,0]
[null,null,null,null,null,null,null,null,null,null,null,null,null,null,null,null,"2021-01-01","00:00:00","2021-01-01","2021-01-01","2021-01-01",0,0,0,0,0,0,"","",0,0,0]
[null,null,null,null,null,null,null,null,null,null,null,null,null,null,null,null,"2021-01-01","00:00:00","2021-01-01","2021-01-01","2021-01-01",0,0,0,0,0,0,"","",0,0,0]
[null,null,null,null,null,null,null,null,null,null,null,null,null,null,null,null,"2021-01-01","00:00:00","2021-01-01","2021-01-01","2021-01-01",0,0,0,0,0,0,"","",0,0,0]
[null,null,null,null,null,null,null,null,null,null,null,null,null,null,null,null,"2021-01-01","00:00:00","2021-01-01","2021-01-01","2021-01-01",0,0,0,0,0,0,"","",0,0,0]
[null,null,null,null,null,null,null,null,null,null,null,null,null,null,null,null,"2021-01-01","00:00:00","2021-01-01","2021-01-01","2021-01-01",0,0,0,0,0,0,"","",0,0,0]
[null,null,null,null,null,null,null,null,null,null,null,null,null,null,null,null,"2021-01-01","00:00:00","2021-01-01","2021-01-01","2021-01-01",0,0,0,0,0,0,"","",0,{"$f":"IF(OR($Q67>$Q$1,$R67<$Q$1),0,YEARFRAC($E67,$Q67,1))*12","v":0},{"$f":"IF(OR($Q67>$R$1,$R67<$R$1),0,YEARFRAC($E67,$R67,1))*12","v":0}]
[null,null,null,null,null,null,null,null,null,null,null,null,null,null,null,null,{"$f":"IF(OR(K68<$Q$1,K68=\"Altbestand\"),$Q$1,IF(AND(K68=\"Nachzucht\",E68>$Q$1),E68,IF(K68=\"Nachzucht\",$Q$1,K68)))","v":"2021-01-01"},{"$f":"IF(OR(L68>$R$1,L68=\"Nein\"),$R$1,L68)","v":"00:00:00"},{"$f":"IF(OR(R68<Q68,(E68+183)<Q68),Q68,IF((E68+183)>R68,R68,(E68+183)))","v":"2021-01-01"},{"$f":"IF(OR(S68=R68,(E68+365)<Q68,R68<Q68),S68,IF((E68+365)>R68,R68,(E68+365)))","v":"2021-01-01"},{"$f":"IF(OR(T68=R68,S68=R68,(E68+365*2)<Q68,R68<Q68),T68,IF((E68+365*2)>R68,R68,(E68+365*2)))","v":"2021-01-01"},{"$f":"IF(AC68=\"Kuh\",\"Kuh\",F68)","v":0},{"$f":"S68-Q68","v":0},{"$f":"+T68-S68","v":0},{"$f":"+U68-T68","v":0},{"$f":"IF(AB68=\"\",0,AB68-AA68)","v":0},{"$f":"SUM(W68:Y68)","v":0},{"$f":"IF(R68<Q68,\"\",R68-Q68)","v":""},{"$f":"IF(OR((ISNA(VLOOKUP(C68,$I$3:$I$138,1,FALSE))=FALSE),AND(AD68>1200,F68=\"w\"),M68=\"Ja\"),\"Kuh\",\"\")","v":""},{"$f":"IF(OR(L68=\"Nein\",L68=\"Ja\"),$R$1-E68,L68-E68)","v":0},0,0]
[null,null,null,null,null,null,null,null,null,null,null,null,null,null,null,null,"2021-01-01","00:00:00","2021-01-01","2021-01-01","2021-01-01",0,0,0,0,0,0,"","",0,0,0]
[null,null,null,null,null,null,null,null,null,null,null,null,null,null,null,null,"2021-01-01","00:00:00","2021-01-01","2021-01-01","2021-01-01",0,0,0,0,0,0,"","",0,0,0]
[null,null,null,null,null,null,null,null,null,null,null,null,null,null,null,null,"2021-01-01","00:00:00","2021-01-01","2021-01-01","2021-01-01",0,0,0,0,0,0,"","",0,0,0]
[null,null,null,null,null,null,null,null,null,null,null,null,null,null,null,null,"2021-01-01","00:00:00","2021-01-01","2021-01-01","2021-01-01",0,0,0,0,0,0,"","",0,0,0]
[null,null,null,null,null,null,null,null,null,null,null,null,null,null,null,null,"2021-01-01","00:00:00","2021-01-01","2021-01-01","2021-01-01",0,0,0,0,0,0,"","",0,0,0]
[null,null,null,null,null,null,null,null,null,null,null,null,null,null,null,null,"2021-01-01","00:00:00","2021-01-01","2021-01-01","2021-01-01",0,0,0,0,0,0,"","",0,0,0]
[null,null,null,null,null,null,null,null,null,null,null,null,null,null,null,null,"2021-01-01","00:00:00","2021-01-01","2021-01-01","2021-01-01",0,0,0,0,0,0,"","",0,0,0]
[null,null,null,null,null,null,null,null,null,null,null,null,null,null,null,null,"2021-01-01","00:00:00","2021-01-01","2021-01-01","2021-01-01",0,0,0,0,0,0,"","",0,0,0]
[null,null,null,null,null,null,null,null,null,null,null,null,null,null,null,null,"2021-01-01","00:00:00","2021-01-01","2021-01-01","2021-01-01",0,0,0,0,0,0,"","",0,0,0]
[null,null,null,null,null,null,null,null,null,null,null,null,null,null,null,null,"2021-01-01","00:00:00","2021-01-01","2021-01-01","2021-01-01",0,0,0,0,0,0,"","",0,0,0]
[null,null,null,null,null,null,null,null,null,null,null,null,null,null,null,null,"2021-01-01","00:00:00","2021-01-01","2021-01-01","2021-01-01",0,0,0,0,0,0,"","",0,0,0]
[null,null,null,null,null,null,null,null,null,null,null,null,null,null,null,null,"2021-01-01","00:00:00","2021-01-01","2021-01-01","2021-01-01",0,0,0,0,0,0,"","",0,0,0]
[null,null,null,null,null,null,null,null,null,null,null,null,null,null,null,null,"2021-01-01","00:00:00","2021-01-01","2021-01-01","2021-01-01",0,0,0,0,0,0,"","",0,0,0]
[null,null,null,null,null,null,null,null,null,null,null,null,null,null,null,null,"2021-01-01","00:00:00","2021-01-01","2021-01-01","2021-01-01",0,0,0,0,0,0,"","",0,0,0]
[null,null,null,null,null,null,null,null,null,null,null,null,null,null,null,null,"2021-01-01","00:00:00","2021-01-01","2021-01-01","2021-01-01",0,0,0,0,0,0,"","",0,0,0]
[null,null,null,null,null,null,null,null,null,null,null,null,null,null,null,null,"2021-01-01","00:00:00","2021-01-01","2021-01-01","2021-01-01",0,0,0,0,0,0,"","",0,0,0]
[null,null,null,null,null,null,null,null,null,null,null,null,null,null,null,null,"2021-01-01","00:00:00","2021-01-01","2021-01-01","2021-01-01",0,0,0,0,0,0,"","",0,0,0]
[null,null,null,null,null,null,null,null,null,null,null,null,null,null,null,null,"2021-01-01","00:00:00","2021-01-01","2021-01-01","2021-01-01",0,0,0,0,0,0,"","",0,0,0]
[null,null,null,null,null,null,null,null,null,null,null,null,null,null,null,null,"2021-01-01","00:00:00","2021-01-01","2021-01-01","2021-01-01",0,0,0,0,0,0,"","",0,0,0]
[null,null,null,null,null,null,null,null,null,null,null,null,null,null,null,null,"2021-01-01","00:00:00","2021-01-01","2021-01-01","2021-01-01",0,0,0,0,0,0,"","",0,0,0]
[null,null,null,null,null,null,null,null,null,null,null,null,null,null,null,null,"2021-01-01","00:00:00","2021-01-01","2021-01-01","2021-01-01",0,0,0,0,0,0,"","",0,0,0]
[null,null,null,null,null,null,null,null,null,null,null,null,null,null,null,null,"2021-01-01","00:00:00","2021-01-01","2021-01-01","2021-01-01",0,0,0,0,0,0,"","",0,0,0]
[null,null,null,null,null,null,null,null,null,null,null,null,null,null,null,null,"2021-01-01","00:00:00","2021-01-01","2021-01-01","2021-01-01",0,0,0,0,0,0,"","",0,0,0]
[null,null,null,null,null,null,null,null,null,null,null,null,null,null,null,null,"2021-01-01","00:00:00","2021-01-01","2021-01-01","2021-01-01",0,0,0,0,0,0,"","",0,0,0]
[null,null,null,null,null,null,null,null,null,null,null,null,null,null,null,null,"2021-01-01","00:00:00","2021-01-01","2021-01-01","2021-01-01",0,0,0,0,0,0,"","",0,0,0]
[null,null,null,null,null,null,null,null,null,null,null,null,null,null,null,null,"2021-01-01","00:00:00","2021-01-01","2021-01-01","2021-01-01",0,0,0,0,0,0,"","",0,0,0]
[null,null,null,null,null,null,null,null,null,null,null,null,null,null,null,null,"2021-01-01","00:00:00","2021-01-01","2021-01-01","2021-01-01",0,0,0,0,0,0,"","",0,0,0]
[null,null,null,null,null,null,null,null,null,null,null,null,null,null,null,null,"2021-01-01","00:00:00","2021-01-01","2021-01-01","2021-01-01",0,0,0,0,0,0,"","",0,0,0]
[null,null,null,null,null,null,null,null,null,null,null,null,null,null,null,null,"2021-01-01","00:00:00","2021-01-01","2021-01-01","2021-01-01",0,0,0,0,0,0,"","",0,0,0]
[null,null,null,null,null,null,null,null,null,null,null,null,null,null,null,null,"2021-01-01","00:00:00","2021-01-01","2021-01-01","2021-01-01",0,0,0,0,0,0,"","",0,0,0]
[null,null,null,null,null,null,null,null,null,null,null,null,null,null,null,null,"2021-01-01","00:00:00","2021-01-01","2021-01-01","2021-01-01",0,0,0,0,0,0,"","",0,0,0]
[null,null,null,null,null,null,null,null,null,null,null,null,null,null,null,null,"2021-01-01","00:00:00","2021-01-01","2021-01-01","2021-01-01",0,0,0,0,0,0,"","",0,0,0]
[null,null,null,null,null,null,null,null,null,null,null,null,null,null,null,null,"2021-01-01","00:00:00","2021-01-01","2021-01-01","2021-01-01",0,0,0,0,0,0,"","",0,0,0]
[null,null,null,null,null,null,null,null,null,null,null,null,null,null,null,null,"2021-01-01","00:00:00","2021-01-01","2021-01-01","2021-01-01",0,0,0,0,0,0,"","",0,0,0]
[null,null,null,null,null,null,null,null,null,null,null,null,null,null,null,null,"2021-01-01","00:00:00","2021-01-01","2021-01-01","2021-01-01",0,0,0,0,0,0,"","",0,0,0]
[null,null,null,null,null,null,null,null,null,null,null,null,null,null,null,null,"2021-01-01","00:00:00","2021-01-01","2021-01-01","2021-01-01",0,0,0,0,0,0,"","",0,0,0]
[null,null,null,null,null,null,null,null,null,null,null,null,null,null,null,null,"2021-01-01","00:00:00","2021-01-01","2021-01-01","2021-01-01",0,0,0,0,0,0,"","",0,0,0]
[null,null,null,null,null,null,null,null,null,null,null,null,null,null,null,null,"2021-01-01","00:00:00","2021-01-01","2021-01-01","2021-01-01",0,0,0,0,0,0,"","",0,0,0]
[null,null,null,null,null,null,null,null,null,null,null,null,null,null,null,null,"2021-01-01","00:00:00","2021-01-01","2021-01-01","2021-01-01",0,0,0,0,0,0,"","",0,0,0]
[null,null,null,null,null,null,null,null,null,null,null,null,null,null,null,null,"2021-01-01","00:00:00","2021-01-01","2021-01-01","2021-01-01",0,0,0,0,0,0,"","",0,0,0]
[null,null,null,null,null,null,null,null,null,null,null,null,null,null,null,null,"2021-01-01","00:00:00","2021-01-01","2021-01-01","2021-01-01",0,0,0,0,0,0,"","",0,0,0]
[null,null,null,null,null,null,null,null,null,null,null,null,null,null,null,null,"2021-01-01","00:00:00","2021-01-01","2021-01-01","2021-01-01",0,0,0,0,0,0,"","",0,0,0]
[null,null,null,null,null,null,null,null,null,null,null,null,null,null,null,null,"2021-01-01","00:00:00","2021-01-01","2021-01-01","2021-01-01",0,0,0,0,0,0,"","",0,0,0]
[null,null,null,null,null,null,null,null,null,null,null,null,null,null,null,null,"2021-01-01","00:00:00","2021-01-01","2021-01-01","2021-01-01",0,0,0,0,0,0,"","",0,0,0]
[null,null,null,null,null,null,null,null,null,null,null,null,null,null,null,null,"2021-01-01","00:00:00","2021-01-01","2021-01-01","2021-01-01",0,0,0,0,0,0,"","",0,0,0]
[null,null,null,null,null,null,null,null,null,null,null,null,null,null,null,null,"2021-01-01","00:00:00","2021-01-01","2021-01-01","2021-01-01",0,0,0,0,0,0,"","",0,0,0]
[null,null,null,null,null,null,null,null,null,null,null,null,null,null,null,null,"2021-01-01","00:00:00","2021-01-01","2021-01-01","2021-01-01",0,0,0,0,0,0,"","",0,0,0]
[null,null,null,null,null,null,null,null,null,null,null,null,null,null,null,null,"2021-01-01","00:00:00","2021-01-01","2021-01-01","2021-01-01",0,0,0,0,0,0,"","",0,0,0]
[null,null,null,null,null,null,null,null,null,null,null,null,null,null,null,null,"2021-01-01","00:00:00","2021-01-01","2021-01-01","2021-01-01",0,0,0,0,0,0,"","",0,0,0]
[null,null,null,null,null,null,null,null,null,null,null,null,null,null,null,null,"2021-01-01","00:00:00","2021-01-01","2021-01-01","2021-01-01",0,0,0,0,0,0,"","",0,0,0]
[null,null,null,null,null,null,null,null,null,null,null,null,null,null,null,null,"2021-01-01","00:00:00","2021-01-01","2021-01-01","2021-01-01",0,0,0,0,0,0,"","",0,0,0]
[null,null,null,null,null,null,null,null,null,null,null,null,null,null,null,null,"2021-01-01","00:00:00","2021-01-01","2021-01-01","2021-01-01",0,0,0,0,0,0,"","",0,0,0]
[null,null,null,null,null,null,null,null,null,null,null,null,null,null,null,null,"2021-01-01","00:00:00","2021-01-01","2021-01-01","2021-01-01",0,0,0,0,0,0,"","",0,0,0]
[null,null,null,null,null,null,null,null,null,null,null,null,null,null,null,null,"2021-01-01","00:00:00","2021-01-01","2021-01-01","2021-01-01",0,0,0,0,0,0,"","",0,0,0]
[null,null,null,null,null,null,null,null,null,null,null,null,null,null,null,null,"2021-01-01","00:00:00","2021-01-01","2021-01-01","2021-01-01",0,0,0,0,0,0,"","",0,0,0]
[null,null,null,null,null,null,null,null,null,null,null,null,null,null,null,null,"2021-01-01","00:00:00","2021-01-01","2021-01-01","2021-01-01",0,0,0,0,0,0,"","",0,0,0]
[null,null,null,null,null,null,null,null,null,null,null,null,null,null,null,null,"2021-01-01","00:00:00","2021-01-01","2021-01-01","2021-01-01",0,0,0,0,0,0,"","",0,0,0]
[null,null,null,null,null,null,null,null,null,null,null,null,null,null,null,null,"2021-01-01","00:00:00","2021-01-01","2021-01-01","2021-01-01",0,0,0,0,0,0,"","",0,0,0]
[null,null,null,null,null,null,null,null,null,null,null,null,null,null,null,null,"2021-01-01","00:00:00","2021-01-01","2021-01-01","2021-01-01",0,0,0,0,0,0,"","",0,0,0]
[null,null,null,null,null,null,null,null,null,null,null,null,null,null,null,null,"2021-01-01","00:00:00","2021-01-01","2021-01-01","2021-01-01",0,0,0,0,0,0,"","",0,0,0]
[null,null,null,null,null,null,null,null,null,null,null,null,null,null,null,null,"2021-01-01","00:00:00","2021-01-01","2021-01-01","2021-01-01",0,0,0,0,0,0,"","",0,0,0]
[null,null,null,null,null,null,null,null,null,null,null,null,null,null,null,null,"2021-01-01","00:00:00","2021-01-01","2021-01-01","2021-01-01",0,0,0,0,0,0,"","",0,0,0]
[null,null,null,null,null,null,null,null,null,null,null,null,null,null,null,null,"2021-01-01","00:00:00","2021-01-01","2021-01-01","2021-01-01",0,0,0,0,0,0,"","",0,{"$f":"IF(OR($Q131>$Q$1,$R131<$Q$1),0,YEARFRAC($E131,$Q131,1))*12","v":0},{"$f":"IF(OR($Q131>$R$1,$R131<$R$1),0,YEARFRAC($E131,$R131,1))*12","v":0}]
[null,null,null,null,null,null,null,null,null,null,null,null,null,null,null,null,{"$f":"IF(OR(K132<$Q$1,K132=\"Altbestand\"),$Q$1,IF(AND(K132=\"Nachzucht\",E132>$Q$1),E132,IF(K132=\"Nachzucht\",$Q$1,K132)))","v":"2021-01-01"},{"$f":"IF(OR(L132>$R$1,L132=\"Nein\"),$R$1,L132)","v":"00:00:00"},{"$f":"IF(OR(R132<Q132,(E132+183)<Q132),Q132,IF((E132+183)>R132,R132,(E132+183)))","v":"2021-01-01"},{"$f":"IF(OR(S132=R132,(E132+365)<Q132,R132<Q132),S132,IF((E132+365)>R132,R132,(E132+365)))","v":"2021-01-01"},{"$f":"IF(OR(T132=R132,S132=R132,(E132+365*2)<Q132,R132<Q132),T132,IF((E132+365*2)>R132,R132,(E132+365*2)))","v":"2021-01-01"},{"$f":"IF(AC132=\"Kuh\",\"Kuh\",F132)","v":0},{"$f":"S132-Q132","v":0},{"$f":"+T132-S132","v":0},{"$f":"+U132-T132","v":0},{"$f":"IF(AB132=\"\",0,AB132-AA132)","v":0},{"$f":"SUM(W132:Y132)","v":0},{"$f":"IF(R132<Q132,\"\",R132-Q132)","v":""},{"$f":"IF(OR((ISNA(VLOOKUP(C132,$I$3:$I$138,1,FALSE))=FALSE),AND(AD132>1200,F132=\"w\"),M132=\"Ja\"),\"Kuh\",\"\")","v":""},{"$f":"IF(OR(L132=\"Nein\",L132=\"Ja\"),$R$1-E132,L132-E132)","v":0},0,0]
[null,null,null,null,null,null,null,null,null,null,null,null,null,null,null,null,"2021-01-01","00:00:00","2021-01-01","2021-01-01","2021-01-01",0,0,0,0,0,0,"","",0,0,0]
[null,null,null,null,null,null,null,null,null,null,null,null,null,null,null,null,"2021-01-01","00:00:00","2021-01-01","2021-01-01","2021-01-01",0,0,0,0,0,0,"","",0,0,0]
[null,null,null,null,null,null,null,null,null,null,null,null,null,null,null,null,"2021-01-01","00:00:00","2021-01-01","2021-01-01","2021-01-01",0,0,0,0,0,0,"","",0,0,0]
[null,null,null,null,null,null,null,null,null,null,null,null,null,null,null,null,"2021-01-01","00:00:00","2021-01-01","2021-01-01","2021-01-01",0,0,0,0,0,0,"","",0,0,0]
[null,null,null,null,null,null,null,null,null,null,null,null,null,null,null,null,"2021-01-01","00:00:00","2021-01-01","2021-01-01","2021-01-01",0,0,0,0,0,0,"","",0,0,0]
[null,null,null,null,null,null,null,null,null,null,null,null,null,null,null,null,"2021-01-01","00:00:00","2021-01-01","2021-01-01","2021-01-01",0,0,0,0,0,0,"","",0,0,0]
[null,null,null,null,null,null,null,null,null,null,null,null,null,null,null,null,"2021-01-01","00:00:00","2021-01-01","2021-01-01","2021-01-01",0,0,0,0,0,0,"","",0,0,0]
[null,null,null,null,null,null,null,null,null,null,null,null,null,null,null,null,"2021-01-01","00:00:00","2021-01-01","2021-01-01","2021-01-01",0,0,0,0,0,0,"","",0,0,0]
[null,null,null,null,null,null,null,null,null,null,null,null,null,null,null,null,"2021-01-01","00:00:00","2021-01-01","2021-01-01","2021-01-01",0,0,0,0,0,0,"","",0,0,0]
[null,null,null,null,null,null,null,null,null,null,null,null,null,null,null,null,"2021-01-01","00:00:00","2021-01-01","2021-01-01","2021-01-01",0,0,0,0,0,0,"","",0,0,0]
[null,null,null,null,null,null,null,null,null,null,null,null,null,null,null,null,"2021-01-01","00:00:00","2021-01-01","2021-01-01","2021-01-01",0,0,0,0,0,0,"","",0,0,0]
[null,null,null,null,null,null,null,null,null,null,null,null,null,null,null,null,"2021-01-01","00:00:00","2021-01-01","2021-01-01","2021-01-01",0,0,0,0,0,0,"","",0,0,0]
[null,null,null,null,null,null,null,null,null,null,null,null,null,null,null,null,"2021-01-01","00:00:00","2021-01-01","2021-01-01","2021-01-01",0,0,0,0,0,0,"","",0,0,0]
[null,null,null,null,null,null,null,null,null,null,null,null,null,null,null,null,"2021-01-01","00:00:00","2021-01-01","2021-01-01","2021-01-01",0,0,0,0,0,0,"","",0,0,0]
[null,null,null,null,null,null,null,null,null,null,null,null,null,null,null,null,"2021-01-01","00:00:00","2021-01-01","2021-01-01","2021-01-01",0,0,0,0,0,0,"","",0,0,0]
[null,null,null,null,null,null,null,null,null,null,null,null,null,null,null,null,"2021-01-01","00:00:00","2021-01-01","2021-01-01","2021-01-01",0,0,0,0,0,0,"","",0,0,0]
[null,null,null,null,null,null,null,null,null,null,null,null,null,null,null,null,"2021-01-01","00:00:00","2021-01-01","2021-01-01","2021-01-01",0,0,0,0,0,0,"","",0,0,0]
[null,null,null,null,null,null,null,null,null,null,null,null,null,null,null,null,"2021-01-01","00:00:00","2021-01-01","2021-01-01","2021-01-01",0,0,0,0,0,0,"","",0,0,0]
[null,null,null,null,null,null,null,null,null,null,null,null,null,null,null,null,"2021-01-01","00:00:00","2021-01-01","2021-01-01","2021-01-01",0,0,0,0,0,0,"","",0,0,0]
[null,null,null,null,null,null,null,null,null,null,null,null,null,null,null,null,"2021-01-01","00:00:00","2021-01-01","2021-01-01","2021-01-01",0,0,0,0,0,0,"","",0,0,0]
[null,null,null,null,null,null,null,null,null,null,null,null,null,null,null,null,"2021-01-01","00:00:00","2021-01-01","2021-01-01","2021-01-01",0,0,0,0,0,0,"","",0,0,0]
[null,null,null,null,null,null,null,null,null,null,null,null,null,null,null,null,"2021-01-01","00:00:00","2021-01-01","2021-01-01","2021-01-01",0,0,0,0,0,0,"","",0,0,0]
[null,null,null,null,null,null,null,null,null,null,null,null,null,null,null,null,"2021-01-01","00:00:00","2021-01-01","2021-01-01","2021-01-01",0,0,0,0,0,0,"","",0,0,0]
[null,null,null,null,null,null,null,null,null,null,null,null,null,null,null,null,"2021-01-01","00:00:00","2021-01-01","2021-01-01","2021-01-01",0,0,0,0,0,0,"","",0,0,0]
[null,null,null,null,null,null,null,null,null,null,null,null,null,null,null,null,"2021-01-01","00:00:00","2021-01-01","2021-01-01","2021-01-01",0,0,0,0,0,0,"","",0,0,0]
[null,null,null,null,null,null,null,null,null,null,null,null,null,null,null,null,"2021-01-01","00:00:00","2021-01-01","2021-01-01","2021-01-01",0,0,0,0,0,0,"","",0,0,0]
[null,null,null,null,null,null,null,null,null,null,null,null,null,null,null,null,"2021-01-01","00:00:00","2021-01-01","2021-01-01","2021-01-01",0,0,0,0,0,0,"","",0,0,0]
[null,null,null,null,null,null,null,null,null,null,null,null,null,null,null,null,"2021-01-01","00:00:00","2021-01-01","2021-01-01","2021-01-01",0,0,0,0,0,0,"","",0,0,0]
[null,null,null,null,null,null,null,null,null,null,null,null,null,null,null,null,"2021-01-01","00:00:00","2021-01-01","2021-01-01","2021-01-01",0,0,0,0,0,0,"","",0,0,0]
[null,null,null,null,null,null,null,null,null,null,null,null,null,null,null,null,"2021-01-01","00:00:00","2021-01-01","2021-01-01","2021-01-01",0,0,0,0,0,0,"","",0,0,0]
[null,null,null,null,null,null,null,null,null,null,null,null,null,null,null,null,"2021-01-01","00:00:00","2021-01-01","2021-01-01","2021-01-01",0,0,0,0,0,0,"","",0,0,0]
[null,null,null,null,null,null,null,null,null,null,null,null,null,null,null,null,"2021-01-01","00:00:00","2021-01-01","2021-01-01","2021-01-01",0,0,0,0,0,0,"","",0,0,0]
[null,null,null,null,null,null,null,null,null,null,null,null,null,null,null,null,"2021-01-01","00:00:00","2021-01-01","2021-01-01","2021-01-01",0,0,0,0,0,0,"","",0,0,0]
[null,null,null,null,null,null,null,null,null,null,null,null,null,null,null,null,"2021-01-01","00:00:00","2021-01-01","2021-01-01","2021-01-01",0,0,0,0,0,0,"","",0,0,0]
[null,null,null,null,null,null,null,null,null,null,null,null,null,null,null,null,"2021-01-01","00:00:00","2021-01-01","2021-01-01","2021-01-01",0,0,0,0,0,0,"","",0,0,0]
[null,null,null,null,null,null,null,null,null,null,null,null,null,null,null,null,"2021-01-01","00:00:00","2021-01-01","2021-01-01","2021-01-01",0,0,0,0,0,0,"","",0,0,0]
[null,null,null,null,null,null,null,null,null,null,null,null,null,null,null,null,"2021-01-01","00:00:00","2021-01-01","2021-01-01","2021-01-01",0,0,0,0,0,0,"","",0,0,0]
[null,null,null,null,null,null,null,null,null,null,null,null,null,null,null,null,"2021-01-01","00:00:00","2021-01-01","2021-01-01","2021-01-01",0,0,0,0,0,0,"","",0,0,0]
[null,null,null,null,null,null,null,null,null,null,null,null,null,null,null,null,"2021-01-01","00:00:00","2021-01-01","2021-01-01","2021-01-01",0,0,0,0,0,0,"","",0,0,0]
[null,null,null,null,null,null,null,null,null,null,null,null,null,null,null,null,"2021-01-01","00:00:00","2021-01-01","2021-01-01","2021-01-01",0,0,0,0,0,0,"","",0,0,0]
[null,null,null,null,null,null,null,null,null,null,null,null,null,null,null,null,"2021-01-01","00:00:00","2021-01-01","2021-01-01","2021-01-01",0,0,0,0,0,0,"","",0,0,0]
[null,null,null,null,null,null,null,null,null,null,null,null,null,null,null,null,"2021-01-01","00:00:00","2021-01-01","2021-01-01","2021-01-01",0,0,0,0,0,0,"","",0,0,0]
[null,null,null,null,null,null,null,null,null,null,null,null,null,null,null,null,"2021-01-01","00:00:00","2021-01-01","2021-01-01","2021-01-01",0,0,0,0,0,0,"","",0,0,0]
[null,null,null,null,null,null,null,null,null,null,null,null,null,null,null,null,"2021-01-01","00:00:00","2021-01-01","2021-01-01","2021-01-01",0,0,0,0,0,0,"","",0,0,0]
[null,null,null,null,null,null,null,null,null,null,null,null,null,null,null,null,"2021-01-01","00:00:00","2021-01-01","2021-01-01","2021-01-01",0,0,0,0,0,0,"","",0,0,0]
[null,null,null,null,null,null,null,null,null,null,null,null,null,null,null,null,"2021-01-01","00:00:00","2021-01-01","2021-01-01","2021-01-01",0,0,0,0,0,0,"","",0,0,0]
[null,null,null,null,null,null,null,null,null,null,null,null,null,null,null,null,"2021-01-01","00:00:00","2021-01-01","2021-01-01","2021-01-01",0,0,0,0,0,0,"","",0,0,0]
[null,null,null,null,null,null,null,null,null,null,null,null,null,null,null,null,"2021-01-01","00:00:00","2021-01-01","2021-01-01","2021-01-01",0,0,0,0,0,0,"","",0,0,0]
[null,null,null,null,null,null,null,null,null,null,null,null,null,null,null,null,"2021-01-01","00:00:00","2021-01-01","2021-01-01","2021-01-01",0,0,0,0,0,0,"","",0,0,0]
[null,null,null,null,null,null,null,null,null,null,null,null,null,null,null,null,"2021-01-01","00:00:00","2021-01-01","2021-01-01","2021-01-01",0,0,0,0,0,0,"","",0,0,0]
[null,null,null,null,null,null,null,null,null,null,null,null,null,null,null,null,"2021-01-01","00:00:00","2021-01-01","2021-01-01","2021-01-01",0,0,0,0,0,0,"","",0,0,0]
[null,null,null,null,null,null,null,null,null,null,null,null,null,null,null,null,"2021-01-01","00:00:00","2021-01-01","2021-01-01","2021-01-01",0,0,0,0,0,0,"","",0,0,0]
[null,null,null,null,null,null,null,null,null,null,null,null,null,null,null,null,"2021-01-01","00:00:00","2021-01-01","2021-01-01","2021-01-01",0,0,0,0,0,0,"","",0,0,0]
[null,null,null,null,null,null,null,null,null,null,null,null,null,null,null,null,"2021-01-01","00:00:00","2021-01-01","2021-01-01","2021-01-01",0,0,0,0,0,0,"","",0,0,0]
[null,null,null,null,null,null,null,null,null,null,null,null,null,null,null,null,"2021-01-01","00:00:00","2021-01-01","2021-01-01","2021-01-01",0,0,0,0,0,0,"","",0,0,0]
[null,null,null,null,null,null,null,null,null,null,null,null,null,null,null,null,"2021-01-01","00:00:00","2021-01-01","2021-01-01","2021-01-01",0,0,0,0,0,0,"","",0,0,0]
[null,null,null,null,null,null,null,null,null,null,null,null,null,null,null,null,"2021-01-01","00:00:00","2021-01-01","2021-01-01","2021-01-01",0,0,0,0,0,0,"","",0,0,0]
[null,null,null,null,null,null,null,null,null,null,null,null,null,null,null,null,"2021-01-01","00:00:00","2021-01-01","2021-01-01","2021-01-01",0,0,0,0,0,0,"","",0,0,0]
[null,null,null,null,null,null,null,null,null,null,null,null,null,null,null,null,"2021-01-01","00:00:00","2021-01-01","2021-01-01","2021-01-01",0,0,0,0,0,0,"","",0,0,0]
[null,null,null,null,null,null,null,null,null,null,null,null,null,null,null,null,"2021-01-01","00:00:00","2021-01-01","2021-01-01","2021-01-01",0,0,0,0,0,0,"","",0,0,0]
[null,null,null,null,null,null,null,null,null,null,null,null,null,null,null,null,"2021-01-01","00:00:00","2021-01-01","2021-01-01","2021-01-01",0,0,0,0,0,0,"","",0,0,0]
[null,null,null,null,null,null,null,null,null,null,null,null,null,null,null,null,"2021-01-01","00:00:00","2021-01-01","2021-01-01","2021-01-01",0,0,0,0,0,0,"","",0,0,0]
[null,null,null,null,null,null,null,null,null,null,null,null,null,null,null,null,"2021-01-01","00:00:00","2021-01-01","2021-01-01","2021-01-01",0,0,0,0,0,0,"","",0,{"$f":"IF(OR($Q195>$Q$1,$R195<$Q$1),0,YEARFRAC($E195,$Q195,1))*12","v":0},{"$f":"IF(OR($Q195>$R$1,$R195<$R$1),0,YEARFRAC($E195,$R195,1))*12","v":0}]
[null,null,null,null,null,null,null,null,null,null,null,null,null,null,null,null,{"$f":"IF(OR(K196<$Q$1,K196=\"Altbestand\"),$Q$1,IF(AND(K196=\"Nachzucht\",E196>$Q$1),E196,IF(K196=\"Nachzucht\",$Q$1,K196)))","v":"2021-01-01"},{"$f":"IF(OR(L196>$R$1,L196=\"Nein\"),$R$1,L196)","v":"00:00:00"},{"$f":"IF(OR(R196<Q196,(E196+183)<Q196),Q196,IF((E196+183)>R196,R196,(E196+183)))","v":"2021-01-01"},{"$f":"IF(OR(S196=R196,(E196+365)<Q196,R196<Q196),S196,IF((E196+365)>R196,R196,(E196+365)))","v":"2021-01-01"},{"$f":"IF(OR(T196=R196,S196=R196,(E196+365*2)<Q196,R196<Q196),T196,IF((E196+365*2)>R196,R196,(E196+365*2)))","v":"2021-01-01"},{"$f":"IF(AC196=\"Kuh\",\"Kuh\",F196)","v":0},{"$f":"S196-Q196","v":0},{"$f":"+T196-S196","v":0},{"$f":"+U196-T196","v":0},{"$f":"IF(AB196=\"\",0,AB196-AA196)","v":0},{"$f":"SUM(W196:Y196)","v":0},{"$f":"IF(R196<Q196,\"\",R196-Q196)","v":""},{"$f":"IF(OR((ISNA(VLOOKUP(C196,$I$3:$I$138,1,FALSE))=FALSE),AND(AD196>1200,F196=\"w\"),M196=\"Ja\"),\"Kuh\",\"\")","v":""},{"$f":"IF(OR(L196=\"Nein\",L196=\"Ja\"),$R$1-E196,L196-E196)","v":0},0,0]
[null,null,null,null,null,null,null,null,null,null,null,null,null,null,null,null,"2021-01-01","00:00:00","2021-01-01","2021-01-01","2021-01-01",0,0,0,0,0,0,"","",0,0,0]
[null,null,null,null,null,null,null,null,null,null,null,null,null,null,null,null,"2021-01-01","00:00:00","2021-01-01","2021-01-01","2021-01-01",0,0,0,0,0,0,"","",0,0,0]
[null,null,null,null,null,null,null,null,null,null,null,null,null,null,null,null,"2021-01-01","00:00:00","2021-01-01","2021-01-01","2021-01-01",0,0,0,0,0,0,"","",0,0,0]
[null,null,null,null,null,null,null,null,null,null,null,null,null,null,null,null,"2021-01-01","00:00:00","2021-01-01","2021-01-01","2021-01-01",0,0,0,0,0,0,"","",0,0,0]
[null,null,null,null,null,null,null,null,null,null,null,null,null,null,null,null,"2021-01-01","00:00:00","2021-01-01","2021-01-01","2021-01-01",0,0,0,0,0,0,"","",0,0,0]
[null,null,null,null,null,null,null,null,null,null,null,null,null,null,null,null,"2021-01-01","00:00:00","2021-01-01","2021-01-01","2021-01-01",0,0,0,0,0,0,"","",0,0,0]
[null,null,null,null,null,null,null,null,null,null,null,null,null,null,null,null,"2021-01-01","00:00:00","2021-01-01","2021-01-01","2021-01-01",0,0,0,0,0,0,"","",0,0,0]
[null,null,null,null,null,null,null,null,null,null,null,null,null,null,null,null,"2021-01-01","00:00:00","2021-01-01","2021-01-01","2021-01-01",0,0,0,0,0,0,"","",0,0,0]
[null,null,null,null,null,null,null,null,null,null,null,null,null,null,null,null,"2021-01-01","00:00:00","2021-01-01","2021-01-01","2021-01-01",0,0,0,0,0,0,"","",0,0,0]
[null,null,null,null,null,null,null,null,null,null,null,null,null,null,null,null,"2021-01-01","00:00:00","2021-01-01","2021-01-01","2021-01-01",0,0,0,0,0,0,"","",0,0,0]
[null,null,null,null,null,null,null,null,null,null,null,null,null,null,null,null,"2021-01-01","00:00:00","2021-01-01","2021-01-01","2021-01-01",0,0,0,0,0,0,"","",0,0,0]
[null,null,null,null,null,null,null,null,null,null,null,null,null,null,null,null,"2021-01-01","00:00:00","2021-01-01","2021-01-01","2021-01-01",0,0,0,0,0,0,"","",0,0,0]
[null,null,null,null,null,null,null,null,null,null,null,null,null,null,null,null,"2021-01-01","00:00:00","2021-01-01","2021-01-01","2021-01-01",0,0,0,0,0,0,"","",0,0,0]
[null,null,null,null,null,null,null,null,null,null,null,null,null,null,null,null,"2021-01-01","00:00:00","2021-01-01","2021-01-01","2021-01-01",0,0,0,0,0,0,"","",0,0,0]
[null,null,null,null,null,null,null,null,null,null,null,null,null,null,null,null,"2021-01-01","00:00:00","2021-01-01","2021-01-01","2021-01-01",0,0,0,0,0,0,"","",0,0,0]
[null,null,null,null,null,null,null,null,null,null,null,null,null,null,null,null,"2021-01-01","00:00:00","2021-01-01","2021-01-01","2021-01-01",0,0,0,0,0,0,"","",0,0,0]
[null,null,null,null,null,null,null,null,null,null,null,null,null,null,null,null,"2021-01-01","00:00:00","2021-01-01","2021-01-01","2021-01-01",0,0,0,0,0,0,"","",0,0,0]
[null,null,null,null,null,null,null,null,null,null,null,null,null,null,null,null,"2021-01-01","00:00:00","2021-01-01","2021-01-01","2021-01-01",0,0,0,0,0,0,"","",0,0,0]
[null,null,null,null,null,null,null,null,null,null,null,null,null,null,null,null,"2021-01-01","00:00:00","2021-01-01","2021-01-01","2021-01-01",0,0,0,0,0,0,"","",0,0,0]
[null,null,null,null,null,null,null,null,null,null,null,null,null,null,null,null,"2021-01-01","00:00:00","2021-01-01","2021-01-01","2021-01-01",0,0,0,0,0,0,"","",0,0,0]
[null,null,null,null,null,null,null,null,null,null,null,null,null,null,null,null,"2021-01-01","00:00:00","2021-01-01","2021-01-01","2021-01-01",0,0,0,0,0,0,"","",0,0,0]
[null,null,null,null,null,null,null,null,null,null,null,null,null,null,null,null,"2021-01-01","00:00:00","2021-01-01","2021-01-01","2021-01-01",0,0,0,0,0,0,"","",0,0,0]
[null,null,null,null,null,null,null,null,null,null,null,null,null,null,null,null,"2021-01-01","00:00:00","2021-01-01","2021-01-01","2021-01-01",0,0,0,0,0,0,"","",0,0,0]
[null,null,null,null,null,null,null,null,null,null,null,null,null,null,null,null,"2021-01-01","00:00:00","2021-01-01","2021-01-01","2021-01-01",0,0,0,0,0,0,"","",0,0,0]
[null,null,null,null,null,null,null,null,null,null,null,null,null,null,null,null,"2021-01-01","00:00:00","2021-01-01","2021-01-01","2021-01-01",0,0,0,0,0,0,"","",0,0,0]
[null,null,null,null,null,null,null,null,null,null,null,null,null,null,null,null,"2021-01-01","00:00:00","2021-01-01","2021-01-01","2021-01-01",0,0,0,0,0,0,"","",0,0,0]
[null,null,null,null,null,null,null,null,null,null,null,null,null,null,null,null,"2021-01-01","00:00:00","2021-01-01","2021-01-01","2021-01-01",0,0,0,0,0,0,"","",0,0,0]
[null,null,null,null,null,null,null,null,null,null,null,null,null,null,null,null,"2021-01-01","00:00:00","2021-01-01","2021-01-01","2021-01-01",0,0,0,0,0,0,"","",0,0,0]
[null,null,null,null,null,null,null,null,null,null,null,null,null,null,null,null,"2021-01-01","00:00:00","2021-01-01","2021-01-01","2021-01-01",0,0,0,0,0,0,"","",0,0,0]
[null,null,null,null,null,null,null,null,null,null,null,null,null,null,null,null,"2021-01-01","00:00:00","2021-01-01","2021-01-01","2021-01-01",0,0,0,0,0,0,"","",0,0,0]
[null,null,null,null,null,null,null,null,null,null,null,null,null,null,null,null,"2021-01-01","00:00:00","2021-01-01","2021-01-01","2021-01-01",0,0,0,0,0,0,"","",0,0,0]
[null,null,null,null,null,null,null,null,null,null,null,null,null,null,null,null,"2021-01-01","00:00:00","2021-01-01","2021-01-01","2021-01-01",0,0,0,0,0,0,"","",0,0,0]
[null,null,null,null,null,null,null,null,null,null,null,null,null,null,null,null,"2021-01-01","00:00:00","2021-01-01","2021-01-01","2021-01-01",0,0,0,0,0,0,"","",0,0,0]
[null,null,null,null,null,null,null,null,null,null,null,null,null,null,null,null,"2021-01-01","00:00:00","2021-01-01","2021-01-01","2021-01-01",0,0,0,0,0,0,"","",0,0,0]
[null,null,null,null,null,null,null,null,null,null,null,null,null,null,null,null,"2021-01-01","00:00:00","2021-01-01","2021-01-01","2021-01-01",0,0,0,0,0,0,"","",0,0,0]
[null,null,null,null,null,null,null,null,null,null,null,null,null,null,null,null,"2021-01-01","00:00:00","2021-01-01","2021-01-01","2021-01-01",0,0,0,0,0,0,"","",0,0,0]
[null,null,null,null,null,null,null,null,null,null,null,null,null,null,null,null,"2021-01-01","00:00:00","2021-01-01","2021-01-01","2021-01-01",0,0,0,0,0,0,"","",0,0,0]
[null,null,null,null,null,null,null,null,null,null,null,null,null,null,null,null,"2021-01-01","00:00:00","2021-01-01","2021-01-01","2021-01-01",0,0,0,0,0,0,"","",0,0,0]
[null,null,null,null,null,null,null,null,null,null,null,null,null,null,null,null,"2021-01-01","00:00:00","2021-01-01","2021-01-01","2021-01-01",0,0,0,0,0,0,"","",0,0,0]
[null,null,null,null,null,null,null,null,null,null,null,null,null,null,null,null,"2021-01-01","00:00:00","2021-01-01","2021-01-01","2021-01-01",0,0,0,0,0,0,"","",0,0,0]
[null,null,null,null,null,null,null,null,null,null,null,null,null,null,null,null,"2021-01-01","00:00:00","2021-01-01","2021-01-01","2021-01-01",0,0,0,0,0,0,"","",0,0,0]
[null,null,null,null,null,null,null,null,null,null,null,null,null,null,null,null,"2021-01-01","00:00:00","2021-01-01","2021-01-01","2021-01-01",0,0,0,0,0,0,"","",0,0,0]
[null,null,null,null,null,null,null,null,null,null,null,null,null,null,null,null,"2021-01-01","00:00:00","2021-01-01","2021-01-01","2021-01-01",0,0,0,0,0,0,"","",0,0,0]
[null,null,null,null,null,null,null,null,null,null,null,null,null,null,null,null,"2021-01-01","00:00:00","2021-01-01","2021-01-01","2021-01-01",0,0,0,0,0,0,"","",0,0,0]
[null,null,null,null,null,null,null,null,null,null,null,null,null,null,null,null,"2021-01-01","00:00:00","2021-01-01","2021-01-01","2021-01-01",0,0,0,0,0,0,"","",0,0,0]
[null,null,null,null,null,null,null,null,null,null,null,null,null,null,null,null,"2021-01-01","00:00:00","2021-01-01","2021-01-01","2021-01-01",0,0,0,0,0,0,"","",0,0,0]
[null,null,null,null,null,null,null,null,null,null,null,null,null,null,null,null,"2021-01-01","00:00:00","2021-01-01","2021-01-01","2021-01-01",0,0,0,0,0,0,"","",0,0,0]
[null,null,null,null,null,null,null,null,null,null,null,null,null,null,null,null,"2021-01-01","00:00:00","2021-01-01","2021-01-01","2021-01-01",0,0,0,0,0,0,"","",0,0,0]
[null,null,null,null,null,null,null,null,null,null,null,null,null,null,null,null,"2021-01-01","00:00:00","2021-01-01","2021-01-01","2021-01-01",0,0,0,0,0,0,"","",0,0,0]
[null,null,null,null,null,null,null,null,null,null,null,null,null,null,null,null,"2021-01-01","00:00:00","2021-01-01","2021-01-01","2021-01-01",0,0,0,0,0,0,"","",0,0,0]
[null,null,null,null,null,null,null,null,null,null,null,null,null,null,null,null,"2021-01-01","00:00:00","2021-01-01","2021-01-01","2021-01-01",0,0,0,0,0,0,"","",0,0,0]
[null,null,null,null,null,null,null,null,null,null,null,null,null,null,null,null,"2021-01-01","00:00:00","2021-01-01","2021-01-01","2021-01-01",0,0,0,0,0,0,"","",0,0,0]
[null,null,null,null,null,null,null,null,null,null,null,null,null,null,null,null,"2021-01-01","00:00:00","2021-01-01","2021-01-01","2021-01-01",0,0,0,0,0,0,"","",0,0,0]
[null,null,null,null,null,null,null,null,null,null,null,null,null,null,null,null,"2021-01-01","00:00:00","2021-01-01","2021-01-01","2021-01-01",0,0,0,0,0,0,"","",0,0,0]
[null,null,null,null,null,null,null,null,null,null,null,null,null,null,null,null,"2021-01-01","00:00:00","2021-01-01","2021-01-01","2021-01-01",0,0,0,0,0,0,"","",0,0,0]
[null,null,null,null,null,null,null,null,null,null,null,null,null,null,null,null,"2021-01-01","00:00:00","2021-01-01","2021-01-01","2021-01-01",0,0,0,0,0,0,"","",0,0,0]
[null,null,null,null,null,null,null,null,null,null,null,null,null,null,null,null,"2021-01-01","00:00:00","2021-01-01","2021-01-01","2021-01-01",0,0,0,0,0,0,"","",0,0,0]
[null,null,null,null,null,null,null,null,null,null,null,null,null,null,null,null,"2021-01-01","00:00:00","2021-01-01","2021-01-01","2021-01-01",0,0,0,0,0,0,"","",0,0,0]
[null,null,null,null,null,null,null,null,null,null,null,null,null,null,null,null,"2021-01-01","00:00:00","2021-01-01","2021-01-01","2021-01-01",0,0,0,0,0,0,"","",0,0,0]
[null,null,null,null,null,null,null,null,null,null,null,null,null,null,null,null,"2021-01-01","00:00:00","2021-01-01","2021-01-01","2021-01-01",0,0,0,0,0,0,"","",0,0,0]
[null,null,null,null,null,null,null,null,null,null,null,null,null,null,null,null,"2021-01-01","00:00:00","2021-01-01","2021-01-01","2021-01-01",0,0,0,0,0,0,"","",0,0,0]
[null,null,null,null,null,null,null,null,null,null,null,null,null,null,null,null,"2021-01-01","00:00:00","2021-01-01","2021-01-01","2021-01-01",0,0,0,0,0,0,"","",0,0,0]
[null,null,null,null,null,null,null,null,null,null,null,null,null,null,null,null,"2021-01-01","00:00:00","2021-01-01","2021-01-01","2021-01-01",0,0,0,0,0,0,"","",0,{"$f":"IF(OR($Q259>$Q$1,$R259<$Q$1),0,YEARFRAC($E259,$Q259,1))*12","v":0},{"$f":"IF(OR($Q259>$R$1,$R259<$R$1),0,YEARFRAC($E259,$R259,1))*12","v":0}]
[null,null,null,null,null,null,null,null,null,null,null,null,null,null,null,null,{"$f":"IF(OR(K260<$Q$1,K260=\"Altbestand\"),$Q$1,IF(AND(K260=\"Nachzucht\",E260>$Q$1),E260,IF(K260=\"Nachzucht\",$Q$1,K260)))","v":"2021-01-01"},{"$f":"IF(OR(L260>$R$1,L260=\"Nein\"),$R$1,L260)","v":"00:00:00"},{"$f":"IF(OR(R260<Q260,(E260+183)<Q260),Q260,IF((E260+183)>R260,R260,(E260+183)))","v":"2021-01-01"},{"$f":"IF(OR(S260=R260,(E260+365)<Q260,R260<Q260),S260,IF((E260+365)>R260,R260,(E260+365)))","v":"2021-01-01"},{"$f":"IF(OR(T260=R260,S260=R260,(E260+365*2)<Q260,R260<Q260),T260,IF((E260+365*2)>R260,R260,(E260+365*2)))","v":"2021-01-01"},{"$f":"IF(AC260=\"Kuh\",\"Kuh\",F260)","v":0},{"$f":"S260-Q260","v":0},{"$f":"+T260-S260","v":0},{"$f":"+U260-T260","v":0},{"$f":"IF(AB260=\"\",0,AB260-AA260)","v":0},{"$f":"SUM(W260:Y260)","v":0},{"$f":"IF(R260<Q260,\"\",R260-Q260)","v":""},{"$f":"IF(OR((ISNA(VLOOKUP(C260,$I$3:$I$138,1,FALSE))=FALSE),AND(AD260>1200,F260=\"w\"),M260=\"Ja\"),\"Kuh\",\"\")","v":""},{"$f":"IF(OR(L260=\"Nein\",L260=\"Ja\"),$R$1-E260,L260-E260)","v":0},0,0]
[null,null,null,null,null,null,null,null,null,null,null,null,null,null,null,null,"2021-01-01","00:00:00","2021-01-01","2021-01-01","2021-01-01",0,0,0,0,0,0,"","",0,0,0]
[null,null,null,null,null,null,null,null,null,null,null,null,null,null,null,null,"2021-01-01","00:00:00","2021-01-01","2021-01-01","2021-01-01",0,0,0,0,0,0,"","",0,0,0]
[null,null,null,null,null,null,null,null,null,null,null,null,null,null,null,null,"2021-01-01","00:00:00","2021-01-01","2021-01-01","2021-01-01",0,0,0,0,0,0,"","",0,0,0]
[null,null,null,null,null,null,null,null,null,null,null,null,null,null,null,null,"2021-01-01","00:00:00","2021-01-01","2021-01-01","2021-01-01",0,0,0,0,0,0,"","",0,0,0]
[null,null,null,null,null,null,null,null,null,null,null,null,null,null,null,null,"2021-01-01","00:00:00","2021-01-01","2021-01-01","2021-01-01",0,0,0,0,0,0,"","",0,0,0]
[null,null,null,null,null,null,null,null,null,null,null,null,null,null,null,null,"2021-01-01","00:00:00","2021-01-01","2021-01-01","2021-01-01",0,0,0,0,0,0,"","",0,0,0]
[null,null,null,null,null,null,null,null,null,null,null,null,null,null,null,null,"2021-01-01","00:00:00","2021-01-01","2021-01-01","2021-01-01",0,0,0,0,0,0,"","",0,0,0]
[null,null,null,null,null,null,null,null,null,null,null,null,null,null,null,null,"2021-01-01","00:00:00","2021-01-01","2021-01-01","2021-01-01",0,0,0,0,0,0,"","",0,0,0]
[null,null,null,null,null,null,null,null,null,null,null,null,null,null,null,null,"2021-01-01","00:00:00","2021-01-01","2021-01-01","2021-01-01",0,0,0,0,0,0,"","",0,0,0]
[null,null,null,null,null,null,null,null,null,null,null,null,null,null,null,null,"2021-01-01","00:00:00","2021-01-01","2021-01-01","2021-01-01",0,0,0,0,0,0,"","",0,0,0]
[null,null,null,null,null,null,null,null,null,null,null,null,null,null,null,null,"2021-01-01","00:00:00","2021-01-01","2021-01-01","2021-01-01",0,0,0,0,0,0,"","",0,0,0]
[null,null,null,null,null,null,null,null,null,null,null,null,null,null,null,null,"2021-01-01","00:00:00","2021-01-01","2021-01-01","2021-01-01",0,0,0,0,0,0,"","",0,0,0]
[null,null,null,null,null,null,null,null,null,null,null,null,null,null,null,null,"2021-01-01","00:00:00","2021-01-01","2021-01-01","2021-01-01",0,0,0,0,0,0,"","",0,0,0]
[null,null,null,null,null,null,null,null,null,null,null,null,null,null,null,null,"2021-01-01","00:00:00","2021-01-01","2021-01-01","2021-01-01",0,0,0,0,0,0,"","",0,0,0]
[null,null,null,null,null,null,null,null,null,null,null,null,null,null,null,null,"2021-01-01","00:00:00","2021-01-01","2021-01-01","2021-01-01",0,0,0,0,0,0,"","",0,0,0]
[null,null,null,null,null,null,null,null,null,null,null,null,null,null,null,null,"2021-01-01","00:00:00","2021-01-01","2021-01-01","2021-01-01",0,0,0,0,0,0,"","",0,0,0]
[null,null,null,null,null,null,null,null,null,null,null,null,null,null,null,null,"2021-01-01","00:00:00","2021-01-01","2021-01-01","2021-01-01",0,0,0,0,0,0,"","",0,0,0]
[null,null,null,null,null,null,null,null,null,null,null,null,null,null,null,null,"2021-01-01","00:00:00","2021-01-01","2021-01-01","2021-01-01",0,0,0,0,0,0,"","",0,0,0]
[null,null,null,null,null,null,null,null,null,null,null,null,null,null,null,null,"2021-01-01","00:00:00","2021-01-01","2021-01-01","2021-01-01",0,0,0,0,0,0,"","",0,0,0]
[null,null,null,null,null,null,null,null,null,null,null,null,null,null,null,null,"2021-01-01","00:00:00","2021-01-01","2021-01-01","2021-01-01",0,0,0,0,0,0,"","",0,0,0]
[null,null,null,null,null,null,null,null,null,null,null,null,null,null,null,null,"2021-01-01","00:00:00","2021-01-01","2021-01-01","2021-01-01",0,0,0,0,0,0,"","",0,0,0]
[null,null,null,null,null,null,null,null,null,null,null,null,null,null,null,null,"2021-01-01","00:00:00","2021-01-01","2021-01-01","2021-01-01",0,0,0,0,0,0,"","",0,0,0]
[null,null,null,null,null,null,null,null,null,null,null,null,null,null,null,null,"2021-01-01","00:00:00","2021-01-01","2021-01-01","2021-01-01",0,0,0,0,0,0,"","",0,0,0]
[null,null,null,null,null,null,null,null,null,null,null,null,null,null,null,null,"2021-01-01","00:00:00","2021-01-01","2021-01-01","2021-01-01",0,0,0,0,0,0,"","",0,0,0]
[null,null,null,null,null,null,null,null,null,null,null,null,null,null,null,null,"2021-01-01","00:00:00","2021-01-01","2021-01-01","2021-01-01",0,0,0,0,0,0,"","",0,0,0]
[null,null,null,null,null,null,null,null,null,null,null,null,null,null,null,null,"2021-01-01","00:00:00","2021-01-01","2021-01-01","2021-01-01",0,0,0,0,0,0,"","",0,0,0]
[null,null,null,null,null,null,null,null,null,null,null,null,null,null,null,null,"2021-01-01","00:00:00","2021-01-01","2021-01-01","2021-01-01",0,0,0,0,0,0,"","",0,0,0]
[null,null,null,null,null,null,null,null,null,null,null,null,null,null,null,null,"2021-01-01","00:00:00","2021-01-01","2021-01-01","2021-01-01",0,0,0,0,0,0,"","",0,0,0]
[null,null,null,null,null,null,null,null,null,null,null,null,null,null,null,null,"2021-01-01","00:00:00","2021-01-01","2021-01-01","2021-01-01",0,0,0,0,0,0,"","",0,0,0]
[null,null,null,null,null,null,null,null,null,null,null,null,null,null,null,null,"2021-01-01","00:00:00","2021-01-01","2021-01-01","2021-01-01",0,0,0,0,0,0,"","",0,0,0]
[null,null,null,null,null,null,null,null,null,null,null,null,null,null,null,null,"2021-01-01","00:00:00","2021-01-01","2021-01-01","2021-01-01",0,0,0,0,0,0,"","",0,0,0]
[null,null,null,null,null,null,null,null,null,null,null,null,null,null,null,null,"2021-01-01","00:00:00","2021-01-01","2021-01-01","2021-01-01",0,0,0,0,0,0,"","",0,0,0]
[null,null,null,null,null,null,null,null,null,null,null,null,null,null,null,null,"2021-01-01","00:00:00","2021-01-01","2021-01-01","2021-01-01",0,0,0,0,0,0,"","",0,0,0]
[null,null,null,null,null,null,null,null,null,null,null,null,null,null,null,null,"2021-01-01","00:00:00","2021-01-01","2021-01-01","2021-01-01",0,0,0,0,0,0,"","",0,0,0]
[null,null,null,null,null,null,null,null,null,null,null,null,null,null,null,null,"2021-01-01","00:00:00","2021-01-01","2021-01-01","2021-01-01",0,0,0,0,0,0,"","",0,0,0]
[null,null,null,null,null,null,null,null,null,null,null,null,null,null,null,null,"2021-01-01","00:00:00","2021-01-01","2021-01-01","2021-01-01",0,0,0,0,0,0,"","",0,0,0]
[null,null,null,null,null,null,null,null,null,null,null,null,null,null,null,null,"2021-01-01","00:00:00","2021-01-01","2021-01-01","2021-01-01",0,0,0,0,0,0,"","",0,0,0]
[null,null,null,null,null,null,null,null,null,null,null,null,null,null,null,null,"2021-01-01","00:00:00","2021-01-01","2021-01-01","2021-01-01",0,0,0,0,0,0,"","",0,0,0]
[null,null,null,null,null,null,null,null,null,null,null,null,null,null,null,null,"2021-01-01","00:00:00","2021-01-01","2021-01-01","2021-01-01",0,0,0,0,0,0,"","",0,0,0]
[null,null,null,null,null,null,null,null,null,null,null,null,null,null,null,null,"2021-01-01","00:00:00","2021-01-01","2021-01-01","2021-01-01",0,0,0,0,0,0,"","",0,0,0]
[null,null,null,null,null,null,null,null,null,null,null,null,null,null,null,null,"2021-01-01","00:00:00","2021-01-01","2021-01-01","2021-01-01",0,0,0,0,0,0,"","",0,0,0]
[null,null,null,null,null,null,null,null,null,null,null,null,null,null,null,null,"2021-01-01","00:00:00","2021-01-01","2021-01-01","2021-01-01",0,0,0,0,0,0,"","",0,0,0]
[null,null,null,null,null,null,null,null,null,null,null,null,null,null,null,null,"2021-01-01","00:00:00","2021-01-01","2021-01-01","2021-01-01",0,0,0,0,0,0,"","",0,0,0]
[null,null,null,null,null,null,null,null,null,null,null,null,null,null,null,null,"2021-01-01","00:00:00","2021-01-01","2021-01-01","2021-01-01",0,0,0,0,0,0,"","",0,0,0]
[null,null,null,null,null,null,null,null,null,null,null,null,null,null,null,null,"2021-01-01","00:00:00","2021-01-01","2021-01-01","2021-01-01",0,0,0,0,0,0,"","",0,0,0]
[null,null,null,null,null,null,null,null,null,null,null,null,null,null,null,null,"2021-01-01","00:00:00","2021-01-01","2021-01-01","2021-01-01",0,0,0,0,0,0,"","",0,0,0]
[null,null,null,null,null,null,null,null,null,null,null,null,null,null,null,null,"2021-01-01","00:00:00","2021-01-01","2021-01-01","2021-01-01",0,0,0,0,0,0,"","",0,0,0]
[null,null,null,null,null,null,null,null,null,null,null,null,null,null,null,null,"2021-01-01","00:00:00","2021-01-01","2021-01-01","2021-01-01",0,0,0,0,0,0,"","",0,0,0]
[null,null,null,null,null,null,null,null,null,null,null,null,null,null,null,null,"2021-01-01","00:00:00","2021-01-01","2021-01-01","2021-01-01",0,0,0,0,0,0,"","",0,0,0]
[null,null,null,null,null,null,null,null,null,null,null,null,null,null,null,null,"2021-01-01","00:00:00","2021-01-01","2021-01-01","2021-01-01",0,0,0,0,0,0,"","",0,0,0]
[null,null,null,null,null,null,null,null,null,null,null,null,null,null,null,null,"2021-01-01","00:00:00","2021-01-01","2021-01-01","2021-01-01",0,0,0,0,0,0,"","",0,0,0]
[null,null,null,null,null,null,null,null,null,null,null,null,null,null,null,null,"2021-01-01","00:00:00","2021-01-01","2021-01-01","2021-01-01",0,0,0,0,0,0,"","",0,0,0]
[null,null,null,null,null,null,null,null,null,null,null,null,null,null,null,null,"2021-01-01","00:00:00","2021-01-01","2021-01-01","2021-01-01",0,0,0,0,0,0,"","",0,0,0]
[null,null,null,null,null,null,null,null,null,null,null,null,null,null,null,null,"2021-01-01","00:00:00","2021-01-01","2021-01-01","2021-01-01",0,0,0,0,0,0,"","",0,0,0]
[null,null,null,null,null,null,null,null,null,null,null,null,null,null,null,null,"2021-01-01","00:00:00","2021-01-01","2021-01-01","2021-01-01",0,0,0,0,0,0,"","",0,0,0]
[null,null,null,null,null,null,null,null,null,null,null,null,null,null,null,null,"2021-01-01","00:00:00","2021-01-01","2021-01-01","2021-01-01",0,0,0,0,0,0,"","",0,0,0]
[null,null,null,null,null,null,null,null,null,null,null,null,null,null,null,null,"2021-01-01","00:00:00","2021-01-01","2021-01-01","2021-01-01",0,0,0,0,0,0,"","",0,0,0]
[null,null,null,null,null,null,null,null,null,null,null,null,null,null,null,null,"2021-01-01","00:00:00","2021-01-01","2021-01-01","2021-01-01",0,0,0,0,0,0,"","",0,0,0]
[null,null,null,null,null,null,null,null,null,null,null,null,null,null,null,null,"2021-01-01","00:00:00","2021-01-01","2021-01-01","2021-01-01",0,0,0,0,0,0,"","",0,0,0]
[null,null,null,null,null,null,null,null,null,null,null,null,null,null,null,null,"2021-01-01","00:00:00","2021-01-01","2021-01-01","2021-01-01",0,0,0,0,0,0,"","",0,0,0]
[null,null,null,null,null,null,null,null,null,null,null,null,null,null,null,null,"2021-01-01","00:00:00","2021-01-01","2021-01-01","2021-01-01",0,0,0,0,0,0,"","",0,0,0]
[null,null,null,null,null,null,null,null,null,null,null,null,null,null,null,null,"2021-01-01","00:00:00","2021-01-01","2021-01-01","2021-01-01",0,0,0,0,0,0,"","",0,0,0]
[null,null,null,null,null,null,null,null,null,null,null,null,null,null,null,null,"2021-01-01","00:00:00","2021-01-01","2021-01-01","2021-01-01",0,0,0,0,0,0,"","",0,{"$f":"IF(OR($Q323>$Q$1,$R323<$Q$1),0,YEARFRAC($E323,$Q323,1))*12","v":0},{"$f":"IF(OR($Q323>$R$1,$R323<$R$1),0,YEARFRAC($E323,$R323,1))*12","v":0}]
[null,null,null,null,null,null,null,null,null,null,null,null,null,null,null,null,{"$f":"IF(OR(K324<$Q$1,K324=\"Altbestand\"),$Q$1,IF(AND(K324=\"Nachzucht\",E324>$Q$1),E324,IF(K324=\"Nachzucht\",$Q$1,K324)))","v":"2021-01-01"},{"$f":"IF(OR(L324>$R$1,L324=\"Nein\"),$R$1,L324)","v":"00:00:00"},{"$f":"IF(OR(R324<Q324,(E324+183)<Q324),Q324,IF((E324+183)>R324,R324,(E324+183)))","v":"2021-01-01"},{"$f":"IF(OR(S324=R324,(E324+365)<Q324,R324<Q324),S324,IF((E324+365)>R324,R324,(E324+365)))","v":"2021-01-01"},{"$f":"IF(OR(T324=R324,S324=R324,(E324+365*2)<Q324,R324<Q324),T324,IF((E324+365*2)>R324,R324,(E324+365*2)))","v":"2021-01-01"},{"$f":"IF(AC324=\"Kuh\",\"Kuh\",F324)","v":0},{"$f":"S324-Q324","v":0},{"$f":"+T324-S324","v":0},{"$f":"+U324-T324","v":0},{"$f":"IF(AB324=\"\",0,AB324-AA324)","v":0},{"$f":"SUM(W324:Y324)","v":0},{"$f":"IF(R324<Q324,\"\",R324-Q324)","v":""},{"$f":"IF(OR((ISNA(VLOOKUP(C324,$I$3:$I$138,1,FALSE))=FALSE),AND(AD324>1200,F324=\"w\"),M324=\"Ja\"),\"Kuh\",\"\")","v":""},{"$f":"IF(OR(L324=\"Nein\",L324=\"Ja\"),$R$1-E324,L324-E324)","v":0},0,0]
[null,null,null,null,null,null,null,null,null,null,null,null,null,null,null,null,"2021-01-01","00:00:00","2021-01-01","2021-01-01","2021-01-01",0,0,0,0,0,0,"","",0,0,0]
[null,null,null,null,null,null,null,null,null,null,null,null,null,null,null,null,"2021-01-01","00:00:00","2021-01-01","2021-01-01","2021-01-01",0,0,0,0,0,0,"","",0,0,0]
[null,null,null,null,null,null,null,null,null,null,null,null,null,null,null,null,"2021-01-01","00:00:00","2021-01-01","2021-01-01","2021-01-01",0,0,0,0,0,0,"","",0,0,0]
[null,null,null,null,null,null,null,null,null,null,null,null,null,null,null,null,"2021-01-01","00:00:00","2021-01-01","2021-01-01","2021-01-01",0,0,0,0,0,0,"","",0,0,0]
[null,null,null,null,null,null,null,null,null,null,null,null,null,null,null,null,"2021-01-01","00:00:00","2021-01-01","2021-01-01","2021-01-01",0,0,0,0,0,0,"","",0,0,0]
[null,null,null,null,null,null,null,null,null,null,null,null,null,null,null,null,"2021-01-01","00:00:00","2021-01-01","2021-01-01","2021-01-01",0,0,0,0,0,0,"","",0,0,0]
[null,null,null,null,null,null,null,null,null,null,null,null,null,null,null,null,"2021-01-01","00:00:00","2021-01-01","2021-01-01","2021-01-01",0,0,0,0,0,0,"","",0,0,0]
[null,null,null,null,null,null,null,null,null,null,null,null,null,null,null,null,"2021-01-01","00:00:00","2021-01-01","2021-01-01","2021-01-01",0,0,0,0,0,0,"","",0,0,0]
[null,null,null,null,null,null,null,null,null,null,null,null,null,null,null,null,"2021-01-01","00:00:00","2021-01-01","2021-01-01","2021-01-01",0,0,0,0,0,0,"","",0,0,0]
[null,null,null,null,null,null,null,null,null,null,null,null,null,null,null,null,"2021-01-01","00:00:00","2021-01-01","2021-01-01","2021-01-01",0,0,0,0,0,0,"","",0,0,0]
[null,null,null,null,null,null,null,null,null,null,null,null,null,null,null,null,"2021-01-01","00:00:00","2021-01-01","2021-01-01","2021-01-01",0,0,0,0,0,0,"","",0,0,0]
[null,null,null,null,null,null,null,null,null,null,null,null,null,null,null,null,"2021-01-01","00:00:00","2021-01-01","2021-01-01","2021-01-01",0,0,0,0,0,0,"","",0,0,0]
[null,null,null,null,null,null,null,null,null,null,null,null,null,null,null,null,"2021-01-01","00:00:00","2021-01-01","2021-01-01","2021-01-01",0,0,0,0,0,0,"","",0,0,0]
[null,null,null,null,null,null,null,null,null,null,null,null,null,null,null,null,"2021-01-01","00:00:00","2021-01-01","2021-01-01","2021-01-01",0,0,0,0,0,0,"","",0,0,0]
[null,null,null,null,null,null,null,null,null,null,null,null,null,null,null,null,"2021-01-01","00:00:00","2021-01-01","2021-01-01","2021-01-01",0,0,0,0,0,0,"","",0,0,0]
[null,null,null,null,null,null,null,null,null,null,null,null,null,null,null,null,"2021-01-01","00:00:00","2021-01-01","2021-01-01","2021-01-01",0,0,0,0,0,0,"","",0,0,0]
[null,null,null,null,null,null,null,null,null,null,null,null,null,null,null,null,"2021-01-01","00:00:00","2021-01-01","2021-01-01","2021-01-01",0,0,0,0,0,0,"","",0,0,0]
[null,null,null,null,null,null,null,null,null,null,null,null,null,null,null,null,"2021-01-01","00:00:00","2021-01-01","2021-01-01","2021-01-01",0,0,0,0,0,0,"","",0,0,0]
[null,null,null,null,null,null,null,null,null,null,null,null,null,null,null,null,"2021-01-01","00:00:00","2021-01-01","2021-01-01","2021-01-01",0,0,0,0,0,0,"","",0,0,0]
[null,null,null,null,null,null,null,null,null,null,null,null,null,null,null,null,"2021-01-01","00:00:00","2021-01-01","2021-01-01","2021-01-01",0,0,0,0,0,0,"","",0,0,0]
[null,null,null,null,null,null,null,null,null,null,null,null,null,null,null,null,"2021-01-01","00:00:00","2021-01-01","2021-01-01","2021-01-01",0,0,0,0,0,0,"","",0,0,0]
[null,null,null,null,null,null,null,null,null,null,null,null,null,null,null,null,"2021-01-01","00:00:00","2021-01-01","2021-01-01","2021-01-01",0,0,0,0,0,0,"","",0,0,0]
[null,null,null,null,null,null,null,null,null,null,null,null,null,null,null,null,"2021-01-01","00:00:00","2021-01-01","2021-01-01","2021-01-01",0,0,0,0,0,0,"","",0,0,0]
[null,null,null,null,null,null,null,null,null,null,null,null,null,null,null,null,"2021-01-01","00:00:00","2021-01-01","2021-01-01","2021-01-01",0,0,0,0,0,0,"","",0,0,0]
[null,null,null,null,null,null,null,null,null,null,null,null,null,null,null,null,"2021-01-01","00:00:00","2021-01-01","2021-01-01","2021-01-01",0,0,0,0,0,0,"","",0,0,0]
[null,null,null,null,null,null,null,null,null,null,null,null,null,null,null,null,"2021-01-01","00:00:00","2021-01-01","2021-01-01","2021-01-01",0,0,0,0,0,0,"","",0,0,0]
[null,null,null,null,null,null,null,null,null,null,null,null,null,null,null,null,"2021-01-01","00:00:00","2021-01-01","2021-01-01","2021-01-01",0,0,0,0,0,0,"","",0,0,0]
[null,null,null,null,null,null,null,null,null,null,null,null,null,null,null,null,"2021-01-01","00:00:00","2021-01-01","2021-01-01","2021-01-01",0,0,0,0,0,0,"","",0,0,0]
[null,null,null,null,null,null,null,null,null,null,null,null,null,null,null,null,"2021-01-01","00:00:00","2021-01-01","2021-01-01","2021-01-01",0,0,0,0,0,0,"","",0,0,0]
[null,null,null,null,null,null,null,null,null,null,null,null,null,null,null,null,"2021-01-01","00:00:00","2021-01-01","2021-01-01","2021-01-01",0,0,0,0,0,0,"","",0,0,0]
[null,null,null,null,null,null,null,null,null,null,null,null,null,null,null,null,"2021-01-01","00:00:00","2021-01-01","2021-01-01","2021-01-01",0,0,0,0,0,0,"","",0,0,0]
[null,null,null,null,null,null,null,null,null,null,null,null,null,null,null,null,"2021-01-01","00:00:00","2021-01-01","2021-01-01","2021-01-01",0,0,0,0,0,0,"","",0,0,0]
[null,null,null,null,null,null,null,null,null,null,null,null,null,null,null,null,"2021-01-01","00:00:00","2021-01-01","2021-01-01","2021-01-01",0,0,0,0,0,0,"","",0,0,0]
[null,null,null,null,null,null,null,null,null,null,null,null,null,null,null,null,"2021-01-01","00:00:00","2021-01-01","2021-01-01","2021-01-01",0,0,0,0,0,0,"","",0,0,0]
[null,null,null,null,null,null,null,null,null,null,null,null,null,null,null,null,"2021-01-01","00:00:00","2021-01-01","2021-01-01","2021-01-01",0,0,0,0,0,0,"","",0,0,0]
[null,null,null,null,null,null,null,null,null,null,null,null,null,null,null,null,"2021-01-01","00:00:00","2021-01-01","2021-01-01","2021-01-01",0,0,0,0,0,0,"","",0,0,0]
[null,null,null,null,null,null,null,null,null,null,null,null,null,null,null,null,"2021-01-01","00:00:00","2021-01-01","2021-01-01","2021-01-01",0,0,0,0,0,0,"","",0,0,0]
[null,null,null,null,null,null,null,null,null,null,null,null,null,null,null,null,"2021-01-01","00:00:00","2021-01-01","2021-01-01","2021-01-01",0,0,0,0,0,0,"","",0,0,0]
[null,null,null,null,null,null,null,null,null,null,null,null,null,null,null,null,"2021-01-01","00:00:00","2021-01-01","2021-01-01","2021-01-01",0,0,0,0,0,0,"","",0,0,0]
[null,null,null,null,null,null,null,null,null,null,null,null,null,null,null,null,"2021-01-01","00:00:00","2021-01-01","2021-01-01","2021-01-01",0,0,0,0,0,0,"","",0,0,0]
[null,null,null,null,null,null,null,null,null,null,null,null,null,null,null,null,"2021-01-01","00:00:00","2021-01-01","2021-01-01","2021-01-01",0,0,0,0,0,0,"","",0,0,0]
[null,null,null,null,null,null,null,null,null,null,null,null,null,null,null,null,"2021-01-01","00:00:00","2021-01-01","2021-01-01","2021-01-01",0,0,0,0,0,0,"","",0,0,0]
[null,null,null,null,null,null,null,null,null,null,null,null,null,null,null,null,"2021-01-01","00:00:00","2021-01-01","2021-01-01","2021-01-01",0,0,0,0,0,0,"","",0,0,0]
[null,null,null,null,null,null,null,null,null,null,null,null,null,null,null,null,"2021-01-01","00:00:00","2021-01-01","2021-01-01","2021-01-01",0,0,0,0,0,0,"","",0,0,0]
[null,null,null,null,null,null,null,null,null,null,null,null,null,null,null,null,"2021-01-01","00:00:00","2021-01-01","2021-01-01","2021-01-01",0,0,0,0,0,0,"","",0,0,0]
[null,null,null,null,null,null,null,null,null,null,null,null,null,null,null,null,"2021-01-01","00:00:00","2021-01-01","2021-01-01","2021-01-01",0,0,0,0,0,0,"","",0,0,0]
[null,null,null,null,null,null,null,null,null,null,null,null,null,null,null,null,"2021-01-01","00:00:00","2021-01-01","2021-01-01","2021-01-01",0,0,0,0,0,0,"","",0,0,0]
[null,null,null,null,null,null,null,null,null,null,null,null,null,null,null,null,"2021-01-01","00:00:00","2021-01-01","2021-01-01","2021-01-01",0,0,0,0,0,0,"","",0,0,0]
[null,null,null,null,null,null,null,null,null,null,null,null,null,null,null,null,"2021-01-01","00:00:00","2021-01-01","2021-01-01","2021-01-01",0,0,0,0,0,0,"","",0,0,0]
[null,null,null,null,null,null,null,null,null,null,null,null,null,null,null,null,"2021-01-01","00:00:00","2021-01-01","2021-01-01","2021-01-01",0,0,0,0,0,0,"","",0,0,0]
[null,null,null,null,null,null,null,null,null,null,null,null,null,null,null,null,"2021-01-01","00:00:00","2021-01-01","2021-01-01","2021-01-01",0,0,0,0,0,0,"","",0,0,0]
[null,null,null,null,null,null,null,null,null,null,null,null,null,null,null,null,"2021-01-01","00:00:00","2021-01-01","2021-01-01","2021-01-01",0,0,0,0,0,0,"","",0,0,0]
[null,null,null,null,null,null,null,null,null,null,null,null,null,null,null,null,"2021-01-01","00:00:00","2021-01-01","2021-01-01","2021-01-01",0,0,0,0,0,0,"","",0,0,0]
[null,null,null,null,null,null,null,null,null,null,null,null,null,null,null,null,"2021-01-01","00:00:00","2021-01-01","2021-01-01","2021-01-01",0,0,0,0,0,0,"","",0,0,0]
[null,null,null,null,null,null,null,null,null,null,null,null,null,null,null,null,"2021-01-01","00:00:00","2021-01-01","2021-01-01","2021-01-01",0,0,0,0,0,0,"","",0,0,0]
[null,null,null,null,null,null,null,null,null,null,null,null,null,null,null,null,"2021-01-01","00:00:00","2021-01-01","2021-01-01","2021-01-01",0,0,0,0,0,0,"","",0,0,0]
[null,null,null,null,null,null,null,null,null,null,null,null,null,null,null,null,"2021-01-01","00:00:00","2021-01-01","2021-01-01","2021-01-01",0,0,0,0,0,0,"","",0,0,0]
[null,null,null,null,null,null,null,null,null,null,null,null,null,null,null,null,"2021-01-01","00:00:00","2021-01-01","2021-01-01","2021-01-01",0,0,0,0,0,0,"","",0,0,0]
[null,null,null,null,null,null,null,null,null,null,null,null,null,null,null,null,"2021-01-01","00:00:00","2021-01-01","2021-01-01","2021-01-01",0,0,0,0,0,0,"","",0,0,0]
[null,null,null,null,null,null,null,null,null,null,null,null,null,null,null,null,"2021-01-01","00:00:00","2021-01-01","2021-01-01","2021-01-01",0,0,0,0,0,0,"","",0,0,0]
[null,null,null,null,null,null,null,null,null,null,null,null,null,null,null,null,"2021-01-01","00:00:00","2021-01-01","2021-01-01","2021-01-01",0,0,0,0,0,0,"","",0,0,0]
[null,null,null,null,null,null,null,null,null,null,null,null,null,null,null,null,"2021-01-01","00:00:00","2021-01-01","2021-01-01","2021-01-01",0,0,0,0,0,0,"","",0,0,0]
[null,null,null,null,null,null,null,null,null,null,null,null,null,null,null,null,"2021-01-01","00:00:00","2021-01-01","2021-01-01","2021-01-01",0,0,0,0,0,0,"","",0,{"$f":"IF(OR($Q387>$Q$1,$R387<$Q$1),0,YEARFRAC($E387,$Q387,1))*12","v":0},{"$f":"IF(OR($Q387>$R$1,$R387<$R$1),0,YEARFRAC($E387,$R387,1))*12","v":0}]
[null,null,null,null,null,null,null,null,null,null,null,null,null,null,null,null,{"$f":"IF(OR(K388<$Q$1,K388=\"Altbestand\"),$Q$1,IF(AND(K388=\"Nachzucht\",E388>$Q$1),E388,IF(K388=\"Nachzucht\",$Q$1,K388)))","v":"2021-01-01"},{"$f":"IF(OR(L388>$R$1,L388=\"Nein\"),$R$1,L388)","v":"00:00:00"},{"$f":"IF(OR(R388<Q388,(E388+183)<Q388),Q388,IF((E388+183)>R388,R388,(E388+183)))","v":"2021-01-01"},{"$f":"IF(OR(S388=R388,(E388+365)<Q388,R388<Q388),S388,IF((E388+365)>R388,R388,(E388+365)))","v":"2021-01-01"},{"$f":"IF(OR(T388=R388,S388=R388,(E388+365*2)<Q388,R388<Q388),T388,IF((E388+365*2)>R388,R388,(E388+365*2)))","v":"2021-01-01"},{"$f":"IF(AC388=\"Kuh\",\"Kuh\",F388)","v":0},{"$f":"S388-Q388","v":0},{"$f":"+T388-S388","v":0},{"$f":"+U388-T388","v":0},{"$f":"IF(AB388=\"\",0,AB388-AA388)","v":0},{"$f":"SUM(W388:Y388)","v":0},{"$f":"IF(R388<Q388,\"\",R388-Q388)","v":""},{"$f":"IF(OR((ISNA(VLOOKUP(C388,$I$3:$I$138,1,FALSE))=FALSE),AND(AD388>1200,F388=\"w\"),M388=\"Ja\"),\"Kuh\",\"\")","v":""},{"$f":"IF(OR(L388=\"Nein\",L388=\"Ja\"),$R$1-E388,L388-E388)","v":0},0,0]
[null,null,null,null,null,null,null,null,null,null,null,null,null,null,null,null,"2021-01-01","00:00:00","2021-01-01","2021-01-01","2021-01-01",0,0,0,0,0,0,"","",0,0,0]
[null,null,null,null,null,null,null,null,null,null,null,null,null,null,null,null,"2021-01-01","00:00:00","2021-01-01","2021-01-01","2021-01-01",0,0,0,0,0,0,"","",0,0,0]
[null,null,null,null,null,null,null,null,null,null,null,null,null,null,null,null,"2021-01-01","00:00:00","2021-01-01","2021-01-01","2021-01-01",0,0,0,0,0,0,"","",0,0,0]
[null,null,null,null,null,null,null,null,null,null,null,null,null,null,null,null,"2021-01-01","00:00:00","2021-01-01","2021-01-01","2021-01-01",0,0,0,0,0,0,"","",0,0,0]
[null,null,null,null,null,null,null,null,null,null,null,null,null,null,null,null,"2021-01-01","00:00:00","2021-01-01","2021-01-01","2021-01-01",0,0,0,0,0,0,"","",0,0,0]
[null,null,null,null,null,null,null,null,null,null,null,null,null,null,null,null,"2021-01-01","00:00:00","2021-01-01","2021-01-01","2021-01-01",0,0,0,0,0,0,"","",0,0,0]
[null,null,null,null,null,null,null,null,null,null,null,null,null,null,null,null,"2021-01-01","00:00:00","2021-01-01","2021-01-01","2021-01-01",0,0,0,0,0,0,"","",0,0,0]
[null,null,null,null,null,null,null,null,null,null,null,null,null,null,null,null,"2021-01-01","00:00:00","2021-01-01","2021-01-01","2021-01-01",0,0,0,0,0,0,"","",0,0,0]
[null,null,null,null,null,null,null,null,null,null,null,null,null,null,null,null,"2021-01-01","00:00:00","2021-01-01","2021-01-01","2021-01-01",0,0,0,0,0,0,"","",0,0,0]
[null,null,null,null,null,null,null,null,null,null,null,null,null,null,null,null,"2021-01-01","00:00:00","2021-01-01","2021-01-01","2021-01-01",0,0,0,0,0,0,"","",0,0,0]
[null,null,null,null,null,null,null,null,null,null,null,null,null,null,null,null,"2021-01-01","00:00:00","2021-01-01","2021-01-01","2021-01-01",0,0,0,0,0,0,"","",0,0,0]
[null,null,null,null,null,null,null,null,null,null,null,null,null,null,null,null,"2021-01-01","00:00:00","2021-01-01","2021-01-01","2021-01-01",0,0,0,0,0,0,"","",0,0,0]
[null,null,null,null,null,null,null,null,null,null,null,null,null,null,null,null,"2021-01-01","00:00:00","2021-01-01","2021-01-01","2021-01-01",0,0,0,0,0,0,"","",0,0,0]
[null,null,null,null,null,null,null,null,null,null,null,null,null,null,null,null,"2021-01-01","00:00:00","2021-01-01","2021-01-01","2021-01-01",0,0,0,0,0,0,"","",0,0,0]
[null,null,null,null,null,null,null,null,null,null,null,null,null,null,null,null,"2021-01-01","00:00:00","2021-01-01","2021-01-01","2021-01-01",0,0,0,0,0,0,"","",0,0,0]
[null,null,null,null,null,null,null,null,null,null,null,null,null,null,null,null,"2021-01-01","00:00:00","2021-01-01","2021-01-01","2021-01-01",0,0,0,0,0,0,"","",0,0,0]
[null,null,null,null,null,null,null,null,null,null,null,null,null,null,null,null,"2021-01-01","00:00:00","2021-01-01","2021-01-01","2021-01-01",0,0,0,0,0,0,"","",0,0,0]
[null,null,null,null,null,null,null,null,null,null,null,null,null,null,null,null,"2021-01-01","00:00:00","2021-01-01","2021-01-01","2021-01-01",0,0,0,0,0,0,"","",0,0,0]
[null,null,null,null,null,null,null,null,null,null,null,null,null,null,null,null,"2021-01-01","00:00:00","2021-01-01","2021-01-01","2021-01-01",0,0,0,0,0,0,"","",0,0,0]
[null,null,null,null,null,null,null,null,null,null,null,null,null,null,null,null,"2021-01-01","00:00:00","2021-01-01","2021-01-01","2021-01-01",0,0,0,0,0,0,"","",0,0,0]
[null,null,null,null,null,null,null,null,null,null,null,null,null,null,null,null,"2021-01-01","00:00:00","2021-01-01","2021-01-01","2021-01-01",0,0,0,0,0,0,"","",0,0,0]
[null,null,null,null,null,null,null,null,null,null,null,null,null,null,null,null,"2021-01-01","00:00:00","2021-01-01","2021-01-01","2021-01-01",0,0,0,0,0,0,"","",0,0,0]
[null,null,null,null,null,null,null,null,null,null,null,null,null,null,null,null,"2021-01-01","00:00:00","2021-01-01","2021-01-01","2021-01-01",0,0,0,0,0,0,"","",0,0,0]
[null,null,null,null,null,null,null,null,null,null,null,null,null,null,null,null,"2021-01-01","00:00:00","2021-01-01","2021-01-01","2021-01-01",0,0,0,0,0,0,"","",0,0,0]
[null,null,null,null,null,null,null,null,null,null,null,null,null,null,null,null,"2021-01-01","00:00:00","2021-01-01","2021-01-01","2021-01-01",0,0,0,0,0,0,"","",0,0,0]
[null,null,null,null,null,null,null,null,null,null,null,null,null,null,null,null,"2021-01-01","00:00:00","2021-01-01","2021-01-01","2021-01-01",0,0,0,0,0,0,"","",0,0,0]
[null,null,null,null,null,null,null,null,null,null,null,null,null,null,null,null,"2021-01-01","00:00:00","2021-01-01","2021-01-01","2021-01-01",0,0,0,0,0,0,"","",0,0,0]
[null,null,null,null,null,null,null,null,null,null,null,null,null,null,null,null,"2021-01-01","00:00:00","2021-01-01","2021-01-01","2021-01-01",0,0,0,0,0,0,"","",0,0,0]
[null,null,null,null,null,null,null,null,null,null,null,null,null,null,null,null,"2021-01-01","00:00:00","2021-01-01","2021-01-01","2021-01-01",0,0,0,0,0,0,"","",0,0,0]
[null,null,null,null,null,null,null,null,null,null,null,null,null,null,null,null,"2021-01-01","00:00:00","2021-01-01","2021-01-01","2021-01-01",0,0,0,0,0,0,"","",0,0,0]
[null,null,null,null,null,null,null,null,null,null,null,null,null,null,null,null,"2021-01-01","00:00:00","2021-01-01","2021-01-01","2021-01-01",0,0,0,0,0,0,"","",0,0,0]
[null,null,null,null,null,null,null,null,null,null,null,null,null,null,null,null,"2021-01-01","00:00:00","2021-01-01","2021-01-01","2021-01-01",0,0,0,0,0,0,"","",0,0,0]
[null,null,null,null,null,null,null,null,null,null,null,null,null,null,null,null,"2021-01-01","00:00:00","2021-01-01","2021-01-01","2021-01-01",0,0,0,0,0,0,"","",0,0,0]
[null,null,null,null,null,null,null,null,null,null,null,null,null,null,null,null,"2021-01-01","00:00:00","2021-01-01","2021-01-01","2021-01-01",0,0,0,0,0,0,"","",0,0,0]
[null,null,null,null,null,null,null,null,null,null,null,null,null,null,null,null,"2021-01-01","00:00:00","2021-01-01","2021-01-01","2021-01-01",0,0,0,0,0,0,"","",0,0,0]
[null,null,null,null,null,null,null,null,null,null,null,null,null,null,null,null,"2021-01-01","00:00:00","2021-01-01","2021-01-01","2021-01-01",0,0,0,0,0,0,"","",0,0,0]
[null,null,null,null,null,null,null,null,null,null,null,null,null,null,null,null,"2021-01-01","00:00:00","2021-01-01","2021-01-01","2021-01-01",0,0,0,0,0,0,"","",0,0,0]
[null,null,null,null,null,null,null,null,null,null,null,null,null,null,null,null,"2021-01-01","00:00:00","2021-01-01","2021-01-01","2021-01-01",0,0,0,0,0,0,"","",0,0,0]
[null,null,null,null,null,null,null,null,null,null,null,null,null,null,null,null,"2021-01-01","00:00:00","2021-01-01","2021-01-01","2021-01-01",0,0,0,0,0,0,"","",0,0,0]
[null,null,null,null,null,null,null,null,null,null,null,null,null,null,null,null,"2021-01-01","00:00:00","2021-01-01","2021-01-01","2021-01-01",0,0,0,0,0,0,"","",0,0,0]
[null,null,null,null,null,null,null,null,null,null,null,null,null,null,null,null,"2021-01-01","00:00:00","2021-01-01","2021-01-01","2021-01-01",0,0,0,0,0,0,"","",0,0,0]
[null,null,null,null,null,null,null,null,null,null,null,null,null,null,null,null,"2021-01-01","00:00:00","2021-01-01","2021-01-01","2021-01-01",0,0,0,0,0,0,"","",0,0,0]
[null,null,null,null,null,null,null,null,null,null,null,null,null,null,null,null,"2021-01-01","00:00:00","2021-01-01","2021-01-01","2021-01-01",0,0,0,0,0,0,"","",0,0,0]
[null,null,null,null,null,null,null,null,null,null,null,null,null,null,null,null,"2021-01-01","00:00:00","2021-01-01","2021-01-01","2021-01-01",0,0,0,0,0,0,"","",0,0,0]
[null,null,null,null,null,null,null,null,null,null,null,null,null,null,null,null,"2021-01-01","00:00:00","2021-01-01","2021-01-01","2021-01-01",0,0,0,0,0,0,"","",0,0,0]
[null,null,null,null,null,null,null,null,null,null,null,null,null,null,null,null,"2021-01-01","00:00:00","2021-01-01","2021-01-01","2021-01-01",0,0,0,0,0,0,"","",0,0,0]
[null,null,null,null,null,null,null,null,null,null,null,null,null,null,null,null,"2021-01-01","00:00:00","2021-01-01","2021-01-01","2021-01-01",0,0,0,0,0,0,"","",0,0,0]
[null,null,null,null,null,null,null,null,null,null,null,null,null,null,null,null,"2021-01-01","00:00:00","2021-01-01","2021-01-01","2021-01-01",0,0,0,0,0,0,"","",0,0,0]
[null,null,null,null,null,null,null,null,null,null,null,null,null,null,null,null,"2021-01-01","00:00:00","2021-01-01","2021-01-01","2021-01-01",0,0,0,0,0,0,"","",0,0,0]
[null,null,null,null,null,null,null,null,null,null,null,null,null,null,null,null,"2021-01-01","00:00:00","2021-01-01","2021-01-01","2021-01-01",0,0,0,0,0,0,"","",0,0,0]
[null,null,null,null,null,null,null,null,null,null,null,null,null,null,null,null,"2021-01-01","00:00:00","2021-01-01","2021-01-01","2021-01-01",0,0,0,0,0,0,"","",0,0,0]
[null,null,null,null,null,null,null,null,null,null,null,null,null,null,null,null,"2021-01-01","00:00:00","2021-01-01","2021-01-01","2021-01-01",0,0,0,0,0,0,"","",0,0,0]
[null,null,null,null,null,null,null,null,null,null,null,null,null,null,null,null,"2021-01-01","00:00:00","2021-01-01","2021-01-01","2021-01-01",0,0,0,0,0,0,"","",0,0,0]
[null,null,null,null,null,null,null,null,null,null,null,null,null,null,null,null,"2021-01-01","00:00:00","2021-01-01","2021-01-01","2021-01-01",0,0,0,0,0,0,"","",0,0,0]
[null,null,null,null,null,null,null,null,null,null,null,null,null,null,null,null,"2021-01-01","00:00:00","2021-01-01","2021-01-01","2021-01-01",0,0,0,0,0,0,"","",0,0,0]
[null,null,null,null,null,null,null,null,null,null,null,null,null,null,null,null,"2021-01-01","00:00:00","2021-01-01","2021-01-01","2021-01-01",0,0,0,0,0,0,"","",0,0,0]
[null,null,null,null,null,null,null,null,null,null,null,null,null,null,null,null,"2021-01-01","00:00:00","2021-01-01","2021-01-01","2021-01-01",0,0,0,0,0,0,"","",0,0,0]
[null,null,null,null,null,null,null,null,null,null,null,null,null,null,null,null,"2021-01-01","00:00:00","2021-01-01","2021-01-01","2021-01-01",0,0,0,0,0,0,"","",0,0,0]
[null,null,null,null,null,null,null,null,null,null,null,null,null,null,null,null,"2021-01-01","00:00:00","2021-01-01","2021-01-01","2021-01-01",0,0,0,0,0,0,"","",0,0,0]
[null,null,null,null,null,null,null,null,null,null,null,null,null,null,null,null,"2021-01-01","00:00:00","2021-01-01","2021-01-01","2021-01-01",0,0,0,0,0,0,"","",0,0,0]
[null,null,null,null,null,null,null,null,null,null,null,null,null,null,null,null,"2021-01-01","00:00:00","2021-01-01","2021-01-01","2021-01-01",0,0,0,0,0,0,"","",0,0,0]
[null,null,null,null,null,null,null,null,null,null,null,null,null,null,null,null,"2021-01-01","00:00:00","2021-01-01","2021-01-01","2021-01-01",0,0,0,0,0,0,"","",0,0,0]
[null,null,null,null,null,null,null,null,null,null,null,null,null,null,null,null,"2021-01-01","00:00:00","2021-01-01","2021-01-01","2021-01-01",0,0,0,0,0,0,"","",0,{"$f":"IF(OR($Q451>$Q$1,$R451<$Q$1),0,YEARFRAC($E451,$Q451,1))*12","v":0},{"$f":"IF(OR($Q451>$R$1,$R451<$R$1),0,YEARFRAC($E451,$R451,1))*12","v":0}]
[null,null,null,null,null,null,null,null,null,null,null,null,null,null,null,null,{"$f":"IF(OR(K452<$Q$1,K452=\"Altbestand\"),$Q$1,IF(AND(K452=\"Nachzucht\",E452>$Q$1),E452,IF(K452=\"Nachzucht\",$Q$1,K452)))","v":"2021-01-01"},{"$f":"IF(OR(L452>$R$1,L452=\"Nein\"),$R$1,L452)","v":"00:00:00"},{"$f":"IF(OR(R452<Q452,(E452+183)<Q452),Q452,IF((E452+183)>R452,R452,(E452+183)))","v":"2021-01-01"},{"$f":"IF(OR(S452=R452,(E452+365)<Q452,R452<Q452),S452,IF((E452+365)>R452,R452,(E452+365)))","v":"2021-01-01"},{"$f":"IF(OR(T452=R452,S452=R452,(E452+365*2)<Q452,R452<Q452),T452,IF((E452+365*2)>R452,R452,(E452+365*2)))","v":"2021-01-01"},{"$f":"IF(AC452=\"Kuh\",\"Kuh\",F452)","v":0},{"$f":"S452-Q452","v":0},{"$f":"+T452-S452","v":0},{"$f":"+U452-T452","v":0},{"$f":"IF(AB452=\"\",0,AB452-AA452)","v":0},{"$f":"SUM(W452:Y452)","v":0},{"$f":"IF(R452<Q452,\"\",R452-Q452)","v":""},{"$f":"IF(OR((ISNA(VLOOKUP(C452,$I$3:$I$138,1,FALSE))=FALSE),AND(AD452>1200,F452=\"w\"),M452=\"Ja\"),\"Kuh\",\"\")","v":""},{"$f":"IF(OR(L452=\"Nein\",L452=\"Ja\"),$R$1-E452,L452-E452)","v":0},0,0]
[null,null,null,null,null,null,null,null,null,null,null,null,null,null,null,null,"2021-01-01","00:00:00","2021-01-01","2021-01-01","2021-01-01",0,0,0,0,0,0,"","",0,0,0]
[null,null,null,null,null,null,null,null,null,null,null,null,null,null,null,null,"2021-01-01","00:00:00","2021-01-01","2021-01-01","2021-01-01",0,0,0,0,0,0,"","",0,0,0]
[null,null,null,null,null,null,null,null,null,null,null,null,null,null,null,null,"2021-01-01","00:00:00","2021-01-01","2021-01-01","2021-01-01",0,0,0,0,0,0,"","",0,0,0]
[null,null,null,null,null,null,null,null,null,null,null,null,null,null,null,null,"2021-01-01","00:00:00","2021-01-01","2021-01-01","2021-01-01",0,0,0,0,0,0,"","",0,0,0]
[null,null,null,null,null,null,null,null,null,null,null,null,null,null,null,null,"2021-01-01","00:00:00","2021-01-01","2021-01-01","2021-01-01",0,0,0,0,0,0,"","",0,0,0]
[null,null,null,null,null,null,null,null,null,null,null,null,null,null,null,null,"2021-01-01","00:00:00","2021-01-01","2021-01-01","2021-01-01",0,0,0,0,0,0,"","",0,0,0]
[null,null,null,null,null,null,null,null,null,null,null,null,null,null,null,null,"2021-01-01","00:00:00","2021-01-01","2021-01-01","2021-01-01",0,0,0,0,0,0,"","",0,0,0]
[null,null,null,null,null,null,null,null,null,null,null,null,null,null,null,null,"2021-01-01","00:00:00","2021-01-01","2021-01-01","2021-01-01",0,0,0,0,0,0,"","",0,0,0]
[null,null,null,null,null,null,null,null,null,null,null,null,null,null,null,null,"2021-01-01","00:00:00","2021-01-01","2021-01-01","2021-01-01",0,0,0,0,0,0,"","",0,0,0]
[null,null,null,null,null,null,null,null,null,null,null,null,null,null,null,null,"2021-01-01","00:00:00","2021-01-01","2021-01-01","2021-01-01",0,0,0,0,0,0,"","",0,0,0]
[null,null,null,null,null,null,null,null,null,null,null,null,null,null,null,null,"2021-01-01","00:00:00","2021-01-01","2021-01-01","2021-01-01",0,0,0,0,0,0,"","",0,0,0]
[null,null,null,null,null,null,null,null,null,null,null,null,null,null,null,null,"2021-01-01","00:00:00","2021-01-01","2021-01-01","2021-01-01",0,0,0,0,0,0,"","",0,0,0]
[null,null,null,null,null,null,null,null,null,null,null,null,null,null,null,null,"2021-01-01","00:00:00","2021-01-01","2021-01-01","2021-01-01",0,0,0,0,0,0,"","",0,0,0]
[null,null,null,null,null,null,null,null,null,null,null,null,null,null,null,null,"2021-01-01","00:00:00","2021-01-01","2021-01-01","2021-01-01",0,0,0,0,0,0,"","",0,0,0]
[null,null,null,null,null,null,null,null,null,null,null,null,null,null,null,null,"2021-01-01","00:00:00","2021-01-01","2021-01-01","2021-01-01",0,0,0,0,0,0,"","",0,0,0]
[null,null,null,null,null,null,null,null,null,null,null,null,null,null,null,null,"2021-01-01","00:00:00","2021-01-01","2021-01-01","2021-01-01",0,0,0,0,0,0,"","",0,0,0]
[null,null,null,null,null,null,null,null,null,null,null,null,null,null,null,null,"2021-01-01","00:00:00","2021-01-01","2021-01-01","2021-01-01",0,0,0,0,0,0,"","",0,0,0]
[null,null,null,null,null,null,null,null,null,null,null,null,null,null,null,null,"2021-01-01","00:00:00","2021-01-01","2021-01-01","2021-01-01",0,0,0,0,0,0,"","",0,0,0]
[null,null,null,null,null,null,null,null,null,null,null,null,null,null,null,null,"2021-01-01","00:00:00","2021-01-01","2021-01-01","2021-01-01",0,0,0,0,0,0,"","",0,0,0]
[null,null,null,null,null,null,null,null,null,null,null,null,null,null,null,null,"2021-01-01","00:00:00","2021-01-01","2021-01-01","2021-01-01",0,0,0,0,0,0,"","",0,0,0]
[null,null,null,null,null,null,null,null,null,null,null,null,null,null,null,null,"2021-01-01","00:00:00","2021-01-01","2021-01-01","2021-01-01",0,0,0,0,0,0,"","",0,0,0]
[null,null,null,null,null,null,null,null,null,null,null,null,null,null,null,null,"2021-01-01","00:00:00","2021-01-01","2021-01-01","2021-01-01",0,0,0,0,0,0,"","",0,0,0]
[null,null,null,null,null,null,null,null,null,null,null,null,null,null,null,null,"2021-01-01","00:00:00","2021-01-01","2021-01-01","2021-01-01",0,0,0,0,0,0,"","",0,0,0]
[null,null,null,null,null,null,null,null,null,null,null,null,null,null,null,null,"2021-01-01","00:00:00","2021-01-01","2021-01-01","2021-01-01",0,0,0,0,0,0,"","",0,0,0]
[null,null,null,null,null,null,null,null,null,null,null,null,null,null,null,null,"2021-01-01","00:00:00","2021-01-01","2021-01-01","2021-01-01",0,0,0,0,0,0,"","",0,0,0]
[null,null,null,null,null,null,null,null,null,null,null,null,null,null,null,null,"2021-01-01","00:00:00","2021-01-01","2021-01-01","2021-01-01",0,0,0,0,0,0,"","",0,0,0]
[null,null,null,null,null,null,null,null,null,null,null,null,null,null,null,null,"2021-01-01","00:00:00","2021-01-01","2021-01-01","2021-01-01",0,0,0,0,0,0,"","",0,0,0]
[null,null,null,null,null,null,null,null,null,null,null,null,null,null,null,null,"2021-01-01","00:00:00","2021-01-01","2021-01-01","2021-01-01",0,0,0,0,0,0,"","",0,0,0]
[null,null,null,null,null,null,null,null,null,null,null,null,null,null,null,null,"2021-01-01","00:00:00","2021-01-01","2021-01-01","2021-01-01",0,0,0,0,0,0,"","",0,0,0]
[null,null,null,null,null,null,null,null,null,null,null,null,null,null,null,null,"2021-01-01","00:00:00","2021-01-01","2021-01-01","2021-01-01",0,0,0,0,0,0,"","",0,0,0]
[null,null,null,null,null,null,null,null,null,null,null,null,null,null,null,null,"2021-01-01","00:00:00","2021-01-01","2021-01-01","2021-01-01",0,0,0,0,0,0,"","",0,0,0]
[null,null,null,null,null,null,null,null,null,null,null,null,null,null,null,null,"2021-01-01","00:00:00","2021-01-01","2021-01-01","2021-01-01",0,0,0,0,0,0,"","",0,0,0]
[null,null,null,null,null,null,null,null,null,null,null,null,null,null,null,null,"2021-01-01","00:00:00","2021-01-01","2021-01-01","2021-01-01",0,0,0,0,0,0,"","",0,0,0]
[null,null,null,null,null,null,null,null,null,null,null,null,null,null,null,null,"2021-01-01","00:00:00","2021-01-01","2021-01-01","2021-01-01",0,0,0,0,0,0,"","",0,0,0]
[null,null,null,null,null,null,null,null,null,null,null,null,null,null,null,null,"2021-01-01","00:00:00","2021-01-01","2021-01-01","2021-01-01",0,0,0,0,0,0,"","",0,0,0]
[null,null,null,null,null,null,null,null,null,null,null,null,null,null,null,null,"2021-01-01","00:00:00","2021-01-01","2021-01-01","2021-01-01",0,0,0,0,0,0,"","",0,0,0]
[null,null,null,null,null,null,null,null,null,null,null,null,null,null,null,null,"2021-01-01","00:00:00","2021-01-01","2021-01-01","2021-01-01",0,0,0,0,0,0,"","",0,0,0]
[null,null,null,null,null,null,null,null,null,null,null,null,null,null,null,null,"2021-01-01","00:00:00","2021-01-01","2021-01-01","2021-01-01",0,0,0,0,0,0,"","",0,0,0]
[null,null,null,null,null,null,null,null,null,null,null,null,null,null,null,null,"2021-01-01","00:00:00","2021-01-01","2021-01-01","2021-01-01",0,0,0,0,0,0,"","",0,0,0]
[null,null,null,null,null,null,null,null,null,null,null,null,null,null,null,null,"2021-01-01","00:00:00","2021-01-01","2021-01-01","2021-01-01",0,0,0,0,0,0,"","",0,0,0]
[null,null,null,null,null,null,null,null,null,null,null,null,null,null,null,null,"2021-01-01","00:00:00","2021-01-01","2021-01-01","2021-01-01",0,0,0,0,0,0,"","",0,0,0]
[null,null,null,null,null,null,null,null,null,null,null,null,null,null,null,null,"2021-01-01","00:00:00","2021-01-01","2021-01-01","2021-01-01",0,0,0,0,0,0,"","",0,0,0]
[null,null,null,null,null,null,null,null,null,null,null,null,null,null,null,null,"2021-01-01","00:00:00","2021-01-01","2021-01-01","2021-01-01",0,0,0,0,0,0,"","",0,0,0]
[null,null,null,null,null,null,null,null,null,null,null,null,null,null,null,null,"2021-01-01","00:00:00","2021-01-01","2021-01-01","2021-01-01",0,0,0,0,0,0,"","",0,0,0]
[null,null,null,null,null,null,null,null,null,null,null,null,null,null,null,null,"2021-01-01","00:00:00","2021-01-01","2021-01-01","2021-01-01",0,0,0,0,0,0,"","",0,0,0]
[null,null,null,null,null,null,null,null,null,null,null,null,null,null,null,null,"2021-01-01","00:00:00","2021-01-01","2021-01-01","2021-01-01",0,0,0,0,0,0,"","",0,0,0]
[null,null,null,null,null,null,null,null,null,null,null,null,null,null,null,null,"2021-01-01","00:00:00","2021-01-01","2021-01-01","2021-01-01",0,0,0,0,0,0,"","",0,0,0]
[null,null,null,null,null,null,null,null,null,null,null,null,null,null,null,null,"2021-01-01","00:00:00","2021-01-01","2021-01-01","2021-01-01",0,0,0,0,0,0,"","",0,0,0]
[null,null,null,null,null,null,null,null,null,null,null,null,null,null,null,null,"2021-01-01","00:00:00","2021-01-01","2021-01-01","2021-01-01",0,0,0,0,0,0,"","",0,0,0]
[null,null,null,null,null,null,null,null,null,null,null,null,null,null,null,null,"2021-01-01","00:00:00","2021-01-01","2021-01-01","2021-01-01",0,0,0,0,0,0,"","",0,0,0]
[null,null,null,null,null,null,null,null,null,null,null,null,null,null,null,null,"2021-01-01","00:00:00","2021-01-01","2021-01-01","2021-01-01",0,0,0,0,0,0,"","",0,0,0]
[null,null,null,null,null,null,null,null,null,null,null,null,null,null,null,null,"2021-01-01","00:00:00","2021-01-01","2021-01-01","2021-01-01",0,0,0,0,0,0,"","",0,0,0]
[null,null,null,null,null,null,null,null,null,null,null,null,null,null,null,null,"2021-01-01","00:00:00","2021-01-01","2021-01-01","2021-01-01",0,0,0,0,0,0,"","",0,0,0]
[null,null,null,null,null,null,null,null,null,null,null,null,null,null,null,null,"2021-01-01","00:00:00","2021-01-01","2021-01-01","2021-01-01",0,0,0,0,0,0,"","",0,0,0]
[null,null,null,null,null,null,null,null,null,null,null,null,null,null,null,null,"2021-01-01","00:00:00","2021-01-01","2021-01-01","2021-01-01",0,0,0,0,0,0,"","",0,0,0]
[null,null,null,null,null,null,null,null,null,null,null,null,null,null,null,null,"2021-01-01","00:00:00","2021-01-01","2021-01-01","2021-01-01",0,0,0,0,0,0,"","",0,0,0]
[null,null,null,null,null,null,null,null,null,null,null,null,null,null,null,null,"2021-01-01","00:00:00","2021-01-01","2021-01-01","2021-01-01",0,0,0,0,0,0,"","",0,0,0]
[null,null,null,null,null,null,null,null,null,null,null,null,null,null,null,null,"2021-01-01","00:00:00","2021-01-01","2021-01-01","2021-01-01",0,0,0,0,0,0,"","",0,0,0]
[null,null,null,null,null,null,null,null,null,null,null,null,null,null,null,null,"2021-01-01","00:00:00","2021-01-01","2021-01-01","2021-01-01",0,0,0,0,0,0,"","",0,0,0]
[null,null,null,null,null,null,null,null,null,null,null,null,null,null,null,null,"2021-01-01","00:00:00","2021-01-01","2021-01-01","2021-01-01",0,0,0,0,0,0,"","",0,0,0]
[null,null,null,null,null,null,null,null,null,null,null,null,null,null,null,null,"2021-01-01","00:00:00","2021-01-01","2021-01-01","2021-01-01",0,0,0,0,0,0,"","",0,0,0]
[null,null,null,null,null,null,null,null,null,null,null,null,null,null,null,null,"2021-01-01","00:00:00","2021-01-01","2021-01-01","2021-01-01",0,0,0,0,0,0,"","",0,0,0]
[null,null,null,null,null,null,null,null,null,null,null,null,null,null,null,null,"2021-01-01","00:00:00","2021-01-01","2021-01-01","2021-01-01",0,0,0,0,0,0,"","",0,{"$f":"IF(OR($Q515>$Q$1,$R515<$Q$1),0,YEARFRAC($E515,$Q515,1))*12","v":0},{"$f":"IF(OR($Q515>$R$1,$R515<$R$1),0,YEARFRAC($E515,$R515,1))*12","v":0}]
[null,null,null,null,null,null,null,null,null,null,null,null,null,null,null,null,{"$f":"IF(OR(K516<$Q$1,K516=\"Altbestand\"),$Q$1,IF(AND(K516=\"Nachzucht\",E516>$Q$1),E516,IF(K516=\"Nachzucht\",$Q$1,K516)))","v":"2021-01-01"},{"$f":"IF(OR(L516>$R$1,L516=\"Nein\"),$R$1,L516)","v":"00:00:00"},{"$f":"IF(OR(R516<Q516,(E516+183)<Q516),Q516,IF((E516+183)>R516,R516,(E516+183)))","v":"2021-01-01"},{"$f":"IF(OR(S516=R516,(E516+365)<Q516,R516<Q516),S516,IF((E516+365)>R516,R516,(E516+365)))","v":"2021-01-01"},{"$f":"IF(OR(T516=R516,S516=R516,(E516+365*2)<Q516,R516<Q516),T516,IF((E516+365*2)>R516,R516,(E516+365*2)))","v":"2021-01-01"},{"$f":"IF(AC516=\"Kuh\",\"Kuh\",F516)","v":0},{"$f":"S516-Q516","v":0},{"$f":"+T516-S516","v":0},{"$f":"+U516-T516","v":0},{"$f":"IF(AB516=\"\",0,AB516-AA516)","v":0},{"$f":"SUM(W516:Y516)","v":0},{"$f":"IF(R516<Q516,\"\",R516-Q516)","v":""},{"$f":"IF(OR((ISNA(VLOOKUP(C516,$I$3:$I$138,1,FALSE))=FALSE),AND(AD516>1200,F516=\"w\"),M516=\"Ja\"),\"Kuh\",\"\")","v":""},{"$f":"IF(OR(L516=\"Nein\",L516=\"Ja\"),$R$1-E516,L516-E516)","v":0},0,0]
[null,null,null,null,null,null,null,null,null,null,null,null,null,null,null,null,"2021-01-01","00:00:00","2021-01-01","2021-01-01","2021-01-01",0,0,0,0,0,0,"","",0,0,0]
[null,null,null,null,null,null,null,null,null,null,null,null,null,null,null,null,"2021-01-01","00:00:00","2021-01-01","2021-01-01","2021-01-01",0,0,0,0,0,0,"","",0,0,0]
[null,null,null,null,null,null,null,null,null,null,null,null,null,null,null,null,"2021-01-01","00:00:00","2021-01-01","2021-01-01","2021-01-01",0,0,0,0,0,0,"","",0,0,0]
[null,null,null,null,null,null,null,null,null,null,null,null,null,null,null,null,"2021-01-01","00:00:00","2021-01-01","2021-01-01","2021-01-01",0,0,0,0,0,0,"","",0,0,0]
[null,null,null,null,null,null,null,null,null,null,null,null,null,null,null,null,"2021-01-01","00:00:00","2021-01-01","2021-01-01","2021-01-01",0,0,0,0,0,0,"","",0,0,0]
[null,null,null,null,null,null,null,null,null,null,null,null,null,null,null,null,"2021-01-01","00:00:00","2021-01-01","2021-01-01","2021-01-01",0,0,0,0,0,0,"","",0,0,0]
[null,null,null,null,null,null,null,null,null,null,null,null,null,null,null,null,"2021-01-01","00:00:00","2021-01-01","2021-01-01","2021-01-01",0,0,0,0,0,0,"","",0,0,0]
[null,null,null,null,null,null,null,null,null,null,null,null,null,null,null,null,"2021-01-01","00:00:00","2021-01-01","2021-01-01","2021-01-01",0,0,0,0,0,0,"","",0,0,0]
[null,null,null,null,null,null,null,null,null,null,null,null,null,null,null,null,"2021-01-01","00:00:00","2021-01-01","2021-01-01","2021-01-01",0,0,0,0,0,0,"","",0,0,0]
[null,null,null,null,null,null,null,null,null,null,null,null,null,null,null,null,"2021-01-01","00:00:00","2021-01-01","2021-01-01","2021-01-01",0,0,0,0,0,0,"","",0,0,0]
[null,null,null,null,null,null,null,null,null,null,null,null,null,null,null,null,"2021-01-01","00:00:00","2021-01-01","2021-01-01","2021-01-01",0,0,0,0,0,0,"","",0,0,0]
[null,null,null,null,null,null,null,null,null,null,null,null,null,null,null,null,"2021-01-01","00:00:00","2021-01-01","2021-01-01","2021-01-01",0,0,0,0,0,0,"","",0,0,0]
[null,null,null,null,null,null,null,null,null,null,null,null,null,null,null,null,"2021-01-01","00:00:00","2021-01-01","2021-01-01","2021-01-01",0,0,0,0,0,0,"","",0,0,0]
[null,null,null,null,null,null,null,null,null,null,null,null,null,null,null,null,"2021-01-01","00:00:00","2021-01-01","2021-01-01","2021-01-01",0,0,0,0,0,0,"","",0,0,0]
[null,null,null,null,null,null,null,null,null,null,null,null,null,null,null,null,"2021-01-01","00:00:00","2021-01-01","2021-01-01","2021-01-01",0,0,0,0,0,0,"","",0,0,0]
[null,null,null,null,null,null,null,null,null,null,null,null,null,null,null,null,"2021-01-01","00:00:00","2021-01-01","2021-01-01","2021-01-01",0,0,0,0,0,0,"","",0,0,0]
[null,null,null,null,null,null,null,null,null,null,null,null,null,null,null,null,"2021-01-01","00:00:00","2021-01-01","2021-01-01","2021-01-01",0,0,0,0,0,0,"","",0,0,0]
[null,null,null,null,null,null,null,null,null,null,null,null,null,null,null,null,"2021-01-01","00:00:00","2021-01-01","2021-01-01","2021-01-01",0,0,0,0,0,0,"","",0,0,0]
[null,null,null,null,null,null,null,null,null,null,null,null,null,null,null,null,"2021-01-01","00:00:00","2021-01-01","2021-01-01","2021-01-01",0,0,0,0,0,0,"","",0,0,0]
[null,null,null,null,null,null,null,null,null,null,null,null,null,null,null,null,"2021-01-01","00:00:00","2021-01-01","2021-01-01","2021-01-01",0,0,0,0,0,0,"","",0,0,0]
[null,null,null,null,null,null,null,null,null,null,null,null,null,null,null,null,"2021-01-01","00:00:00","2021-01-01","2021-01-01","2021-01-01",0,0,0,0,0,0,"","",0,0,0]
[null,null,null,null,null,null,null,null,null,null,null,null,null,null,null,null,"2021-01-01","00:00:00","2021-01-01","2021-01-01","2021-01-01",0,0,0,0,0,0,"","",0,0,0]
[null,null,null,null,null,null,null,null,null,null,null,null,null,null,null,null,"2021-01-01","00:00:00","2021-01-01","2021-01-01","2021-01-01",0,0,0,0,0,0,"","",0,0,0]
[null,null,null,null,null,null,null,null,null,null,null,null,null,null,null,null,"2021-01-01","00:00:00","2021-01-01","2021-01-01","2021-01-01",0,0,0,0,0,0,"","",0,0,0]
[null,null,null,null,null,null,null,null,null,null,null,null,null,null,null,null,"2021-01-01","00:00:00","2021-01-01","2021-01-01","2021-01-01",0,0,0,0,0,0,"","",0,0,0]
[null,null,null,null,null,null,null,null,null,null,null,null,null,null,null,null,"2021-01-01","00:00:00","2021-01-01","2021-01-01","2021-01-01",0,0,0,0,0,0,"","",0,0,0]
[null,null,null,null,null,null,null,null,null,null,null,null,null,null,null,null,"2021-01-01","00:00:00","2021-01-01","2021-01-01","2021-01-01",0,0,0,0,0,0,"","",0,0,0]
[null,null,null,null,null,null,null,null,null,null,null,null,null,null,null,null,"2021-01-01","00:00:00","2021-01-01","2021-01-01","2021-01-01",0,0,0,0,0,0,"","",0,0,0]
[null,null,null,null,null,null,null,null,null,null,null,null,null,null,null,null,"2021-01-01","00:00:00","2021-01-01","2021-01-01","2021-01-01",0,0,0,0,0,0,"","",0,0,0]
[null,null,null,null,null,null,null,null,null,null,null,null,null,null,null,null,"2021-01-01","00:00:00","2021-01-01","2021-01-01","2021-01-01",0,0,0,0,0,0,"","",0,0,0]
[null,null,null,null,null,null,null,null,null,null,null,null,null,null,null,null,"2021-01-01","00:00:00","2021-01-01","2021-01-01","2021-01-01",0,0,0,0,0,0,"","",0,0,0]
[null,null,null,null,null,null,null,null,null,null,null,null,null,null,null,null,"2021-01-01","00:00:00","2021-01-01","2021-01-01","2021-01-01",0,0,0,0,0,0,"","",0,0,0]
[null,null,null,null,null,null,null,null,null,null,null,null,null,null,null,null,"2021-01-01","00:00:00","2021-01-01","2021-01-01","2021-01-01",0,0,0,0,0,0,"","",0,0,0]
[null,null,null,null,null,null,null,null,null,null,null,null,null,null,null,null,"2021-01-01","00:00:00","2021-01-01","2021-01-01","2021-01-01",0,0,0,0,0,0,"","",0,0,0]
[null,null,null,null,null,null,null,null,null,null,null,null,null,null,null,null,"2021-01-01","00:00:00","2021-01-01","2021-01-01","2021-01-01",0,0,0,0,0,0,"","",0,0,0]
[null,null,null,null,null,null,null,null,null,null,null,null,null,null,null,null,"2021-01-01","00:00:00","2021-01-01","2021-01-01","2021-01-01",0,0,0,0,0,0,"","",0,0,0]
[null,null,null,null,null,null,null,null,null,null,null,null,null,null,null,null,"2021-01-01","00:00:00","2021-01-01","2021-01-01","2021-01-01",0,0,0,0,0,0,"","",0,0,0]
[null,null,null,null,null,null,null,null,null,null,null,null,null,null,null,null,"2021-01-01","00:00:00","2021-01-01","2021-01-01","2021-01-01",0,0,0,0,0,0,"","",0,0,0]
[null,null,null,null,null,null,null,null,null,null,null,null,null,null,null,null,"2021-01-01","00:00:00","2021-01-01","2021-01-01","2021-01-01",0,0,0,0,0,0,"","",0,0,0]
[null,null,null,null,null,null,null,null,null,null,null,null,null,null,null,null,"2021-01-01","00:00:00","2021-01-01","2021-01-01","2021-01-01",0,0,0,0,0,0,"","",0,0,0]
[null,null,null,null,null,null,null,null,null,null,null,null,null,null,null,null,"2021-01-01","00:00:00","2021-01-01","2021-01-01","2021-01-01",0,0,0,0,0,0,"","",0,0,0]
[null,null,null,null,null,null,null,null,null,null,null,null,null,null,null,null,"2021-01-01","00:00:00","2021-01-01","2021-01-01","2021-01-01",0,0,0,0,0,0,"","",0,0,0]
[null,null,null,null,null,null,null,null,null,null,null,null,null,null,null,null,"2021-01-01","00:00:00","2021-01-01","2021-01-01","2021-01-01",0,0,0,0,0,0,"","",0,0,0]
[null,null,null,null,null,null,null,null,null,null,null,null,null,null,null,null,"2021-01-01","00:00:00","2021-01-01","2021-01-01","2021-01-01",0,0,0,0,0,0,"","",0,0,0]
[null,null,null,null,null,null,null,null,null,null,null,null,null,null,null,null,"2021-01-01","00:00:00","2021-01-01","2021-01-01","2021-01-01",0,0,0,0,0,0,"","",0,0,0]
[null,null,null,null,null,null,null,null,null,null,null,null,null,null,null,null,"2021-01-01","00:00:00","2021-01-01","2021-01-01","2021-01-01",0,0,0,0,0,0,"","",0,0,0]
[null,null,null,null,null,null,null,null,null,null,null,null,null,null,null,null,"2021-01-01","00:00:00","2021-01-01","2021-01-01","2021-01-01",0,0,0,0,0,0,"","",0,0,0]
[null,null,null,null,null,null,null,null,null,null,null,null,null,null,null,null,"2021-01-01","00:00:00","2021-01-01","2021-01-01","2021-01-01",0,0,0,0,0,0,"","",0,0,0]
[null,null,null,null,null,null,null,null,null,null,null,null,null,null,null,null,"2021-01-01","00:00:00","2021-01-01","2021-01-01","2021-01-01",0,0,0,0,0,0,"","",0,0,0]
[null,null,null,null,null,null,null,null,null,null,null,null,null,null,null,null,"2021-01-01","00:00:00","2021-01-01","2021-01-01","2021-01-01",0,0,0,0,0,0,"","",0,0,0]
[null,null,null,null,null,null,null,null,null,null,null,null,null,null,null,null,"2021-01-01","00:00:00","2021-01-01","2021-01-01","2021-01-01",0,0,0,0,0,0,"","",0,0,0]
[null,null,null,null,null,null,null,null,null,null,null,null,null,null,null,null,"2021-01-01","00:00:00","2021-01-01","2021-01-01","2021-01-01",0,0,0,0,0,0,"","",0,0,0]
[null,null,null,null,null,null,null,null,null,null,null,null,null,null,null,null,"2021-01-01","00:00:00","2021-01-01","2021-01-01","2021-01-01",0,0,0,0,0,0,"","",0,0,0]
[null,null,null,null,null,null,null,null,null,null,null,null,null,null,null,null,"2021-01-01","00:00:00","2021-01-01","2021-01-01","2021-01-01",0,0,0,0,0,0,"","",0,0,0]
[null,null,null,null,null,null,null,null,null,null,null,null,null,null,null,null,"2021-01-01","00:00:00","2021-01-01","2021-01-01","2021-01-01",0,0,0,0,0,0,"","",0,0,0]
[null,null,null,null,null,null,null,null,null,null,null,null,null,null,null,null,"2021-01-01","00:00:00","2021-01-01","2021-01-01","2021-01-01",0,0,0,0,0,0,"","",0,0,0]
[null,null,null,null,null,null,null,null,null,null,null,null,null,null,null,null,"2021-01-01","00:00:00","2021-01-01","2021-01-01","2021-01-01",0,0,0,0,0,0,"","",0,0,0]
[null,null,null,null,null,null,null,null,null,null,null,null,null,null,null,null,"2021-01-01","00:00:00","2021-01-01","2021-01-01","2021-01-01",0,0,0,0,0,0,"","",0,0,0]
[null,null,null,null,null,null,null,null,null,null,null,null,null,null,null,null,"2021-01-01","00:00:00","2021-01-01","2021-01-01","2021-01-01",0,0,0,0,0,0,"","",0,0,0]
[null,null,null,null,null,null,null,null,null,null,null,null,null,null,null,null,"2021-01-01","00:00:00","2021-01-01","2021-01-01","2021-01-01",0,0,0,0,0,0,"","",0,0,0]
[null,null,null,null,null,null,null,null,null,null,null,null,null,null,null,null,"2021-01-01","00:00:00","2021-01-01","2021-01-01","2021-01-01",0,0,0,0,0,0,"","",0,0,0]
[null,null,null,null,null,null,null,null,null,null,null,null,null,null,null,null,"2021-01-01","00:00:00","2021-01-01","2021-01-01","2021-01-01",0,0,0,0,0,0,"","",0,0,0]
[null,null,null,null,null,null,null,null,null,null,null,null,null,null,null,null,"2021-01-01","00:00:00","2021-01-01","2021-01-01","2021-01-01",0,0,0,0,0,0,"","",0,{"$f":"IF(OR($Q579>$Q$1,$R579<$Q$1),0,YEARFRAC($E579,$Q579,1))*12","v":0},{"$f":"IF(OR($Q579>$R$1,$R579<$R$1),0,YEARFRAC($E579,$R579,1))*12","v":0}]
[null,null,null,null,null,null,null,null,null,null,null,null,null,null,null,null,{"$f":"IF(OR(K580<$Q$1,K580=\"Altbestand\"),$Q$1,IF(AND(K580=\"Nachzucht\",E580>$Q$1),E580,IF(K580=\"Nachzucht\",$Q$1,K580)))","v":"2021-01-01"},{"$f":"IF(OR(L580>$R$1,L580=\"Nein\"),$R$1,L580)","v":"00:00:00"},{"$f":"IF(OR(R580<Q580,(E580+183)<Q580),Q580,IF((E580+183)>R580,R580,(E580+183)))","v":"2021-01-01"},{"$f":"IF(OR(S580=R580,(E580+365)<Q580,R580<Q580),S580,IF((E580+365)>R580,R580,(E580+365)))","v":"2021-01-01"},{"$f":"IF(OR(T580=R580,S580=R580,(E580+365*2)<Q580,R580<Q580),T580,IF((E580+365*2)>R580,R580,(E580+365*2)))","v":"2021-01-01"},{"$f":"IF(AC580=\"Kuh\",\"Kuh\",F580)","v":0},{"$f":"S580-Q580","v":0},{"$f":"+T580-S580","v":0},{"$f":"+U580-T580","v":0},{"$f":"IF(AB580=\"\",0,AB580-AA580)","v":0},{"$f":"SUM(W580:Y580)","v":0},{"$f":"IF(R580<Q580,\"\",R580-Q580)","v":""},{"$f":"IF(OR((ISNA(VLOOKUP(C580,$I$3:$I$138,1,FALSE))=FALSE),AND(AD580>1200,F580=\"w\"),M580=\"Ja\"),\"Kuh\",\"\")","v":""},{"$f":"IF(OR(L580=\"Nein\",L580=\"Ja\"),$R$1-E580,L580-E580)","v":0},0,0]
[null,null,null,null,null,null,null,null,null,null,null,null,null,null,null,null,"2021-01-01","00:00:00","2021-01-01","2021-01-01","2021-01-01",0,0,0,0,0,0,"","",0,0,0]
[null,null,null,null,null,null,null,null,null,null,null,null,null,null,null,null,"2021-01-01","00:00:00","2021-01-01","2021-01-01","2021-01-01",0,0,0,0,0,0,"","",0,0,0]
[null,null,null,null,null,null,null,null,null,null,null,null,null,null,null,null,"2021-01-01","00:00:00","2021-01-01","2021-01-01","2021-01-01",0,0,0,0,0,0,"","",0,0,0]
[null,null,null,null,null,null,null,null,null,null,null,null,null,null,null,null,"2021-01-01","00:00:00","2021-01-01","2021-01-01","2021-01-01",0,0,0,0,0,0,"","",0,0,0]
[null,null,null,null,null,null,null,null,null,null,null,null,null,null,null,null,"2021-01-01","00:00:00","2021-01-01","2021-01-01","2021-01-01",0,0,0,0,0,0,"","",0,0,0]
[null,null,null,null,null,null,null,null,null,null,null,null,null,null,null,null,"2021-01-01","00:00:00","2021-01-01","2021-01-01","2021-01-01",0,0,0,0,0,0,"","",0,0,0]
[null,null,null,null,null,null,null,null,null,null,null,null,null,null,null,null,"2021-01-01","00:00:00","2021-01-01","2021-01-01","2021-01-01",0,0,0,0,0,0,"","",0,0,0]
[null,null,null,null,null,null,null,null,null,null,null,null,null,null,null,null,"2021-01-01","00:00:00","2021-01-01","2021-01-01","2021-01-01",0,0,0,0,0,0,"","",0,0,0]
[null,null,null,null,null,null,null,null,null,null,null,null,null,null,null,null,"2021-01-01","00:00:00","2021-01-01","2021-01-01","2021-01-01",0,0,0,0,0,0,"","",0,0,0]
[null,null,null,null,null,null,null,null,null,null,null,null,null,null,null,null,"2021-01-01","00:00:00","2021-01-01","2021-01-01","2021-01-01",0,0,0,0,0,0,"","",0,0,0]
[null,null,null,null,null,null,null,null,null,null,null,null,null,null,null,null,"2021-01-01","00:00:00","2021-01-01","2021-01-01","2021-01-01",0,0,0,0,0,0,"","",0,0,0]
[null,null,null,null,null,null,null,null,null,null,null,null,null,null,null,null,"2021-01-01","00:00:00","2021-01-01","2021-01-01","2021-01-01",0,0,0,0,0,0,"","",0,0,0]
[null,null,null,null,null,null,null,null,null,null,null,null,null,null,null,null,"2021-01-01","00:00:00","2021-01-01","2021-01-01","2021-01-01",0,0,0,0,0,0,"","",0,0,0]
[null,null,null,null,null,null,null,null,null,null,null,null,null,null,null,null,"2021-01-01","00:00:00","2021-01-01","2021-01-01","2021-01-01",0,0,0,0,0,0,"","",0,0,0]
[null,null,null,null,null,null,null,null,null,null,null,null,null,null,null,null,"2021-01-01","00:00:00","2021-01-01","2021-01-01","2021-01-01",0,0,0,0,0,0,"","",0,0,0]
[null,null,null,null,null,null,null,null,null,null,null,null,null,null,null,null,"2021-01-01","00:00:00","2021-01-01","2021-01-01","2021-01-01",0,0,0,0,0,0,"","",0,0,0]
[null,null,null,null,null,null,null,null,null,null,null,null,null,null,null,null,"2021-01-01","00:00:00","2021-01-01","2021-01-01","2021-01-01",0,0,0,0,0,0,"","",0,0,0]
[null,null,null,null,null,null,null,null,null,null,null,null,null,null,null,null,"2021-01-01","00:00:00","2021-01-01","2021-01-01","2021-01-01",0,0,0,0,0,0,"","",0,0,0]
[null,null,null,null,null,null,null,null,null,null,null,null,null,null,null,null,"2021-01-01","00:00:00","2021-01-01","2021-01-01","2021-01-01",0,0,0,0,0,0,"","",0,0,0]
[null,null,null,null,null,null,null,null,null,null,null,null,null,null,null,null,"2021-01-01","00:00:00","2021-01-01","2021-01-01","2021-01-01",0,0,0,0,0,0,"","",0,0,0]
[null,null,null,null,null,null,null,null,null,null,null,null,null,null,null,null,"2021-01-01","00:00:00","2021-01-01","2021-01-01","2021-01-01",0,0,0,0,0,0,"","",0,0,0]
[null,null,null,null,null,null,null,null,null,null,null,null,null,null,null,null,"2021-01-01","00:00:00","2021-01-01","2021-01-01","2021-01-01",0,0,0,0,0,0,"","",0,0,0]
[null,null,null,null,null,null,null,null,null,null,null,null,null,null,null,null,"2021-01-01","00:00:00","2021-01-01","2021-01-01","2021-01-01",0,0,0,0,0,0,"","",0,0,0]
[null,null,null,null,null,null,null,null,null,null,null,null,null,null,null,null,"2021-01-01","00:00:00","2021-01-01","2021-01-01","2021-01-01",0,0,0,0,0,0,"","",0,0,0]
[null,null,null,null,null,null,null,null,null,null,null,null,null,null,null,null,"2021-01-01","00:00:00","2021-01-01","2021-01-01","2021-01-01",0,0,0,0,0,0,"","",0,0,0]
[null,null,null,null,null,null,null,null,null,null,null,null,null,null,null,null,"2021-01-01","00:00:00","2021-01-01","2021-01-01","2021-01-01",0,0,0,0,0,0,"","",0,0,0]
[null,null,null,null,null,null,null,null,null,null,null,null,null,null,null,null,"2021-01-01","00:00:00","2021-01-01","2021-01-01","2021-01-01",0,0,0,0,0,0,"","",0,0,0]
[null,null,null,null,null,null,null,null,null,null,null,null,null,null,null,null,"2021-01-01","00:00:00","2021-01-01","2021-01-01","2021-01-01",0,0,0,0,0,0,"","",0,0,0]
[null,null,null,null,null,null,null,null,null,null,null,null,null,null,null,null,"2021-01-01","00:00:00","2021-01-01","2021-01-01","2021-01-01",0,0,0,0,0,0,"","",0,0,0]
[null,null,null,null,null,null,null,null,null,null,null,null,null,null,null,null,"2021-01-01","00:00:00","2021-01-01","2021-01-01","2021-01-01",0,0,0,0,0,0,"","",0,0,0]
[null,null,null,null,null,null,null,null,null,null,null,null,null,null,null,null,"2021-01-01","00:00:00","2021-01-01","2021-01-01","2021-01-01",0,0,0,0,0,0,"","",0,0,0]
[null,null,null,null,null,null,null,null,null,null,null,null,null,null,null,null,"2021-01-01","00:00:00","2021-01-01","2021-01-01","2021-01-01",0,0,0,0,0,0,"","",0,0,0]
[null,null,null,null,null,null,null,null,null,null,null,null,null,null,null,null,"2021-01-01","00:00:00","2021-01-01","2021-01-01","2021-01-01",0,0,0,0,0,0,"","",0,0,0]
[null,null,null,null,null,null,null,null,null,null,null,null,null,null,null,null,"2021-01-01","00:00:00","2021-01-01","2021-01-01","2021-01-01",0,0,0,0,0,0,"","",0,0,0]
[null,null,null,null,null,null,null,null,null,null,null,null,null,null,null,null,"2021-01-01","00:00:00","2021-01-01","2021-01-01","2021-01-01",0,0,0,0,0,0,"","",0,0,0]
[null,null,null,null,null,null,null,null,null,null,null,null,null,null,null,null,"2021-01-01","00:00:00","2021-01-01","2021-01-01","2021-01-01",0,0,0,0,0,0,"","",0,0,0]
[null,null,null,null,null,null,null,null,null,null,null,null,null,null,null,null,"2021-01-01","00:00:00","2021-01-01","2021-01-01","2021-01-01",0,0,0,0,0,0,"","",0,0,0]
[null,null,null,null,null,null,null,null,null,null,null,null,null,null,null,null,"2021-01-01","00:00:00","2021-01-01","2021-01-01","2021-01-01",0,0,0,0,0,0,"","",0,0,0]
[null,null,null,null,null,null,null,null,null,null,null,null,null,null,null,null,"2021-01-01","00:00:00","2021-01-01","2021-01-01","2021-01-01",0,0,0,0,0,0,"","",0,0,0]
[null,null,null,null,null,null,null,null,null,null,null,null,null,null,null,null,"2021-01-01","00:00:00","2021-01-01","2021-01-01","2021-01-01",0,0,0,0,0,0,"","",0,0,0]
[null,null,null,null,null,null,null,null,null,null,null,null,null,null,null,null,"2021-01-01","00:00:00","2021-01-01","2021-01-01","2021-01-01",0,0,0,0,0,0,"","",0,0,0]
[null,null,null,null,null,null,null,null,null,null,null,null,null,null,null,null,"2021-01-01","00:00:00","2021-01-01","2021-01-01","2021-01-01",0,0,0,0,0,0,"","",0,0,0]
[null,null,null,null,null,null,null,null,null,null,null,null,null,null,null,null,"2021-01-01","00:00:00","2021-01-01","2021-01-01","2021-01-01",0,0,0,0,0,0,"","",0,0,0]
[null,null,null,null,null,null,null,null,null,null,null,null,null,null,null,null,"2021-01-01","00:00:00","2021-01-01","2021-01-01","2021-01-01",0,0,0,0,0,0,"","",0,0,0]
[null,null,null,null,null,null,null,null,null,null,null,null,null,null,null,null,"2021-01-01","00:00:00","2021-01-01","2021-01-01","2021-01-01",0,0,0,0,0,0,"","",0,0,0]
[null,null,null,null,null,null,null,null,null,null,null,null,null,null,null,null,"2021-01-01","00:00:00","2021-01-01","2021-01-01","2021-01-01",0,0,0,0,0,0,"","",0,0,0]
[null,null,null,null,null,null,null,null,null,null,null,null,null,null,null,null,"2021-01-01","00:00:00","2021-01-01","2021-01-01","2021-01-01",0,0,0,0,0,0,"","",0,0,0]
[null,null,null,null,null,null,null,null,null,null,null,null,null,null,null,null,"2021-01-01","00:00:00","2021-01-01","2021-01-01","2021-01-01",0,0,0,0,0,0,"","",0,0,0]
[null,null,null,null,null,null,null,null,null,null,null,null,null,null,null,null,"2021-01-01","00:00:00","2021-01-01","2021-01-01","2021-01-01",0,0,0,0,0,0,"","",0,0,0]
[null,null,null,null,null,null,null,null,null,null,null,null,null,null,null,null,"2021-01-01","00:00:00","2021-01-01","2021-01-01","2021-01-01",0,0,0,0,0,0,"","",0,0,0]
[null,null,null,null,null,null,null,null,null,null,null,null,null,null,null,null,"2021-01-01","00:00:00","2021-01-01","2021-01-01","2021-01-01",0,0,0,0,0,0,"","",0,0,0]
[null,null,null,null,null,null,null,null,null,null,null,null,null,null,null,null,"2021-01-01","00:00:00","2021-01-01","2021-01-01","2021-01-01",0,0,0,0,0,0,"","",0,0,0]
[null,null,null,null,null,null,null,null,null,null,null,null,null,null,null,null,"2021-01-01","00:00:00","2021-01-01","2021-01-01","2021-01-01",0,0,0,0,0,0,"","",0,0,0]
[null,null,null,null,null,null,null,null,null,null,null,null,null,null,null,null,"2021-01-01","00:00:00","2021-01-01","2021-01-01","2021-01-01",0,0,0,0,0,0,"","",0,0,0]
[null,null,null,null,null,null,null,null,null,null,null,null,null,null,null,null,"2021-01-01","00:00:00","2021-01-01","2021-01-01","2021-01-01",0,0,0,0,0,0,"","",0,0,0]
[null,null,null,null,null,null,null,null,null,null,null,null,null,null,null,null,"2021-01-01","00:00:00","2021-01-01","2021-01-01","2021-01-01",0,0,0,0,0,0,"","",0,0,0]
[null,null,null,null,null,null,null,null,null,null,null,null,null,null,null,null,"2021-01-01","00:00:00","2021-01-01","2021-01-01","2021-01-01",0,0,0,0,0,0,"","",0,0,0]
[null,null,null,null,null,null,null,null,null,null,null,null,null,null,null,null,"2021-01-01","00:00:00","2021-01-01","2021-01-01","2021-01-01",0,0,0,0,0,0,"","",0,0,0]
[null,null,null,null,null,null,null,null,null,null,null,null,null,null,null,null,"2021-01-01","00:00:00","2021-01-01","2021-01-01","2021-01-01",0,0,0,0,0,0,"","",0,0,0]
[null,null,null,null,null,null,null,null,null,null,null,null,null,null,null,null,"2021-01-01","00:00:00","2021-01-01","2021-01-01","2021-01-01",0,0,0,0,0,0,"","",0,0,0]
[null,null,null,null,null,null,null,null,null,null,null,null,null,null,null,null,"2021-01-01","00:00:00","2021-01-01","2021-01-01","2021-01-01",0,0,0,0,0,0,"","",0,0,0]
[null,null,null,null,null,null,null,null,null,null,null,null,null,null,null,null,"2021-01-01","00:00:00","2021-01-01","2021-01-01","2021-01-01",0,0,0,0,0,0,"","",0,0,0]
[null,null,null,null,null,null,null,null,null,null,null,null,null,null,null,null,"2021-01-01","00:00:00","2021-01-01","2021-01-01","2021-01-01",0,0,0,0,0,0,"","",0,{"$f":"IF(OR($Q643>$Q$1,$R643<$Q$1),0,YEARFRAC($E643,$Q643,1))*12","v":0},{"$f":"IF(OR($Q643>$R$1,$R643<$R$1),0,YEARFRAC($E643,$R643,1))*12","v":0}]
[null,null,null,null,null,null,null,null,null,null,null,null,null,null,null,null,{"$f":"IF(OR(K644<$Q$1,K644=\"Altbestand\"),$Q$1,IF(AND(K644=\"Nachzucht\",E644>$Q$1),E644,IF(K644=\"Nachzucht\",$Q$1,K644)))","v":"2021-01-01"},{"$f":"IF(OR(L644>$R$1,L644=\"Nein\"),$R$1,L644)","v":"00:00:00"},{"$f":"IF(OR(R644<Q644,(E644+183)<Q644),Q644,IF((E644+183)>R644,R644,(E644+183)))","v":"2021-01-01"},{"$f":"IF(OR(S644=R644,(E644+365)<Q644,R644<Q644),S644,IF((E644+365)>R644,R644,(E644+365)))","v":"2021-01-01"},{"$f":"IF(OR(T644=R644,S644=R644,(E644+365*2)<Q644,R644<Q644),T644,IF((E644+365*2)>R644,R644,(E644+365*2)))","v":"2021-01-01"},{"$f":"IF(AC644=\"Kuh\",\"Kuh\",F644)","v":0},{"$f":"S644-Q644","v":0},{"$f":"+T644-S644","v":0},{"$f":"+U644-T644","v":0},{"$f":"IF(AB644=\"\",0,AB644-AA644)","v":0},{"$f":"SUM(W644:Y644)","v":0},{"$f":"IF(R644<Q644,\"\",R644-Q644)","v":""},{"$f":"IF(OR((ISNA(VLOOKUP(C644,$I$3:$I$138,1,FALSE))=FALSE),AND(AD644>1200,F644=\"w\"),M644=\"Ja\"),\"Kuh\",\"\")","v":""},{"$f":"IF(OR(L644=\"Nein\",L644=\"Ja\"),$R$1-E644,L644-E644)","v":0},0,0]
[null,null,null,null,null,null,null,null,null,null,null,null,null,null,null,null,"2021-01-01","00:00:00","2021-01-01","2021-01-01","2021-01-01",0,0,0,0,0,0,"","",0,0,0]
[null,null,null,null,null,null,null,null,null,null,null,null,null,null,null,null,"2021-01-01","00:00:00","2021-01-01","2021-01-01","2021-01-01",0,0,0,0,0,0,"","",0,0,0]
[null,null,null,null,null,null,null,null,null,null,null,null,null,null,null,null,"2021-01-01","00:00:00","2021-01-01","2021-01-01","2021-01-01",0,0,0,0,0,0,"","",0,0,0]
[null,null,null,null,null,null,null,null,null,null,null,null,null,null,null,null,"2021-01-01","00:00:00","2021-01-01","2021-01-01","2021-01-01",0,0,0,0,0,0,"","",0,0,0]
[null,null,null,null,null,null,null,null,null,null,null,null,null,null,null,null,"2021-01-01","00:00:00","2021-01-01","2021-01-01","2021-01-01",0,0,0,0,0,0,"","",0,0,0]
[null,null,null,null,null,null,null,null,null,null,null,null,null,null,null,null,"2021-01-01","00:00:00","2021-01-01","2021-01-01","2021-01-01",0,0,0,0,0,0,"","",0,0,0]
[null,null,null,null,null,null,null,null,null,null,null,null,null,null,null,null,"2021-01-01","00:00:00","2021-01-01","2021-01-01","2021-01-01",0,0,0,0,0,0,"","",0,0,0]
[null,null,null,null,null,null,null,null,null,null,null,null,null,null,null,null,"2021-01-01","00:00:00","2021-01-01","2021-01-01","2021-01-01",0,0,0,0,0,0,"","",0,0,0]
[null,null,null,null,null,null,null,null,null,null,null,null,null,null,null,null,"2021-01-01","00:00:00","2021-01-01","2021-01-01","2021-01-01",0,0,0,0,0,0,"","",0,0,0]
[null,null,null,null,null,null,null,null,null,null,null,null,null,null,null,null,"2021-01-01","00:00:00","2021-01-01","2021-01-01","2021-01-01",0,0,0,0,0,0,"","",0,0,0]
[null,null,null,null,null,null,null,null,null,null,null,null,null,null,null,null,"2021-01-01","00:00:00","2021-01-01","2021-01-01","2021-01-01",0,0,0,0,0,0,"","",0,0,0]
[null,null,null,null,null,null,null,null,null,null,null,null,null,null,null,null,"2021-01-01","00:00:00","2021-01-01","2021-01-01","2021-01-01",0,0,0,0,0,0,"","",0,0,0]
[null,null,null,null,null,null,null,null,null,null,null,null,null,null,null,null,"2021-01-01","00:00:00","2021-01-01","2021-01-01","2021-01-01",0,0,0,0,0,0,"","",0,0,0]
[null,null,null,null,null,null,null,null,null,null,null,null,null,null,null,null,"2021-01-01","00:00:00","2021-01-01","2021-01-01","2021-01-01",0,0,0,0,0,0,"","",0,0,0]
[null,null,null,null,null,null,null,null,null,null,null,null,null,null,null,null,"2021-01-01","00:00:00","2021-01-01","2021-01-01","2021-01-01",0,0,0,0,0,0,"","",0,0,0]
[null,null,null,null,null,null,null,null,null,null,null,null,null,null,null,null,"2021-01-01","00:00:00","2021-01-01","2021-01-01","2021-01-01",0,0,0,0,0,0,"","",0,0,0]
[null,null,null,null,null,null,null,null,null,null,null,null,null,null,null,null,"2021-01-01","00:00:00","2021-01-01","2021-01-01","2021-01-01",0,0,0,0,0,0,"","",0,0,0]
[null,null,null,null,null,null,null,null,null,null,null,null,null,null,null,null,"2021-01-01","00:00:00","2021-01-01","2021-01-01","2021-01-01",0,0,0,0,0,0,"","",0,0,0]
[null,null,null,null,null,null,null,null,null,null,null,null,null,null,null,null,"2021-01-01","00:00:00","2021-01-01","2021-01-01","2021-01-01",0,0,0,0,0,0,"","",0,0,0]
[null,null,null,null,null,null,null,null,null,null,null,null,null,null,null,null,"2021-01-01","00:00:00","2021-01-01","2021-01-01","2021-01-01",0,0,0,0,0,0,"","",0,0,0]
[null,null,null,null,null,null,null,null,null,null,null,null,null,null,null,null,"2021-01-01","00:00:00","2021-01-01","2021-01-01","2021-01-01",0,0,0,0,0,0,"","",0,0,0]
[null,null,null,null,null,null,null,null,null,null,null,null,null,null,null,null,"2021-01-01","00:00:00","2021-01-01","2021-01-01","2021-01-01",0,0,0,0,0,0,"","",0,0,0]
[null,null,null,null,null,null,null,null,null,null,null,null,null,null,null,null,"2021-01-01","00:00:00","2021-01-01","2021-01-01","2021-01-01",0,0,0,0,0,0,"","",0,0,0]
[null,null,null,null,null,null,null,null,null,null,null,null,null,null,null,null,"2021-01-01","00:00:00","2021-01-01","2021-01-01","2021-01-01",0,0,0,0,0,0,"","",0,0,0]
[null,null,null,null,null,null,null,null,null,null,null,null,null,null,null,null,"2021-01-01","00:00:00","2021-01-01","2021-01-01","2021-01-01",0,0,0,0,0,0,"","",0,0,0]
[null,null,null,null,null,null,null,null,null,null,null,null,null,null,null,null,"2021-01-01","00:00:00","2021-01-01","2021-01-01","2021-01-01",0,0,0,0,0,0,"","",0,0,0]
[null,null,null,null,null,null,null,null,null,null,null,null,null,null,null,null,"2021-01-01","00:00:00","2021-01-01","2021-01-01","2021-01-01",0,0,0,0,0,0,"","",0,0,0]
[null,null,null,null,null,null,null,null,null,null,null,null,null,null,null,null,"2021-01-01","00:00:00","2021-01-01","2021-01-01","2021-01-01",0,0,0,0,0,0,"","",0,0,0]
[null,null,null,null,null,null,null,null,null,null,null,null,null,null,null,null,"2021-01-01","00:00:00","2021-01-01","2021-01-01","2021-01-01",0,0,0,0,0,0,"","",0,0,0]
[null,null,null,null,null,null,null,null,null,null,null,null,null,null,null,null,"2021-01-01","00:00:00","2021-01-01","2021-01-01","2021-01-01",0,0,0,0,0,0,"","",0,0,0]
[null,null,null,null,null,null,null,null,null,null,null,null,null,null,null,null,"2021-01-01","00:00:00","2021-01-01","2021-01-01","2021-01-01",0,0,0,0,0,0,"","",0,0,0]
[null,null,null,null,null,null,null,null,null,null,null,null,null,null,null,null,"2021-01-01","00:00:00","2021-01-01","2021-01-01","2021-01-01",0,0,0,0,0,0,"","",0,0,0]
[null,null,null,null,null,null,null,null,null,null,null,null,null,null,null,null,"2021-01-01","00:00:00","2021-01-01","2021-01-01","2021-01-01",0,0,0,0,0,0,"","",0,0,0]
[null,null,null,null,null,null,null,null,null,null,null,null,null,null,null,null,"2021-01-01","00:00:00","2021-01-01","2021-01-01","2021-01-01",0,0,0,0,0,0,"","",0,0,0]
[null,null,null,null,null,null,null,null,null,null,null,null,null,null,null,null,"2021-01-01","00:00:00","2021-01-01","2021-01-01","2021-01-01",0,0,0,0,0,0,"","",0,0,0]
[null,null,null,null,null,null,null,null,null,null,null,null,null,null,null,null,"2021-01-01","00:00:00","2021-01-01","2021-01-01","2021-01-01",0,0,0,0,0,0,"","",0,0,0]
[null,null,null,null,null,null,null,null,null,null,null,null,null,null,null,null,"2021-01-01","00:00:00","2021-01-01","2021-01-01","2021-01-01",0,0,0,0,0,0,"","",0,0,0]
[null,null,null,null,null,null,null,null,null,null,null,null,null,null,null,null,"2021-01-01","00:00:00","2021-01-01","2021-01-01","2021-01-01",0,0,0,0,0,0,"","",0,0,0]
[null,null,null,null,null,null,null,null,null,null,null,null,null,null,null,null,"2021-01-01","00:00:00","2021-01-01","2021-01-01","2021-01-01",0,0,0,0,0,0,"","",0,0,0]
[null,null,null,null,null,null,null,null,null,null,null,null,null,null,null,null,"2021-01-01","00:00:00","2021-01-01","2021-01-01","2021-01-01",0,0,0,0,0,0,"","",0,0,0]
[null,null,null,null,null,null,null,null,null,null,null,null,null,null,null,null,"2021-01-01","00:00:00","2021-01-01","2021-01-01","2021-01-01",0,0,0,0,0,0,"","",0,0,0]
[null,null,null,null,null,null,null,null,null,null,null,null,null,null,null,null,"2021-01-01","00:00:00","2021-01-01","2021-01-01","2021-01-01",0,0,0,0,0,0,"","",0,0,0]
[null,null,null,null,null,null,null,null,null,null,null,null,null,null,null,null,"2021-01-01","00:00:00","2021-01-01","2021-01-01","2021-01-01",0,0,0,0,0,0,"","",0,0,0]
[null,null,null,null,null,null,null,null,null,null,null,null,null,null,null,null,"2021-01-01","00:00:00","2021-01-01","2021-01-01","2021-01-01",0,0,0,0,0,0,"","",0,0,0]
[null,null,null,null,null,null,null,null,null,null,null,null,null,null,null,null,"2021-01-01","00:00:00","2021-01-01","2021-01-01","2021-01-01",0,0,0,0,0,0,"","",0,0,0]
[null,null,null,null,null,null,null,null,null,null,null,null,null,null,null,null,"2021-01-01","00:00:00","2021-01-01","2021-01-01","2021-01-01",0,0,0,0,0,0,"","",0,0,0]
[null,null,null,null,null,null,null,null,null,null,null,null,null,null,null,null,"2021-01-01","00:00:00","2021-01-01","2021-01-01","2021-01-01",0,0,0,0,0,0,"","",0,0,0]
[null,null,null,null,null,null,null,null,null,null,null,null,null,null,null,null,"2021-01-01","00:00:00","2021-01-01","2021-01-01","2021-01-01",0,0,0,0,0,0,"","",0,0,0]
[null,null,null,null,null,null,null,null,null,null,null,null,null,null,null,null,"2021-01-01","00:00:00","2021-01-01","2021-01-01","2021-01-01",0,0,0,0,0,0,"","",0,0,0]
[null,null,null,null,null,null,null,null,null,null,null,null,null,null,null,null,"2021-01-01","00:00:00","2021-01-01","2021-01-01","2021-01-01",0,0,0,0,0,0,"","",0,0,0]
[null,null,null,null,null,null,null,null,null,null,null,null,null,null,null,null,"2021-01-01","00:00:00","2021-01-01","2021-01-01","2021-01-01",0,0,0,0,0,0,"","",0,0,0]
[null,null,null,null,null,null,null,null,null,null,null,null,null,null,null,null,"2021-01-01","00:00:00","2021-01-01","2021-01-01","2021-01-01",0,0,0,0,0,0,"","",0,0,0]
[null,null,null,null,null,null,null,null,null,null,null,null,null,null,null,null,"2021-01-01","00:00:00","2021-01-01","2021-01-01","2021-01-01",0,0,0,0,0,0,"","",0,0,0]
[null,null,null,null,null,null,null,null,null,null,null,null,null,null,null,null,"2021-01-01","00:00:00","2021-01-01","2021-01-01","2021-01-01",0,0,0,0,0,0,"","",0,0,0]
[null,null,null,null,null,null,null,null,null,null,null,null,null,null,null,null,"2021-01-01","00:00:00","2021-01-01","2021-01-01","2021-01-01",0,0,0,0,0,0,"","",0,0,0]
[null,null,null,null,null,null,null,null,null,null,null,null,null,null,null,null,"2021-01-01","00:00:00","2021-01-01","2021-01-01","2021-01-01",0,0,0,0,0,0,"","",0,0,0]
[null,null,null,null,null,null,null,null,null,null,null,null,null,null,null,null,"2021-01-01","00:00:00","2021-01-01","2021-01-01","2021-01-01",0,0,0,0,0,0,"","",0,0,0]
[null,null,null,null,null,null,null,null,null,null,null,null,null,null,null,null,"2021-01-01","00:00:00","2021-01-01","2021-01-01","2021-01-01",0,0,0,0,0,0,"","",0,0,0]
[null,null,null,null,null,null,null,null,null,null,null,null,null,null,null,null,"2021-01-01","00:00:00","2021-01-01","2021-01-01","2021-01-01",0,0,0,0,0,0,"","",0,0,0]
[null,null,null,null,null,null,null,null,null,null,null,null,null,null,null,null,"2021-01-01","00:00:00","2021-01-01","2021-01-01","2021-01-01",0,0,0,0,0,0,"","",0,0,0]
[null,null,null,null,null,null,null,null,null,null,null,null,null,null,null,null,"2021-01-01","00:00:00","2021-01-01","2021-01-01","2021-01-01",0,0,0,0,0,0,"","",0,0,0]
[null,null,null,null,null,null,null,null,null,null,null,null,null,null,null,null,"2021-01-01","00:00:00","2021-01-01","2021-01-01","2021-01-01",0,0,0,0,0,0,"","",0,0,0]
[null,null,null,null,null,null,null,null,null,null,null,null,null,null,null,null,"2021-01-01","00:00:00","2021-01-01","2021-01-01","2021-01-01",0,0,0,0,0,0,"","",0,{"$f":"IF(OR($Q707>$Q$1,$R707<$Q$1),0,YEARFRAC($E707,$Q707,1))*12","v":0},{"$f":"IF(OR($Q707>$R$1,$R707<$R$1),0,YEARFRAC($E707,$R707,1))*12","v":0}]
[null,null,null,null,null,null,null,null,null,null,null,null,null,null,null,null,{"$f":"IF(OR(K708<$Q$1,K708=\"Altbestand\"),$Q$1,IF(AND(K708=\"Nachzucht\",E708>$Q$1),E708,IF(K708=\"Nachzucht\",$Q$1,K708)))","v":"2021-01-01"},{"$f":"IF(OR(L708>$R$1,L708=\"Nein\"),$R$1,L708)","v":"00:00:00"},{"$f":"IF(OR(R708<Q708,(E708+183)<Q708),Q708,IF((E708+183)>R708,R708,(E708+183)))","v":"2021-01-01"},{"$f":"IF(OR(S708=R708,(E708+365)<Q708,R708<Q708),S708,IF((E708+365)>R708,R708,(E708+365)))","v":"2021-01-01"},{"$f":"IF(OR(T708=R708,S708=R708,(E708+365*2)<Q708,R708<Q708),T708,IF((E708+365*2)>R708,R708,(E708+365*2)))","v":"2021-01-01"},{"$f":"IF(AC708=\"Kuh\",\"Kuh\",F708)","v":0},{"$f":"S708-Q708","v":0},{"$f":"+T708-S708","v":0},{"$f":"+U708-T708","v":0},{"$f":"IF(AB708=\"\",0,AB708-AA708)","v":0},{"$f":"SUM(W708:Y708)","v":0},{"$f":"IF(R708<Q708,\"\",R708-Q708)","v":""},{"$f":"IF(OR((ISNA(VLOOKUP(C708,$I$3:$I$138,1,FALSE))=FALSE),AND(AD708>1200,F708=\"w\"),M708=\"Ja\"),\"Kuh\",\"\")","v":""},{"$f":"IF(OR(L708=\"Nein\",L708=\"Ja\"),$R$1-E708,L708-E708)","v":0},0,0]
[null,null,null,null,null,null,null,null,null,null,null,null,null,null,null,null,"2021-01-01","00:00:00","2021-01-01","2021-01-01","2021-01-01",0,0,0,0,0,0,"","",0,0,0]
[null,null,null,null,null,null,null,null,null,null,null,null,null,null,null,null,"2021-01-01","00:00:00","2021-01-01","2021-01-01","2021-01-01",0,0,0,0,0,0,"","",0,0,0]
[null,null,null,null,null,null,null,null,null,null,null,null,null,null,null,null,"2021-01-01","00:00:00","2021-01-01","2021-01-01","2021-01-01",0,0,0,0,0,0,"","",0,0,0]
[null,null,null,null,null,null,null,null,null,null,null,null,null,null,null,null,"2021-01-01","00:00:00","2021-01-01","2021-01-01","2021-01-01",0,0,0,0,0,0,"","",0,0,0]
[null,null,null,null,null,null,null,null,null,null,null,null,null,null,null,null,"2021-01-01","00:00:00","2021-01-01","2021-01-01","2021-01-01",0,0,0,0,0,0,"","",0,0,0]
[null,null,null,null,null,null,null,null,null,null,null,null,null,null,null,null,"2021-01-01","00:00:00","2021-01-01","2021-01-01","2021-01-01",0,0,0,0,0,0,"","",0,0,0]
[null,null,null,null,null,null,null,null,null,null,null,null,null,null,null,null,"2021-01-01","00:00:00","2021-01-01","2021-01-01","2021-01-01",0,0,0,0,0,0,"","",0,0,0]
[null,null,null,null,null,null,null,null,null,null,null,null,null,null,null,null,"2021-01-01","00:00:00","2021-01-01","2021-01-01","2021-01-01",0,0,0,0,0,0,"","",0,0,0]
[null,null,null,null,null,null,null,null,null,null,null,null,null,null,null,null,"2021-01-01","00:00:00","2021-01-01","2021-01-01","2021-01-01",0,0,0,0,0,0,"","",0,0,0]
[null,null,null,null,null,null,null,null,null,null,null,null,null,null,null,null,"2021-01-01","00:00:00","2021-01-01","2021-01-01","2021-01-01",0,0,0,0,0,0,"","",0,0,0]
[null,null,null,null,null,null,null,null,null,null,null,null,null,null,null,null,"2021-01-01","00:00:00","2021-01-01","2021-01-01","2021-01-01",0,0,0,0,0,0,"","",0,0,0]
[null,null,null,null,null,null,null,null,null,null,null,null,null,null,null,null,"2021-01-01","00:00:00","2021-01-01","2021-01-01","2021-01-01",0,0,0,0,0,0,"","",0,0,0]
[null,null,null,null,null,null,null,null,null,null,null,null,null,null,null,null,"2021-01-01","00:00:00","2021-01-01","2021-01-01","2021-01-01",0,0,0,0,0,0,"","",0,0,0]
[null,null,null,null,null,null,null,null,null,null,null,null,null,null,null,null,"2021-01-01","00:00:00","2021-01-01","2021-01-01","2021-01-01",0,0,0,0,0,0,"","",0,0,0]
[null,null,null,null,null,null,null,null,null,null,null,null,null,null,null,null,"2021-01-01","00:00:00","2021-01-01","2021-01-01","2021-01-01",0,0,0,0,0,0,"","",0,0,0]
[null,null,null,null,null,null,null,null,null,null,null,null,null,null,null,null,"2021-01-01","00:00:00","2021-01-01","2021-01-01","2021-01-01",0,0,0,0,0,0,"","",0,0,0]
[null,null,null,null,null,null,null,null,null,null,null,null,null,null,null,null,"2021-01-01","00:00:00","2021-01-01","2021-01-01","2021-01-01",0,0,0,0,0,0,"","",0,0,0]
[null,null,null,null,null,null,null,null,null,null,null,null,null,null,null,null,"2021-01-01","00:00:00","2021-01-01","2021-01-01","2021-01-01",0,0,0,0,0,0,"","",0,0,0]
[null,null,null,null,null,null,null,null,null,null,null,null,null,null,null,null,"2021-01-01","00:00:00","2021-01-01","2021-01-01","2021-01-01",0,0,0,0,0,0,"","",0,0,0]
[null,null,null,null,null,null,null,null,null,null,null,null,null,null,null,null,"2021-01-01","00:00:00","2021-01-01","2021-01-01","2021-01-01",0,0,0,0,0,0,"","",0,0,0]
[null,null,null,null,null,null,null,null,null,null,null,null,null,null,null,null,"2021-01-01","00:00:00","2021-01-01","2021-01-01","2021-01-01",0,0,0,0,0,0,"","",0,0,0]
[null,null,null,null,null,null,null,null,null,null,null,null,null,null,null,null,"2021-01-01","00:00:00","2021-01-01","2021-01-01","2021-01-01",0,0,0,0,0,0,"","",0,0,0]
[null,null,null,null,null,null,null,null,null,null,null,null,null,null,null,null,"2021-01-01","00:00:00","2021-01-01","2021-01-01","2021-01-01",0,0,0,0,0,0,"","",0,0,0]
[null,null,null,null,null,null,null,null,null,null,null,null,null,null,null,null,"2021-01-01","00:00:00","2021-01-01","2021-01-01","2021-01-01",0,0,0,0,0,0,"","",0,0,0]
[null,null,null,null,null,null,null,null,null,null,null,null,null,null,null,null,"2021-01-01","00:00:00","2021-01-01","2021-01-01","2021-01-01",0,0,0,0,0,0,"","",0,0,0]
[null,null,null,null,null,null,null,null,null,null,null,null,null,null,null,null,"2021-01-01","00:00:00","2021-01-01","2021-01-01","2021-01-01",0,0,0,0,0,0,"","",0,0,0]
[null,null,null,null,null,null,null,null,null,null,null,null,null,null,null,null,"2021-01-01","00:00:00","2021-01-01","2021-01-01","2021-01-01",0,0,0,0,0,0,"","",0,0,0]
[null,null,null,null,null,null,null,null,null,null,null,null,null,null,null,null,"2021-01-01","00:00:00","2021-01-01","2021-01-01","2021-01-01",0,0,0,0,0,0,"","",0,0,0]
[null,null,null,null,null,null,null,null,null,null,null,null,null,null,null,null,"2021-01-01","00:00:00","2021-01-01","2021-01-01","2021-01-01",0,0,0,0,0,0,"","",0,0,0]
[null,null,null,null,null,null,null,null,null,null,null,null,null,null,null,null,"2021-01-01","00:00:00","2021-01-01","2021-01-01","2021-01-01",0,0,0,0,0,0,"","",0,0,0]
[null,null,null,null,null,null,null,null,null,null,null,null,null,null,null,null,"2021-01-01","00:00:00","2021-01-01","2021-01-01","2021-01-01",0,0,0,0,0,0,"","",0,0,0]
[null,null,null,null,null,null,null,null,null,null,null,null,null,null,null,null,"2021-01-01","00:00:00","2021-01-01","2021-01-01","2021-01-01",0,0,0,0,0,0,"","",0,0,0]
[null,null,null,null,null,null,null,null,null,null,null,null,null,null,null,null,"2021-01-01","00:00:00","2021-01-01","2021-01-01","2021-01-01",0,0,0,0,0,0,"","",0,0,0]
[null,null,null,null,null,null,null,null,null,null,null,null,null,null,null,null,"2021-01-01","00:00:00","2021-01-01","2021-01-01","2021-01-01",0,0,0,0,0,0,"","",0,0,0]
[null,null,null,null,null,null,null,null,null,null,null,null,null,null,null,null,"2021-01-01","00:00:00","2021-01-01","2021-01-01","2021-01-01",0,0,0,0,0,0,"","",0,0,0]
[null,null,null,null,null,null,null,null,null,null,null,null,null,null,null,null,"2021-01-01","00:00:00","2021-01-01","2021-01-01","2021-01-01",0,0,0,0,0,0,"","",0,0,0]
[null,null,null,null,null,null,null,null,null,null,null,null,null,null,null,null,"2021-01-01","00:00:00","2021-01-01","2021-01-01","2021-01-01",0,0,0,0,0,0,"","",0,0,0]
[null,null,null,null,null,null,null,null,null,null,null,null,null,null,null,null,"2021-01-01","00:00:00","2021-01-01","2021-01-01","2021-01-01",0,0,0,0,0,0,"","",0,0,0]
[null,null,null,null,null,null,null,null,null,null,null,null,null,null,null,null,"2021-01-01","00:00:00","2021-01-01","2021-01-01","2021-01-01",0,0,0,0,0,0,"","",0,0,0]
[null,null,null,null,null,null,null,null,null,null,null,null,null,null,null,null,"2021-01-01","00:00:00","2021-01-01","2021-01-01","2021-01-01",0,0,0,0,0,0,"","",0,0,0]
[null,null,null,null,null,null,null,null,null,null,null,null,null,null,null,null,"2021-01-01","00:00:00","2021-01-01","2021-01-01","2021-01-01",0,0,0,0,0,0,"","",0,0,0]
[null,null,null,null,null,null,null,null,null,null,null,null,null,null,null,null,"2021-01-01","00:00:00","2021-01-01","2021-01-01","2021-01-01",0,0,0,0,0,0,"","",0,0,0]
[null,null,null,null,null,null,null,null,null,null,null,null,null,null,null,null,"2021-01-01","00:00:00","2021-01-01","2021-01-01","2021-01-01",0,0,0,0,0,0,"","",0,0,0]
[null,null,null,null,null,null,null,null,null,null,null,null,null,null,null,null,"2021-01-01","00:00:00","2021-01-01","2021-01-01","2021-01-01",0,0,0,0,0,0,"","",0,0,0]
[null,null,null,null,null,null,null,null,null,null,null,null,null,null,null,null,"2021-01-01","00:00:00","2021-01-01","2021-01-01","2021-01-01",0,0,0,0,0,0,"","",0,0,0]
[null,null,null,null,null,null,null,null,null,null,null,null,null,null,null,null,"2021-01-01","00:00:00","2021-01-01","2021-01-01","2021-01-01",0,0,0,0,0,0,"","",0,0,0]
[null,null,null,null,null,null,null,null,null,null,null,null,null,null,null,null,"2021-01-01","00:00:00","2021-01-01","2021-01-01","2021-01-01",0,0,0,0,0,0,"","",0,0,0]
[null,null,null,null,null,null,null,null,null,null,null,null,null,null,null,null,"2021-01-01","00:00:00","2021-01-01","2021-01-01","2021-01-01",0,0,0,0,0,0,"","",0,0,0]
[null,null,null,null,null,null,null,null,null,null,null,null,null,null,null,null,"2021-01-01","00:00:00","2021-01-01","2021-01-01","2021-01-01",0,0,0,0,0,0,"","",0,0,0]
[null,null,null,null,null,null,null,null,null,null,null,null,null,null,null,null,"2021-01-01","00:00:00","2021-01-01","2021-01-01","2021-01-01",0,0,0,0,0,0,"","",0,0,0]
[null,null,null,null,null,null,null,null,null,null,null,null,null,null,null,null,"2021-01-01","00:00:00","2021-01-01","2021-01-01","2021-01-01",0,0,0,0,0,0,"","",0,0,0]
[null,null,null,null,null,null,null,null,null,null,null,null,null,null,null,null,"2021-01-01","00:00:00","2021-01-01","2021-01-01","2021-01-01",0,0,0,0,0,0,"","",0,0,0]
[null,null,null,null,null,null,null,null,null,null,null,null,null,null,null,null,"2021-01-01","00:00:00","2021-01-01","2021-01-01","2021-01-01",0,0,0,0,0,0,"","",0,0,0]
[null,null,null,null,null,null,null,null,null,null,null,null,null,null,null,null,"2021-01-01","00:00:00","2021-01-01","2021-01-01","2021-01-01",0,0,0,0,0,0,"","",0,0,0]
[null,null,null,null,null,null,null,null,null,null,null,null,null,null,null,null,"2021-01-01","00:00:00","2021-01-01","2021-01-01","2021-01-01",0,0,0,0,0,0,"","",0,0,0]
[null,null,null,null,null,null,null,null,null,null,null,null,null,null,null,null,"2021-01-01","00:00:00","2021-01-01","2021-01-01","2021-01-01",0,0,0,0,0,0,"","",0,0,0]
[null,null,null,null,null,null,null,null,null,null,null,null,null,null,null,null,"2021-01-01","00:00:00","2021-01-01","2021-01-01","2021-01-01",0,0,0,0,0,0,"","",0,0,0]
[null,null,null,null,null,null,null,null,null,null,null,null,null,null,null,null,"2021-01-01","00:00:00","2021-01-01","2021-01-01","2021-01-01",0,0,0,0,0,0,"","",0,0,0]
[null,null,null,null,null,null,null,null,null,null,null,null,null,null,null,null,"2021-01-01","00:00:00","2021-01-01","2021-01-01","2021-01-01",0,0,0,0,0,0,"","",0,0,0]
[null,null,null,null,null,null,null,null,null,null,null,null,null,null,null,null,"2021-01-01","00:00:00","2021-01-01","2021-01-01","2021-01-01",0,0,0,0,0,0,"","",0,0,0]
[null,null,null,null,null,null,null,null,null,null,null,null,null,null,null,null,"2021-01-01","00:00:00","2021-01-01","2021-01-01","2021-01-01",0,0,0,0,0,0,"","",0,0,0]
[null,null,null,null,null,null,null,null,null,null,null,null,null,null,null,null,"2021-01-01","00:00:00","2021-01-01","2021-01-01","2021-01-01",0,0,0,0,0,0,"","",0,0,0]
[null,null,null,null,null,null,null,null,null,null,null,null,null,null,null,null,"2021-01-01","00:00:00","2021-01-01","2021-01-01","2021-01-01",0,0,0,0,0,0,"","",0,{"$f":"IF(OR($Q771>$Q$1,$R771<$Q$1),0,YEARFRAC($E771,$Q771,1))*12","v":0},{"$f":"IF(OR($Q771>$R$1,$R771<$R$1),0,YEARFRAC($E771,$R771,1))*12","v":0}]
[null,null,null,null,null,null,null,null,null,null,null,null,null,null,null,null,{"$f":"IF(OR(K772<$Q$1,K772=\"Altbestand\"),$Q$1,IF(AND(K772=\"Nachzucht\",E772>$Q$1),E772,IF(K772=\"Nachzucht\",$Q$1,K772)))","v":"2021-01-01"},{"$f":"IF(OR(L772>$R$1,L772=\"Nein\"),$R$1,L772)","v":"00:00:00"},{"$f":"IF(OR(R772<Q772,(E772+183)<Q772),Q772,IF((E772+183)>R772,R772,(E772+183)))","v":"2021-01-01"},{"$f":"IF(OR(S772=R772,(E772+365)<Q772,R772<Q772),S772,IF((E772+365)>R772,R772,(E772+365)))","v":"2021-01-01"},{"$f":"IF(OR(T772=R772,S772=R772,(E772+365*2)<Q772,R772<Q772),T772,IF((E772+365*2)>R772,R772,(E772+365*2)))","v":"2021-01-01"},{"$f":"IF(AC772=\"Kuh\",\"Kuh\",F772)","v":0},{"$f":"S772-Q772","v":0},{"$f":"+T772-S772","v":0},{"$f":"+U772-T772","v":0},{"$f":"IF(AB772=\"\",0,AB772-AA772)","v":0},{"$f":"SUM(W772:Y772)","v":0},{"$f":"IF(R772<Q772,\"\",R772-Q772)","v":""},{"$f":"IF(OR((ISNA(VLOOKUP(C772,$I$3:$I$138,1,FALSE))=FALSE),AND(AD772>1200,F772=\"w\"),M772=\"Ja\"),\"Kuh\",\"\")","v":""},{"$f":"IF(OR(L772=\"Nein\",L772=\"Ja\"),$R$1-E772,L772-E772)","v":0},0,0]
[null,null,null,null,null,null,null,null,null,null,null,null,null,null,null,null,"2021-01-01","00:00:00","2021-01-01","2021-01-01","2021-01-01",0,0,0,0,0,0,"","",0,0,0]
[null,null,null,null,null,null,null,null,null,null,null,null,null,null,null,null,"2021-01-01","00:00:00","2021-01-01","2021-01-01","2021-01-01",0,0,0,0,0,0,"","",0,0,0]
[null,null,null,null,null,null,null,null,null,null,null,null,null,null,null,null,"2021-01-01","00:00:00","2021-01-01","2021-01-01","2021-01-01",0,0,0,0,0,0,"","",0,0,0]
[null,null,null,null,null,null,null,null,null,null,null,null,null,null,null,null,"2021-01-01","00:00:00","2021-01-01","2021-01-01","2021-01-01",0,0,0,0,0,0,"","",0,0,0]
[null,null,null,null,null,null,null,null,null,null,null,null,null,null,null,null,"2021-01-01","00:00:00","2021-01-01","2021-01-01","2021-01-01",0,0,0,0,0,0,"","",0,0,0]
[null,null,null,null,null,null,null,null,null,null,null,null,null,null,null,null,"2021-01-01","00:00:00","2021-01-01","2021-01-01","2021-01-01",0,0,0,0,0,0,"","",0,0,0]
[null,null,null,null,null,null,null,null,null,null,null,null,null,null,null,null,"2021-01-01","00:00:00","2021-01-01","2021-01-01","2021-01-01",0,0,0,0,0,0,"","",0,0,0]
[null,null,null,null,null,null,null,null,null,null,null,null,null,null,null,null,"2021-01-01","00:00:00","2021-01-01","2021-01-01","2021-01-01",0,0,0,0,0,0,"","",0,0,0]
[null,null,null,null,null,null,null,null,null,null,null,null,null,null,null,null,"2021-01-01","00:00:00","2021-01-01","2021-01-01","2021-01-01",0,0,0,0,0,0,"","",0,0,0]
[null,null,null,null,null,null,null,null,null,null,null,null,null,null,null,null,"2021-01-01","00:00:00","2021-01-01","2021-01-01","2021-01-01",0,0,0,0,0,0,"","",0,0,0]
[null,null,null,null,null,null,null,null,null,null,null,null,null,null,null,null,"2021-01-01","00:00:00","2021-01-01","2021-01-01","2021-01-01",0,0,0,0,0,0,"","",0,0,0]
[null,null,null,null,null,null,null,null,null,null,null,null,null,null,null,null,"2021-01-01","00:00:00","2021-01-01","2021-01-01","2021-01-01",0,0,0,0,0,0,"","",0,0,0]
[null,null,null,null,null,null,null,null,null,null,null,null,null,null,null,null,"2021-01-01","00:00:00","2021-01-01","2021-01-01","2021-01-01",0,0,0,0,0,0,"","",0,0,0]
[null,null,null,null,null,null,null,null,null,null,null,null,null,null,null,null,"2021-01-01","00:00:00","2021-01-01","2021-01-01","2021-01-01",0,0,0,0,0,0,"","",0,0,0]
[null,null,null,null,null,null,null,null,null,null,null,null,null,null,null,null,"2021-01-01","00:00:00","2021-01-01","2021-01-01","2021-01-01",0,0,0,0,0,0,"","",0,0,0]
[null,null,null,null,null,null,null,null,null,null,null,null,null,null,null,null,"2021-01-01","00:00:00","2021-01-01","2021-01-01","2021-01-01",0,0,0,0,0,0,"","",0,0,0]
[null,null,null,null,null,null,null,null,null,null,null,null,null,null,null,null,"2021-01-01","00:00:00","2021-01-01","2021-01-01","2021-01-01",0,0,0,0,0,0,"","",0,0,0]
[null,null,null,null,null,null,null,null,null,null,null,null,null,null,null,null,"2021-01-01","00:00:00","2021-01-01","2021-01-01","2021-01-01",0,0,0,0,0,0,"","",0,0,0]
[null,null,null,null,null,null,null,null,null,null,null,null,null,null,null,null,"2021-01-01","00:00:00","2021-01-01","2021-01-01","2021-01-01",0,0,0,0,0,0,"","",0,0,0]
[null,null,null,null,null,null,null,null,null,null,null,null,null,null,null,null,"2021-01-01","00:00:00","2021-01-01","2021-01-01","2021-01-01",0,0,0,0,0,0,"","",0,0,0]
[null,null,null,null,null,null,null,null,null,null,null,null,null,null,null,null,"2021-01-01","00:00:00","2021-01-01","2021-01-01","2021-01-01",0,0,0,0,0,0,"","",0,0,0]
[null,null,null,null,null,null,null,null,null,null,null,null,null,null,null,null,"2021-01-01","00:00:00","2021-01-01","2021-01-01","2021-01-01",0,0,0,0,0,0,"","",0,0,0]
[null,null,null,null,null,null,null,null,null,null,null,null,null,null,null,null,"2021-01-01","00:00:00","2021-01-01","2021-01-01","2021-01-01",0,0,0,0,0,0,"","",0,0,0]
[null,null,null,null,null,null,null,null,null,null,null,null,null,null,null,null,"2021-01-01","00:00:00","2021-01-01","2021-01-01","2021-01-01",0,0,0,0,0,0,"","",0,0,0]
[null,null,null,null,null,null,null,null,null,null,null,null,null,null,null,null,"2021-01-01","00:00:00","2021-01-01","2021-01-01","2021-01-01",0,0,0,0,0,0,"","",0,0,0]
[null,null,null,null,null,null,null,null,null,null,null,null,null,null,null,null,"2021-01-01","00:00:00","2021-01-01","2021-01-01","2021-01-01",0,0,0,0,0,0,"","",0,0,0]
[null,null,null,null,null,null,null,null,null,null,null,null,null,null,null,null,"2021-01-01","00:00:00","2021-01-01","2021-01-01","2021-01-01",0,0,0,0,0,0,"","",0,0,0]
[null,null,null,null,null,null,null,null,null,null,null,null,null,null,null,null,"2021-01-01","00:00:00","2021-01-01","2021-01-01","2021-01-01",0,0,0,0,0,0,"","",0,0,0]
[null,null,null,null,null,null,null,null,null,null,null,null,null,null,null,null,"2021-01-01","00:00:00","2021-01-01","2021-01-01","2021-01-01",0,0,0,0,0,0,"","",0,0,0]
[null,null,null,null,null,null,null,null,null,null,null,null,null,null,null,null,"2021-01-01","00:00:00","2021-01-01","2021-01-01","2021-01-01",0,0,0,0,0,0,"","",0,0,0]
[null,null,null,null,null,null,null,null,null,null,null,null,null,null,null,null,"2021-01-01","00:00:00","2021-01-01","2021-01-01","2021-01-01",0,0,0,0,0,0,"","",0,0,0]
[null,null,null,null,null,null,null,null,null,null,null,null,null,null,null,null,"2021-01-01","00:00:00","2021-01-01","2021-01-01","2021-01-01",0,0,0,0,0,0,"","",0,0,0]
[null,null,null,null,null,null,null,null,null,null,null,null,null,null,null,null,"2021-01-01","00:00:00","2021-01-01","2021-01-01","2021-01-01",0,0,0,0,0,0,"","",0,0,0]
[null,null,null,null,null,null,null,null,null,null,null,null,null,null,null,null,"2021-01-01","00:00:00","2021-01-01","2021-01-01","2021-01-01",0,0,0,0,0,0,"","",0,0,0]
[null,null,null,null,null,null,null,null,null,null,null,null,null,null,null,null,"2021-01-01","00:00:00","2021-01-01","2021-01-01","2021-01-01",0,0,0,0,0,0,"","",0,0,0]
[null,null,null,null,null,null,null,null,null,null,null,null,null,null,null,null,"2021-01-01","00:00:00","2021-01-01","2021-01-01","2021-01-01",0,0,0,0,0,0,"","",0,0,0]
[null,null,null,null,null,null,null,null,null,null,null,null,null,null,null,null,"2021-01-01","00:00:00","2021-01-01","2021-01-01","2021-01-01",0,0,0,0,0,0,"","",0,0,0]
[null,null,null,null,null,null,null,null,null,null,null,null,null,null,null,null,"2021-01-01","00:00:00","2021-01-01","2021-01-01","2021-01-01",0,0,0,0,0,0,"","",0,0,0]
[null,null,null,null,null,null,null,null,null,null,null,null,null,null,null,null,"2021-01-01","00:00:00","2021-01-01","2021-01-01","2021-01-01",0,0,0,0,0,0,"","",0,0,0]
[null,null,null,null,null,null,null,null,null,null,null,null,null,null,null,null,"2021-01-01","00:00:00","2021-01-01","2021-01-01","2021-01-01",0,0,0,0,0,0,"","",0,0,0]
[null,null,null,null,null,null,null,null,null,null,null,null,null,null,null,null,"2021-01-01","00:00:00","2021-01-01","2021-01-01","2021-01-01",0,0,0,0,0,0,"","",0,0,0]
[null,null,null,null,null,null,null,null,null,null,null,null,null,null,null,null,"2021-01-01","00:00:00","2021-01-01","2021-01-01","2021-01-01",0,0,0,0,0,0,"","",0,0,0]
[null,null,null,null,null,null,null,null,null,null,null,null,null,null,null,null,"2021-01-01","00:00:00","2021-01-01","2021-01-01","2021-01-01",0,0,0,0,0,0,"","",0,0,0]
[null,null,null,null,null,null,null,null,null,null,null,null,null,null,null,null,"2021-01-01","00:00:00","2021-01-01","2021-01-01","2021-01-01",0,0,0,0,0,0,"","",0,0,0]
[null,null,null,null,null,null,null,null,null,null,null,null,null,null,null,null,"2021-01-01","00:00:00","2021-01-01","2021-01-01","2021-01-01",0,0,0,0,0,0,"","",0,0,0]
[null,null,null,null,null,null,null,null,null,null,null,null,null,null,null,null,"2021-01-01","00:00:00","2021-01-01","2021-01-01","2021-01-01",0,0,0,0,0,0,"","",0,0,0]
[null,null,null,null,null,null,null,null,null,null,null,null,null,null,null,null,"2021-01-01","00:00:00","2021-01-01","2021-01-01","2021-01-01",0,0,0,0,0,0,"","",0,0,0]
[null,null,null,null,null,null,null,null,null,null,null,null,null,null,null,null,"2021-01-01","00:00:00","2021-01-01","2021-01-01","2021-01-01",0,0,0,0,0,0,"","",0,0,0]
[null,null,null,null,null,null,null,null,null,null,null,null,null,null,null,null,"2021-01-01","00:00:00","2021-01-01","2021-01-01","2021-01-01",0,0,0,0,0,0,"","",0,0,0]
[null,null,null,null,null,null,null,null,null,null,null,null,null,null,null,null,"2021-01-01","00:00:00","2021-01-01","2021-01-01","2021-01-01",0,0,0,0,0,0,"","",0,0,0]
[null,null,null,null,null,null,null,null,null,null,null,null,null,null,null,null,"2021-01-01","00:00:00","2021-01-01","2021-01-01","2021-01-01",0,0,0,0,0,0,"","",0,0,0]
[null,null,null,null,null,null,null,null,null,null,null,null,null,null,null,null,"2021-01-01","00:00:00","2021-01-01","2021-01-01","2021-01-01",0,0,0,0,0,0,"","",0,0,0]
[null,null,null,null,null,null,null,null,null,null,null,null,null,null,null,null,"2021-01-01","00:00:00","2021-01-01","2021-01-01","2021-01-01",0,0,0,0,0,0,"","",0,0,0]
[null,null,null,null,null,null,null,null,null,null,null,null,null,null,null,null,"2021-01-01","00:00:00","2021-01-01","2021-01-01","2021-01-01",0,0,0,0,0,0,"","",0,0,0]
[null,null,null,null,null,null,null,null,null,null,null,null,null,null,null,null,"2021-01-01","00:00:00","2021-01-01","2021-01-01","2021-01-01",0,0,0,0,0,0,"","",0,0,0]
[null,null,null,null,null,null,null,null,null,null,null,null,null,null,null,null,"2021-01-01","00:00:00","2021-01-01","2021-01-01","2021-01-01",0,0,0,0,0,0,"","",0,0,0]
[null,null,null,null,null,null,null,null,null,null,null,null,null,null,null,null,"2021-01-01","00:00:00","2021-01-01","2021-01-01","2021-01-01",0,0,0,0,0,0,"","",0,0,0]
[null,null,null,null,null,null,null,null,null,null,null,null,null,null,null,null,"2021-01-01","00:00:00","2021-01-01","2021-01-01","2021-01-01",0,0,0,0,0,0,"","",0,0,0]
[null,null,null,null,null,null,null,null,null,null,null,null,null,null,null,null,"2021-01-01","00:00:00","2021-01-01","2021-01-01","2021-01-01",0,0,0,0,0,0,"","",0,0,0]
[null,null,null,null,null,null,null,null,null,null,null,null,null,null,null,null,"2021-01-01","00:00:00","2021-01-01","2021-01-01","2021-01-01",0,0,0,0,0,0,"","",0,0,0]
[null,null,null,null,null,null,null,null,null,null,null,null,null,null,null,null,"2021-01-01","00:00:00","2021-01-01","2021-01-01","2021-01-01",0,0,0,0,0,0,"","",0,0,0]
[null,null,null,null,null,null,null,null,null,null,null,null,null,null,null,null,"2021-01-01","00:00:00","2021-01-01","2021-01-01","2021-01-01",0,0,0,0,0,0,"","",0,0,0]
[null,null,null,null,null,null,null,null,null,null,null,null,null,null,null,null,"2021-01-01","00:00:00","2021-01-01","2021-01-01","2021-01-01",0,0,0,0,0,0,"","",0,{"$f":"IF(OR($Q835>$Q$1,$R835<$Q$1),0,YEARFRAC($E835,$Q835,1))*12","v":0},{"$f":"IF(OR($Q835>$R$1,$R835<$R$1),0,YEARFRAC($E835,$R835,1))*12","v":0}]
[null,null,null,null,null,null,null,null,null,null,null,null,null,null,null,null,{"$f":"IF(OR(K836<$Q$1,K836=\"Altbestand\"),$Q$1,IF(AND(K836=\"Nachzucht\",E836>$Q$1),E836,IF(K836=\"Nachzucht\",$Q$1,K836)))","v":"2021-01-01"},{"$f":"IF(OR(L836>$R$1,L836=\"Nein\"),$R$1,L836)","v":"00:00:00"},{"$f":"IF(OR(R836<Q836,(E836+183)<Q836),Q836,IF((E836+183)>R836,R836,(E836+183)))","v":"2021-01-01"},{"$f":"IF(OR(S836=R836,(E836+365)<Q836,R836<Q836),S836,IF((E836+365)>R836,R836,(E836+365)))","v":"2021-01-01"},{"$f":"IF(OR(T836=R836,S836=R836,(E836+365*2)<Q836,R836<Q836),T836,IF((E836+365*2)>R836,R836,(E836+365*2)))","v":"2021-01-01"},{"$f":"IF(AC836=\"Kuh\",\"Kuh\",F836)","v":0},{"$f":"S836-Q836","v":0},{"$f":"+T836-S836","v":0},{"$f":"+U836-T836","v":0},{"$f":"IF(AB836=\"\",0,AB836-AA836)","v":0},{"$f":"SUM(W836:Y836)","v":0},{"$f":"IF(R836<Q836,\"\",R836-Q836)","v":""},{"$f":"IF(OR((ISNA(VLOOKUP(C836,$I$3:$I$138,1,FALSE))=FALSE),AND(AD836>1200,F836=\"w\"),M836=\"Ja\"),\"Kuh\",\"\")","v":""},{"$f":"IF(OR(L836=\"Nein\",L836=\"Ja\"),$R$1-E836,L836-E836)","v":0},0,0]
[null,null,null,null,null,null,null,null,null,null,null,null,null,null,null,null,"2021-01-01","00:00:00","2021-01-01","2021-01-01","2021-01-01",0,0,0,0,0,0,"","",0,0,0]
[null,null,null,null,null,null,null,null,null,null,null,null,null,null,null,null,"2021-01-01","00:00:00","2021-01-01","2021-01-01","2021-01-01",0,0,0,0,0,0,"","",0,0,0]
[null,null,null,null,null,null,null,null,null,null,null,null,null,null,null,null,"2021-01-01","00:00:00","2021-01-01","2021-01-01","2021-01-01",0,0,0,0,0,0,"","",0,0,0]
[null,null,null,null,null,null,null,null,null,null,null,null,null,null,null,null,"2021-01-01","00:00:00","2021-01-01","2021-01-01","2021-01-01",0,0,0,0,0,0,"","",0,0,0]
[null,null,null,null,null,null,null,null,null,null,null,null,null,null,null,null,"2021-01-01","00:00:00","2021-01-01","2021-01-01","2021-01-01",0,0,0,0,0,0,"","",0,0,0]
[null,null,null,null,null,null,null,null,null,null,null,null,null,null,null,null,"2021-01-01","00:00:00","2021-01-01","2021-01-01","2021-01-01",0,0,0,0,0,0,"","",0,0,0]
[null,null,null,null,null,null,null,null,null,null,null,null,null,null,null,null,"2021-01-01","00:00:00","2021-01-01","2021-01-01","2021-01-01",0,0,0,0,0,0,"","",0,0,0]
[null,null,null,null,null,null,null,null,null,null,null,null,null,null,null,null,"2021-01-01","00:00:00","2021-01-01","2021-01-01","2021-01-01",0,0,0,0,0,0,"","",0,0,0]
[null,null,null,null,null,null,null,null,null,null,null,null,null,null,null,null,"2021-01-01","00:00:00","2021-01-01","2021-01-01","2021-01-01",0,0,0,0,0,0,"","",0,0,0]
[null,null,null,null,null,null,null,null,null,null,null,null,null,null,null,null,"2021-01-01","00:00:00","2021-01-01","2021-01-01","2021-01-01",0,0,0,0,0,0,"","",0,0,0]
[null,null,null,null,null,null,null,null,null,null,null,null,null,null,null,null,"2021-01-01","00:00:00","2021-01-01","2021-01-01","2021-01-01",0,0,0,0,0,0,"","",0,0,0]
[null,null,null,null,null,null,null,null,null,null,null,null,null,null,null,null,"2021-01-01","00:00:00","2021-01-01","2021-01-01","2021-01-01",0,0,0,0,0,0,"","",0,0,0]
[null,null,null,null,null,null,null,null,null,null,null,null,null,null,null,null,"2021-01-01","00:00:00","2021-01-01","2021-01-01","2021-01-01",0,0,0,0,0,0,"","",0,0,0]
[null,null,null,null,null,null,null,null,null,null,null,null,null,null,null,null,"2021-01-01","00:00:00","2021-01-01","2021-01-01","2021-01-01",0,0,0,0,0,0,"","",0,0,0]
[null,null,null,null,null,null,null,null,null,null,null,null,null,null,null,null,"2021-01-01","00:00:00","2021-01-01","2021-01-01","2021-01-01",0,0,0,0,0,0,"","",0,0,0]
[null,null,null,null,null,null,null,null,null,null,null,null,null,null,null,null,"2021-01-01","00:00:00","2021-01-01","2021-01-01","2021-01-01",0,0,0,0,0,0,"","",0,0,0]
[null,null,null,null,null,null,null,null,null,null,null,null,null,null,null,null,"2021-01-01","00:00:00","2021-01-01","2021-01-01","2021-01-01",0,0,0,0,0,0,"","",0,0,0]
[null,null,null,null,null,null,null,null,null,null,null,null,null,null,null,null,"2021-01-01","00:00:00","2021-01-01","2021-01-01","2021-01-01",0,0,0,0,0,0,"","",0,0,0]
[null,null,null,null,null,null,null,null,null,null,null,null,null,null,null,null,"2021-01-01","00:00:00","2021-01-01","2021-01-01","2021-01-01",0,0,0,0,0,0,"","",0,0,0]
[null,null,null,null,null,null,null,null,null,null,null,null,null,null,null,null,"2021-01-01","00:00:00","2021-01-01","2021-01-01","2021-01-01",0,0,0,0,0,0,"","",0,0,0]
[null,null,null,null,null,null,null,null,null,null,null,null,null,null,null,null,"2021-01-01","00:00:00","2021-01-01","2021-01-01","2021-01-01",0,0,0,0,0,0,"","",0,0,0]
[null,null,null,null,null,null,null,null,null,null,null,null,null,null,null,null,"2021-01-01","00:00:00","2021-01-01","2021-01-01","2021-01-01",0,0,0,0,0,0,"","",0,0,0]
[null,null,null,null,null,null,null,null,null,null,null,null,null,null,null,null,"2021-01-01","00:00:00","2021-01-01","2021-01-01","2021-01-01",0,0,0,0,0,0,"","",0,0,0]
[null,null,null,null,null,null,null,null,null,null,null,null,null,null,null,null,"2021-01-01","00:00:00","2021-01-01","2021-01-01","2021-01-01",0,0,0,0,0,0,"","",0,0,0]
[null,null,null,null,null,null,null,null,null,null,null,null,null,null,null,null,"2021-01-01","00:00:00","2021-01-01","2021-01-01","2021-01-01",0,0,0,0,0,0,"","",0,0,0]
[null,null,null,null,null,null,null,null,null,null,null,null,null,null,null,null,"2021-01-01","00:00:00","2021-01-01","2021-01-01","2021-01-01",0,0,0,0,0,0,"","",0,0,0]
[null,null,null,null,null,null,null,null,null,null,null,null,null,null,null,null,"2021-01-01","00:00:00","2021-01-01","2021-01-01","2021-01-01",0,0,0,0,0,0,"","",0,0,0]
[null,null,null,null,null,null,null,null,null,null,null,null,null,null,null,null,"2021-01-01","00:00:00","2021-01-01","2021-01-01","2021-01-01",0,0,0,0,0,0,"","",0,0,0]
[null,null,null,null,null,null,null,null,null,null,null,null,null,null,null,null,"2021-01-01","00:00:00","2021-01-01","2021-01-01","2021-01-01",0,0,0,0,0,0,"","",0,0,0]
[null,null,null,null,null,null,null,null,null,null,null,null,null,null,null,null,"2021-01-01","00:00:00","2021-01-01","2021-01-01","2021-01-01",0,0,0,0,0,0,"","",0,0,0]
[null,null,null,null,null,null,null,null,null,null,null,null,null,null,null,null,"2021-01-01","00:00:00","2021-01-01","2021-01-01","2021-01-01",0,0,0,0,0,0,"","",0,0,0]
[null,null,null,null,null,null,null,null,null,null,null,null,null,null,null,null,"2021-01-01","00:00:00","2021-01-01","2021-01-01","2021-01-01",0,0,0,0,0,0,"","",0,0,0]
[null,null,null,null,null,null,null,null,null,null,null,null,null,null,null,null,"2021-01-01",{"$f":"IF(OR(L869>$R$1,L869=\"Nein\"),$R$1,L869)","v":"00:00:00"},"2021-01-01","2021-01-01","2021-01-01",0,0,0,0,0,0,"","",0,0,0]
[null,null,null,null,null,null,null,null,null,null,null,null,null,null,null,null,"2021-01-01","00:00:00","2021-01-01","2021-01-01","2021-01-01",0,0,0,0,0,0,"","",0,0,0]
[null,null,null,null,null,null,null,null,null,null,null,null,null,null,null,null,"2021-01-01","00:00:00","2021-01-01","2021-01-01","2021-01-01",0,0,0,0,0,0,"","",0,0,0]
[null,null,null,null,null,null,null,null,null,null,null,null,null,null,null,null,"2021-01-01","00:00:00","2021-01-01","2021-01-01","2021-01-01",0,0,0,0,0,0,"","",0,0,0]
[null,null,null,null,null,null,null,null,null,null,null,null,null,null,null,null,"2021-01-01","00:00:00","2021-01-01","2021-01-01","2021-01-01",0,0,0,0,0,0,"","",0,0,0]
[null,null,null,null,null,null,null,null,null,null,null,null,null,null,null,null,"2021-01-01","00:00:00","2021-01-01","2021-01-01","2021-01-01",0,0,0,0,0,0,"","",0,0,0]
[null,null,null,null,null,null,null,null,null,null,null,null,null,null,null,null,"2021-01-01","00:00:00","2021-01-01","2021-01-01","2021-01-01",0,0,0,0,0,0,"","",0,0,0]
[null,null,null,null,null,null,null,null,null,null,null,null,null,null,null,null,"2021-01-01","00:00:00","2021-01-01","2021-01-01","2021-01-01",0,0,0,0,0,0,"","",0,0,0]
[null,null,null,null,null,null,null,null,null,null,null,null,null,null,null,null,"2021-01-01","00:00:00","2021-01-01","2021-01-01","2021-01-01",0,0,0,0,0,0,"","",0,0,0]
[null,null,null,null,null,null,null,null,null,null,null,null,null,null,null,null,"2021-01-01","00:00:00","2021-01-01","2021-01-01","2021-01-01",0,0,0,0,0,0,"","",0,0,0]
[null,null,null,null,null,null,null,null,null,null,null,null,null,null,null,null,"2021-01-01","00:00:00","2021-01-01","2021-01-01","2021-01-01",0,0,0,0,0,0,"","",0,0,0]
[null,null,null,null,null,null,null,null,null,null,null,null,null,null,null,null,"2021-01-01","00:00:00","2021-01-01","2021-01-01","2021-01-01",0,0,0,0,0,0,"","",0,0,0]
[null,null,null,null,null,null,null,null,null,null,null,null,null,null,null,null,"2021-01-01","00:00:00","2021-01-01","2021-01-01","2021-01-01",0,0,0,0,0,0,"","",0,0,0]
[null,null,null,null,null,null,null,null,null,null,null,null,null,null,null,null,"2021-01-01","00:00:00","2021-01-01","2021-01-01","2021-01-01",0,0,0,0,0,0,"","",0,0,0]
[null,null,null,null,null,null,null,null,null,null,null,null,null,null,null,null,"2021-01-01","00:00:00","2021-01-01","2021-01-01","2021-01-01",0,0,0,0,0,0,"","",0,0,0]
[null,null,null,null,null,null,null,null,null,null,null,null,null,null,null,null,"2021-01-01","00:00:00","2021-01-01","2021-01-01","2021-01-01",0,0,0,0,0,0,"","",0,0,0]
[null,null,null,null,null,null,null,null,null,null,null,null,null,null,null,null,"2021-01-01","00:00:00","2021-01-01","2021-01-01","2021-01-01",0,0,0,0,0,0,"","",0,0,0]
[null,null,null,null,null,null,null,null,null,null,null,null,null,null,null,null,"2021-01-01","00:00:00","2021-01-01","2021-01-01","2021-01-01",0,0,0,0,0,0,"","",0,0,0]
[null,null,null,null,null,null,null,null,null,null,null,null,null,null,null,null,"2021-01-01","00:00:00","2021-01-01","2021-01-01","2021-01-01",0,0,0,0,0,0,"","",0,0,0]
[null,null,null,null,null,null,null,null,null,null,null,null,null,null,null,null,"2021-01-01","00:00:00","2021-01-01","2021-01-01","2021-01-01",0,0,0,0,0,0,"","",0,0,0]
[null,null,null,null,null,null,null,null,null,null,null,null,null,null,null,null,"2021-01-01","00:00:00","2021-01-01","2021-01-01","2021-01-01",0,0,0,0,0,0,"","",0,0,0]
[null,null,null,null,null,null,null,null,null,null,null,null,null,null,null,null,"2021-01-01","00:00:00","2021-01-01","2021-01-01","2021-01-01",0,0,0,0,0,0,"","",0,0,0]
[null,null,null,null,null,null,null,null,null,null,null,null,null,null,null,null,"2021-01-01","00:00:00","2021-01-01","2021-01-01","2021-01-01",0,0,0,0,0,0,"","",0,0,0]
[null,null,null,null,null,null,null,null,null,null,null,null,null,null,null,null,"2021-01-01","00:00:00","2021-01-01","2021-01-01","2021-01-01",0,0,0,0,0,0,"","",0,0,0]
[null,null,null,null,null,null,null,null,null,null,null,null,null,null,null,null,"2021-01-01","00:00:00","2021-01-01","2021-01-01","2021-01-01",0,0,0,0,0,0,"","",0,0,0]
[null,null,null,null,null,null,null,null,null,null,null,null,null,null,null,null,"2021-01-01","00:00:00","2021-01-01","2021-01-01","2021-01-01",0,0,0,0,0,0,"","",0,0,0]
[null,null,null,null,null,null,null,null,null,null,null,null,null,null,null,null,"2021-01-01","00:00:00","2021-01-01","2021-01-01","2021-01-01",0,0,0,0,0,0,"","",0,0,0]
[null,null,null,null,null,null,null,null,null,null,null,null,null,null,null,null,"2021-01-01","00:00:00","2021-01-01","2021-01-01","2021-01-01",0,0,0,0,0,0,"","",0,0,0]
[null,null,null,null,null,null,null,null,null,null,null,null,null,null,null,null,"2021-01-01","00:00:00","2021-01-01","2021-01-01","2021-01-01",0,0,0,0,0,0,"","",0,0,0]
[null,null,null,null,null,null,null,null,null,null,null,null,null,null,null,null,"2021-01-01","00:00:00","2021-01-01","2021-01-01","2021-01-01",0,0,0,0,0,0,"","",0,0,0]
[null,null,null,null,null,null,null,null,null,null,null,null,null,null,null,null,"2021-01-01","00:00:00","2021-01-01","2021-01-01","2021-01-01",0,0,0,0,0,0,"","",0,{"$f":"IF(OR($Q899>$Q$1,$R899<$Q$1),0,YEARFRAC($E899,$Q899,1))*12","v":0},{"$f":"IF(OR($Q899>$R$1,$R899<$R$1),0,YEARFRAC($E899,$R899,1))*12","v":0}]
[null,null,null,null,null,null,null,null,null,null,null,null,null,null,null,null,{"$f":"IF(OR(K900<$Q$1,K900=\"Altbestand\"),$Q$1,IF(AND(K900=\"Nachzucht\",E900>$Q$1),E900,IF(K900=\"Nachzucht\",$Q$1,K900)))","v":"2021-01-01"},{"$f":"IF(OR(L900>$R$1,L900=\"Nein\"),$R$1,L900)","v":"00:00:00"},{"$f":"IF(OR(R900<Q900,(E900+183)<Q900),Q900,IF((E900+183)>R900,R900,(E900+183)))","v":"2021-01-01"},{"$f":"IF(OR(S900=R900,(E900+365)<Q900,R900<Q900),S900,IF((E900+365)>R900,R900,(E900+365)))","v":"2021-01-01"},{"$f":"IF(OR(T900=R900,S900=R900,(E900+365*2)<Q900,R900<Q900),T900,IF((E900+365*2)>R900,R900,(E900+365*2)))","v":"2021-01-01"},{"$f":"IF(AC900=\"Kuh\",\"Kuh\",F900)","v":0},{"$f":"S900-Q900","v":0},{"$f":"+T900-S900","v":0},{"$f":"+U900-T900","v":0},{"$f":"IF(AB900=\"\",0,AB900-AA900)","v":0},{"$f":"SUM(W900:Y900)","v":0},{"$f":"IF(R900<Q900,\"\",R900-Q900)","v":""},{"$f":"IF(OR((ISNA(VLOOKUP(C900,$I$3:$I$138,1,FALSE))=FALSE),AND(AD900>1200,F900=\"w\"),M900=\"Ja\"),\"Kuh\",\"\")","v":""},{"$f":"IF(OR(L900=\"Nein\",L900=\"Ja\"),$R$1-E900,L900-E900)","v":0},0,0]
[null,null,null,null,null,null,null,null,null,null,null,null,null,null,null,null,"2021-01-01","00:00:00","2021-01-01","2021-01-01","2021-01-01",0,0,0,0,0,0,"","",0,0,0]
[null,null,null,null,null,null,null,null,null,null,null,null,null,null,null,null,"2021-01-01","00:00:00","2021-01-01","2021-01-01","2021-01-01",0,0,0,0,0,0,"","",0,0,0]
[null,null,null,null,null,null,null,null,null,null,null,null,null,null,null,null,"2021-01-01","00:00:00","2021-01-01","2021-01-01","2021-01-01",0,0,0,0,0,0,"","",0,0,0]
[null,null,null,null,null,null,null,null,null,null,null,null,null,null,null,null,"2021-01-01","00:00:00","2021-01-01","2021-01-01","2021-01-01",0,0,0,0,0,0,"","",0,0,0]
[null,null,null,null,null,null,null,null,null,null,null,null,null,null,null,null,"2021-01-01","00:00:00","2021-01-01","2021-01-01","2021-01-01",0,0,0,0,0,0,"","",0,0,0]
[null,null,null,null,null,null,null,null,null,null,null,null,null,null,null,null,"2021-01-01","00:00:00","2021-01-01","2021-01-01","2021-01-01",0,0,0,0,0,0,"","",0,0,0]
[null,null,null,null,null,null,null,null,null,null,null,null,null,null,null,null,"2021-01-01","00:00:00","2021-01-01","2021-01-01","2021-01-01",0,0,0,0,0,0,"","",0,0,0]
[null,null,null,null,null,null,null,null,null,null,null,null,null,null,null,null,"2021-01-01","00:00:00","2021-01-01","2021-01-01","2021-01-01",0,0,0,0,0,0,"","",0,0,0]
[null,null,null,null,null,null,null,null,null,null,null,null,null,null,null,null,"2021-01-01","00:00:00","2021-01-01","2021-01-01","2021-01-01",0,0,0,0,0,0,"","",0,0,0]
[null,null,null,null,null,null,null,null,null,null,null,null,null,null,null,null,"2021-01-01","00:00:00","2021-01-01","2021-01-01","2021-01-01",0,0,0,0,0,0,"","",0,0,0]
[null,null,null,null,null,null,null,null,null,null,null,null,null,null,null,null,"2021-01-01","00:00:00","2021-01-01","2021-01-01","2021-01-01",0,0,0,0,0,0,"","",0,0,0]
[null,null,null,null,null,null,null,null,null,null,null,null,null,null,null,null,"2021-01-01","00:00:00","2021-01-01","2021-01-01","2021-01-01",0,0,0,0,0,0,"","",0,0,0]
[null,null,null,null,null,null,null,null,null,null,null,null,null,null,null,null,"2021-01-01","00:00:00","2021-01-01","2021-01-01","2021-01-01",0,0,0,0,0,0,"","",0,0,0]
[null,null,null,null,null,null,null,null,null,null,null,null,null,null,null,null,"2021-01-01","00:00:00","2021-01-01","2021-01-01","2021-01-01",0,0,0,0,0,0,"","",0,0,0]
[null,null,null,null,null,null,null,null,null,null,null,null,null,null,null,null,"2021-01-01","00:00:00","2021-01-01","2021-01-01","2021-01-01",0,0,0,0,0,0,"","",0,0,0]
[null,null,null,null,null,null,null,null,null,null,null,null,null,null,null,null,"2021-01-01","00:00:00","2021-01-01","2021-01-01","2021-01-01",0,0,0,0,0,0,"","",0,0,0]
[null,null,null,null,null,null,null,null,null,null,null,null,null,null,null,null,"2021-01-01","00:00:00","2021-01-01","2021-01-01","2021-01-01",0,0,0,0,0,0,"","",0,0,0]
[null,null,null,null,null,null,null,null,null,null,null,null,null,null,null,null,"2021-01-01","00:00:00","2021-01-01","2021-01-01","2021-01-01",0,0,0,0,0,0,"","",0,0,0]
[null,null,null,null,null,null,null,null,null,null,null,null,null,null,null,null,"2021-01-01","00:00:00","2021-01-01","2021-01-01","2021-01-01",0,0,0,0,0,0,"","",0,0,0]
[null,null,null,null,null,null,null,null,null,null,null,null,null,null,null,null,"2021-01-01","00:00:00","2021-01-01","2021-01-01","2021-01-01",0,0,0,0,0,0,"","",0,0,0]
[null,null,null,null,null,null,null,null,null,null,null,null,null,null,null,null,"2021-01-01","00:00:00","2021-01-01","2021-01-01","2021-01-01",0,0,0,0,0,0,"","",0,0,0]
[null,null,null,null,null,null,null,null,null,null,null,null,null,null,null,null,"2021-01-01","00:00:00","2021-01-01","2021-01-01","2021-01-01",0,0,0,0,0,0,"","",0,0,0]
[null,null,null,null,null,null,null,null,null,null,null,null,null,null,null,null,"2021-01-01","00:00:00","2021-01-01","2021-01-01","2021-01-01",0,0,0,0,0,0,"","",0,0,0]
[null,null,null,null,null,null,null,null,null,null,null,null,null,null,null,null,"2021-01-01","00:00:00","2021-01-01","2021-01-01","2021-01-01",0,0,0,0,0,0,"","",0,0,0]
[null,null,null,null,null,null,null,null,null,null,null,null,null,null,null,null,"2021-01-01","00:00:00","2021-01-01","2021-01-01","2021-01-01",0,0,0,0,0,0,"","",0,0,0]
[null,null,null,null,null,null,null,null,null,null,null,null,null,null,null,null,"2021-01-01","00:00:00","2021-01-01","2021-01-01","2021-01-01",0,0,0,0,0,0,"","",0,0,0]
[null,null,null,null,null,null,null,null,null,null,null,null,null,null,null,null,"2021-01-01","00:00:00","2021-01-01","2021-01-01","2021-01-01",0,0,0,0,0,0,"","",0,0,0]
[null,null,null,null,null,null,null,null,null,null,null,null,null,null,null,null,"2021-01-01","00:00:00","2021-01-01","2021-01-01","2021-01-01",0,0,0,0,0,0,"","",0,0,0]
[null,null,null,null,null,null,null,null,null,null,null,null,null,null,null,null,"2021-01-01","00:00:00","2021-01-01","2021-01-01","2021-01-01",0,0,0,0,0,0,"","",0,0,0]
[null,null,null,null,null,null,null,null,null,null,null,null,null,null,null,null,"2021-01-01","00:00:00","2021-01-01","2021-01-01","2021-01-01",0,0,0,0,0,0,"","",0,0,0]
[null,null,null,null,null,null,null,null,null,null,null,null,null,null,null,null,"2021-01-01","00:00:00","2021-01-01","2021-01-01","2021-01-01",0,0,0,0,0,0,"","",0,0,0]
[null,null,null,null,null,null,null,null,null,null,null,null,null,null,null,null,"2021-01-01","00:00:00","2021-01-01","2021-01-01","2021-01-01",0,0,0,0,0,0,"","",0,0,0]
[null,null,null,null,null,null,null,null,null,null,null,null,null,null,null,null,"2021-01-01","00:00:00","2021-01-01","2021-01-01","2021-01-01",0,0,0,0,0,0,"","",0,0,0]
[null,null,null,null,null,null,null,null,null,null,null,null,null,null,null,null,"2021-01-01","00:00:00","2021-01-01","2021-01-01","2021-01-01",0,0,0,0,0,0,"","",0,0,0]
[null,null,null,null,null,null,null,null,null,null,null,null,null,null,null,null,"2021-01-01","00:00:00","2021-01-01","2021-01-01","2021-01-01",0,0,0,0,0,0,"","",0,0,0]
[null,null,null,null,null,null,null,null,null,null,null,null,null,null,null,null,"2021-01-01","00:00:00","2021-01-01","2021-01-01","2021-01-01",0,0,0,0,0,0,"","",0,0,0]
[null,null,null,null,null,null,null,null,null,null,null,null,null,null,null,null,"2021-01-01","00:00:00","2021-01-01","2021-01-01","2021-01-01",0,0,0,0,0,0,"","",0,0,0]
[null,null,null,null,null,null,null,null,null,null,null,null,null,null,null,null,"2021-01-01","00:00:00","2021-01-01","2021-01-01","2021-01-01",0,0,0,0,0,0,"","",0,0,0]
[null,null,null,null,null,null,null,null,null,null,null,null,null,null,null,null,"2021-01-01","00:00:00","2021-01-01","2021-01-01","2021-01-01",0,0,0,0,0,0,"","",0,0,0]
[null,null,null,null,null,null,null,null,null,null,null,null,null,null,null,null,"2021-01-01","00:00:00","2021-01-01","2021-01-01","2021-01-01",0,0,0,0,0,0,"","",0,0,0]
[null,null,null,null,null,null,null,null,null,null,null,null,null,null,null,null,"2021-01-01","00:00:00","2021-01-01","2021-01-01","2021-01-01",0,0,0,0,0,0,"","",0,0,0]
[null,null,null,null,null,null,null,null,null,null,null,null,null,null,null,null,"2021-01-01","00:00:00","2021-01-01","2021-01-01","2021-01-01",0,0,0,0,0,0,"","",0,0,0]
[null,null,null,null,null,null,null,null,null,null,null,null,null,null,null,null,"2021-01-01","00:00:00","2021-01-01","2021-01-01","2021-01-01",0,0,0,0,0,0,"","",0,0,0]
[null,null,null,null,null,null,null,null,null,null,null,null,null,null,null,null,"2021-01-01","00:00:00","2021-01-01","2021-01-01","2021-01-01",0,0,0,0,0,0,"","",0,0,0]
[null,null,null,null,null,null,null,null,null,null,null,null,null,null,null,null,"2021-01-01","00:00:00","2021-01-01","2021-01-01","2021-01-01",0,0,0,0,0,0,"","",0,0,0]
[null,null,null,null,null,null,null,null,null,null,null,null,null,null,null,null,"2021-01-01","00:00:00","2021-01-01","2021-01-01","2021-01-01",0,0,0,0,0,0,"","",0,0,0]
[null,null,null,null,null,null,null,null,null,null,null,null,null,null,null,null,"2021-01-01","00:00:00","2021-01-01","2021-01-01","2021-01-01",0,0,0,0,0,0,"","",0,0,0]
[null,null,null,null,null,null,null,null,null,null,null,null,null,null,null,null,"2021-01-01","00:00:00","2021-01-01","2021-01-01","2021-01-01",0,0,0,0,0,0,"","",0,0,0]
[null,null,null,null,null,null,null,null,null,null,null,null,null,null,null,null,"2021-01-01","00:00:00","2021-01-01","2021-01-01","2021-01-01",0,0,0,0,0,0,"","",0,0,0]
[null,null,null,null,null,null,null,null,null,null,null,null,null,null,null,null,"2021-01-01","00:00:00","2021-01-01","2021-01-01","2021-01-01",0,0,0,0,0,0,"","",0,0,0]
[null,null,null,null,null,null,null,null,null,null,null,null,null,null,null,null,"2021-01-01","00:00:00","2021-01-01","2021-01-01","2021-01-01",0,0,0,0,0,0,"","",0,0,0]
[null,null,null,null,null,null,null,null,null,null,null,null,null,null,null,null,"2021-01-01","00:00:00","2021-01-01","2021-01-01","2021-01-01",0,0,0,0,0,0,"","",0,0,0]
[null,null,null,null,null,null,null,null,null,null,null,null,null,null,null,null,"2021-01-01","00:00:00","2021-01-01","2021-01-01","2021-01-01",0,0,0,0,0,0,"","",0,0,0]
[null,null,null,null,null,null,null,null,null,null,null,null,null,null,null,null,"2021-01-01","00:00:00","2021-01-01","2021-01-01","2021-01-01",0,0,0,0,0,0,"","",0,0,0]
[null,null,null,null,null,null,null,null,null,null,null,null,null,null,null,null,"2021-01-01","00:00:00","2021-01-01","2021-01-01","2021-01-01",0,0,0,0,0,0,"","",0,0,0]
[null,null,null,null,null,null,null,null,null,null,null,null,null,null,null,null,"2021-01-01","00:00:00","2021-01-01","2021-01-01","2021-01-01",0,0,0,0,0,0,"","",0,0,0]
[null,null,null,null,null,null,null,null,null,null,null,null,null,null,null,null,"2021-01-01","00:00:00","2021-01-01","2021-01-01","2021-01-01",0,0,0,0,0,0,"","",0,0,0]
[null,null,null,null,null,null,null,null,null,null,null,null,null,null,null,null,"2021-01-01","00:00:00","2021-01-01","2021-01-01","2021-01-01",0,0,0,0,0,0,"","",0,0,0]
[null,null,null,null,null,null,null,null,null,null,null,null,null,null,null,null,"2021-01-01","00:00:00","2021-01-01","2021-01-01","2021-01-01",0,0,0,0,0,0,"","",0,0,0]
[null,null,null,null,null,null,null,null,null,null,null,null,null,null,null,null,"2021-01-01","00:00:00","2021-01-01","2021-01-01","2021-01-01",0,0,0,0,0,0,"","",0,0,0]
[null,null,null,null,null,null,null,null,null,null,null,null,null,null,null,null,"2021-01-01","00:00:00","2021-01-01","2021-01-01","2021-01-01",0,0,0,0,0,0,"","",0,0,0]
[null,null,null,null,null,null,null,null,null,null,null,null,null,null,null,null,"2021-01-01","00:00:00","2021-01-01","2021-01-01","2021-01-01",0,0,0,0,0,0,"","",0,0,0]
[null,null,null,null,null,null,null,null,null,null,null,null,null,null,null,null,"2021-01-01","00:00:00","2021-01-01","2021-01-01","2021-01-01",0,0,0,0,0,0,"","",0,{"$f":"IF(OR($Q963>$Q$1,$R963<$Q$1),0,YEARFRAC($E963,$Q963,1))*12","v":0},{"$f":"IF(OR($Q963>$R$1,$R963<$R$1),0,YEARFRAC($E963,$R963,1))*12","v":0}]
[null,null,null,null,null,null,null,null,null,null,null,null,null,null,null,null,{"$f":"IF(OR(K964<$Q$1,K964=\"Altbestand\"),$Q$1,IF(AND(K964=\"Nachzucht\",E964>$Q$1),E964,IF(K964=\"Nachzucht\",$Q$1,K964)))","v":"2021-01-01"},{"$f":"IF(OR(L964>$R$1,L964=\"Nein\"),$R$1,L964)","v":"00:00:00"},{"$f":"IF(OR(R964<Q964,(E964+183)<Q964),Q964,IF((E964+183)>R964,R964,(E964+183)))","v":"2021-01-01"},{"$f":"IF(OR(S964=R964,(E964+365)<Q964,R964<Q964),S964,IF((E964+365)>R964,R964,(E964+365)))","v":"2021-01-01"},{"$f":"IF(OR(T964=R964,S964=R964,(E964+365*2)<Q964,R964<Q964),T964,IF((E964+365*2)>R964,R964,(E964+365*2)))","v":"2021-01-01"},{"$f":"IF(AC964=\"Kuh\",\"Kuh\",F964)","v":0},{"$f":"S964-Q964","v":0},{"$f":"+T964-S964","v":0},{"$f":"+U964-T964","v":0},{"$f":"IF(AB964=\"\",0,AB964-AA964)","v":0},{"$f":"SUM(W964:Y964)","v":0},{"$f":"IF(R964<Q964,\"\",R964-Q964)","v":""},{"$f":"IF(OR((ISNA(VLOOKUP(C964,$I$3:$I$138,1,FALSE))=FALSE),AND(AD964>1200,F964=\"w\"),M964=\"Ja\"),\"Kuh\",\"\")","v":""},{"$f":"IF(OR(L964=\"Nein\",L964=\"Ja\"),$R$1-E964,L964-E964)","v":0},0,0]
[null,null,null,null,null,null,null,null,null,null,null,null,null,null,null,null,"2021-01-01","00:00:00","2021-01-01","2021-01-01","2021-01-01",0,0,0,0,0,0,"","",0,0,0]
[null,null,null,null,null,null,null,null,null,null,null,null,null,null,null,null,"2021-01-01","00:00:00","2021-01-01","2021-01-01","2021-01-01",0,0,0,0,0,0,"","",0,0,0]
[null,null,null,null,null,null,null,null,null,null,null,null,null,null,null,null,"2021-01-01","00:00:00","2021-01-01","2021-01-01","2021-01-01",0,0,0,0,0,0,"","",0,0,0]
[null,null,null,null,null,null,null,null,null,null,null,null,null,null,null,null,"2021-01-01","00:00:00","2021-01-01","2021-01-01","2021-01-01",0,0,0,0,0,0,"","",0,0,0]
[null,null,null,null,null,null,null,null,null,null,null,null,null,null,null,null,"2021-01-01","00:00:00","2021-01-01","2021-01-01","2021-01-01",0,0,0,0,0,0,"","",0,0,0]
[null,null,null,null,null,null,null,null,null,null,null,null,null,null,null,null,"2021-01-01","00:00:00","2021-01-01","2021-01-01","2021-01-01",0,0,0,0,0,0,"","",0,0,0]
[null,null,null,null,null,null,null,null,null,null,null,null,null,null,null,null,"2021-01-01","00:00:00","2021-01-01","2021-01-01","2021-01-01",0,0,0,0,0,0,"","",0,0,0]
[null,null,null,null,null,null,null,null,null,null,null,null,null,null,null,null,"2021-01-01","00:00:00","2021-01-01","2021-01-01","2021-01-01",0,0,0,0,0,0,"","",0,0,0]
[null,null,null,null,null,null,null,null,null,null,null,null,null,null,null,null,"2021-01-01","00:00:00","2021-01-01","2021-01-01","2021-01-01",0,0,0,0,0,0,"","",0,0,0]
[null,null,null,null,null,null,null,null,null,null,null,null,null,null,null,null,"2021-01-01","00:00:00","2021-01-01","2021-01-01","2021-01-01",0,0,0,0,0,0,"","",0,0,0]
[null,null,null,null,null,null,null,null,null,null,null,null,null,null,null,null,"2021-01-01","00:00:00","2021-01-01","2021-01-01","2021-01-01",0,0,0,0,0,0,"","",0,0,0]
[null,null,null,null,null,null,null,null,null,null,null,null,null,null,null,null,"2021-01-01","00:00:00","2021-01-01","2021-01-01","2021-01-01",0,0,0,0,0,0,"","",0,0,0]
[null,null,null,null,null,null,null,null,null,null,null,null,null,null,null,null,"2021-01-01","00:00:00","2021-01-01","2021-01-01","2021-01-01",0,0,0,0,0,0,"","",0,0,0]
[null,null,null,null,null,null,null,null,null,null,null,null,null,null,null,null,"2021-01-01","00:00:00","2021-01-01","2021-01-01","2021-01-01",0,0,0,0,0,0,"","",0,0,0]
[null,null,null,null,null,null,null,null,null,null,null,null,null,null,null,null,"2021-01-01","00:00:00","2021-01-01","2021-01-01","2021-01-01",0,0,0,0,0,0,"","",0,0,0]
[null,null,null,null,null,null,null,null,null,null,null,null,null,null,null,null,"2021-01-01","00:00:00","2021-01-01","2021-01-01","2021-01-01",0,0,0,0,0,0,"","",0,0,0]
[null,null,null,null,null,null,null,null,null,null,null,null,null,null,null,null,"2021-01-01","00:00:00","2021-01-01","2021-01-01","2021-01-01",0,0,0,0,0,0,"","",0,0,0]
[null,null,null,null,null,null,null,null,null,null,null,null,null,null,null,null,"2021-01-01","00:00:00","2021-01-01","2021-01-01","2021-01-01",0,0,0,0,0,0,"","",0,0,0]
[null,null,null,null,null,null,null,null,null,null,null,null,null,null,null,null,"2021-01-01","00:00:00","2021-01-01","2021-01-01","2021-01-01",0,0,0,0,0,0,"","",0,0,0]
[null,null,null,null,null,null,null,null,null,null,null,null,null,null,null,null,"2021-01-01","00:00:00","2021-01-01","2021-01-01","2021-01-01",0,0,0,0,0,0,"","",0,0,0]
[null,null,null,null,null,null,null,null,null,null,null,null,null,null,null,null,"2021-01-01","00:00:00","2021-01-01","2021-01-01","2021-01-01",0,0,0,0,0,0,"","",0,0,0]
[null,null,null,null,null,null,null,null,null,null,null,null,null,null,null,null,"2021-01-01","00:00:00","2021-01-01","2021-01-01","2021-01-01",0,0,0,0,0,0,"","",0,0,0]
[null,null,null,null,null,null,null,null,null,null,null,null,null,null,null,null,"2021-01-01","00:00:00","2021-01-01","2021-01-01","2021-01-01",0,0,0,0,0,0,"","",0,0,0]
[null,null,null,null,null,null,null,null,null,null,null,null,null,null,null,null,"2021-01-01","00:00:00","2021-01-01","2021-01-01","2021-01-01",0,0,0,0,0,0,"","",0,0,0]
[null,null,null,null,null,null,null,null,null,null,null,null,null,null,null,null,"2021-01-01","00:00:00","2021-01-01","2021-01-01","2021-01-01",0,0,0,0,0,0,"","",0,0,0]
[null,null,null,null,null,null,null,null,null,null,null,null,null,null,null,null,"2021-01-01","00:00:00","2021-01-01","2021-01-01","2021-01-01",0,0,0,0,0,0,"","",0,0,0]
[null,null,null,null,null,null,null,null,null,null,null,null,null,null,null,null,"2021-01-01","00:00:00","2021-01-01","2021-01-01","2021-01-01",0,0,0,0,0,0,"","",0,0,0]
[null,null,null,null,null,null,null,null,null,null,null,null,null,null,null,null,"2021-01-01","00:00:00","2021-01-01","2021-01-01","2021-01-01",0,0,0,0,0,0,"","",0,0,0]
[null,null,null,null,null,null,null,null,null,null,null,null,null,null,null,null,"2021-01-01","00:00:00","2021-01-01","2021-01-01","2021-01-01",0,0,0,0,0,0,"","",0,0,0]
[null,null,null,null,null,null,null,null,null,null,null,null,null,null,null,null,"2021-01-01","00:00:00","2021-01-01","2021-01-01","2021-01-01",0,0,0,0,0,0,"","",0,0,0]
[null,null,null,null,null,null,null,null,null,null,null,null,null,null,null,null,"2021-01-01","00:00:00","2021-01-01","2021-01-01","2021-01-01",0,0,0,0,0,0,"","",0,0,0]
[null,null,null,null,null,null,null,null,null,null,null,null,null,null,null,null,"2021-01-01","00:00:00","2021-01-01","2021-01-01","2021-01-01",0,0,0,0,0,0,"","",0,0,0]
[null,null,null,null,null,null,null,null,null,null,null,null,null,null,null,null,"2021-01-01","00:00:00","2021-01-01","2021-01-01","2021-01-01",0,0,0,0,0,0,"","",0,0,0]
[null,null,null,null,null,null,null,null,null,null,null,null,null,null,null,null,"2021-01-01","00:00:00","2021-01-01","2021-01-01","2021-01-01",0,0,0,0,0,0,"","",0,0,0]
[null,null,null,null,null,null,null,null,null,null,null,null,null,null,null,null,"2021-01-01","00:00:00","2021-01-01","2021-01-01","2021-01-01",0,0,0,0,0,0,"","",0,0,0]
[null,null,null,null,null,null,null,null,null,null,null,null,null,null,null,null,"2021-01-01","00:00:00","2021-01-01","2021-01-01","2021-01-01",0,0,0,0,0,0,"","",0,0,0]
[null,null,null,null,null,null,null,null,null,null,null,null,null,null,null,null,"2021-01-01","00:00:00","2021-01-01","2021-01-01","2021-01-01",0,0,0,0,0,0,"","",0,0,0]
[null,null,null,null,null,null,null,null,null,null,null,null,null,null,null,null,"2021-01-01","00:00:00","2021-01-01","2021-01-01","2021-01-01",0,0,0,0,0,0,"","",0,0,0]
[null,null,null,null,null,null,null,null,null,null,null,null,null,null,null,null,"2021-01-01","00:00:00","2021-01-01","2021-01-01","2021-01-01",0,0,0,0,0,0,"","",0,0,0]
[null,null,null,null,null,null,null,null,null,null,null,null,null,null,null,null,"2021-01-01","00:00:00","2021-01-01","2021-01-01","2021-01-01",0,0,0,0,0,0,"","",0,0,0]
[null,null,null,null,null,null,null,null,null,null,null,null,null,null,null,null,"2021-01-01","00:00:00","2021-01-01","2021-01-01","2021-01-01",0,0,0,0,0,0,"","",0,0,0]
[null,null,null,null,null,null,null,null,null,null,null,null,null,null,null,null,"2021-01-01","00:00:00","2021-01-01","2021-01-01","2021-01-01",0,0,0,0,0,0,"","",0,0,0]
[null,null,null,null,null,null,null,null,null,null,null,null,null,null,null,null,"2021-01-01","00:00:00","2021-01-01","2021-01-01","2021-01-01",0,0,0,0,0,0,"","",0,0,0]
[null,null,null,null,null,null,null,null,null,null,null,null,null,null,null,null,"2021-01-01","00:00:00","2021-01-01","2021-01-01","2021-01-01",0,0,0,0,0,0,"","",0,0,0]
[null,null,null,null,null,null,null,null,null,null,null,null,null,null,null,null,"2021-01-01","00:00:00","2021-01-01","2021-01-01","2021-01-01",0,0,0,0,0,0,"","",0,0,0]
[null,null,null,null,null,null,null,null,null,null,null,null,null,null,null,null,"2021-01-01","00:00:00","2021-01-01","2021-01-01","2021-01-01",0,0,0,0,0,0,"","",0,0,0]
[null,null,null,null,null,null,null,null,null,null,null,null,null,null,null,null,"2021-01-01","00:00:00","2021-01-01","2021-01-01","2021-01-01",0,0,0,0,0,0,"","",0,0,0]
[null,null,null,null,null,null,null,null,null,null,null,null,null,null,null,null,"2021-01-01","00:00:00","2021-01-01","2021-01-01","2021-01-01",0,0,0,0,0,0,"","",0,0,0]
[null,null,null,null,null,null,null,null,null,null,null,null,null,null,null,null,"2021-01-01","00:00:00","2021-01-01","2021-01-01","2021-01-01",0,0,0,0,0,0,"","",0,0,0]
[null,null,null,null,null,null,null,null,null,null,null,null,null,null,null,null,"2021-01-01","00:00:00","2021-01-01","2021-01-01","2021-01-01",0,0,0,0,0,0,"","",0,0,0]
[null,null,null,null,null,null,null,null,null,null,null,null,null,null,null,null,"2021-01-01","00:00:00","2021-01-01","2021-01-01","2021-01-01",0,0,0,0,0,0,"","",0,0,0]
[null,null,null,null,null,null,null,null,null,null,null,null,null,null,null,null,"2021-01-01","00:00:00","2021-01-01","2021-01-01","2021-01-01",0,0,0,0,0,0,"","",0,0,0]
[null,null,null,null,null,null,null,null,null,null,null,null,null,null,null,null,"2021-01-01","00:00:00","2021-01-01","2021-01-01","2021-01-01",0,0,0,0,0,0,"","",0,0,0]
[null,null,null,null,null,null,null,null,null,null,null,null,null,null,null,null,"2021-01-01","00:00:00","2021-01-01","2021-01-01","2021-01-01",0,0,0,0,0,0,"","",0,0,0]
[null,null,null,null,null,null,null,null,null,null,null,null,null,null,null,null,"2021-01-01","00:00:00","2021-01-01","2021-01-01","2021-01-01",0,0,0,0,0,0,"","",0,0,0]
[null,null,null,null,null,null,null,null,null,null,null,null,null,null,null,null,"2021-01-01","00:00:00","2021-01-01","2021-01-01","2021-01-01",0,0,0,0,0,0,"","",0,0,0]
[null,null,null,null,null,null,null,null,null,null,null,null,null,null,null,null,"2021-01-01","00:00:00","2021-01-01","2021-01-01","2021-01-01",0,0,0,0,0,0,"","",0,0,0]
[null,null,null,null,null,null,null,null,null,null,null,null,null,null,null,null,"2021-01-01","00:00:00","2021-01-01","2021-01-01","2021-01-01",0,0,0,0,0,0,"","",0,0,0]
[null,null,null,null,null,null,null,null,null,null,null,null,null,null,null,null,"2021-01-01","00:00:00","2021-01-01","2021-01-01","2021-01-01",0,0,0,0,0,0,"","",0,0,0]
[null,null,null,null,null,null,null,null,null,null,null,null,null,null,null,null,"2021-01-01","00:00:00","2021-01-01","2021-01-01","2021-01-01",0,0,0,0,0,0,"","",0,0,0]
[null,null,null,null,null,null,null,null,null,null,null,null,null,null,null,null,"2021-01-01","00:00:00","2021-01-01","2021-01-01","2021-01-01",0,0,0,0,0,0,"","",0,0,0]
[null,null,null,null,null,null,null,null,null,null,null,null,null,null,null,null,"2021-01-01","00:00:00","2021-01-01","2021-01-01","2021-01-01",0,0,0,0,0,0,"","",0,0,0]
[null,null,null,null,null,null,null,null,null,null,null,null,null,null,null,null,"2021-01-01","00:00:00","2021-01-01","2021-01-01","2021-01-01",0,0,0,0,0,0,"","",0,{"$f":"IF(OR($Q1027>$Q$1,$R1027<$Q$1),0,YEARFRAC($E1027,$Q1027,1))*12","v":0},{"$f":"IF(OR($Q1027>$R$1,$R1027<$R$1),0,YEARFRAC($E1027,$R1027,1))*12","v":0}]
[null,null,null,null,null,null,null,null,null,null,null,null,null,null,null,null,{"$f":"IF(OR(K1028<$Q$1,K1028=\"Altbestand\"),$Q$1,IF(AND(K1028=\"Nachzucht\",E1028>$Q$1),E1028,IF(K1028=\"Nachzucht\",$Q$1,K1028)))","v":"2021-01-01"},{"$f":"IF(OR(L1028>$R$1,L1028=\"Nein\"),$R$1,L1028)","v":"00:00:00"},{"$f":"IF(OR(R1028<Q1028,(E1028+183)<Q1028),Q1028,IF((E1028+183)>R1028,R1028,(E1028+183)))","v":"2021-01-01"},{"$f":"IF(OR(S1028=R1028,(E1028+365)<Q1028,R1028<Q1028),S1028,IF((E1028+365)>R1028,R1028,(E1028+365)))","v":"2021-01-01"},{"$f":"IF(OR(T1028=R1028,S1028=R1028,(E1028+365*2)<Q1028,R1028<Q1028),T1028,IF((E1028+365*2)>R1028,R1028,(E1028+365*2)))","v":"2021-01-01"},{"$f":"IF(AC1028=\"Kuh\",\"Kuh\",F1028)","v":0},{"$f":"S1028-Q1028","v":0},{"$f":"+T1028-S1028","v":0},{"$f":"+U1028-T1028","v":0},{"$f":"IF(AB1028=\"\",0,AB1028-AA1028)","v":0},{"$f":"SUM(W1028:Y1028)","v":0},{"$f":"IF(R1028<Q1028,\"\",R1028-Q1028)","v":""},{"$f":"IF(OR((ISNA(VLOOKUP(C1028,$I$3:$I$138,1,FALSE))=FALSE),AND(AD1028>1200,F1028=\"w\"),M1028=\"Ja\"),\"Kuh\",\"\")","v":""},{"$f":"IF(OR(L1028=\"Nein\",L1028=\"Ja\"),$R$1-E1028,L1028-E1028)","v":0},0,0]
[null,null,null,null,null,null,null,null,null,null,null,null,null,null,null,null,"2021-01-01","00:00:00","2021-01-01","2021-01-01","2021-01-01",0,0,0,0,0,0,"","",0,0,0]
[null,null,null,null,null,null,null,null,null,null,null,null,null,null,null,null,"2021-01-01","00:00:00","2021-01-01","2021-01-01","2021-01-01",0,0,0,0,0,0,"","",0,0,0]
[null,null,null,null,null,null,null,null,null,null,null,null,null,null,null,null,"2021-01-01","00:00:00","2021-01-01","2021-01-01","2021-01-01",0,0,0,0,0,0,"","",0,0,0]
[null,null,null,null,null,null,null,null,null,null,null,null,null,null,null,null,"2021-01-01","00:00:00","2021-01-01","2021-01-01","2021-01-01",0,0,0,0,0,0,"","",0,0,0]
[null,null,null,null,null,null,null,null,null,null,null,null,null,null,null,null,"2021-01-01","00:00:00","2021-01-01","2021-01-01","2021-01-01",0,0,0,0,0,0,"","",0,0,0]
[null,null,null,null,null,null,null,null,null,null,null,null,null,null,null,null,"2021-01-01","00:00:00","2021-01-01","2021-01-01","2021-01-01",0,0,0,0,0,0,"","",0,0,0]
[null,null,null,null,null,null,null,null,null,null,null,null,null,null,null,null,"2021-01-01","00:00:00","2021-01-01","2021-01-01","2021-01-01",0,0,0,0,0,0,"","",0,0,0]
[null,null,null,null,null,null,null,null,null,null,null,null,null,null,null,null,"2021-01-01","00:00:00","2021-01-01","2021-01-01","2021-01-01",0,0,0,0,0,0,"","",0,0,0]
[null,null,null,null,null,null,null,null,null,null,null,null,null,null,null,null,"2021-01-01","00:00:00","2021-01-01","2021-01-01","2021-01-01",0,0,0,0,0,0,"","",0,0,0]
[null,null,null,null,null,null,null,null,null,null,null,null,null,null,null,null,"2021-01-01","00:00:00","2021-01-01","2021-01-01","2021-01-01",0,0,0,0,0,0,"","",0,0,0]
[null,null,null,null,null,null,null,null,null,null,null,null,null,null,null,null,"2021-01-01","00:00:00","2021-01-01","2021-01-01","2021-01-01",0,0,0,0,0,0,"","",0,0,0]
[null,null,null,null,null,null,null,null,null,null,null,null,null,null,null,null,"2021-01-01","00:00:00","2021-01-01","2021-01-01","2021-01-01",0,0,0,0,0,0,"","",0,0,0]
[null,null,null,null,null,null,null,null,null,null,null,null,null,null,null,null,"2021-01-01","00:00:00","2021-01-01","2021-01-01","2021-01-01",0,0,0,0,0,0,"","",0,0,0]
[null,null,null,null,null,null,null,null,null,null,null,null,null,null,null,null,"2021-01-01","00:00:00","2021-01-01","2021-01-01","2021-01-01",0,0,0,0,0,0,"","",0,0,0]
[null,null,null,null,null,null,null,null,null,null,null,null,null,null,null,null,"2021-01-01","00:00:00","2021-01-01","2021-01-01","2021-01-01",0,0,0,0,0,0,"","",0,0,0]
[null,null,null,null,null,null,null,null,null,null,null,null,null,null,null,null,"2021-01-01","00:00:00","2021-01-01","2021-01-01","2021-01-01",0,0,0,0,0,0,"","",0,0,0]
[null,null,null,null,null,null,null,null,null,null,null,null,null,null,null,null,"2021-01-01","00:00:00","2021-01-01","2021-01-01","2021-01-01",0,0,0,0,0,0,"","",0,0,0]
[null,null,null,null,null,null,null,null,null,null,null,null,null,null,null,null,"2021-01-01","00:00:00","2021-01-01","2021-01-01","2021-01-01",0,0,0,0,0,0,"","",0,0,0]
[null,null,null,null,null,null,null,null,null,null,null,null,null,null,null,null,"2021-01-01","00:00:00","2021-01-01","2021-01-01","2021-01-01",0,0,0,0,0,0,"","",0,0,0]
[null,null,null,null,null,null,null,null,null,null,null,null,null,null,null,null,"2021-01-01","00:00:00","2021-01-01","2021-01-01","2021-01-01",0,0,0,0,0,0,"","",0,0,0]
[null,null,null,null,null,null,null,null,null,null,null,null,null,null,null,null,"2021-01-01","00:00:00","2021-01-01","2021-01-01","2021-01-01",0,0,0,0,0,0,"","",0,0,0]
[null,null,null,null,null,null,null,null,null,null,null,null,null,null,null,null,"2021-01-01","00:00:00","2021-01-01","2021-01-01","2021-01-01",0,0,0,0,0,0,"","",0,0,0]
[null,null,null,null,null,null,null,null,null,null,null,null,null,null,null,null,"2021-01-01","00:00:00","2021-01-01","2021-01-01","2021-01-01",0,0,0,0,0,0,"","",0,0,0]
[null,null,null,null,null,null,null,null,null,null,null,null,null,null,null,null,"2021-01-01","00:00:00","2021-01-01","2021-01-01","2021-01-01",0,0,0,0,0,0,"","",0,0,0]
[null,null,null,null,null,null,null,null,null,null,null,null,null,null,null,null,"2021-01-01","00:00:00","2021-01-01","2021-01-01","2021-01-01",0,0,0,0,0,0,"","",0,0,0]
[null,null,null,null,null,null,null,null,null,null,null,null,null,null,null,null,"2021-01-01","00:00:00","2021-01-01","2021-01-01","2021-01-01",0,0,0,0,0,0,"","",0,0,0]
[null,null,null,null,null,null,null,null,null,null,null,null,null,null,null,null,"2021-01-01","00:00:00","2021-01-01","2021-01-01","2021-01-01",0,0,0,0,0,0,"","",0,0,0]
[null,null,null,null,null,null,null,null,null,null,null,null,null,null,null,null,"2021-01-01","00:00:00","2021-01-01","2021-01-01","2021-01-01",0,0,0,0,0,0,"","",0,0,0]
[null,null,null,null,null,null,null,null,null,null,null,null,null,null,null,null,"2021-01-01","00:00:00","2021-01-01","2021-01-01","2021-01-01",0,0,0,0,0,0,"","",0,0,0]
[null,null,null,null,null,null,null,null,null,null,null,null,null,null,null,null,"2021-01-01","00:00:00","2021-01-01","2021-01-01","2021-01-01",0,0,0,0,0,0,"","",0,0,0]
[null,null,null,null,null,null,null,null,null,null,null,null,null,null,null,null,"2021-01-01","00:00:00","2021-01-01","2021-01-01","2021-01-01",0,0,0,0,0,0,"","",0,0,0]
[null,null,null,null,null,null,null,null,null,null,null,null,null,null,null,null,"2021-01-01","00:00:00","2021-01-01","2021-01-01","2021-01-01",0,0,0,0,0,0,"","",0,0,0]
[null,null,null,null,null,null,null,null,null,null,null,null,null,null,null,null,"2021-01-01","00:00:00","2021-01-01","2021-01-01","2021-01-01",0,0,0,0,0,0,"","",0,0,0]
[null,null,null,null,null,null,null,null,null,null,null,null,null,null,null,null,"2021-01-01","00:00:00","2021-01-01","2021-01-01","2021-01-01",0,0,0,0,0,0,"","",0,0,0]
[null,null,null,null,null,null,null,null,null,null,null,null,null,null,null,null,"2021-01-01","00:00:00","2021-01-01","2021-01-01","2021-01-01",0,0,0,0,0,0,"","",0,0,0]
[null,null,null,null,null,null,null,null,null,null,null,null,null,null,null,null,"2021-01-01","00:00:00","2021-01-01","2021-01-01","2021-01-01",0,0,0,0,0,0,"","",0,0,0]
[null,null,null,null,null,null,null,null,null,null,null,null,null,null,null,null,"2021-01-01","00:00:00","2021-01-01","2021-01-01","2021-01-01",0,0,0,0,0,0,"","",0,0,0]
[null,null,null,null,null,null,null,null,null,null,null,null,null,null,null,null,"2021-01-01","00:00:00","2021-01-01","2021-01-01","2021-01-01",0,0,0,0,0,0,"","",0,0,0]
[null,null,null,null,null,null,null,null,null,null,null,null,null,null,null,null,"2021-01-01","00:00:00","2021-01-01","2021-01-01","2021-01-01",0,0,0,0,0,0,"","",0,0,0]
[null,null,null,null,null,null,null,null,null,null,null,null,null,null,null,null,"2021-01-01","00:00:00","2021-01-01","2021-01-01","2021-01-01",0,0,0,0,0,0,"","",0,0,0]
[null,null,null,null,null,null,null,null,null,null,null,null,null,null,null,null,"2021-01-01","00:00:00","2021-01-01","2021-01-01","2021-01-01",0,0,0,0,0,0,"","",0,0,0]
[null,null,null,null,null,null,null,null,null,null,null,null,null,null,null,null,"2021-01-01","00:00:00","2021-01-01","2021-01-01","2021-01-01",0,0,0,0,0,0,"","",0,0,0]
[null,null,null,null,null,null,null,null,null,null,null,null,null,null,null,null,"2021-01-01","00:00:00","2021-01-01","2021-01-01","2021-01-01",0,0,0,0,0,0,"","",0,0,0]
[null,null,null,null,null,null,null,null,null,null,null,null,null,null,null,null,"2021-01-01","00:00:00","2021-01-01","2021-01-01","2021-01-01",0,0,0,0,0,0,"","",0,0,0]
[null,null,null,null,null,null,null,null,null,null,null,null,null,null,null,null,"2021-01-01","00:00:00","2021-01-01","2021-01-01","2021-01-01",0,0,0,0,0,0,"","",0,0,0]
[null,null,null,null,null,null,null,null,null,null,null,null,null,null,null,null,"2021-01-01","00:00:00","2021-01-01","2021-01-01","2021-01-01",0,0,0,0,0,0,"","",0,0,0]
[null,null,null,null,null,null,null,null,null,null,null,null,null,null,null,null,"2021-01-01","00:00:00","2021-01-01","2021-01-01","2021-01-01",0,0,0,0,0,0,"","",0,0,0]
[null,null,null,null,null,null,null,null,null,null,null,null,null,null,null,null,"2021-01-01","00:00:00","2021-01-01","2021-01-01","2021-01-01",0,0,0,0,0,0,"","",0,0,0]
[null,null,null,null,null,null,null,null,null,null,null,null,null,null,null,null,"2021-01-01","00:00:00","2021-01-01","2021-01-01","2021-01-01",0,0,0,0,0,0,"","",0,0,0]
[null,null,null,null,null,null,null,null,null,null,null,null,null,null,null,null,"2021-01-01","00:00:00","2021-01-01","2021-01-01","2021-01-01",0,0,0,0,0,0,"","",0,0,0]
[null,null,null,null,null,null,null,null,null,null,null,null,null,null,null,null,"2021-01-01","00:00:00","2021-01-01","2021-01-01","2021-01-01",0,0,0,0,0,0,"","",0,0,0]
[null,null,null,null,null,null,null,null,null,null,null,null,null,null,null,null,"2021-01-01","00:00:00","2021-01-01","2021-01-01","2021-01-01",0,0,0,0,0,0,"","",0,0,0]
[null,null,null,null,null,null,null,null,null,null,null,null,null,null,null,null,"2021-01-01","00:00:00","2021-01-01","2021-01-01","2021-01-01",0,0,0,0,0,0,"","",0,0,0]
[null,null,null,null,null,null,null,null,null,null,null,null,null,null,null,null,"2021-01-01","00:00:00","2021-01-01","2021-01-01","2021-01-01",0,0,0,0,0,0,"","",0,0,0]
[null,null,null,null,null,null,null,null,null,null,null,null,null,null,null,null,"2021-01-01","00:00:00","2021-01-01","2021-01-01","2021-01-01",0,0,0,0,0,0,"","",0,0,0]
[null,null,null,null,null,null,null,null,null,null,null,null,null,null,null,null,"2021-01-01","00:00:00","2021-01-01","2021-01-01","2021-01-01",0,0,0,0,0,0,"","",0,0,0]
[null,null,null,null,null,null,null,null,null,null,null,null,null,null,null,null,"2021-01-01","00:00:00","2021-01-01","2021-01-01","2021-01-01",0,0,0,0,0,0,"","",0,0,0]
[null,null,null,null,null,null,null,null,null,null,null,null,null,null,null,null,"2021-01-01","00:00:00","2021-01-01","2021-01-01","2021-01-01",0,0,0,0,0,0,"","",0,0,0]
[null,null,null,null,null,null,null,null,null,null,null,null,null,null,null,null,"2021-01-01","00:00:00","2021-01-01","2021-01-01","2021-01-01",0,0,0,0,0,0,"","",0,0,0]
[null,null,null,null,null,null,null,null,null,null,null,null,null,null,null,null,"2021-01-01","00:00:00","2021-01-01","2021-01-01","2021-01-01",0,0,0,0,0,0,"","",0,0,0]
[null,null,null,null,null,null,null,null,null,null,null,null,null,null,null,null,"2021-01-01","00:00:00","2021-01-01","2021-01-01","2021-01-01",0,0,0,0,0,0,"","",0,0,0]
[null,null,null,null,null,null,null,null,null,null,null,null,null,null,null,null,"2021-01-01","00:00:00","2021-01-01","2021-01-01","2021-01-01",0,0,0,0,0,0,"","",0,0,0]
[null,null,null,null,null,null,null,null,null,null,null,null,null,null,null,null,"2021-01-01","00:00:00","2021-01-01","2021-01-01","2021-01-01",0,0,0,0,0,0,"","",0,{"$f":"IF(OR($Q1091>$Q$1,$R1091<$Q$1),0,YEARFRAC($E1091,$Q1091,1))*12","v":0},{"$f":"IF(OR($Q1091>$R$1,$R1091<$R$1),0,YEARFRAC($E1091,$R1091,1))*12","v":0}]
[null,null,null,null,null,null,null,null,null,null,null,null,null,null,null,null,{"$f":"IF(OR(K1092<$Q$1,K1092=\"Altbestand\"),$Q$1,IF(AND(K1092=\"Nachzucht\",E1092>$Q$1),E1092,IF(K1092=\"Nachzucht\",$Q$1,K1092)))","v":"2021-01-01"},{"$f":"IF(OR(L1092>$R$1,L1092=\"Nein\"),$R$1,L1092)","v":"00:00:00"},{"$f":"IF(OR(R1092<Q1092,(E1092+183)<Q1092),Q1092,IF((E1092+183)>R1092,R1092,(E1092+183)))","v":"2021-01-01"},{"$f":"IF(OR(S1092=R1092,(E1092+365)<Q1092,R1092<Q1092),S1092,IF((E1092+365)>R1092,R1092,(E1092+365)))","v":"2021-01-01"},{"$f":"IF(OR(T1092=R1092,S1092=R1092,(E1092+365*2)<Q1092,R1092<Q1092),T1092,IF((E1092+365*2)>R1092,R1092,(E1092+365*2)))","v":"2021-01-01"},{"$f":"IF(AC1092=\"Kuh\",\"Kuh\",F1092)","v":0},{"$f":"S1092-Q1092","v":0},{"$f":"+T1092-S1092","v":0},{"$f":"+U1092-T1092","v":0},{"$f":"IF(AB1092=\"\",0,AB1092-AA1092)","v":0},{"$f":"SUM(W1092:Y1092)","v":0},{"$f":"IF(R1092<Q1092,\"\",R1092-Q1092)","v":""},{"$f":"IF(OR((ISNA(VLOOKUP(C1092,$I$3:$I$138,1,FALSE))=FALSE),AND(AD1092>1200,F1092=\"w\"),M1092=\"Ja\"),\"Kuh\",\"\")","v":""},{"$f":"IF(OR(L1092=\"Nein\",L1092=\"Ja\"),$R$1-E1092,L1092-E1092)","v":0},0,0]
[null,null,null,null,null,null,null,null,null,null,null,null,null,null,null,null,"2021-01-01","00:00:00","2021-01-01","2021-01-01","2021-01-01",0,0,0,0,0,0,"","",0,0,0]
[null,null,null,null,null,null,null,null,null,null,null,null,null,null,null,null,"2021-01-01","00:00:00","2021-01-01","2021-01-01","2021-01-01",0,0,0,0,0,0,"","",0,0,0]
[null,null,null,null,null,null,null,null,null,null,null,null,null,null,null,null,"2021-01-01","00:00:00","2021-01-01","2021-01-01","2021-01-01",0,0,0,0,0,0,"","",0,0,0]
[null,null,null,null,null,null,null,null,null,null,null,null,null,null,null,null,"2021-01-01","00:00:00","2021-01-01","2021-01-01","2021-01-01",0,0,0,0,0,0,"","",0,0,0]
[null,null,null,null,null,null,null,null,null,null,null,null,null,null,null,null,"2021-01-01","00:00:00","2021-01-01","2021-01-01","2021-01-01",0,0,0,0,0,0,"","",0,0,0]
[null,null,null,null,null,null,null,null,null,null,null,null,null,null,null,null,"2021-01-01","00:00:00","2021-01-01","2021-01-01","2021-01-01",0,0,0,0,0,0,"","",0,0,0]
[null,null,null,null,null,null,null,null,null,null,null,null,null,null,null,null,"2021-01-01","00:00:00","2021-01-01","2021-01-01","2021-01-01",0,0,0,0,0,0,"","",0,0,0]
[null,null,null,null,null,null,null,null,null,null,null,null,null,null,null,null,"2021-01-01","00:00:00","2021-01-01","2021-01-01","2021-01-01",0,0,0,0,0,0,"","",0,0,0]
[null,null,null,null,null,null,null,null,null,null,null,null,null,null,null,null,"2021-01-01","00:00:00","2021-01-01","2021-01-01","2021-01-01",0,0,0,0,0,0,"","",0,0,0]
[null,null,null,null,null,null,null,null,null,null,null,null,null,null,null,null,"2021-01-01","00:00:00","2021-01-01","2021-01-01","2021-01-01",0,0,0,0,0,0,"","",0,0,0]
[null,null,null,null,null,null,null,null,null,null,null,null,null,null,null,null,"2021-01-01","00:00:00","2021-01-01","2021-01-01","2021-01-01",0,0,0,0,0,0,"","",0,0,0]
[null,null,null,null,null,null,null,null,null,null,null,null,null,null,null,null,"2021-01-01","00:00:00","2021-01-01","2021-01-01","2021-01-01",0,0,0,0,0,0,"","",0,0,0]
[null,null,null,null,null,null,null,null,null,null,null,null,null,null,null,null,"2021-01-01","00:00:00","2021-01-01","2021-01-01","2021-01-01",0,0,0,0,0,0,"","",0,0,0]
[null,null,null,null,null,null,null,null,null,null,null,null,null,null,null,null,"2021-01-01","00:00:00","2021-01-01","2021-01-01","2021-01-01",0,0,0,0,0,0,"","",0,0,0]
[null,null,null,null,null,null,null,null,null,null,null,null,null,null,null,null,"2021-01-01","00:00:00","2021-01-01","2021-01-01","2021-01-01",0,0,0,0,0,0,"","",0,0,0]
[null,null,null,null,null,null,null,null,null,null,null,null,null,null,null,null,"2021-01-01","00:00:00","2021-01-01","2021-01-01","2021-01-01",0,0,0,0,0,0,"","",0,0,0]
[null,null,null,null,null,null,null,null,null,null,null,null,null,null,null,null,"2021-01-01","00:00:00","2021-01-01","2021-01-01","2021-01-01",0,0,0,0,0,0,"","",0,0,0]
[null,null,null,null,null,null,null,null,null,null,null,null,null,null,null,null,"2021-01-01","00:00:00","2021-01-01","2021-01-01","2021-01-01",0,0,0,0,0,0,"","",0,0,0]
[null,null,null,null,null,null,null,null,null,null,null,null,null,null,null,null,"2021-01-01","00:00:00","2021-01-01","2021-01-01","2021-01-01",0,0,0,0,0,0,"","",0,0,0]
[null,null,null,null,null,null,null,null,null,null,null,null,null,null,null,null,"2021-01-01","00:00:00","2021-01-01","2021-01-01","2021-01-01",0,0,0,0,0,0,"","",0,0,0]
[null,null,null,null,null,null,null,null,null,null,null,null,null,null,null,null,"2021-01-01","00:00:00","2021-01-01","2021-01-01","2021-01-01",0,0,0,0,0,0,"","",0,0,0]
[null,null,null,null,null,null,null,null,null,null,null,null,null,null,null,null,"2021-01-01","00:00:00","2021-01-01","2021-01-01","2021-01-01",0,0,0,0,0,0,"","",0,0,0]
[null,null,null,null,null,null,null,null,null,null,null,null,null,null,null,null,"2021-01-01","00:00:00","2021-01-01","2021-01-01","2021-01-01",0,0,0,0,0,0,"","",0,0,0]
[null,null,null,null,null,null,null,null,null,null,null,null,null,null,null,null,"2021-01-01","00:00:00","2021-01-01","2021-01-01","2021-01-01",0,0,0,0,0,0,"","",0,0,0]
[null,null,null,null,null,null,null,null,null,null,null,null,null,null,null,null,"2021-01-01","00:00:00","2021-01-01","2021-01-01","2021-01-01",0,0,0,0,0,0,"","",0,0,0]
[null,null,null,null,null,null,null,null,null,null,null,null,null,null,null,null,"2021-01-01","00:00:00","2021-01-01","2021-01-01","2021-01-01",0,0,0,0,0,0,"","",0,0,0]
[null,null,null,null,null,null,null,null,null,null,null,null,null,null,null,null,"2021-01-01","00:00:00","2021-01-01","2021-01-01","2021-01-01",0,0,0,0,0,0,"","",0,0,0]
[null,null,null,null,null,null,null,null,null,null,null,null,null,null,null,null,"2021-01-01","00:00:00","2021-01-01","2021-01-01","2021-01-01",0,0,0,0,0,0,"","",0,0,0]
[null,null,null,null,null,null,null,null,null,null,null,null,null,null,null,null,"2021-01-01","00:00:00","2021-01-01","2021-01-01","2021-01-01",0,0,0,0,0,0,"","",0,0,0]
[null,null,null,null,null,null,null,null,null,null,null,null,null,null,null,null,"2021-01-01","00:00:00","2021-01-01","2021-01-01","2021-01-01",0,0,0,0,0,0,"","",0,0,0]
[null,null,null,null,null,null,null,null,null,null,null,null,null,null,null,null,"2021-01-01","00:00:00","2021-01-01","2021-01-01","2021-01-01",0,0,0,0,0,0,"","",0,0,0]
[null,null,null,null,null,null,null,null,null,null,null,null,null,null,null,null,"2021-01-01","00:00:00","2021-01-01","2021-01-01","2021-01-01",0,0,0,0,0,0,"","",0,0,0]
[null,null,null,null,null,null,null,null,null,null,null,null,null,null,null,null,"2021-01-01","00:00:00","2021-01-01","2021-01-01","2021-01-01",0,0,0,0,0,0,"","",0,0,0]
[null,null,null,null,null,null,null,null,null,null,null,null,null,null,null,null,"2021-01-01","00:00:00","2021-01-01","2021-01-01","2021-01-01",0,0,0,0,0,0,"","",0,0,0]
[null,null,null,null,null,null,null,null,null,null,null,null,null,null,null,null,"2021-01-01","00:00:00","2021-01-01","2021-01-01","2021-01-01",0,0,0,0,0,0,"","",0,0,0]
[null,null,null,null,null,null,null,null,null,null,null,null,null,null,null,null,"2021-01-01","00:00:00","2021-01-01","2021-01-01","2021-01-01",0,0,0,0,0,0,"","",0,0,0]
[null,null,null,null,null,null,null,null,null,null,null,null,null,null,null,null,"2021-01-01","00:00:00","2021-01-01","2021-01-01","2021-01-01",0,0,0,0,0,0,"","",0,0,0]
[null,null,null,null,null,null,null,null,null,null,null,null,null,null,null,null,"2021-01-01","00:00:00","2021-01-01","2021-01-01","2021-01-01",0,0,0,0,0,0,"","",0,0,0]
[null,null,null,null,null,null,null,null,null,null,null,null,null,null,null,null,"2021-01-01","00:00:00","2021-01-01","2021-01-01","2021-01-01",0,0,0,0,0,0,"","",0,0,0]
[null,null,null,null,null,null,null,null,null,null,null,null,null,null,null,null,"2021-01-01","00:00:00","2021-01-01","2021-01-01","2021-01-01",0,0,0,0,0,0,"","",0,0,0]
[null,null,null,null,null,null,null,null,null,null,null,null,null,null,null,null,"2021-01-01","00:00:00","2021-01-01","2021-01-01","2021-01-01",0,0,0,0,0,0,"","",0,0,0]
[null,null,null,null,null,null,null,null,null,null,null,null,null,null,null,null,"2021-01-01","00:00:00","2021-01-01","2021-01-01","2021-01-01",0,0,0,0,0,0,"","",0,0,0]
[null,null,null,null,null,null,null,null,null,null,null,null,null,null,null,null,"2021-01-01","00:00:00","2021-01-01","2021-01-01","2021-01-01",0,0,0,0,0,0,"","",0,0,0]
[null,null,null,null,null,null,null,null,null,null,null,null,null,null,null,null,"2021-01-01","00:00:00","2021-01-01","2021-01-01","2021-01-01",0,0,0,0,0,0,"","",0,0,0]
[null,null,null,null,null,null,null,null,null,null,null,null,null,null,null,null,"2021-01-01","00:00:00","2021-01-01","2021-01-01","2021-01-01",0,0,0,0,0,0,"","",0,0,0]
[null,null,null,null,null,null,null,null,null,null,null,null,null,null,null,null,"2021-01-01","00:00:00","2021-01-01","2021-01-01","2021-01-01",0,0,0,0,0,0,"","",0,0,0]
[null,null,null,null,null,null,null,null,null,null,null,null,null,null,null,null,"2021-01-01","00:00:00","2021-01-01","2021-01-01","2021-01-01",0,0,0,0,0,0,"","",0,0,0]
[null,null,null,null,null,null,null,null,null,null,null,null,null,null,null,null,"2021-01-01","00:00:00","2021-01-01","2021-01-01","2021-01-01",0,0,0,0,0,0,"","",0,0,0]
[null,null,null,null,null,null,null,null,null,null,null,null,null,null,null,null,"2021-01-01","00:00:00","2021-01-01","2021-01-01","2021-01-01",0,0,0,0,0,0,"","",0,0,0]
[null,null,null,null,null,null,null,null,null,null,null,null,null,null,null,null,"2021-01-01","00:00:00","2021-01-01","2021-01-01","2021-01-01",0,0,0,0,0,0,"","",0,0,0]
[null,null,null,null,null,null,null,null,null,null,null,null,null,null,null,null,"2021-01-01","00:00:00","2021-01-01","2021-01-01","2021-01-01",0,0,0,0,0,0,"","",0,0,0]
[null,null,null,null,null,null,null,null,null,null,null,null,null,null,null,null,"2021-01-01","00:00:00","2021-01-01","2021-01-01","2021-01-01",0,0,0,0,0,0,"","",0,0,0]
[null,null,null,null,null,null,null,null,null,null,null,null,null,null,null,null,"2021-01-01","00:00:00","2021-01-01","2021-01-01","2021-01-01",0,0,0,0,0,0,"","",0,0,0]
[null,null,null,null,null,null,null,null,null,null,null,null,null,null,null,null,"2021-01-01","00:00:00","2021-01-01","2021-01-01","2021-01-01",0,0,0,0,0,0,"","",0,0,0]
[null,null,null,null,null,null,null,null,null,null,null,null,null,null,null,null,"2021-01-01","00:00:00","2021-01-01","2021-01-01","2021-01-01",0,0,0,0,0,0,"","",0,0,0]
[null,null,null,null,null,null,null,null,null,null,null,null,null,null,null,null,"2021-01-01","00:00:00","2021-01-01","2021-01-01","2021-01-01",0,0,0,0,0,0,"","",0,0,0]
[null,null,null,null,null,null,null,null,null,null,null,null,null,null,null,null,"2021-01-01","00:00:00","2021-01-01","2021-01-01","2021-01-01",0,0,0,0,0,0,"","",0,0,0]
[null,null,null,null,null,null,null,null,null,null,null,null,null,null,null,null,"2021-01-01","00:00:00","2021-01-01","2021-01-01","2021-01-01",0,0,0,0,0,0,"","",0,0,0]
[null,null,null,null,null,null,null,null,null,null,null,null,null,null,null,null,"2021-01-01","00:00:00","2021-01-01","2021-01-01","2021-01-01",0,0,0,0,0,0,"","",0,0,0]
[null,null,null,null,null,null,null,null,null,null,null,null,null,null,null,null,"2021-01-01","00:00:00","2021-01-01","2021-01-01","2021-01-01",0,0,0,0,0,0,"","",0,0,0]
[null,null,null,null,null,null,null,null,null,null,null,null,null,null,null,null,"2021-01-01","00:00:00","2021-01-01","2021-01-01","2021-01-01",0,0,0,0,0,0,"","",0,0,0]
[null,null,null,null,null,null,null,null,null,null,null,null,null,null,null,null,"2021-01-01","00:00:00","2021-01-01","2021-01-01","2021-01-01",0,0,0,0,0,0,"","",0,0,0]
[null,null,null,null,null,null,null,null,null,null,null,null,null,null,null,null,"2021-01-01","00:00:00","2021-01-01","2021-01-01","2021-01-01",0,0,0,0,0,0,"","",0,{"$f":"IF(OR($Q1155>$Q$1,$R1155<$Q$1),0,YEARFRAC($E1155,$Q1155,1))*12","v":0},{"$f":"IF(OR($Q1155>$R$1,$R1155<$R$1),0,YEARFRAC($E1155,$R1155,1))*12","v":0}]
[null,null,null,null,null,null,null,null,null,null,null,null,null,null,null,null,{"$f":"IF(OR(K1156<$Q$1,K1156=\"Altbestand\"),$Q$1,IF(AND(K1156=\"Nachzucht\",E1156>$Q$1),E1156,IF(K1156=\"Nachzucht\",$Q$1,K1156)))","v":"2021-01-01"},{"$f":"IF(OR(L1156>$R$1,L1156=\"Nein\"),$R$1,L1156)","v":"00:00:00"},{"$f":"IF(OR(R1156<Q1156,(E1156+183)<Q1156),Q1156,IF((E1156+183)>R1156,R1156,(E1156+183)))","v":"2021-01-01"},{"$f":"IF(OR(S1156=R1156,(E1156+365)<Q1156,R1156<Q1156),S1156,IF((E1156+365)>R1156,R1156,(E1156+365)))","v":"2021-01-01"},{"$f":"IF(OR(T1156=R1156,S1156=R1156,(E1156+365*2)<Q1156,R1156<Q1156),T1156,IF((E1156+365*2)>R1156,R1156,(E1156+365*2)))","v":"2021-01-01"},{"$f":"IF(AC1156=\"Kuh\",\"Kuh\",F1156)","v":0},{"$f":"S1156-Q1156","v":0},{"$f":"+T1156-S1156","v":0},{"$f":"+U1156-T1156","v":0},{"$f":"IF(AB1156=\"\",0,AB1156-AA1156)","v":0},{"$f":"SUM(W1156:Y1156)","v":0},{"$f":"IF(R1156<Q1156,\"\",R1156-Q1156)","v":""},{"$f":"IF(OR((ISNA(VLOOKUP(C1156,$I$3:$I$138,1,FALSE))=FALSE),AND(AD1156>1200,F1156=\"w\"),M1156=\"Ja\"),\"Kuh\",\"\")","v":""},{"$f":"IF(OR(L1156=\"Nein\",L1156=\"Ja\"),$R$1-E1156,L1156-E1156)","v":0},0,0]
[null,null,null,null,null,null,null,null,null,null,null,null,null,null,null,null,"2021-01-01","00:00:00","2021-01-01","2021-01-01","2021-01-01",0,0,0,0,0,0,"","",0,0,0]
[null,null,null,null,null,null,null,null,null,null,null,null,null,null,null,null,"2021-01-01","00:00:00","2021-01-01","2021-01-01","2021-01-01",0,0,0,0,0,0,"","",0,0,0]
[null,null,null,null,null,null,null,null,null,null,null,null,null,null,null,null,"2021-01-01","00:00:00","2021-01-01","2021-01-01","2021-01-01",0,0,0,0,0,0,"","",0,0,0]
[null,null,null,null,null,null,null,null,null,null,null,null,null,null,null,null,"2021-01-01","00:00:00","2021-01-01","2021-01-01","2021-01-01",0,0,0,0,0,0,"","",0,0,0]
[null,null,null,null,null,null,null,null,null,null,null,null,null,null,null,null,"2021-01-01","00:00:00","2021-01-01","2021-01-01","2021-01-01",0,0,0,0,0,0,"","",0,0,0]
[null,null,null,null,null,null,null,null,null,null,null,null,null,null,null,null,"2021-01-01","00:00:00","2021-01-01","2021-01-01","2021-01-01",0,0,0,0,0,0,"","",0,0,0]
[null,null,null,null,null,null,null,null,null,null,null,null,null,null,null,null,"2021-01-01","00:00:00","2021-01-01","2021-01-01","2021-01-01",0,0,0,0,0,0,"","",0,0,0]
[null,null,null,null,null,null,null,null,null,null,null,null,null,null,null,null,"2021-01-01","00:00:00","2021-01-01","2021-01-01","2021-01-01",0,0,0,0,0,0,"","",0,0,0]
[null,null,null,null,null,null,null,null,null,null,null,null,null,null,null,null,"2021-01-01","00:00:00","2021-01-01","2021-01-01","2021-01-01",0,0,0,0,0,0,"","",0,0,0]
[null,null,null,null,null,null,null,null,null,null,null,null,null,null,null,null,"2021-01-01","00:00:00","2021-01-01","2021-01-01","2021-01-01",0,0,0,0,0,0,"","",0,0,0]
[null,null,null,null,null,null,null,null,null,null,null,null,null,null,null,null,"2021-01-01","00:00:00","2021-01-01","2021-01-01","2021-01-01",0,0,0,0,0,0,"","",0,0,0]
[null,null,null,null,null,null,null,null,null,null,null,null,null,null,null,null,"2021-01-01","00:00:00","2021-01-01","2021-01-01","2021-01-01",0,0,0,0,0,0,"","",0,0,0]
[null,null,null,null,null,null,null,null,null,null,null,null,null,null,null,null,"2021-01-01","00:00:00","2021-01-01","2021-01-01","2021-01-01",0,0,0,0,0,0,"","",0,0,0]
[null,null,null,null,null,null,null,null,null,null,null,null,null,null,null,null,"2021-01-01","00:00:00","2021-01-01","2021-01-01","2021-01-01",0,0,0,0,0,0,"","",0,0,0]
[null,null,null,null,null,null,null,null,null,null,null,null,null,null,null,null,"2021-01-01","00:00:00","2021-01-01","2021-01-01","2021-01-01",0,0,0,0,0,0,"","",0,0,0]
[null,null,null,null,null,null,null,null,null,null,null,null,null,null,null,null,"2021-01-01","00:00:00","2021-01-01","2021-01-01","2021-01-01",0,0,0,0,0,0,"","",0,0,0]
[null,null,null,null,null,null,null,null,null,null,null,null,null,null,null,null,"2021-01-01","00:00:00","2021-01-01","2021-01-01","2021-01-01",0,0,0,0,0,0,"","",0,0,0]
[null,null,null,null,null,null,null,null,null,null,null,null,null,null,null,null,"2021-01-01","00:00:00","2021-01-01","2021-01-01","2021-01-01",0,0,0,0,0,0,"","",0,0,0]
[null,null,null,null,null,null,null,null,null,null,null,null,null,null,null,null,"2021-01-01","00:00:00","2021-01-01","2021-01-01","2021-01-01",0,0,0,0,0,0,"","",0,0,0]
[null,null,null,null,null,null,null,null,null,null,null,null,null,null,null,null,"2021-01-01","00:00:00","2021-01-01","2021-01-01","2021-01-01",0,0,0,0,0,0,"","",0,0,0]
[null,null,null,null,null,null,null,null,null,null,null,null,null,null,null,null,"2021-01-01","00:00:00","2021-01-01","2021-01-01","2021-01-01",0,0,0,0,0,0,"","",0,0,0]
[null,null,null,null,null,null,null,null,null,null,null,null,null,null,null,null,"2021-01-01","00:00:00","2021-01-01","2021-01-01","2021-01-01",0,0,0,0,0,0,"","",0,0,0]
[null,null,null,null,null,null,null,null,null,null,null,null,null,null,null,null,"2021-01-01","00:00:00","2021-01-01","2021-01-01","2021-01-01",0,0,0,0,0,0,"","",0,0,0]
[null,null,null,null,null,null,null,null,null,null,null,null,null,null,null,null,"2021-01-01","00:00:00","2021-01-01","2021-01-01","2021-01-01",0,0,0,0,0,0,"","",0,0,0]
[null,null,null,null,null,null,null,null,null,null,null,null,null,null,null,null,"2021-01-01","00:00:00","2021-01-01","2021-01-01","2021-01-01",0,0,0,0,0,0,"","",0,0,0]
[null,null,null,null,null,null,null,null,null,null,null,null,null,null,null,null,"2021-01-01","00:00:00","2021-01-01","2021-01-01","2021-01-01",0,0,0,0,0,0,"","",0,0,0]
[null,null,null,null,null,null,null,null,null,null,null,null,null,null,null,null,"2021-01-01","00:00:00","2021-01-01","2021-01-01","2021-01-01",0,0,0,0,0,0,"","",0,0,0]
[null,null,null,null,null,null,null,null,null,null,null,null,null,null,null,null,"2021-01-01","00:00:00","2021-01-01","2021-01-01","2021-01-01",0,0,0,0,0,0,"","",0,0,0]
[null,null,null,null,null,null,null,null,null,null,null,null,null,null,null,null,"2021-01-01","00:00:00","2021-01-01","2021-01-01","2021-01-01",0,0,0,0,0,0,"","",0,0,0]
[null,null,null,null,null,null,null,null,null,null,null,null,null,null,null,null,"2021-01-01","00:00:00","2021-01-01","2021-01-01","2021-01-01",0,0,0,0,0,0,"","",0,0,0]
[null,null,null,null,null,null,null,null,null,null,null,null,null,null,null,null,"2021-01-01","00:00:00","2021-01-01","2021-01-01","2021-01-01",0,0,0,0,0,0,"","",0,0,0]
[null,null,null,null,null,null,null,null,null,null,null,null,null,null,null,null,"2021-01-01","00:00:00","2021-01-01","2021-01-01","2021-01-01",0,0,0,0,0,0,"","",0,0,0]
[null,null,null,null,null,null,null,null,null,null,null,null,null,null,null,null,"2021-01-01","00:00:00","2021-01-01","2021-01-01","2021-01-01",0,0,0,0,0,0,"","",0,0,0]
[null,null,null,null,null,null,null,null,null,null,null,null,null,null,null,null,"2021-01-01","00:00:00","2021-01-01","2021-01-01","2021-01-01",0,0,0,0,0,0,"","",0,0,0]
[null,null,null,null,null,null,null,null,null,null,null,null,null,null,null,null,"2021-01-01","00:00:00","2021-01-01","2021-01-01","2021-01-01",0,0,0,0,0,0,"","",0,0,0]
[null,null,null,null,null,null,null,null,null,null,null,null,null,null,null,null,"2021-01-01","00:00:00","2021-01-01","2021-01-01","2021-01-01",0,0,0,0,0,0,"","",0,0,0]
[null,null,null,null,null,null,null,null,null,null,null,null,null,null,null,null,"2021-01-01","00:00:00","2021-01-01","2021-01-01","2021-01-01",0,0,0,0,0,0,"","",0,0,0]
[null,null,null,null,null,null,null,null,null,null,null,null,null,null,null,null,"2021-01-01","00:00:00","2021-01-01","2021-01-01","2021-01-01",0,0,0,0,0,0,"","",0,0,0]
[null,null,null,null,null,null,null,null,null,null,null,null,null,null,null,null,"2021-01-01","00:00:00","2021-01-01","2021-01-01","2021-01-01",0,0,0,0,0,0,"","",0,0,0]
[null,null,null,null,null,null,null,null,null,null,null,null,null,null,null,null,"2021-01-01","00:00:00","2021-01-01","2021-01-01","2021-01-01",0,0,0,0,0,0,"","",0,0,0]
[null,null,null,null,null,null,null,null,null,null,null,null,null,null,null,null,"2021-01-01","00:00:00","2021-01-01","2021-01-01","2021-01-01",0,0,0,0,0,0,"","",0,0,0]
[null,null,null,null,null,null,null,null,null,null,null,null,null,null,null,null,"2021-01-01","00:00:00","2021-01-01","2021-01-01","2021-01-01",0,0,0,0,0,0,"","",0,0,0]
[null,null,null,null,null,null,null,null,null,null,null,null,null,null,null,null,"2021-01-01","00:00:00","2021-01-01","2021-01-01","2021-01-01",0,0,0,0,0,0,"","",0,0,0]
[null,null,null,null,null,null,null,null,null,null,null,null,null,null,null,null,"2021-01-01","00:00:00","2021-01-01","2021-01-01","2021-01-01",0,0,0,0,0,0,"","",0,0,0]
[null,null,null,null,null,null,null,null,null,null,null,null,null,null,null,null,"2021-01-01","00:00:00","2021-01-01","2021-01-01","2021-01-01",0,0,0,0,0,0,"","",0,0,0]
[null,null,null,null,null,null,null,null,null,null,null,null,null,null,null,null,"2021-01-01","00:00:00","2021-01-01","2021-01-01","2021-01-01",0,0,0,0,0,0,"","",0,0,0]
[null,null,null,null,null,null,null,null,null,null,null,null,null,null,null,null,"2021-01-01","00:00:00","2021-01-01","2021-01-01","2021-01-01",0,0,0,0,0,0,"","",0,0,0]
[null,null,null,null,null,null,null,null,null,null,null,null,null,null,null,null,"2021-01-01","00:00:00","2021-01-01","2021-01-01","2021-01-01",0,0,0,0,0,0,"","",0,0,0]
[null,null,null,null,null,null,null,null,null,null,null,null,null,null,null,null,"2021-01-01","00:00:00","2021-01-01","2021-01-01","2021-01-01",0,0,0,0,0,0,"","",0,0,0]
[null,null,null,null,null,null,null,null,null,null,null,null,null,null,null,null,"2021-01-01","00:00:00","2021-01-01","2021-01-01","2021-01-01",0,0,0,0,0,0,"","",0,0,0]
[null,null,null,null,null,null,null,null,null,null,null,null,null,null,null,null,"2021-01-01","00:00:00","2021-01-01","2021-01-01","2021-01-01",0,0,0,0,0,0,"","",0,0,0]
[null,null,null,null,null,null,null,null,null,null,null,null,null,null,null,null,"2021-01-01","00:00:00","2021-01-01","2021-01-01","2021-01-01",0,0,0,0,0,0,"","",0,0,0]
[null,null,null,null,null,null,null,null,null,null,null,null,null,null,null,null,"2021-01-01","00:00:00","2021-01-01","2021-01-01","2021-01-01",0,0,0,0,0,0,"","",0,0,0]
[null,null,null,null,null,null,null,null,null,null,null,null,null,null,null,null,"2021-01-01","00:00:00","2021-01-01","2021-01-01","2021-01-01",0,0,0,0,0,0,"","",0,0,0]
[null,null,null,null,null,null,null,null,null,null,null,null,null,null,null,null,"2021-01-01","00:00:00","2021-01-01","2021-01-01","2021-01-01",0,0,0,0,0,0,"","",0,0,0]
[null,null,null,null,null,null,null,null,null,null,null,null,null,null,null,null,"2021-01-01","00:00:00","2021-01-01","2021-01-01","2021-01-01",0,0,0,0,0,0,"","",0,0,0]
[null,null,null,null,null,null,null,null,null,null,null,null,null,null,null,null,"2021-01-01","00:00:00","2021-01-01","2021-01-01","2021-01-01",0,0,0,0,0,0,"","",0,0,0]
[null,null,null,null,null,null,null,null,null,null,null,null,null,null,null,null,"2021-01-01","00:00:00","2021-01-01","2021-01-01","2021-01-01",0,0,0,0,0,0,"","",0,0,0]
[null,null,null,null,null,null,null,null,null,null,null,null,null,null,null,null,"2021-01-01","00:00:00","2021-01-01","2021-01-01","2021-01-01",0,0,0,0,0,0,"","",0,0,0]
[null,null,null,null,null,null,null,null,null,null,null,null,null,null,null,null,"2021-01-01","00:00:00","2021-01-01","2021-01-01","2021-01-01",0,0,0,0,0,0,"","",0,0,0]
[null,null,null,null,null,null,null,null,null,null,null,null,null,null,null,null,"2021-01-01","00:00:00","2021-01-01","2021-01-01","2021-01-01",0,0,0,0,0,0,"","",0,0,0]
[null,null,null,null,null,null,null,null,null,null,null,null,null,null,null,null,"2021-01-01","00:00:00","2021-01-01","2021-01-01","2021-01-01",0,0,0,0,0,0,"","",0,0,0]
[null,null,null,null,null,null,null,null,null,null,null,null,null,null,null,null,"2021-01-01","00:00:00","2021-01-01","2021-01-01","2021-01-01",0,0,0,0,0,0,"","",0,{"$f":"IF(OR($Q1219>$Q$1,$R1219<$Q$1),0,YEARFRAC($E1219,$Q1219,1))*12","v":0},{"$f":"IF(OR($Q1219>$R$1,$R1219<$R$1),0,YEARFRAC($E1219,$R1219,1))*12","v":0}]
[null,null,null,null,null,null,null,null,null,null,null,null,null,null,null,null,{"$f":"IF(OR(K1220<$Q$1,K1220=\"Altbestand\"),$Q$1,IF(AND(K1220=\"Nachzucht\",E1220>$Q$1),E1220,IF(K1220=\"Nachzucht\",$Q$1,K1220)))","v":"2021-01-01"},{"$f":"IF(OR(L1220>$R$1,L1220=\"Nein\"),$R$1,L1220)","v":"00:00:00"},{"$f":"IF(OR(R1220<Q1220,(E1220+183)<Q1220),Q1220,IF((E1220+183)>R1220,R1220,(E1220+183)))","v":"2021-01-01"},{"$f":"IF(OR(S1220=R1220,(E1220+365)<Q1220,R1220<Q1220),S1220,IF((E1220+365)>R1220,R1220,(E1220+365)))","v":"2021-01-01"},{"$f":"IF(OR(T1220=R1220,S1220=R1220,(E1220+365*2)<Q1220,R1220<Q1220),T1220,IF((E1220+365*2)>R1220,R1220,(E1220+365*2)))","v":"2021-01-01"},{"$f":"IF(AC1220=\"Kuh\",\"Kuh\",F1220)","v":0},{"$f":"S1220-Q1220","v":0},{"$f":"+T1220-S1220","v":0},{"$f":"+U1220-T1220","v":0},{"$f":"IF(AB1220=\"\",0,AB1220-AA1220)","v":0},{"$f":"SUM(W1220:Y1220)","v":0},{"$f":"IF(R1220<Q1220,\"\",R1220-Q1220)","v":""},{"$f":"IF(OR((ISNA(VLOOKUP(C1220,$I$3:$I$138,1,FALSE))=FALSE),AND(AD1220>1200,F1220=\"w\"),M1220=\"Ja\"),\"Kuh\",\"\")","v":""},{"$f":"IF(OR(L1220=\"Nein\",L1220=\"Ja\"),$R$1-E1220,L1220-E1220)","v":0},0,0]
[null,null,null,null,null,null,null,null,null,null,null,null,null,null,null,null,"2021-01-01","00:00:00","2021-01-01","2021-01-01","2021-01-01",0,0,0,0,0,0,"","",0,0,0]
[null,null,null,null,null,null,null,null,null,null,null,null,null,null,null,null,"2021-01-01","00:00:00","2021-01-01","2021-01-01","2021-01-01",0,0,0,0,0,0,"","",0,0,0]
[null,null,null,null,null,null,null,null,null,null,null,null,null,null,null,null,"2021-01-01","00:00:00","2021-01-01","2021-01-01","2021-01-01",0,0,0,0,0,0,"","",0,0,0]
[null,null,null,null,null,null,null,null,null,null,null,null,null,null,null,null,"2021-01-01","00:00:00","2021-01-01","2021-01-01","2021-01-01",0,0,0,0,0,0,"","",0,0,0]
[null,null,null,null,null,null,null,null,null,null,null,null,null,null,null,null,"2021-01-01","00:00:00","2021-01-01","2021-01-01","2021-01-01",0,0,0,0,0,0,"","",0,0,0]
[null,null,null,null,null,null,null,null,null,null,null,null,null,null,null,null,"2021-01-01","00:00:00","2021-01-01","2021-01-01","2021-01-01",0,0,0,0,0,0,"","",0,0,0]
[null,null,null,null,null,null,null,null,null,null,null,null,null,null,null,null,"2021-01-01","00:00:00","2021-01-01","2021-01-01","2021-01-01",0,0,0,0,0,0,"","",0,0,0]
[null,null,null,null,null,null,null,null,null,null,null,null,null,null,null,null,"2021-01-01","00:00:00","2021-01-01","2021-01-01","2021-01-01",0,0,0,0,0,0,"","",0,0,0]
[null,null,null,null,null,null,null,null,null,null,null,null,null,null,null,null,"2021-01-01","00:00:00","2021-01-01","2021-01-01","2021-01-01",0,0,0,0,0,0,"","",0,0,0]
[null,null,null,null,null,null,null,null,null,null,null,null,null,null,null,null,"2021-01-01","00:00:00","2021-01-01","2021-01-01","2021-01-01",0,0,0,0,0,0,"","",0,0,0]
[null,null,null,null,null,null,null,null,null,null,null,null,null,null,null,null,"2021-01-01","00:00:00","2021-01-01","2021-01-01","2021-01-01",0,0,0,0,0,0,"","",0,0,0]
[null,null,null,null,null,null,null,null,null,null,null,null,null,null,null,null,"2021-01-01","00:00:00","2021-01-01","2021-01-01","2021-01-01",0,0,0,0,0,0,"","",0,0,0]
[null,null,null,null,null,null,null,null,null,null,null,null,null,null,null,null,"2021-01-01","00:00:00","2021-01-01","2021-01-01","2021-01-01",0,0,0,0,0,0,"","",0,0,0]
[null,null,null,null,null,null,null,null,null,null,null,null,null,null,null,null,"2021-01-01","00:00:00","2021-01-01","2021-01-01","2021-01-01",0,0,0,0,0,0,"","",0,0,0]
[null,null,null,null,null,null,null,null,null,null,null,null,null,null,null,null,"2021-01-01","00:00:00","2021-01-01","2021-01-01","2021-01-01",0,0,0,0,0,0,"","",0,0,0]
[null,null,null,null,null,null,null,null,null,null,null,null,null,null,null,null,"2021-01-01","00:00:00","2021-01-01","2021-01-01","2021-01-01",0,0,0,0,0,0,"","",0,0,0]
[null,null,null,null,null,null,null,null,null,null,null,null,null,null,null,null,"2021-01-01","00:00:00","2021-01-01","2021-01-01","2021-01-01",0,0,0,0,0,0,"","",0,0,0]
[null,null,null,null,null,null,null,null,null,null,null,null,null,null,null,null,"2021-01-01","00:00:00","2021-01-01","2021-01-01","2021-01-01",0,0,0,0,0,0,"","",0,0,0]
[null,null,null,null,null,null,null,null,null,null,null,null,null,null,null,null,"2021-01-01","00:00:00","2021-01-01","2021-01-01","2021-01-01",0,0,0,0,0,0,"","",0,0,0]
[null,null,null,null,null,null,null,null,null,null,null,null,null,null,null,null,"2021-01-01","00:00:00","2021-01-01","2021-01-01","2021-01-01",0,0,0,0,0,0,"","",0,0,0]
[null,null,null,null,null,null,null,null,null,null,null,null,null,null,null,null,"2021-01-01","00:00:00","2021-01-01","2021-01-01","2021-01-01",0,0,0,0,0,0,"","",0,0,0]
[null,null,null,null,null,null,null,null,null,null,null,null,null,null,null,null,"2021-01-01","00:00:00","2021-01-01","2021-01-01","2021-01-01",0,0,0,0,0,0,"","",0,0,0]
[null,null,null,null,null,null,null,null,null,null,null,null,null,null,null,null,"2021-01-01","00:00:00","2021-01-01","2021-01-01","2021-01-01",0,0,0,0,0,0,"","",0,0,0]
[null,null,null,null,null,null,null,null,null,null,null,null,null,null,null,null,"2021-01-01","00:00:00","2021-01-01","2021-01-01","2021-01-01",0,0,0,0,0,0,"","",0,0,0]
[null,null,null,null,null,null,null,null,null,null,null,null,null,null,null,null,"2021-01-01","00:00:00","2021-01-01","2021-01-01","2021-01-01",0,0,0,0,0,0,"","",0,0,0]
[null,null,null,null,null,null,null,null,null,null,null,null,null,null,null,null,"2021-01-01","00:00:00","2021-01-01","2021-01-01","2021-01-01",0,0,0,0,0,0,"","",0,0,0]
[null,null,null,null,null,null,null,null,null,null,null,null,null,null,null,null,"2021-01-01","00:00:00","2021-01-01","2021-01-01","2021-01-01",0,0,0,0,0,0,"","",0,0,0]
[null,null,null,null,null,null,null,null,null,null,null,null,null,null,null,null,"2021-01-01","00:00:00","2021-01-01","2021-01-01","2021-01-01",0,0,0,0,0,0,"","",0,0,0]
[null,null,null,null,null,null,null,null,null,null,null,null,null,null,null,null,"2021-01-01","00:00:00","2021-01-01","2021-01-01","2021-01-01",0,0,0,0,0,0,"","",0,0,0]
[null,null,null,null,null,null,null,null,null,null,null,null,null,null,null,null,"2021-01-01","00:00:00","2021-01-01","2021-01-01","2021-01-01",0,0,0,0,0,0,"","",0,0,0]
[null,null,null,null,null,null,null,null,null,null,null,null,null,null,null,null,"2021-01-01","00:00:00","2021-01-01","2021-01-01","2021-01-01",0,0,0,0,0,0,"","",0,0,0]
[null,null,null,null,null,null,null,null,null,null,null,null,null,null,null,null,"2021-01-01","00:00:00","2021-01-01","2021-01-01","2021-01-01",0,0,0,0,0,0,"","",0,0,0]
[null,null,null,null,null,null,null,null,null,null,null,null,null,null,null,null,"2021-01-01","00:00:00","2021-01-01","2021-01-01","2021-01-01",0,0,0,0,0,0,"","",0,0,0]
[null,null,null,null,null,null,null,null,null,null,null,null,null,null,null,null,"2021-01-01","00:00:00","2021-01-01","2021-01-01","2021-01-01",0,0,0,0,0,0,"","",0,0,0]
[null,null,null,null,null,null,null,null,null,null,null,null,null,null,null,null,"2021-01-01","00:00:00","2021-01-01","2021-01-01","2021-01-01",0,0,0,0,0,0,"","",0,0,0]
[null,null,null,null,null,null,null,null,null,null,null,null,null,null,null,null,"2021-01-01","00:00:00","2021-01-01","2021-01-01","2021-01-01",0,0,0,0,0,0,"","",0,0,0]
[null,null,null,null,null,null,null,null,null,null,null,null,null,null,null,null,"2021-01-01","00:00:00","2021-01-01","2021-01-01","2021-01-01",0,0,0,0,0,0,"","",0,0,0]
[null,null,null,null,null,null,null,null,null,null,null,null,null,null,null,null,"2021-01-01","00:00:00","2021-01-01","2021-01-01","2021-01-01",0,0,0,0,0,0,"","",0,0,0]
[null,null,null,null,null,null,null,null,null,null,null,null,null,null,null,null,"2021-01-01","00:00:00","2021-01-01","2021-01-01","2021-01-01",0,0,0,0,0,0,"","",0,0,0]
[null,null,null,null,null,null,null,null,null,null,null,null,null,null,null,null,"2021-01-01","00:00:00","2021-01-01","2021-01-01","2021-01-01",0,0,0,0,0,0,"","",0,0,0]
[null,null,null,null,null,null,null,null,null,null,null,null,null,null,null,null,"2021-01-01","00:00:00","2021-01-01","2021-01-01","2021-01-01",0,0,0,0,0,0,"","",0,0,0]
[null,null,null,null,null,null,null,null,null,null,null,null,null,null,null,null,"2021-01-01","00:00:00","2021-01-01","2021-01-01","2021-01-01",0,0,0,0,0,0,"","",0,0,0]
[null,null,null,null,null,null,null,null,null,null,null,null,null,null,null,null,"2021-01-01","00:00:00","2021-01-01","2021-01-01","2021-01-01",0,0,0,0,0,0,"","",0,0,0]
[null,null,null,null,null,null,null,null,null,null,null,null,null,null,null,null,"2021-01-01","00:00:00","2021-01-01","2021-01-01","2021-01-01",0,0,0,0,0,0,"","",0,0,0]
[null,null,null,null,null,null,null,null,null,null,null,null,null,null,null,null,"2021-01-01","00:00:00","2021-01-01","2021-01-01","2021-01-01",0,0,0,0,0,0,"","",0,0,0]
[null,null,null,null,null,null,null,null,null,null,null,null,null,null,null,null,"2021-01-01","00:00:00","2021-01-01","2021-01-01","2021-01-01",0,0,0,0,0,0,"","",0,0,0]
[null,null,null,null,null,null,null,null,null,null,null,null,null,null,null,null,"2021-01-01","00:00:00","2021-01-01","2021-01-01","2021-01-01",0,0,0,0,0,0,"","",0,0,0]
[null,null,null,null,null,null,null,null,null,null,null,null,null,null,null,null,"2021-01-01","00:00:00","2021-01-01","2021-01-01","2021-01-01",0,0,0,0,0,0,"","",0,0,0]
[null,null,null,null,null,null,null,null,null,null,null,null,null,null,null,null,"2021-01-01","00:00:00","2021-01-01","2021-01-01","2021-01-01",0,0,0,0,0,0,"","",0,0,0]
[null,null,null,null,null,null,null,null,null,null,null,null,null,null,null,null,"2021-01-01","00:00:00","2021-01-01","2021-01-01","2021-01-01",0,0,0,0,0,0,"","",0,0,0]
[null,null,null,null,null,null,null,null,null,null,null,null,null,null,null,null,"2021-01-01","00:00:00","2021-01-01","2021-01-01","2021-01-01",0,0,0,0,0,0,"","",0,0,0]
[null,null,null,null,null,null,null,null,null,null,null,null,null,null,null,null,"2021-01-01","00:00:00","2021-01-01","2021-01-01","2021-01-01",0,0,0,0,0,0,"","",0,0,0]
[null,null,null,null,null,null,null,null,null,null,null,null,null,null,null,null,"2021-01-01","00:00:00","2021-01-01","2021-01-01","2021-01-01",0,0,0,0,0,0,"","",0,0,0]
[null,null,null,null,null,null,null,null,null,null,null,null,null,null,null,null,"2021-01-01","00:00:00","2021-01-01","2021-01-01","2021-01-01",0,0,0,0,0,0,"","",0,0,0]
[null,null,null,null,null,null,null,null,null,null,null,null,null,null,null,null,"2021-01-01","00:00:00","2021-01-01","2021-01-01","2021-01-01",0,0,0,0,0,0,"","",0,0,0]
[null,null,null,null,null,null,null,null,null,null,null,null,null,null,null,null,"2021-01-01","00:00:00","2021-01-01","2021-01-01","2021-01-01",0,0,0,0,0,0,"","",0,0,0]
[null,null,null,null,null,null,null,null,null,null,null,null,null,null,null,null,"2021-01-01","00:00:00","2021-01-01","2021-01-01","2021-01-01",0,0,0,0,0,0,"","",0,0,0]
[null,null,null,null,null,null,null,null,null,null,null,null,null,null,null,null,"2021-01-01","00:00:00","2021-01-01","2021-01-01","2021-01-01",0,0,0,0,0,0,"","",0,0,0]
[null,null,null,null,null,null,null,null,null,null,null,null,null,null,null,null,"2021-01-01","00:00:00","2021-01-01","2021-01-01","2021-01-01",0,0,0,0,0,0,"","",0,0,0]
[null,null,null,null,null,null,null,null,null,null,null,null,null,null,null,null,"2021-01-01","00:00:00","2021-01-01","2021-01-01","2021-01-01",0,0,0,0,0,0,"","",0,0,0]
[null,null,null,null,null,null,null,null,null,null,null,null,null,null,null,null,"2021-01-01","00:00:00","2021-01-01","2021-01-01","2021-01-01",0,0,0,0,0,0,"","",0,0,0]
[null,null,null,null,null,null,null,null,null,null,null,null,null,null,null,null,"2021-01-01","00:00:00","2021-01-01","2021-01-01","2021-01-01",0,0,0,0,0,0,"","",0,0,0]
[null,null,null,null,null,null,null,null,null,null,null,null,null,null,null,null,"2021-01-01","00:00:00","2021-01-01","2021-01-01","2021-01-01",0,0,0,0,0,0,"","",0,{"$f":"IF(OR($Q1283>$Q$1,$R1283<$Q$1),0,YEARFRAC($E1283,$Q1283,1))*12","v":0},{"$f":"IF(OR($Q1283>$R$1,$R1283<$R$1),0,YEARFRAC($E1283,$R1283,1))*12","v":0}]
[null,null,null,null,null,null,null,null,null,null,null,null,null,null,null,null,{"$f":"IF(OR(K1284<$Q$1,K1284=\"Altbestand\"),$Q$1,IF(AND(K1284=\"Nachzucht\",E1284>$Q$1),E1284,IF(K1284=\"Nachzucht\",$Q$1,K1284)))","v":"2021-01-01"},{"$f":"IF(OR(L1284>$R$1,L1284=\"Nein\"),$R$1,L1284)","v":"00:00:00"},{"$f":"IF(OR(R1284<Q1284,(E1284+183)<Q1284),Q1284,IF((E1284+183)>R1284,R1284,(E1284+183)))","v":"2021-01-01"},{"$f":"IF(OR(S1284=R1284,(E1284+365)<Q1284,R1284<Q1284),S1284,IF((E1284+365)>R1284,R1284,(E1284+365)))","v":"2021-01-01"},{"$f":"IF(OR(T1284=R1284,S1284=R1284,(E1284+365*2)<Q1284,R1284<Q1284),T1284,IF((E1284+365*2)>R1284,R1284,(E1284+365*2)))","v":"2021-01-01"},{"$f":"IF(AC1284=\"Kuh\",\"Kuh\",F1284)","v":0},{"$f":"S1284-Q1284","v":0},{"$f":"+T1284-S1284","v":0},{"$f":"+U1284-T1284","v":0},{"$f":"IF(AB1284=\"\",0,AB1284-AA1284)","v":0},{"$f":"SUM(W1284:Y1284)","v":0},{"$f":"IF(R1284<Q1284,\"\",R1284-Q1284)","v":""},{"$f":"IF(OR((ISNA(VLOOKUP(C1284,$I$3:$I$138,1,FALSE))=FALSE),AND(AD1284>1200,F1284=\"w\"),M1284=\"Ja\"),\"Kuh\",\"\")","v":""},{"$f":"IF(OR(L1284=\"Nein\",L1284=\"Ja\"),$R$1-E1284,L1284-E1284)","v":0},0,0]
[null,null,null,null,null,null,null,null,null,null,null,null,null,null,null,null,"2021-01-01","00:00:00","2021-01-01","2021-01-01","2021-01-01",0,0,0,0,0,0,"","",0,0,0]
[null,null,null,null,null,null,null,null,null,null,null,null,null,null,null,null,"2021-01-01","00:00:00","2021-01-01","2021-01-01","2021-01-01",0,0,0,0,0,0,"","",0,0,0]
[null,null,null,null,null,null,null,null,null,null,null,null,null,null,null,null,"2021-01-01","00:00:00","2021-01-01","2021-01-01","2021-01-01",0,0,0,0,0,0,"","",0,0,0]
[null,null,null,null,null,null,null,null,null,null,null,null,null,null,null,null,"2021-01-01","00:00:00","2021-01-01","2021-01-01","2021-01-01",0,0,0,0,0,0,"","",0,0,0]
[null,null,null,null,null,null,null,null,null,null,null,null,null,null,null,null,"2021-01-01","00:00:00","2021-01-01","2021-01-01","2021-01-01",0,0,0,0,0,0,"","",0,0,0]
[null,null,null,null,null,null,null,null,null,null,null,null,null,null,null,null,"2021-01-01","00:00:00","2021-01-01","2021-01-01","2021-01-01",0,0,0,0,0,0,"","",0,0,0]
[null,null,null,null,null,null,null,null,null,null,null,null,null,null,null,null,"2021-01-01","00:00:00","2021-01-01","2021-01-01","2021-01-01",0,0,0,0,0,0,"","",0,0,0]
[null,null,null,null,null,null,null,null,null,null,null,null,null,null,null,null,"2021-01-01","00:00:00","2021-01-01","2021-01-01","2021-01-01",0,0,0,0,0,0,"","",0,0,0]
[null,null,null,null,null,null,null,null,null,null,null,null,null,null,null,null,"2021-01-01","00:00:00","2021-01-01","2021-01-01","2021-01-01",0,0,0,0,0,0,"","",0,0,0]
[null,null,null,null,null,null,null,null,null,null,null,null,null,null,null,null,"2021-01-01","00:00:00","2021-01-01","2021-01-01","2021-01-01",0,0,0,0,0,0,"","",0,0,0]
[null,null,null,null,null,null,null,null,null,null,null,null,null,null,null,null,"2021-01-01","00:00:00","2021-01-01","2021-01-01","2021-01-01",0,0,0,0,0,0,"","",0,0,0]
[null,null,null,null,null,null,null,null,null,null,null,null,null,null,null,null,"2021-01-01","00:00:00","2021-01-01","2021-01-01","2021-01-01",0,0,0,0,0,0,"","",0,0,0]
[null,null,null,null,null,null,null,null,null,null,null,null,null,null,null,null,"2021-01-01","00:00:00","2021-01-01","2021-01-01","2021-01-01",0,0,0,0,0,0,"","",0,0,0]
[null,null,null,null,null,null,null,null,null,null,null,null,null,null,null,null,"2021-01-01","00:00:00","2021-01-01","2021-01-01","2021-01-01",0,0,0,0,0,0,"","",0,0,0]
[null,null,null,null,null,null,null,null,null,null,null,null,null,null,null,null,"2021-01-01","00:00:00","2021-01-01","2021-01-01","2021-01-01",0,0,0,0,0,0,"","",0,0,0]
[null,null,null,null,null,null,null,null,null,null,null,null,null,null,null,null,"2021-01-01","00:00:00","2021-01-01","2021-01-01","2021-01-01",0,0,0,0,0,0,"","",0,0,0]
[null,null,null,null,null,null,null,null,null,null,null,null,null,null,null,null,"2021-01-01","00:00:00","2021-01-01","2021-01-01","2021-01-01",0,0,0,0,0,0,"","",0,0,0]
[null,null,null,null,null,null,null,null,null,null,null,null,null,null,null,null,"2021-01-01","00:00:00","2021-01-01","2021-01-01","2021-01-01",0,0,0,0,0,0,"","",0,0,0]
[null,null,null,null,null,null,null,null,null,null,null,null,null,null,null,null,"2021-01-01","00:00:00","2021-01-01","2021-01-01","2021-01-01",0,0,0,0,0,0,"","",0,0,0]
[null,null,null,null,null,null,null,null,null,null,null,null,null,null,null,null,"2021-01-01","00:00:00","2021-01-01","2021-01-01","2021-01-01",0,0,0,0,0,0,"","",0,0,0]
[null,null,null,null,null,null,null,null,null,null,null,null,null,null,null,null,"2021-01-01","00:00:00","2021-01-01","2021-01-01","2021-01-01",0,0,0,0,0,0,"","",0,0,0]
[null,null,null,null,null,null,null,null,null,null,null,null,null,null,null,null,"2021-01-01","00:00:00","2021-01-01","2021-01-01","2021-01-01",0,0,0,0,0,0,"","",0,0,0]
[null,null,null,null,null,null,null,null,null,null,null,null,null,null,null,null,"2021-01-01","00:00:00","2021-01-01","2021-01-01","2021-01-01",0,0,0,0,0,0,"","",0,0,0]
[null,null,null,null,null,null,null,null,null,null,null,null,null,null,null,null,"2021-01-01","00:00:00","2021-01-01","2021-01-01","2021-01-01",0,0,0,0,0,0,"","",0,0,0]
[null,null,null,null,null,null,null,null,null,null,null,null,null,null,null,null,"2021-01-01","00:00:00","2021-01-01","2021-01-01","2021-01-01",0,0,0,0,0,0,"","",0,0,0]
[null,null,null,null,null,null,null,null,null,null,null,null,null,null,null,null,"2021-01-01","00:00:00","2021-01-01","2021-01-01","2021-01-01",0,0,0,0,0,0,"","",0,0,0]
[null,null,null,null,null,null,null,null,null,null,null,null,null,null,null,null,"2021-01-01","00:00:00","2021-01-01","2021-01-01","2021-01-01",0,0,0,0,0,0,"","",0,0,0]
[null,null,null,null,null,null,null,null,null,null,null,null,null,null,null,null,"2021-01-01","00:00:00","2021-01-01","2021-01-01","2021-01-01",0,0,0,0,0,0,"","",0,0,0]
[null,null,null,null,null,null,null,null,null,null,null,null,null,null,null,null,"2021-01-01","00:00:00","2021-01-01","2021-01-01","2021-01-01",0,0,0,0,0,0,"","",0,0,0]
[null,null,null,null,null,null,null,null,null,null,null,null,null,null,null,null,"2021-01-01","00:00:00","2021-01-01","2021-01-01","2021-01-01",0,0,0,0,0,0,"","",0,0,0]
[null,null,null,null,null,null,null,null,null,null,null,null,null,null,null,null,"2021-01-01","00:00:00","2021-01-01","2021-01-01","2021-01-01",0,0,0,0,0,0,"","",0,0,0]
[null,null,null,null,null,null,null,null,null,null,null,null,null,null,null,null,"2021-01-01","00:00:00","2021-01-01","2021-01-01","2021-01-01",0,0,0,0,0,0,"","",0,0,0]
[null,null,null,null,null,null,null,null,null,null,null,null,null,null,null,null,"2021-01-01","00:00:00","2021-01-01","2021-01-01","2021-01-01",0,0,0,0,0,0,"","",0,0,0]
[null,null,null,null,null,null,null,null,null,null,null,null,null,null,null,null,"2021-01-01","00:00:00","2021-01-01","2021-01-01","2021-01-01",0,0,0,0,0,0,"","",0,0,0]
[null,null,null,null,null,null,null,null,null,null,null,null,null,null,null,null,"2021-01-01","00:00:00","2021-01-01","2021-01-01","2021-01-01",0,0,0,0,0,0,"","",0,0,0]
[null,null,null,null,null,null,null,null,null,null,null,null,null,null,null,null,"2021-01-01","00:00:00","2021-01-01","2021-01-01","2021-01-01",0,0,0,0,0,0,"","",0,0,0]
[null,null,null,null,null,null,null,null,null,null,null,null,null,null,null,null,"2021-01-01","00:00:00","2021-01-01","2021-01-01","2021-01-01",0,0,0,0,0,0,"","",0,0,0]
[null,null,null,null,null,null,null,null,null,null,null,null,null,null,null,null,"2021-01-01","00:00:00","2021-01-01","2021-01-01","2021-01-01",0,0,0,0,0,0,"","",0,0,0]
[null,null,null,null,null,null,null,null,null,null,null,null,null,null,null,null,"2021-01-01","00:00:00","2021-01-01","2021-01-01","2021-01-01",0,0,0,0,0,0,"","",0,0,0]
[null,null,null,null,null,null,null,null,null,null,null,null,null,null,null,null,"2021-01-01","00:00:00","2021-01-01","2021-01-01","2021-01-01",0,0,0,0,0,0,"","",0,0,0]
[null,null,null,null,null,null,null,null,null,null,null,null,null,null,null,null,"2021-01-01","00:00:00","2021-01-01","2021-01-01","2021-01-01",0,0,0,0,0,0,"","",0,0,0]
[null,null,null,null,null,null,null,null,null,null,null,null,null,null,null,null,"2021-01-01","00:00:00","2021-01-01","2021-01-01","2021-01-01",0,0,0,0,0,0,"","",0,0,0]
[null,null,null,null,null,null,null,null,null,null,null,null,null,null,null,null,"2021-01-01","00:00:00","2021-01-01","2021-01-01","2021-01-01",0,0,0,0,0,0,"","",0,0,0]
[null,null,null,null,null,null,null,null,null,null,null,null,null,null,null,null,"2021-01-01","00:00:00","2021-01-01","2021-01-01","2021-01-01",0,0,0,0,0,0,"","",0,0,0]
[null,null,null,null,null,null,null,null,null,null,null,null,null,null,null,null,"2021-01-01","00:00:00","2021-01-01","2021-01-01","2021-01-01",0,0,0,0,0,0,"","",0,0,0]
[null,null,null,null,null,null,null,null,null,null,null,null,null,null,null,null,"2021-01-01","00:00:00","2021-01-01","2021-01-01","2021-01-01",0,0,0,0,0,0,"","",0,0,0]
[null,null,null,null,null,null,null,null,null,null,null,null,null,null,null,null,"2021-01-01","00:00:00","2021-01-01","2021-01-01","2021-01-01",0,0,0,0,0,0,"","",0,0,0]
[null,null,null,null,null,null,null,null,null,null,null,null,null,null,null,null,"2021-01-01","00:00:00","2021-01-01","2021-01-01","2021-01-01",0,0,0,0,0,0,"","",0,0,0]
[null,null,null,null,null,null,null,null,null,null,null,null,null,null,null,null,"2021-01-01","00:00:00","2021-01-01","2021-01-01","2021-01-01",0,0,0,0,0,0,"","",0,0,0]
[null,null,null,null,null,null,null,null,null,null,null,null,null,null,null,null,"2021-01-01","00:00:00","2021-01-01","2021-01-01","2021-01-01",0,0,0,0,0,0,"","",0,0,0]
[null,null,null,null,null,null,null,null,null,null,null,null,null,null,null,null,"2021-01-01","00:00:00","2021-01-01","2021-01-01","2021-01-01",0,0,0,0,0,0,"","",0,0,0]
[null,null,null,null,null,null,null,null,null,null,null,null,null,null,null,null,"2021-01-01","00:00:00","2021-01-01","2021-01-01","2021-01-01",0,0,0,0,0,0,"","",0,0,0]
[null,null,null,null,null,null,null,null,null,null,null,null,null,null,null,null,"2021-01-01","00:00:00","2021-01-01","2021-01-01","2021-01-01",0,0,0,0,0,0,"","",0,0,0]
[null,null,null,null,null,null,null,null,null,null,null,null,null,null,null,null,"2021-01-01","00:00:00","2021-01-01","2021-01-01","2021-01-01",0,0,0,0,0,0,"","",0,0,0]
[null,null,null,null,null,null,null,null,null,null,null,null,null,null,null,null,"2021-01-01","00:00:00","2021-01-01","2021-01-01","2021-01-01",0,0,0,0,0,0,"","",0,0,0]
[null,null,null,null,null,null,null,null,null,null,null,null,null,null,null,null,"2021-01-01","00:00:00","2021-01-01","2021-01-01","2021-01-01",0,0,0,0,0,0,"","",0,0,0]
[null,null,null,null,null,null,null,null,null,null,null,null,null,null,null,null,"2021-01-01","00:00:00","2021-01-01","2021-01-01","2021-01-01",0,0,0,0,0,0,"","",0,0,0]
[null,null,null,null,null,null,null,null,null,null,null,null,null,null,null,null,"2021-01-01","00:00:00","2021-01-01","2021-01-01","2021-01-01",0,0,0,0,0,0,"","",0,0,0]
[null,null,null,null,null,null,null,null,null,null,null,null,null,null,null,null,"2021-01-01","00:00:00","2021-01-01","2021-01-01","2021-01-01",0,0,0,0,0,0,"","",0,0,0]
[null,null,null,null,null,null,null,null,null,null,null,null,null,null,null,null,"2021-01-01","00:00:00","2021-01-01","2021-01-01","2021-01-01",0,0,0,0,0,0,"","",0,0,0]
[null,null,null,null,null,null,null,null,null,null,null,null,null,null,null,null,"2021-01-01","00:00:00","2021-01-01","2021-01-01","2021-01-01",0,0,0,0,0,0,"","",0,0,0]
[null,null,null,null,null,null,null,null,null,null,null,null,null,null,null,null,"2021-01-01","00:00:00","2021-01-01","2021-01-01","2021-01-01",0,0,0,0,0,0,"","",0,0,0]
[null,null,null,null,null,null,null,null,null,null,null,null,null,null,null,null,"2021-01-01","00:00:00","2021-01-01","2021-01-01","2021-01-01",0,0,0,0,0,0,"","",0,{"$f":"IF(OR($Q1347>$Q$1,$R1347<$Q$1),0,YEARFRAC($E1347,$Q1347,1))*12","v":0},{"$f":"IF(OR($Q1347>$R$1,$R1347<$R$1),0,YEARFRAC($E1347,$R1347,1))*12","v":0}]
[null,null,null,null,null,null,null,null,null,null,null,null,null,null,null,null,{"$f":"IF(OR(K1348<$Q$1,K1348=\"Altbestand\"),$Q$1,IF(AND(K1348=\"Nachzucht\",E1348>$Q$1),E1348,IF(K1348=\"Nachzucht\",$Q$1,K1348)))","v":"2021-01-01"},{"$f":"IF(OR(L1348>$R$1,L1348=\"Nein\"),$R$1,L1348)","v":"00:00:00"},{"$f":"IF(OR(R1348<Q1348,(E1348+183)<Q1348),Q1348,IF((E1348+183)>R1348,R1348,(E1348+183)))","v":"2021-01-01"},{"$f":"IF(OR(S1348=R1348,(E1348+365)<Q1348,R1348<Q1348),S1348,IF((E1348+365)>R1348,R1348,(E1348+365)))","v":"2021-01-01"},{"$f":"IF(OR(T1348=R1348,S1348=R1348,(E1348+365*2)<Q1348,R1348<Q1348),T1348,IF((E1348+365*2)>R1348,R1348,(E1348+365*2)))","v":"2021-01-01"},{"$f":"IF(AC1348=\"Kuh\",\"Kuh\",F1348)","v":0},{"$f":"S1348-Q1348","v":0},{"$f":"+T1348-S1348","v":0},{"$f":"+U1348-T1348","v":0},{"$f":"IF(AB1348=\"\",0,AB1348-AA1348)","v":0},{"$f":"SUM(W1348:Y1348)","v":0},{"$f":"IF(R1348<Q1348,\"\",R1348-Q1348)","v":""},{"$f":"IF(OR((ISNA(VLOOKUP(C1348,$I$3:$I$138,1,FALSE))=FALSE),AND(AD1348>1200,F1348=\"w\"),M1348=\"Ja\"),\"Kuh\",\"\")","v":""},{"$f":"IF(OR(L1348=\"Nein\",L1348=\"Ja\"),$R$1-E1348,L1348-E1348)","v":0},0,0]
[null,null,null,null,null,null,null,null,null,null,null,null,null,null,null,null,"2021-01-01","00:00:00","2021-01-01","2021-01-01","2021-01-01",0,0,0,0,0,0,"","",0,0,0]
[null,null,null,null,null,null,null,null,null,null,null,null,null,null,null,null,"2021-01-01","00:00:00","2021-01-01","2021-01-01","2021-01-01",0,0,0,0,0,0,"","",0,0,0]
[null,null,null,null,null,null,null,null,null,null,null,null,null,null,null,null,"2021-01-01","00:00:00","2021-01-01","2021-01-01","2021-01-01",0,0,0,0,0,0,"","",0,0,0]
[null,null,null,null,null,null,null,null,null,null,null,null,null,null,null,null,"2021-01-01","00:00:00","2021-01-01","2021-01-01","2021-01-01",0,0,0,0,0,0,"","",0,0,0]
[null,null,null,null,null,null,null,null,null,null,null,null,null,null,null,null,"2021-01-01","00:00:00","2021-01-01","2021-01-01","2021-01-01",0,0,0,0,0,0,"","",0,0,0]
[null,null,null,null,null,null,null,null,null,null,null,null,null,null,null,null,"2021-01-01","00:00:00","2021-01-01","2021-01-01","2021-01-01",0,0,0,0,0,0,"","",0,0,0]
[null,null,null,null,null,null,null,null,null,null,null,null,null,null,null,null,"2021-01-01","00:00:00","2021-01-01","2021-01-01","2021-01-01",0,0,0,0,0,0,"","",0,0,0]
[null,null,null,null,null,null,null,null,null,null,null,null,null,null,null,null,"2021-01-01","00:00:00","2021-01-01","2021-01-01","2021-01-01",0,0,0,0,0,0,"","",0,0,0]
[null,null,null,null,null,null,null,null,null,null,null,null,null,null,null,null,"2021-01-01","00:00:00","2021-01-01","2021-01-01","2021-01-01",0,0,0,0,0,0,"","",0,0,0]
[null,null,null,null,null,null,null,null,null,null,null,null,null,null,null,null,"2021-01-01","00:00:00","2021-01-01","2021-01-01","2021-01-01",0,0,0,0,0,0,"","",0,0,0]
[null,null,null,null,null,null,null,null,null,null,null,null,null,null,null,null,"2021-01-01","00:00:00","2021-01-01","2021-01-01","2021-01-01",0,0,0,0,0,0,"","",0,0,0]
[null,null,null,null,null,null,null,null,null,null,null,null,null,null,null,null,"2021-01-01","00:00:00","2021-01-01","2021-01-01","2021-01-01",0,0,0,0,0,0,"","",0,0,0]
[null,null,null,null,null,null,null,null,null,null,null,null,null,null,null,null,"2021-01-01","00:00:00","2021-01-01","2021-01-01","2021-01-01",0,0,0,0,0,0,"","",0,0,0]
[null,null,null,null,null,null,null,null,null,null,null,null,null,null,null,null,"2021-01-01","00:00:00","2021-01-01","2021-01-01","2021-01-01",0,0,0,0,0,0,"","",0,0,0]
[null,null,null,null,null,null,null,null,null,null,null,null,null,null,null,null,"2021-01-01","00:00:00","2021-01-01","2021-01-01","2021-01-01",0,0,0,0,0,0,"","",0,0,0]
[null,null,null,null,null,null,null,null,null,null,null,null,null,null,null,null,"2021-01-01","00:00:00","2021-01-01","2021-01-01","2021-01-01",0,0,0,0,0,0,"","",0,0,0]
[null,null,null,null,null,null,null,null,null,null,null,null,null,null,null,null,"2021-01-01","00:00:00","2021-01-01","2021-01-01","2021-01-01",0,0,0,0,0,0,"","",0,0,0]
[null,null,null,null,null,null,null,null,null,null,null,null,null,null,null,null,"2021-01-01","00:00:00","2021-01-01","2021-01-01","2021-01-01",0,0,0,0,0,0,"","",0,0,0]
[null,null,null,null,null,null,null,null,null,null,null,null,null,null,null,null,"2021-01-01","00:00:00","2021-01-01","2021-01-01","2021-01-01",0,0,0,0,0,0,"","",0,0,0]
[null,null,null,null,null,null,null,null,null,null,null,null,null,null,null,null,"2021-01-01","00:00:00","2021-01-01","2021-01-01","2021-01-01",0,0,0,0,0,0,"","",0,0,0]
[null,null,null,null,null,null,null,null,null,null,null,null,null,null,null,null,"2021-01-01","00:00:00","2021-01-01","2021-01-01","2021-01-01",0,0,0,0,0,0,"","",0,0,0]
[null,null,null,null,null,null,null,null,null,null,null,null,null,null,null,null,"2021-01-01","00:00:00","2021-01-01","2021-01-01","2021-01-01",0,0,0,0,0,0,"","",0,0,0]
[null,null,null,null,null,null,null,null,null,null,null,null,null,null,null,null,"2021-01-01","00:00:00","2021-01-01","2021-01-01","2021-01-01",0,0,0,0,0,0,"","",0,0,0]
[null,null,null,null,null,null,null,null,null,null,null,null,null,null,null,null,"2021-01-01","00:00:00","2021-01-01","2021-01-01","2021-01-01",0,0,0,0,0,0,"","",0,0,0]
[null,null,null,null,null,null,null,null,null,null,null,null,null,null,null,null,"2021-01-01","00:00:00","2021-01-01","2021-01-01","2021-01-01",0,0,0,0,0,0,"","",0,0,0]
[null,null,null,null,null,null,null,null,null,null,null,null,null,null,null,null,"2021-01-01","00:00:00","2021-01-01","2021-01-01","2021-01-01",0,0,0,0,0,0,"","",0,0,0]
[null,null,null,null,null,null,null,null,null,null,null,null,null,null,null,null,"2021-01-01","00:00:00","2021-01-01","2021-01-01","2021-01-01",0,0,0,0,0,0,"","",0,0,0]
[null,null,null,null,null,null,null,null,null,null,null,null,null,null,null,null,"2021-01-01","00:00:00","2021-01-01","2021-01-01","2021-01-01",0,0,0,0,0,0,"","",0,0,0]
[null,null,null,null,null,null,null,null,null,null,null,null,null,null,null,null,"2021-01-01","00:00:00","2021-01-01","2021-01-01","2021-01-01",0,0,0,0,0,0,"","",0,0,0]
[null,null,null,null,null,null,null,null,null,null,null,null,null,null,null,null,"2021-01-01","00:00:00","2021-01-01","2021-01-01","2021-01-01",0,0,0,0,0,0,"","",0,0,0]
[null,null,null,null,null,null,null,null,null,null,null,null,null,null,null,null,"2021-01-01","00:00:00","2021-01-01","2021-01-01","2021-01-01",0,0,0,0,0,0,"","",0,0,0]
[null,null,null,null,null,null,null,null,null,null,null,null,null,null,null,null,"2021-01-01","00:00:00","2021-01-01","2021-01-01","2021-01-01",0,0,0,0,0,0,"","",0,0,0]
[null,null,null,null,null,null,null,null,null,null,null,null,null,null,null,null,"2021-01-01","00:00:00","2021-01-01","2021-01-01","2021-01-01",0,0,0,0,0,0,"","",0,0,0]
[null,null,null,null,null,null,null,null,null,null,null,null,null,null,null,null,"2021-01-01","00:00:00","2021-01-01","2021-01-01","2021-01-01",0,0,0,0,0,0,"","",0,0,0]
[null,null,null,null,null,null,null,null,null,null,null,null,null,null,null,null,"2021-01-01","00:00:00","2021-01-01","2021-01-01","2021-01-01",0,0,0,0,0,0,"","",0,0,0]
[null,null,null,null,null,null,null,null,null,null,null,null,null,null,null,null,"2021-01-01","00:00:00","2021-01-01","2021-01-01","2021-01-01",0,0,0,0,0,0,"","",0,0,0]
[null,null,null,null,null,null,null,null,null,null,null,null,null,null,null,null,"2021-01-01","00:00:00","2021-01-01","2021-01-01","2021-01-01",0,0,0,0,0,0,"","",0,0,0]
[null,null,null,null,null,null,null,null,null,null,null,null,null,null,null,null,"2021-01-01","00:00:00","2021-01-01","2021-01-01","2021-01-01",0,0,0,0,0,0,"","",0,0,0]
[null,null,null,null,null,null,null,null,null,null,null,null,null,null,null,null,"2021-01-01","00:00:00","2021-01-01","2021-01-01","2021-01-01",0,0,0,0,0,0,"","",0,0,0]
[null,null,null,null,null,null,null,null,null,null,null,null,null,null,null,null,"2021-01-01","00:00:00","2021-01-01","2021-01-01","2021-01-01",0,0,0,0,0,0,"","",0,0,0]
[null,null,null,null,null,null,null,null,null,null,null,null,null,null,null,null,"2021-01-01","00:00:00","2021-01-01","2021-01-01","2021-01-01",0,0,0,0,0,0,"","",0,0,0]
[null,null,null,null,null,null,null,null,null,null,null,null,null,null,null,null,"2021-01-01","00:00:00","2021-01-01","2021-01-01","2021-01-01",0,0,0,0,0,0,"","",0,0,0]
[null,null,null,null,null,null,null,null,null,null,null,null,null,null,null,null,"2021-01-01","00:00:00","2021-01-01","2021-01-01","2021-01-01",0,0,0,0,0,0,"","",0,0,0]
[null,null,null,null,null,null,null,null,null,null,null,null,null,null,null,null,"2021-01-01","00:00:00","2021-01-01","2021-01-01","2021-01-01",0,0,0,0,0,0,"","",0,0,0]
[null,null,null,null,null,null,null,null,null,null,null,null,null,null,null,null,"2021-01-01","00:00:00","2021-01-01","2021-01-01","2021-01-01",0,0,0,0,0,0,"","",0,0,0]
[null,null,null,null,null,null,null,null,null,null,null,null,null,null,null,null,"2021-01-01","00:00:00","2021-01-01","2021-01-01","2021-01-01",0,0,0,0,0,0,"","",0,0,0]
[null,null,null,null,null,null,null,null,null,null,null,null,null,null,null,null,"2021-01-01","00:00:00","2021-01-01","2021-01-01","2021-01-01",0,0,0,0,0,0,"","",0,0,0]
[null,null,null,null,null,null,null,null,null,null,null,null,null,null,null,null,"2021-01-01","00:00:00","2021-01-01","2021-01-01","2021-01-01",0,0,0,0,0,0,"","",0,0,0]
[null,null,null,null,null,null,null,null,null,null,null,null,null,null,null,null,"2021-01-01","00:00:00","2021-01-01","2021-01-01","2021-01-01",0,0,0,0,0,0,"","",0,0,0]
[null,null,null,null,null,null,null,null,null,null,null,null,null,null,null,null,"2021-01-01","00:00:00","2021-01-01","2021-01-01","2021-01-01",0,0,0,0,0,0,"","",0,0,0]
[null,null,null,null,null,null,null,null,null,null,null,null,null,null,null,null,"2021-01-01","00:00:00","2021-01-01","2021-01-01","2021-01-01",0,0,0,0,0,0,"","",0,0,0]
[null,null,null,null,null,null,null,null,null,null,null,null,null,null,null,null,"2021-01-01","00:00:00","2021-01-01","2021-01-01","2021-01-01",0,0,0,0,0,0,"","",0,0,0]
[null,null,null,null,null,null,null,null,null,null,null,null,null,null,null,null,"2021-01-01","00:00:00","2021-01-01","2021-01-01","2021-01-01",0,0,0,0,0,0,"","",0,0,0]
[null,null,null,null,null,null,null,null,null,null,null,null,null,null,null,null,"2021-01-01","00:00:00","2021-01-01","2021-01-01","2021-01-01",0,0,0,0,0,0,"","",0,0,0]
[null,null,null,null,null,null,null,null,null,null,null,null,null,null,null,null,"2021-01-01","00:00:00","2021-01-01","2021-01-01","2021-01-01",0,0,0,0,0,0,"","",0,0,0]
[null,null,null,null,null,null,null,null,null,null,null,null,null,null,null,null,"2021-01-01","00:00:00","2021-01-01","2021-01-01","2021-01-01",0,0,0,0,0,0,"","",0,0,0]
[null,null,null,null,null,null,null,null,null,null,null,null,null,null,null,null,"2021-01-01","00:00:00","2021-01-01","2021-01-01","2021-01-01",0,0,0,0,0,0,"","",0,0,0]
[null,null,null,null,null,null,null,null,null,null,null,null,null,null,null,null,"2021-01-01","00:00:00","2021-01-01","2021-01-01","2021-01-01",0,0,0,0,0,0,"","",0,0,0]
[null,null,null,null,null,null,null,null,null,null,null,null,null,null,null,null,"2021-01-01","00:00:00","2021-01-01","2021-01-01","2021-01-01",0,0,0,0,0,0,"","",0,0,0]
[null,null,null,null,null,null,null,null,null,null,null,null,null,null,null,null,"2021-01-01","00:00:00","2021-01-01","2021-01-01","2021-01-01",0,0,0,0,0,0,"","",0,0,0]
[null,null,null,null,null,null,null,null,null,null,null,null,null,null,null,null,"2021-01-01","00:00:00","2021-01-01","2021-01-01","2021-01-01",0,0,0,0,0,0,"","",0,0,0]
[null,null,null,null,null,null,null,null,null,null,null,null,null,null,null,null,"2021-01-01","00:00:00","2021-01-01","2021-01-01","2021-01-01",0,0,0,0,0,0,"","",0,0,0]
[null,null,null,null,null,null,null,null,null,null,null,null,null,null,null,null,"2021-01-01","00:00:00","2021-01-01","2021-01-01","2021-01-01",0,0,0,0,0,0,"","",0,{"$f":"IF(OR($Q1411>$Q$1,$R1411<$Q$1),0,YEARFRAC($E1411,$Q1411,1))*12","v":0},{"$f":"IF(OR($Q1411>$R$1,$R1411<$R$1),0,YEARFRAC($E1411,$R1411,1))*12","v":0}]
[null,null,null,null,null,null,null,null,null,null,null,null,null,null,null,null,{"$f":"IF(OR(K1412<$Q$1,K1412=\"Altbestand\"),$Q$1,IF(AND(K1412=\"Nachzucht\",E1412>$Q$1),E1412,IF(K1412=\"Nachzucht\",$Q$1,K1412)))","v":"2021-01-01"},{"$f":"IF(OR(L1412>$R$1,L1412=\"Nein\"),$R$1,L1412)","v":"00:00:00"},{"$f":"IF(OR(R1412<Q1412,(E1412+183)<Q1412),Q1412,IF((E1412+183)>R1412,R1412,(E1412+183)))","v":"2021-01-01"},{"$f":"IF(OR(S1412=R1412,(E1412+365)<Q1412,R1412<Q1412),S1412,IF((E1412+365)>R1412,R1412,(E1412+365)))","v":"2021-01-01"},{"$f":"IF(OR(T1412=R1412,S1412=R1412,(E1412+365*2)<Q1412,R1412<Q1412),T1412,IF((E1412+365*2)>R1412,R1412,(E1412+365*2)))","v":"2021-01-01"},{"$f":"IF(AC1412=\"Kuh\",\"Kuh\",F1412)","v":0},{"$f":"S1412-Q1412","v":0},{"$f":"+T1412-S1412","v":0},{"$f":"+U1412-T1412","v":0},{"$f":"IF(AB1412=\"\",0,AB1412-AA1412)","v":0},{"$f":"SUM(W1412:Y1412)","v":0},{"$f":"IF(R1412<Q1412,\"\",R1412-Q1412)","v":""},{"$f":"IF(OR((ISNA(VLOOKUP(C1412,$I$3:$I$138,1,FALSE))=FALSE),AND(AD1412>1200,F1412=\"w\"),M1412=\"Ja\"),\"Kuh\",\"\")","v":""},{"$f":"IF(OR(L1412=\"Nein\",L1412=\"Ja\"),$R$1-E1412,L1412-E1412)","v":0},0,0]
[null,null,null,null,null,null,null,null,null,null,null,null,null,null,null,null,"2021-01-01","00:00:00","2021-01-01","2021-01-01","2021-01-01",0,0,0,0,0,0,"","",0,0,0]
[null,null,null,null,null,null,null,null,null,null,null,null,null,null,null,null,"2021-01-01","00:00:00","2021-01-01","2021-01-01","2021-01-01",0,0,0,0,0,0,"","",0,0,0]
[null,null,null,null,null,null,null,null,null,null,null,null,null,null,null,null,"2021-01-01","00:00:00","2021-01-01","2021-01-01","2021-01-01",0,0,0,0,0,0,"","",0,0,0]
[null,null,null,null,null,null,null,null,null,null,null,null,null,null,null,null,"2021-01-01","00:00:00","2021-01-01","2021-01-01","2021-01-01",0,0,0,0,0,0,"","",0,0,0]
[null,null,null,null,null,null,null,null,null,null,null,null,null,null,null,null,"2021-01-01","00:00:00","2021-01-01","2021-01-01","2021-01-01",0,0,0,0,0,0,"","",0,0,0]
[null,null,null,null,null,null,null,null,null,null,null,null,null,null,null,null,"2021-01-01","00:00:00","2021-01-01","2021-01-01","2021-01-01",0,0,0,0,0,0,"","",0,0,0]
[null,null,null,null,null,null,null,null,null,null,null,null,null,null,null,null,"2021-01-01","00:00:00","2021-01-01","2021-01-01","2021-01-01",0,0,0,0,0,0,"","",0,0,0]
[null,null,null,null,null,null,null,null,null,null,null,null,null,null,null,null,"2021-01-01","00:00:00","2021-01-01","2021-01-01","2021-01-01",0,0,0,0,0,0,"","",0,0,0]
[null,null,null,null,null,null,null,null,null,null,null,null,null,null,null,null,"2021-01-01","00:00:00","2021-01-01","2021-01-01","2021-01-01",0,0,0,0,0,0,"","",0,0,0]
[null,null,null,null,null,null,null,null,null,null,null,null,null,null,null,null,"2021-01-01","00:00:00","2021-01-01","2021-01-01","2021-01-01",0,0,0,0,0,0,"","",0,0,0]
[null,null,null,null,null,null,null,null,null,null,null,null,null,null,null,null,"2021-01-01","00:00:00","2021-01-01","2021-01-01","2021-01-01",0,0,0,0,0,0,"","",0,0,0]
[null,null,null,null,null,null,null,null,null,null,null,null,null,null,null,null,"2021-01-01","00:00:00","2021-01-01","2021-01-01","2021-01-01",0,0,0,0,0,0,"","",0,0,0]
[null,null,null,null,null,null,null,null,null,null,null,null,null,null,null,null,"2021-01-01","00:00:00","2021-01-01","2021-01-01","2021-01-01",0,0,0,0,0,0,"","",0,0,0]
[null,null,null,null,null,null,null,null,null,null,null,null,null,null,null,null,"2021-01-01","00:00:00","2021-01-01","2021-01-01","2021-01-01",0,0,0,0,0,0,"","",0,0,0]
[null,null,null,null,null,null,null,null,null,null,null,null,null,null,null,null,"2021-01-01","00:00:00","2021-01-01","2021-01-01","2021-01-01",0,0,0,0,0,0,"","",0,0,0]
[null,null,null,null,null,null,null,null,null,null,null,null,null,null,null,null,"2021-01-01","00:00:00","2021-01-01","2021-01-01","2021-01-01",0,0,0,0,0,0,"","",0,0,0]
[null,null,null,null,null,null,null,null,null,null,null,null,null,null,null,null,"2021-01-01","00:00:00","2021-01-01","2021-01-01","2021-01-01",0,0,0,0,0,0,"","",0,0,0]
[null,null,null,null,null,null,null,null,null,null,null,null,null,null,null,null,"2021-01-01","00:00:00","2021-01-01","2021-01-01","2021-01-01",0,0,0,0,0,0,"","",0,0,0]
[null,null,null,null,null,null,null,null,null,null,null,null,null,null,null,null,"2021-01-01","00:00:00","2021-01-01","2021-01-01","2021-01-01",0,0,0,0,0,0,"","",0,0,0]
[null,null,null,null,null,null,null,null,null,null,null,null,null,null,null,null,"2021-01-01","00:00:00","2021-01-01","2021-01-01","2021-01-01",0,0,0,0,0,0,"","",0,0,0]
[null,null,null,null,null,null,null,null,null,null,null,null,null,null,null,null,"2021-01-01","00:00:00","2021-01-01","2021-01-01","2021-01-01",0,0,0,0,0,0,"","",0,0,0]
[null,null,null,null,null,null,null,null,null,null,null,null,null,null,null,null,"2021-01-01","00:00:00","2021-01-01","2021-01-01","2021-01-01",0,0,0,0,0,0,"","",0,0,0]
[null,null,null,null,null,null,null,null,null,null,null,null,null,null,null,null,"2021-01-01","00:00:00","2021-01-01","2021-01-01","2021-01-01",0,0,0,0,0,0,"","",0,0,0]
[null,null,null,null,null,null,null,null,null,null,null,null,null,null,null,null,"2021-01-01","00:00:00","2021-01-01","2021-01-01","2021-01-01",0,0,0,0,0,0,"","",0,0,0]
[null,null,null,null,null,null,null,null,null,null,null,null,null,null,null,null,"2021-01-01","00:00:00","2021-01-01","2021-01-01","2021-01-01",0,0,0,0,0,0,"","",0,0,0]
[null,null,null,null,null,null,null,null,null,null,null,null,null,null,null,null,"2021-01-01","00:00:00","2021-01-01","2021-01-01","2021-01-01",0,0,0,0,0,0,"","",0,0,0]
[null,null,null,null,null,null,null,null,null,null,null,null,null,null,null,null,"2021-01-01","00:00:00","2021-01-01","2021-01-01","2021-01-01",0,0,0,0,0,0,"","",0,0,0]
[null,null,null,null,null,null,null,null,null,null,null,null,null,null,null,null,"2021-01-01","00:00:00","2021-01-01","2021-01-01","2021-01-01",0,0,0,0,0,0,"","",0,0,0]
[null,null,null,null,null,null,null,null,null,null,null,null,null,null,null,null,"2021-01-01","00:00:00","2021-01-01","2021-01-01","2021-01-01",0,0,0,0,0,0,"","",0,0,0]
[null,null,null,null,null,null,null,null,null,null,null,null,null,null,null,null,"2021-01-01","00:00:00","2021-01-01","2021-01-01","2021-01-01",0,0,0,0,0,0,"","",0,0,0]
[null,null,null,null,null,null,null,null,null,null,null,null,null,null,null,null,"2021-01-01","00:00:00","2021-01-01","2021-01-01","2021-01-01",0,0,0,0,0,0,"","",0,0,0]
[null,null,null,null,null,null,null,null,null,null,null,null,null,null,null,null,"2021-01-01","00:00:00","2021-01-01","2021-01-01","2021-01-01",0,0,0,0,0,0,"","",0,0,0]
[null,null,null,null,null,null,null,null,null,null,null,null,null,null,null,null,"2021-01-01","00:00:00","2021-01-01","2021-01-01","2021-01-01",0,0,0,0,0,0,"","",0,0,0]
[null,null,null,null,null,null,null,null,null,null,null,null,null,null,null,null,"2021-01-01","00:00:00","2021-01-01","2021-01-01","2021-01-01",0,0,0,0,0,0,"","",0,0,0]
[null,null,null,null,null,null,null,null,null,null,null,null,null,null,null,null,"2021-01-01","00:00:00","2021-01-01","2021-01-01","2021-01-01",0,0,0,0,0,0,"","",0,0,0]
[null,null,null,null,null,null,null,null,null,null,null,null,null,null,null,null,"2021-01-01","00:00:00","2021-01-01","2021-01-01","2021-01-01",0,0,0,0,0,0,"","",0,0,0]
[null,null,null,null,null,null,null,null,null,null,null,null,null,null,null,null,"2021-01-01","00:00:00","2021-01-01","2021-01-01","2021-01-01",0,0,0,0,0,0,"","",0,0,0]
[null,null,null,null,null,null,null,null,null,null,null,null,null,null,null,null,"2021-01-01","00:00:00","2021-01-01","2021-01-01","2021-01-01",0,0,0,0,0,0,"","",0,0,0]
[null,null,null,null,null,null,null,null,null,null,null,null,null,null,null,null,"2021-01-01","00:00:00","2021-01-01","2021-01-01","2021-01-01",0,0,0,0,0,0,"","",0,0,0]
[null,null,null,null,null,null,null,null,null,null,null,null,null,null,null,null,"2021-01-01","00:00:00","2021-01-01","2021-01-01","2021-01-01",0,0,0,0,0,0,"","",0,0,0]
[null,null,null,null,null,null,null,null,null,null,null,null,null,null,null,null,"2021-01-01","00:00:00","2021-01-01","2021-01-01","2021-01-01",0,0,0,0,0,0,"","",0,0,0]
[null,null,null,null,null,null,null,null,null,null,null,null,null,null,null,null,"2021-01-01","00:00:00","2021-01-01","2021-01-01","2021-01-01",0,0,0,0,0,0,"","",0,0,0]
[null,null,null,null,null,null,null,null,null,null,null,null,null,null,null,null,"2021-01-01","00:00:00","2021-01-01","2021-01-01","2021-01-01",0,0,0,0,0,0,"","",0,0,0]
[null,null,null,null,null,null,null,null,null,null,null,null,null,null,null,null,"2021-01-01","00:00:00","2021-01-01","2021-01-01","2021-01-01",0,0,0,0,0,0,"","",0,0,0]
[null,null,null,null,null,null,null,null,null,null,null,null,null,null,null,null,"2021-01-01","00:00:00","2021-01-01","2021-01-01","2021-01-01",0,0,0,0,0,0,"","",0,0,0]
[null,null,null,null,null,null,null,null,null,null,null,null,null,null,null,null,"2021-01-01","00:00:00","2021-01-01","2021-01-01","2021-01-01",0,0,0,0,0,0,"","",0,0,0]
[null,null,null,null,null,null,null,null,null,null,null,null,null,null,null,null,"2021-01-01","00:00:00","2021-01-01","2021-01-01","2021-01-01",0,0,0,0,0,0,"","",0,0,0]
[null,null,null,null,null,null,null,null,null,null,null,null,null,null,null,null,"2021-01-01","00:00:00","2021-01-01","2021-01-01","2021-01-01",0,0,0,0,0,0,"","",0,0,0]
[null,null,null,null,null,null,null,null,null,null,null,null,null,null,null,null,"2021-01-01","00:00:00","2021-01-01","2021-01-01","2021-01-01",0,0,0,0,0,0,"","",0,0,0]
[null,null,null,null,null,null,null,null,null,null,null,null,null,null,null,null,"2021-01-01","00:00:00","2021-01-01","2021-01-01","2021-01-01",0,0,0,0,0,0,"","",0,0,0]
[null,null,null,null,null,null,null,null,null,null,null,null,null,null,null,null,"2021-01-01","00:00:00","2021-01-01","2021-01-01","2021-01-01",0,0,0,0,0,0,"","",0,0,0]
[null,null,null,null,null,null,null,null,null,null,null,null,null,null,null,null,"2021-01-01","00:00:00","2021-01-01","2021-01-01","2021-01-01",0,0,0,0,0,0,"","",0,0,0]
[null,null,null,null,null,null,null,null,null,null,null,null,null,null,null,null,"2021-01-01","00:00:00","2021-01-01","2021-01-01","2021-01-01",0,0,0,0,0,0,"","",0,0,0]
[null,null,null,null,null,null,null,null,null,null,null,null,null,null,null,null,"2021-01-01","00:00:00","2021-01-01","2021-01-01","2021-01-01",0,0,0,0,0,0,"","",0,0,0]
[null,null,null,null,null,null,null,null,null,null,null,null,null,null,null,null,"2021-01-01","00:00:00","2021-01-01","2021-01-01","2021-01-01",0,0,0,0,0,0,"","",0,0,0]
[null,null,null,null,null,null,null,null,null,null,null,null,null,null,null,null,"2021-01-01","00:00:00","2021-01-01","2021-01-01","2021-01-01",0,0,0,0,0,0,"","",0,0,0]
[null,null,null,null,null,null,null,null,null,null,null,null,null,null,null,null,"2021-01-01","00:00:00","2021-01-01","2021-01-01","2021-01-01",0,0,0,0,0,0,"","",0,0,0]
[null,null,null,null,null,null,null,null,null,null,null,null,null,null,null,null,"2021-01-01","00:00:00","2021-01-01","2021-01-01","2021-01-01",0,0,0,0,0,0,"","",0,0,0]
[null,null,null,null,null,null,null,null,null,null,null,null,null,null,null,null,"2021-01-01","00:00:00","2021-01-01","2021-01-01","2021-01-01",0,0,0,0,0,0,"","",0,0,0]
[null,null,null,null,null,null,null,null,null,null,null,null,null,null,null,null,"2021-01-01","00:00:00","2021-01-01","2021-01-01","2021-01-01",0,0,0,0,0,0,"","",0,0,0]
[null,null,null,null,null,null,null,null,null,null,null,null,null,null,null,null,"2021-01-01","00:00:00","2021-01-01","2021-01-01","2021-01-01",0,0,0,0,0,0,"","",0,0,0]
[null,null,null,null,null,null,null,null,null,null,null,null,null,null,null,null,"2021-01-01","00:00:00","2021-01-01","2021-01-01","2021-01-01",0,0,0,0,0,0,"","",0,0,0]
[null,null,null,null,null,null,null,null,null,null,null,null,null,null,null,null,"2021-01-01","00:00:00","2021-01-01","2021-01-01","2021-01-01",0,0,0,0,0,0,"","",0,{"$f":"IF(OR($Q1475>$Q$1,$R1475<$Q$1),0,YEARFRAC($E1475,$Q1475,1))*12","v":0},{"$f":"IF(OR($Q1475>$R$1,$R1475<$R$1),0,YEARFRAC($E1475,$R1475,1))*12","v":0}]
[null,null,null,null,null,null,null,null,null,null,null,null,null,null,null,null,{"$f":"IF(OR(K1476<$Q$1,K1476=\"Altbestand\"),$Q$1,IF(AND(K1476=\"Nachzucht\",E1476>$Q$1),E1476,IF(K1476=\"Nachzucht\",$Q$1,K1476)))","v":"2021-01-01"},{"$f":"IF(OR(L1476>$R$1,L1476=\"Nein\"),$R$1,L1476)","v":"00:00:00"},{"$f":"IF(OR(R1476<Q1476,(E1476+183)<Q1476),Q1476,IF((E1476+183)>R1476,R1476,(E1476+183)))","v":"2021-01-01"},{"$f":"IF(OR(S1476=R1476,(E1476+365)<Q1476,R1476<Q1476),S1476,IF((E1476+365)>R1476,R1476,(E1476+365)))","v":"2021-01-01"},{"$f":"IF(OR(T1476=R1476,S1476=R1476,(E1476+365*2)<Q1476,R1476<Q1476),T1476,IF((E1476+365*2)>R1476,R1476,(E1476+365*2)))","v":"2021-01-01"},{"$f":"IF(AC1476=\"Kuh\",\"Kuh\",F1476)","v":0},{"$f":"S1476-Q1476","v":0},{"$f":"+T1476-S1476","v":0},{"$f":"+U1476-T1476","v":0},{"$f":"IF(AB1476=\"\",0,AB1476-AA1476)","v":0},{"$f":"SUM(W1476:Y1476)","v":0},{"$f":"IF(R1476<Q1476,\"\",R1476-Q1476)","v":""},{"$f":"IF(OR((ISNA(VLOOKUP(C1476,$I$3:$I$138,1,FALSE))=FALSE),AND(AD1476>1200,F1476=\"w\"),M1476=\"Ja\"),\"Kuh\",\"\")","v":""},{"$f":"IF(OR(L1476=\"Nein\",L1476=\"Ja\"),$R$1-E1476,L1476-E1476)","v":0},0,0]
[null,null,null,null,null,null,null,null,null,null,null,null,null,null,null,null,"2021-01-01","00:00:00","2021-01-01","2021-01-01","2021-01-01",0,0,0,0,0,0,"","",0,0,0]
[null,null,null,null,null,null,null,null,null,null,null,null,null,null,null,null,"2021-01-01","00:00:00","2021-01-01","2021-01-01","2021-01-01",0,0,0,0,0,0,"","",0,0,0]
[null,null,null,null,null,null,null,null,null,null,null,null,null,null,null,null,"2021-01-01","00:00:00","2021-01-01","2021-01-01","2021-01-01",0,0,0,0,0,0,"","",0,0,0]
[null,null,null,null,null,null,null,null,null,null,null,null,null,null,null,null,"2021-01-01","00:00:00","2021-01-01","2021-01-01","2021-01-01",0,0,0,0,0,0,"","",0,0,0]
[null,null,null,null,null,null,null,null,null,null,null,null,null,null,null,null,"2021-01-01","00:00:00","2021-01-01","2021-01-01","2021-01-01",0,0,0,0,0,0,"","",0,0,0]
[null,null,null,null,null,null,null,null,null,null,null,null,null,null,null,null,"2021-01-01","00:00:00","2021-01-01","2021-01-01","2021-01-01",0,0,0,0,0,0,"","",0,0,0]
[null,null,null,null,null,null,null,null,null,null,null,null,null,null,null,null,"2021-01-01","00:00:00","2021-01-01","2021-01-01","2021-01-01",0,0,0,0,0,0,"","",0,0,0]
[null,null,null,null,null,null,null,null,null,null,null,null,null,null,null,null,"2021-01-01","00:00:00","2021-01-01","2021-01-01","2021-01-01",0,0,0,0,0,0,"","",0,0,0]
[null,null,null,null,null,null,null,null,null,null,null,null,null,null,null,null,"2021-01-01","00:00:00","2021-01-01","2021-01-01","2021-01-01",0,0,0,0,0,0,"","",0,0,0]
[null,null,null,null,null,null,null,null,null,null,null,null,null,null,null,null,"2021-01-01","00:00:00","2021-01-01","2021-01-01","2021-01-01",0,0,0,0,0,0,"","",0,0,0]
[null,null,null,null,null,null,null,null,null,null,null,null,null,null,null,null,"2021-01-01","00:00:00","2021-01-01","2021-01-01","2021-01-01",0,0,0,0,0,0,"","",0,0,0]
[null,null,null,null,null,null,null,null,null,null,null,null,null,null,null,null,"2021-01-01","00:00:00","2021-01-01","2021-01-01","2021-01-01",0,0,0,0,0,0,"","",0,0,0]
[null,null,null,null,null,null,null,null,null,null,null,null,null,null,null,null,"2021-01-01","00:00:00","2021-01-01","2021-01-01","2021-01-01",0,0,0,0,0,0,"","",0,0,0]
[null,null,null,null,null,null,null,null,null,null,null,null,null,null,null,null,"2021-01-01","00:00:00","2021-01-01","2021-01-01","2021-01-01",0,0,0,0,0,0,"","",0,0,0]
[null,null,null,null,null,null,null,null,null,null,null,null,null,null,null,null,"2021-01-01","00:00:00","2021-01-01","2021-01-01","2021-01-01",0,0,0,0,0,0,"","",0,0,0]
[null,null,null,null,null,null,null,null,null,null,null,null,null,null,null,null,"2021-01-01","00:00:00","2021-01-01","2021-01-01","2021-01-01",0,0,0,0,0,0,"","",0,0,0]
[null,null,null,null,null,null,null,null,null,null,null,null,null,null,null,null,"2021-01-01","00:00:00","2021-01-01","2021-01-01","2021-01-01",0,0,0,0,0,0,"","",0,0,0]
[null,null,null,null,null,null,null,null,null,null,null,null,null,null,null,null,"2021-01-01","00:00:00","2021-01-01","2021-01-01","2021-01-01",0,0,0,0,0,0,"","",0,0,0]
[null,null,null,null,null,null,null,null,null,null,null,null,null,null,null,null,"2021-01-01","00:00:00","2021-01-01","2021-01-01","2021-01-01",0,0,0,0,0,0,"","",0,0,0]
[null,null,null,null,null,null,null,null,null,null,null,null,null,null,null,null,"2021-01-01","00:00:00","2021-01-01","2021-01-01","2021-01-01",0,0,0,0,0,0,"","",0,0,0]
[null,null,null,null,null,null,null,null,null,null,null,null,null,null,null,null,"2021-01-01","00:00:00","2021-01-01","2021-01-01","2021-01-01",0,0,0,0,0,0,"","",0,0,0]
[null,null,null,null,null,null,null,null,null,null,null,null,null,null,null,null,"2021-01-01","00:00:00","2021-01-01","2021-01-01","2021-01-01",0,0,0,0,0,0,"","",0,0,0]
[null,null,null,null,null,null,null,null,null,null,null,null,null,null,null,null,"2021-01-01","00:00:00","2021-01-01","2021-01-01","2021-01-01",0,0,0,0,0,0,"","",0,0,0]
[null,null,null,null,null,null,null,null,null,null,null,null,null,null,null,null,"2021-01-01","00:00:00","2021-01-01","2021-01-01","2021-01-01",0,0,0,0,0,0,"","",0,0,0]
[null,null,null,null,null,null,null,null,null,null,null,null,null,null,null,null,"2021-01-01","00:00:00","2021-01-01","2021-01-01","2021-01-01",0,0,0,0,0,0,"","",0,0,0]
[null,null,null,null,null,null,null,null,null,null,null,null,null,null,null,null,"2021-01-01","00:00:00","2021-01-01","2021-01-01","2021-01-01",0,0,0,0,0,0,"","",0,0,0]
[null,null,null,null,null,null,null,null,null,null,null,null,null,null,null,null,"2021-01-01","00:00:00","2021-01-01","2021-01-01","2021-01-01",0,0,0,0,0,0,"","",0,0,0]
[null,null,null,null,null,null,null,null,null,null,null,null,null,null,null,null,"2021-01-01","00:00:00","2021-01-01","2021-01-01","2021-01-01",0,0,0,0,0,0,"","",0,0,0]
[null,null,null,null,null,null,null,null,null,null,null,null,null,null,null,null,"2021-01-01","00:00:00","2021-01-01","2021-01-01","2021-01-01",0,0,0,0,0,0,"","",0,0,0]
[null,null,null,null,null,null,null,null,null,null,null,null,null,null,null,null,"2021-01-01","00:00:00","2021-01-01","2021-01-01","2021-01-01",0,0,0,0,0,0,"","",0,0,0]
[null,null,null,null,null,null,null,null,null,null,null,null,null,null,null,null,"2021-01-01","00:00:00","2021-01-01","2021-01-01","2021-01-01",0,0,0,0,0,0,"","",0,0,0]
[null,null,null,null,null,null,null,null,null,null,null,null,null,null,null,null,"2021-01-01","00:00:00","2021-01-01","2021-01-01","2021-01-01",0,0,0,0,0,0,"","",0,0,0]
[null,null,null,null,null,null,null,null,null,null,null,null,null,null,null,null,"2021-01-01","00:00:00","2021-01-01","2021-01-01","2021-01-01",0,0,0,0,0,0,"","",0,0,0]
[null,null,null,null,null,null,null,null,null,null,null,null,null,null,null,null,"2021-01-01","00:00:00","2021-01-01","2021-01-01","2021-01-01",0,0,0,0,0,0,"","",0,0,0]
[null,null,null,null,null,null,null,null,null,null,null,null,null,null,null,null,"2021-01-01","00:00:00","2021-01-01","2021-01-01","2021-01-01",0,0,0,0,0,0,"","",0,0,0]
[null,null,null,null,null,null,null,null,null,null,null,null,null,null,null,null,"2021-01-01","00:00:00","2021-01-01","2021-01-01","2021-01-01",0,0,0,0,0,0,"","",0,0,0]
[null,null,null,null,null,null,null,null,null,null,null,null,null,null,null,null,"2021-01-01","00:00:00","2021-01-01","2021-01-01","2021-01-01",0,0,0,0,0,0,"","",0,0,0]
[null,null,null,null,null,null,null,null,null,null,null,null,null,null,null,null,"2021-01-01","00:00:00","2021-01-01","2021-01-01","2021-01-01",0,0,0,0,0,0,"","",0,0,0]
[null,null,null,null,null,null,null,null,null,null,null,null,null,null,null,null,"2021-01-01","00:00:00","2021-01-01","2021-01-01","2021-01-01",0,0,0,0,0,0,"","",0,0,0]
[null,null,null,null,null,null,null,null,null,null,null,null,null,null,null,null,"2021-01-01","00:00:00","2021-01-01","2021-01-01","2021-01-01",0,0,0,0,0,0,"","",0,0,0]
[null,null,null,null,null,null,null,null,null,null,null,null,null,null,null,null,"2021-01-01","00:00:00","2021-01-01","2021-01-01","2021-01-01",0,0,0,0,0,0,"","",0,0,0]
[null,null,null,null,null,null,null,null,null,null,null,null,null,null,null,null,"2021-01-01","00:00:00","2021-01-01","2021-01-01","2021-01-01",0,0,0,0,0,0,"","",0,0,0]
[null,null,null,null,null,null,null,null,null,null,null,null,null,null,null,null,"2021-01-01","00:00:00","2021-01-01","2021-01-01","2021-01-01",0,0,0,0,0,0,"","",0,0,0]
[null,null,null,null,null,null,null,null,null,null,null,null,null,null,null,null,"2021-01-01","00:00:00","2021-01-01","2021-01-01","2021-01-01",0,0,0,0,0,0,"","",0,0,0]
[null,null,null,null,null,null,null,null,null,null,null,null,null,null,null,null,"2021-01-01","00:00:00","2021-01-01","2021-01-01","2021-01-01",0,0,0,0,0,0,"","",0,0,0]
[null,null,null,null,null,null,null,null,null,null,null,null,null,null,null,null,"2021-01-01","00:00:00","2021-01-01","2021-01-01","2021-01-01",0,0,0,0,0,0,"","",0,0,0]
[null,null,null,null,null,null,null,null,null,null,null,null,null,null,null,null,"2021-01-01","00:00:00","2021-01-01","2021-01-01","2021-01-01",0,0,0,0,0,0,"","",0,0,0]
[null,null,null,null,null,null,null,null,null,null,null,null,null,null,null,null,"2021-01-01","00:00:00","2021-01-01","2021-01-01","2021-01-01",0,0,0,0,0,0,"","",0,0,0]
[null,null,null,null,null,null,null,null,null,null,null,null,null,null,null,null,"2021-01-01","00:00:00","2021-01-01","2021-01-01","2021-01-01",0,0,0,0,0,0,"","",0,0,0]
[null,null,null,null,null,null,null,null,null,null,null,null,null,null,null,null,"2021-01-01","00:00:00","2021-01-01","2021-01-01","2021-01-01",0,0,0,0,0,0,"","",0,0,0]
[null,null,null,null,null,null,null,null,null,null,null,null,null,null,null,null,"2021-01-01","00:00:00","2021-01-01","2021-01-01","2021-01-01",0,0,0,0,0,0,"","",0,0,0]
[null,null,null,null,null,null,null,null,null,null,null,null,null,null,null,null,"2021-01-01","00:00:00","2021-01-01","2021-01-01","2021-01-01",0,0,0,0,0,0,"","",0,0,0]
[null,null,null,null,null,null,null,null,null,null,null,null,null,null,null,null,"2021-01-01","00:00:00","2021-01-01","2021-01-01","2021-01-01",0,0,0,0,0,0,"","",0,0,0]
[null,null,null,null,null,null,null,null,null,null,null,null,null,null,null,null,"2021-01-01","00:00:00","2021-01-01","2021-01-01","2021-01-01",0,0,0,0,0,0,"","",0,0,0]
[null,null,null,null,null,null,null,null,null,null,null,null,null,null,null,null,"2021-01-01","00:00:00","2021-01-01","2021-01-01","2021-01-01",0,0,0,0,0,0,"","",0,0,0]
[null,null,null,null,null,null,null,null,null,null,null,null,null,null,null,null,"2021-01-01","00:00:00","2021-01-01","2021-01-01","2021-01-01",0,0,0,0,0,0,"","",0,0,0]
[null,null,null,null,null,null,null,null,null,null,null,null,null,null,null,null,"2021-01-01","00:00:00","2021-01-01","2021-01-01","2021-01-01",0,0,0,0,0,0,"","",0,0,0]
[null,null,null,null,null,null,null,null,null,null,null,null,null,null,null,null,"2021-01-01","00:00:00","2021-01-01","2021-01-01","2021-01-01",0,0,0,0,0,0,"","",0,0,0]
[null,null,null,null,null,null,null,null,null,null,null,null,null,null,null,null,"2021-01-01","00:00:00","2021-01-01","2021-01-01","2021-01-01",0,0,0,0,0,0,"","",0,0,0]
[null,null,null,null,null,null,null,null,null,null,null,null,null,null,null,null,"2021-01-01","00:00:00","2021-01-01","2021-01-01","2021-01-01",0,0,0,0,0,0,"","",0,0,0]
[null,null,null,null,null,null,null,null,null,null,null,null,null,null,null,null,"2021-01-01","00:00:00","2021-01-01","2021-01-01","2021-01-01",0,0,0,0,0,0,"","",0,0,0]
[null,null,null,null,null,null,null,null,null,null,null,null,null,null,null,null,"2021-01-01","00:00:00","2021-01-01","2021-01-01","2021-01-01",0,0,0,0,0,0,"","",0,0,0]
[null,null,null,null,null,null,null,null,null,null,null,null,null,null,null,null,"2021-01-01","00:00:00","2021-01-01","2021-01-01","2021-01-01",0,0,0,0,0,0,"","",0,{"$f":"IF(OR($Q1539>$Q$1,$R1539<$Q$1),0,YEARFRAC($E1539,$Q1539,1))*12","v":0},{"$f":"IF(OR($Q1539>$R$1,$R1539<$R$1),0,YEARFRAC($E1539,$R1539,1))*12","v":0}]
[null,null,null,null,null,null,null,null,null,null,null,null,null,null,null,null,{"$f":"IF(OR(K1540<$Q$1,K1540=\"Altbestand\"),$Q$1,IF(AND(K1540=\"Nachzucht\",E1540>$Q$1),E1540,IF(K1540=\"Nachzucht\",$Q$1,K1540)))","v":"2021-01-01"},{"$f":"IF(OR(L1540>$R$1,L1540=\"Nein\"),$R$1,L1540)","v":"00:00:00"},{"$f":"IF(OR(R1540<Q1540,(E1540+183)<Q1540),Q1540,IF((E1540+183)>R1540,R1540,(E1540+183)))","v":"2021-01-01"},{"$f":"IF(OR(S1540=R1540,(E1540+365)<Q1540,R1540<Q1540),S1540,IF((E1540+365)>R1540,R1540,(E1540+365)))","v":"2021-01-01"},{"$f":"IF(OR(T1540=R1540,S1540=R1540,(E1540+365*2)<Q1540,R1540<Q1540),T1540,IF((E1540+365*2)>R1540,R1540,(E1540+365*2)))","v":"2021-01-01"},{"$f":"IF(AC1540=\"Kuh\",\"Kuh\",F1540)","v":0},{"$f":"S1540-Q1540","v":0},{"$f":"+T1540-S1540","v":0},{"$f":"+U1540-T1540","v":0},{"$f":"IF(AB1540=\"\",0,AB1540-AA1540)","v":0},{"$f":"SUM(W1540:Y1540)","v":0},{"$f":"IF(R1540<Q1540,\"\",R1540-Q1540)","v":""},{"$f":"IF(OR((ISNA(VLOOKUP(C1540,$I$3:$I$138,1,FALSE))=FALSE),AND(AD1540>1200,F1540=\"w\"),M1540=\"Ja\"),\"Kuh\",\"\")","v":""},{"$f":"IF(OR(L1540=\"Nein\",L1540=\"Ja\"),$R$1-E1540,L1540-E1540)","v":0},0,0]
[null,null,null,null,null,null,null,null,null,null,null,null,null,null,null,null,"2021-01-01","00:00:00","2021-01-01","2021-01-01","2021-01-01",0,0,0,0,0,0,"","",0,0,0]
[null,null,null,null,null,null,null,null,null,null,null,null,null,null,null,null,"2021-01-01","00:00:00","2021-01-01","2021-01-01","2021-01-01",0,0,0,0,0,0,"","",0,0,0]
[null,null,null,null,null,null,null,null,null,null,null,null,null,null,null,null,"2021-01-01","00:00:00","2021-01-01","2021-01-01","2021-01-01",0,0,0,0,0,0,"","",0,0,0]
[null,null,null,null,null,null,null,null,null,null,null,null,null,null,null,null,"2021-01-01","00:00:00","2021-01-01","2021-01-01","2021-01-01",0,0,0,0,0,0,"","",0,0,0]
[null,null,null,null,null,null,null,null,null,null,null,null,null,null,null,null,"2021-01-01","00:00:00","2021-01-01","2021-01-01","2021-01-01",0,0,0,0,0,0,"","",0,0,0]
[null,null,null,null,null,null,null,null,null,null,null,null,null,null,null,null,"2021-01-01","00:00:00","2021-01-01","2021-01-01","2021-01-01",0,0,0,0,0,0,"","",0,0,0]
[null,null,null,null,null,null,null,null,null,null,null,null,null,null,null,null,"2021-01-01","00:00:00","2021-01-01","2021-01-01","2021-01-01",0,0,0,0,0,0,"","",0,0,0]
[null,null,null,null,null,null,null,null,null,null,null,null,null,null,null,null,"2021-01-01","00:00:00","2021-01-01","2021-01-01","2021-01-01",0,0,0,0,0,0,"","",0,0,0]
[null,null,null,null,null,null,null,null,null,null,null,null,null,null,null,null,"2021-01-01","00:00:00","2021-01-01","2021-01-01","2021-01-01",0,0,0,0,0,0,"","",0,0,0]
[null,null,null,null,null,null,null,null,null,null,null,null,null,null,null,null,"2021-01-01","00:00:00","2021-01-01","2021-01-01","2021-01-01",0,0,0,0,0,0,"","",0,0,0]
[null,null,null,null,null,null,null,null,null,null,null,null,null,null,null,null,"2021-01-01","00:00:00","2021-01-01","2021-01-01","2021-01-01",0,0,0,0,0,0,"","",0,0,0]
[null,null,null,null,null,null,null,null,null,null,null,null,null,null,null,null,"2021-01-01","00:00:00","2021-01-01","2021-01-01","2021-01-01",0,0,0,0,0,0,"","",0,0,0]
[null,null,null,null,null,null,null,null,null,null,null,null,null,null,null,null,"2021-01-01","00:00:00","2021-01-01","2021-01-01","2021-01-01",0,0,0,0,0,0,"","",0,0,0]
[null,null,null,null,null,null,null,null,null,null,null,null,null,null,null,null,"2021-01-01","00:00:00","2021-01-01","2021-01-01","2021-01-01",0,0,0,0,0,0,"","",0,0,0]
[null,null,null,null,null,null,null,null,null,null,null,null,null,null,null,null,"2021-01-01","00:00:00","2021-01-01","2021-01-01","2021-01-01",0,0,0,0,0,0,"","",0,0,0]
[null,null,null,null,null,null,null,null,null,null,null,null,null,null,null,null,"2021-01-01","00:00:00","2021-01-01","2021-01-01","2021-01-01",0,0,0,0,0,0,"","",0,0,0]
[null,null,null,null,null,null,null,null,null,null,null,null,null,null,null,null,"2021-01-01","00:00:00","2021-01-01","2021-01-01","2021-01-01",0,0,0,0,0,0,"","",0,0,0]
[null,null,null,null,null,null,null,null,null,null,null,null,null,null,null,null,"2021-01-01","00:00:00","2021-01-01","2021-01-01","2021-01-01",0,0,0,0,0,0,"","",0,0,0]
[null,null,null,null,null,null,null,null,null,null,null,null,null,null,null,null,"2021-01-01","00:00:00","2021-01-01","2021-01-01","2021-01-01",0,0,0,0,0,0,"","",0,0,0]
[null,null,null,null,null,null,null,null,null,null,null,null,null,null,null,null,"2021-01-01","00:00:00","2021-01-01","2021-01-01","2021-01-01",0,0,0,0,0,0,"","",0,0,0]
[null,null,null,null,null,null,null,null,null,null,null,null,null,null,null,null,"2021-01-01","00:00:00","2021-01-01","2021-01-01","2021-01-01",0,0,0,0,0,0,"","",0,0,0]
[null,null,null,null,null,null,null,null,null,null,null,null,null,null,null,null,"2021-01-01","00:00:00","2021-01-01","2021-01-01","2021-01-01",0,0,0,0,0,0,"","",0,0,0]
[null,null,null,null,null,null,null,null,null,null,null,null,null,null,null,null,"2021-01-01","00:00:00","2021-01-01","2021-01-01","2021-01-01",0,0,0,0,0,0,"","",0,0,0]
[null,null,null,null,null,null,null,null,null,null,null,null,null,null,null,null,"2021-01-01","00:00:00","2021-01-01","2021-01-01","2021-01-01",0,0,0,0,0,0,"","",0,0,0]
[null,null,null,null,null,null,null,null,null,null,null,null,null,null,null,null,"2021-01-01","00:00:00","2021-01-01","2021-01-01","2021-01-01",0,0,0,0,0,0,"","",0,0,0]
[null,null,null,null,null,null,null,null,null,null,null,null,null,null,null,null,"2021-01-01","00:00:00","2021-01-01","2021-01-01","2021-01-01",0,0,0,0,0,0,"","",0,0,0]
[null,null,null,null,null,null,null,null,null,null,null,null,null,null,null,null,"2021-01-01","00:00:00","2021-01-01","2021-01-01","2021-01-01",0,0,0,0,0,0,"","",0,0,0]
[null,null,null,null,null,null,null,null,null,null,null,null,null,null,null,null,"2021-01-01","00:00:00","2021-01-01","2021-01-01","2021-01-01",0,0,0,0,0,0,"","",0,0,0]
[null,null,null,null,null,null,null,null,null,null,null,null,null,null,null,null,"2021-01-01","00:00:00","2021-01-01","2021-01-01","2021-01-01",0,0,0,0,0,0,"","",0,0,0]
[null,null,null,null,null,null,null,null,null,null,null,null,null,null,null,null,"2021-01-01","00:00:00","2021-01-01","2021-01-01","2021-01-01",0,0,0,0,0,0,"","",0,0,0]
[null,null,null,null,null,null,null,null,null,null,null,null,null,null,null,null,"2021-01-01","00:00:00","2021-01-01","2021-01-01","2021-01-01",0,0,0,0,0,0,"","",0,0,0]
[null,null,null,null,null,null,null,null,null,null,null,null,null,null,null,null,"2021-01-01","00:00:00","2021-01-01","2021-01-01","2021-01-01",0,0,0,0,0,0,"","",0,0,0]
[null,null,null,null,null,null,null,null,null,null,null,null,null,null,null,null,"2021-01-01","00:00:00","2021-01-01","2021-01-01","2021-01-01",0,0,0,0,0,0,"","",0,0,0]
[null,null,null,null,null,null,null,null,null,null,null,null,null,null,null,null,"2021-01-01","00:00:00","2021-01-01","2021-01-01","2021-01-01",0,0,0,0,0,0,"","",0,0,0]
[null,null,null,null,null,null,null,null,null,null,null,null,null,null,null,null,"2021-01-01","00:00:00","2021-01-01","2021-01-01","2021-01-01",0,0,0,0,0,0,"","",0,0,0]
[null,null,null,null,null,null,null,null,null,null,null,null,null,null,null,null,"2021-01-01","00:00:00","2021-01-01","2021-01-01","2021-01-01",0,0,0,0,0,0,"","",0,0,0]
[null,null,null,null,null,null,null,null,null,null,null,null,null,null,null,null,"2021-01-01","00:00:00","2021-01-01","2021-01-01","2021-01-01",0,0,0,0,0,0,"","",0,0,0]
[null,null,null,null,null,null,null,null,null,null,null,null,null,null,null,null,"2021-01-01","00:00:00","2021-01-01","2021-01-01","2021-01-01",0,0,0,0,0,0,"","",0,0,0]
[null,null,null,null,null,null,null,null,null,null,null,null,null,null,null,null,"2021-01-01","00:00:00","2021-01-01","2021-01-01","2021-01-01",0,0,0,0,0,0,"","",0,0,0]
[null,null,null,null,null,null,null,null,null,null,null,null,null,null,null,null,"2021-01-01","00:00:00","2021-01-01","2021-01-01","2021-01-01",0,0,0,0,0,0,"","",0,0,0]
[null,null,null,null,null,null,null,null,null,null,null,null,null,null,null,null,"2021-01-01","00:00:00","2021-01-01","2021-01-01","2021-01-01",0,0,0,0,0,0,"","",0,0,0]
[null,null,null,null,null,null,null,null,null,null,null,null,null,null,null,null,"2021-01-01","00:00:00","2021-01-01","2021-01-01","2021-01-01",0,0,0,0,0,0,"","",0,0,0]
[null,null,null,null,null,null,null,null,null,null,null,null,null,null,null,null,"2021-01-01","00:00:00","2021-01-01","2021-01-01","2021-01-01",0,0,0,0,0,0,"","",0,0,0]
[null,null,null,null,null,null,null,null,null,null,null,null,null,null,null,null,"2021-01-01","00:00:00","2021-01-01","2021-01-01","2021-01-01",0,0,0,0,0,0,"","",0,0,0]
[null,null,null,null,null,null,null,null,null,null,null,null,null,null,null,null,"2021-01-01","00:00:00","2021-01-01","2021-01-01","2021-01-01",0,0,0,0,0,0,"","",0,0,0]
[null,null,null,null,null,null,null,null,null,null,null,null,null,null,null,null,"2021-01-01","00:00:00","2021-01-01","2021-01-01","2021-01-01",0,0,0,0,0,0,"","",0,0,0]
[null,null,null,null,null,null,null,null,null,null,null,null,null,null,null,null,"2021-01-01","00:00:00","2021-01-01","2021-01-01","2021-01-01",0,0,0,0,0,0,"","",0,0,0]
[null,null,null,null,null,null,null,null,null,null,null,null,null,null,null,null,"2021-01-01","00:00:00","2021-01-01","2021-01-01","2021-01-01",0,0,0,0,0,0,"","",0,0,0]
[null,null,null,null,null,null,null,null,null,null,null,null,null,null,null,null,"2021-01-01","00:00:00","2021-01-01","2021-01-01","2021-01-01",0,0,0,0,0,0,"","",0,0,0]
[null,null,null,null,null,null,null,null,null,null,null,null,null,null,null,null,"2021-01-01","00:00:00","2021-01-01","2021-01-01","2021-01-01",0,0,0,0,0,0,"","",0,0,0]
[null,null,null,null,null,null,null,null,null,null,null,null,null,null,null,null,"2021-01-01","00:00:00","2021-01-01","2021-01-01","2021-01-01",0,0,0,0,0,0,"","",0,0,0]
[null,null,null,null,null,null,null,null,null,null,null,null,null,null,null,null,"2021-01-01","00:00:00","2021-01-01","2021-01-01","2021-01-01",0,0,0,0,0,0,"","",0,0,0]
[null,null,null,null,null,null,null,null,null,null,null,null,null,null,null,null,"2021-01-01","00:00:00","2021-01-01","2021-01-01","2021-01-01",0,0,0,0,0,0,"","",0,0,0]
[null,null,null,null,null,null,null,null,null,null,null,null,null,null,null,null,"2021-01-01","00:00:00","2021-01-01","2021-01-01","2021-01-01",0,0,0,0,0,0,"","",0,0,0]
[null,null,null,null,null,null,null,null,null,null,null,null,null,null,null,null,"2021-01-01","00:00:00","2021-01-01","2021-01-01","2021-01-01",0,0,0,0,0,0,"","",0,0,0]
[null,null,null,null,null,null,null,null,null,null,null,null,null,null,null,null,"2021-01-01","00:00:00","2021-01-01","2021-01-01","2021-01-01",0,0,0,0,0,0,"","",0,0,0]
[null,null,null,null,null,null,null,null,null,null,null,null,null,null,null,null,"2021-01-01","00:00:00","2021-01-01","2021-01-01","2021-01-01",0,0,0,0,0,0,"","",0,0,0]
[null,null,null,null,null,null,null,null,null,null,null,null,null,null,null,null,"2021-01-01","00:00:00","2021-01-01","2021-01-01","2021-01-01",0,0,0,0,0,0,"","",0,0,0]
[null,null,null,null,null,null,null,null,null,null,null,null,null,null,null,null,"2021-01-01","00:00:00","2021-01-01","2021-01-01","2021-01-01",0,0,0,0,0,0,"","",0,0,0]
[null,null,null,null,null,null,null,null,null,null,null,null,null,null,null,null,"2021-01-01","00:00:00","2021-01-01","2021-01-01","2021-01-01",0,0,0,0,0,0,"","",0,0,0]
[null,null,null,null,null,null,null,null,null,null,null,null,null,null,null,null,"2021-01-01","00:00:00","2021-01-01","2021-01-01","2021-01-01",0,0,0,0,0,0,"","",0,0,0]
[null,null,null,null,null,null,null,null,null,null,null,null,null,null,null,null,"2021-01-01","00:00:00","2021-01-01","2021-01-01","2021-01-01",0,0,0,0,0,0,"","",0,0,0]
[null,null,null,null,null,null,null,null,null,null,null,null,null,null,null,null,"2021-01-01","00:00:00","2021-01-01","2021-01-01","2021-01-01",0,0,0,0,0,0,"","",0,{"$f":"IF(OR($Q1603>$Q$1,$R1603<$Q$1),0,YEARFRAC($E1603,$Q1603,1))*12","v":0},{"$f":"IF(OR($Q1603>$R$1,$R1603<$R$1),0,YEARFRAC($E1603,$R1603,1))*12","v":0}]
[null,null,null,null,null,null,null,null,null,null,null,null,null,null,null,null,{"$f":"IF(OR(K1604<$Q$1,K1604=\"Altbestand\"),$Q$1,IF(AND(K1604=\"Nachzucht\",E1604>$Q$1),E1604,IF(K1604=\"Nachzucht\",$Q$1,K1604)))","v":"2021-01-01"},{"$f":"IF(OR(L1604>$R$1,L1604=\"Nein\"),$R$1,L1604)","v":"00:00:00"},{"$f":"IF(OR(R1604<Q1604,(E1604+183)<Q1604),Q1604,IF((E1604+183)>R1604,R1604,(E1604+183)))","v":"2021-01-01"},{"$f":"IF(OR(S1604=R1604,(E1604+365)<Q1604,R1604<Q1604),S1604,IF((E1604+365)>R1604,R1604,(E1604+365)))","v":"2021-01-01"},{"$f":"IF(OR(T1604=R1604,S1604=R1604,(E1604+365*2)<Q1604,R1604<Q1604),T1604,IF((E1604+365*2)>R1604,R1604,(E1604+365*2)))","v":"2021-01-01"},{"$f":"IF(AC1604=\"Kuh\",\"Kuh\",F1604)","v":0},{"$f":"S1604-Q1604","v":0},{"$f":"+T1604-S1604","v":0},{"$f":"+U1604-T1604","v":0},{"$f":"IF(AB1604=\"\",0,AB1604-AA1604)","v":0},{"$f":"SUM(W1604:Y1604)","v":0},{"$f":"IF(R1604<Q1604,\"\",R1604-Q1604)","v":""},{"$f":"IF(OR((ISNA(VLOOKUP(C1604,$I$3:$I$138,1,FALSE))=FALSE),AND(AD1604>1200,F1604=\"w\"),M1604=\"Ja\"),\"Kuh\",\"\")","v":""},{"$f":"IF(OR(L1604=\"Nein\",L1604=\"Ja\"),$R$1-E1604,L1604-E1604)","v":0},0,0]
[null,null,null,null,null,null,null,null,null,null,null,null,null,null,null,null,"2021-01-01","00:00:00","2021-01-01","2021-01-01","2021-01-01",0,0,0,0,0,0,"","",0,0,0]
[null,null,null,null,null,null,null,null,null,null,null,null,null,null,null,null,"2021-01-01","00:00:00","2021-01-01","2021-01-01","2021-01-01",0,0,0,0,0,0,"","",0,0,0]
[null,null,null,null,null,null,null,null,null,null,null,null,null,null,null,null,"2021-01-01","00:00:00","2021-01-01","2021-01-01","2021-01-01",0,0,0,0,0,0,"","",0,0,0]
[null,null,null,null,null,null,null,null,null,null,null,null,null,null,null,null,"2021-01-01","00:00:00","2021-01-01","2021-01-01","2021-01-01",0,0,0,0,0,0,"","",0,0,0]
[null,null,null,null,null,null,null,null,null,null,null,null,null,null,null,null,"2021-01-01","00:00:00","2021-01-01","2021-01-01","2021-01-01",0,0,0,0,0,0,"","",0,0,0]
[null,null,null,null,null,null,null,null,null,null,null,null,null,null,null,null,"2021-01-01","00:00:00","2021-01-01","2021-01-01","2021-01-01",0,0,0,0,0,0,"","",0,0,0]
[null,null,null,null,null,null,null,null,null,null,null,null,null,null,null,null,"2021-01-01","00:00:00","2021-01-01","2021-01-01","2021-01-01",0,0,0,0,0,0,"","",0,0,0]
[null,null,null,null,null,null,null,null,null,null,null,null,null,null,null,null,"2021-01-01","00:00:00","2021-01-01","2021-01-01","2021-01-01",0,0,0,0,0,0,"","",0,0,0]
[null,null,null,null,null,null,null,null,null,null,null,null,null,null,null,null,"2021-01-01","00:00:00","2021-01-01","2021-01-01","2021-01-01",0,0,0,0,0,0,"","",0,0,0]
[null,null,null,null,null,null,null,null,null,null,null,null,null,null,null,null,"2021-01-01","00:00:00","2021-01-01","2021-01-01","2021-01-01",0,0,0,0,0,0,"","",0,0,0]
[null,null,null,null,null,null,null,null,null,null,null,null,null,null,null,null,"2021-01-01","00:00:00","2021-01-01","2021-01-01","2021-01-01",0,0,0,0,0,0,"","",0,0,0]
[null,null,null,null,null,null,null,null,null,null,null,null,null,null,null,null,"2021-01-01","00:00:00","2021-01-01","2021-01-01","2021-01-01",0,0,0,0,0,0,"","",0,0,0]
[null,null,null,null,null,null,null,null,null,null,null,null,null,null,null,null,"2021-01-01","00:00:00","2021-01-01","2021-01-01","2021-01-01",0,0,0,0,0,0,"","",0,0,0]
[null,null,null,null,null,null,null,null,null,null,null,null,null,null,null,null,"2021-01-01","00:00:00","2021-01-01","2021-01-01","2021-01-01",0,0,0,0,0,0,"","",0,0,0]
[null,null,null,null,null,null,null,null,null,null,null,null,null,null,null,null,"2021-01-01","00:00:00","2021-01-01","2021-01-01","2021-01-01",0,0,0,0,0,0,"","",0,0,0]
[null,null,null,null,null,null,null,null,null,null,null,null,null,null,null,null,"2021-01-01","00:00:00","2021-01-01","2021-01-01","2021-01-01",0,0,0,0,0,0,"","",0,0,0]
[null,null,null,null,null,null,null,null,null,null,null,null,null,null,null,null,"2021-01-01","00:00:00","2021-01-01","2021-01-01","2021-01-01",0,0,0,0,0,0,"","",0,0,0]
[null,null,null,null,null,null,null,null,null,null,null,null,null,null,null,null,"2021-01-01","00:00:00","2021-01-01","2021-01-01","2021-01-01",0,0,0,0,0,0,"","",0,0,0]
[null,null,null,null,null,null,null,null,null,null,null,null,null,null,null,null,"2021-01-01","00:00:00","2021-01-01","2021-01-01","2021-01-01",0,0,0,0,0,0,"","",0,0,0]
[null,null,null,null,null,null,null,null,null,null,null,null,null,null,null,null,"2021-01-01","00:00:00","2021-01-01","2021-01-01","2021-01-01",0,0,0,0,0,0,"","",0,0,0]
[null,null,null,null,null,null,null,null,null,null,null,null,null,null,null,null,"2021-01-01","00:00:00","2021-01-01","2021-01-01","2021-01-01",0,0,0,0,0,0,"","",0,0,0]
[null,null,null,null,null,null,null,null,null,null,null,null,null,null,null,null,"2021-01-01","00:00:00","2021-01-01","2021-01-01","2021-01-01",0,0,0,0,0,0,"","",0,0,0]
[null,null,null,null,null,null,null,null,null,null,null,null,null,null,null,null,"2021-01-01","00:00:00","2021-01-01","2021-01-01","2021-01-01",0,0,0,0,0,0,"","",0,0,0]
[null,null,null,null,null,null,null,null,null,null,null,null,null,null,null,null,"2021-01-01","00:00:00","2021-01-01","2021-01-01","2021-01-01",0,0,0,0,0,0,"","",0,0,0]
[null,null,null,null,null,null,null,null,null,null,null,null,null,null,null,null,"2021-01-01","00:00:00","2021-01-01","2021-01-01","2021-01-01",0,0,0,0,0,0,"","",0,0,0]
[null,null,null,null,null,null,null,null,null,null,null,null,null,null,null,null,"2021-01-01","00:00:00","2021-01-01","2021-01-01","2021-01-01",0,0,0,0,0,0,"","",0,0,0]
[null,null,null,null,null,null,null,null,null,null,null,null,null,null,null,null,"2021-01-01","00:00:00","2021-01-01","2021-01-01","2021-01-01",0,0,0,0,0,0,"","",0,0,0]
[null,null,null,null,null,null,null,null,null,null,null,null,null,null,null,null,"2021-01-01","00:00:00","2021-01-01","2021-01-01","2021-01-01",0,0,0,0,0,0,"","",0,0,0]
[null,null,null,null,null,null,null,null,null,null,null,null,null,null,null,null,"2021-01-01","00:00:00","2021-01-01","2021-01-01","2021-01-01",0,0,0,0,0,0,"","",0,0,0]
[null,null,null,null,null,null,null,null,null,null,null,null,null,null,null,null,"2021-01-01","00:00:00","2021-01-01","2021-01-01","2021-01-01",0,0,0,0,0,0,"","",0,0,0]
[null,null,null,null,null,null,null,null,null,null,null,null,null,null,null,null,"2021-01-01","00:00:00","2021-01-01","2021-01-01","2021-01-01",0,0,0,0,0,0,"","",0,0,0]
[null,null,null,null,null,null,null,null,null,null,null,null,null,null,null,null,"2021-01-01","00:00:00","2021-01-01","2021-01-01","2021-01-01",0,0,0,0,0,0,"","",0,0,0]
[null,null,null,null,null,null,null,null,null,null,null,null,null,null,null,null,"2021-01-01","00:00:00","2021-01-01","2021-01-01","2021-01-01",0,0,0,0,0,0,"","",0,0,0]
[null,null,null,null,null,null,null,null,null,null,null,null,null,null,null,null,"2021-01-01","00:00:00","2021-01-01","2021-01-01","2021-01-01",0,0,0,0,0,0,"","",0,0,0]
[null,null,null,null,null,null,null,null,null,null,null,null,null,null,null,null,"2021-01-01","00:00:00","2021-01-01","2021-01-01","2021-01-01",0,0,0,0,0,0,"","",0,0,0]
[null,null,null,null,null,null,null,null,null,null,null,null,null,null,null,null,"2021-01-01","00:00:00","2021-01-01","2021-01-01","2021-01-01",0,0,0,0,0,0,"","",0,0,0]
[null,null,null,null,null,null,null,null,null,null,null,null,null,null,null,null,"2021-01-01","00:00:00","2021-01-01","2021-01-01","2021-01-01",0,0,0,0,0,0,"","",0,0,0]
[null,null,null,null,null,null,null,null,null,null,null,null,null,null,null,null,"2021-01-01","00:00:00","2021-01-01","2021-01-01","2021-01-01",0,0,0,0,0,0,"","",0,0,0]
[null,null,null,null,null,null,null,null,null,null,null,null,null,null,null,null,"2021-01-01","00:00:00","2021-01-01","2021-01-01","2021-01-01",0,0,0,0,0,0,"","",0,0,0]
[null,null,null,null,null,null,null,null,null,null,null,null,null,null,null,null,"2021-01-01","00:00:00","2021-01-01","2021-01-01","2021-01-01",0,0,0,0,0,0,"","",0,0,0]
[null,null,null,null,null,null,null,null,null,null,null,null,null,null,null,null,"2021-01-01","00:00:00","2021-01-01","2021-01-01","2021-01-01",0,0,0,0,0,0,"","",0,0,0]
[null,null,null,null,null,null,null,null,null,null,null,null,null,null,null,null,"2021-01-01","00:00:00","2021-01-01","2021-01-01","2021-01-01",0,0,0,0,0,0,"","",0,0,0]
[null,null,null,null,null,null,null,null,null,null,null,null,null,null,null,null,"2021-01-01","00:00:00","2021-01-01","2021-01-01","2021-01-01",0,0,0,0,0,0,"","",0,0,0]
[null,null,null,null,null,null,null,null,null,null,null,null,null,null,null,null,"2021-01-01","00:00:00","2021-01-01","2021-01-01","2021-01-01",0,0,0,0,0,0,"","",0,0,0]
[null,null,null,null,null,null,null,null,null,null,null,null,null,null,null,null,"2021-01-01","00:00:00","2021-01-01","2021-01-01","2021-01-01",0,0,0,0,0,0,"","",0,0,0]
[null,null,null,null,null,null,null,null,null,null,null,null,null,null,null,null,"2021-01-01","00:00:00","2021-01-01","2021-01-01","2021-01-01",0,0,0,0,0,0,"","",0,0,0]
[null,null,null,null,null,null,null,null,null,null,null,null,null,null,null,null,"2021-01-01","00:00:00","2021-01-01","2021-01-01","2021-01-01",0,0,0,0,0,0,"","",0,0,0]
[null,null,null,null,null,null,null,null,null,null,null,null,null,null,null,null,"2021-01-01","00:00:00","2021-01-01","2021-01-01","2021-01-01",0,0,0,0,0,0,"","",0,0,0]
[null,null,null,null,null,null,null,null,null,null,null,null,null,null,null,null,"2021-01-01","00:00:00","2021-01-01","2021-01-01","2021-01-01",0,0,0,0,0,0,"","",0,0,0]
[null,null,null,null,null,null,null,null,null,null,null,null,null,null,null,null,"2021-01-01","00:00:00","2021-01-01","2021-01-01","2021-01-01",0,0,0,0,0,0,"","",0,0,0]
[null,null,null,null,null,null,null,null,null,null,null,null,null,null,null,null,"2021-01-01","00:00:00","2021-01-01","2021-01-01","2021-01-01",0,0,0,0,0,0,"","",0,0,0]
[null,null,null,null,null,null,null,null,null,null,null,null,null,null,null,null,"2021-01-01","00:00:00","2021-01-01","2021-01-01","2021-01-01",0,0,0,0,0,0,"","",0,0,0]
[null,null,null,null,null,null,null,null,null,null,null,null,null,null,null,null,"2021-01-01","00:00:00","2021-01-01","2021-01-01","2021-01-01",0,0,0,0,0,0,"","",0,0,0]
[null,null,null,null,null,null,null,null,null,null,null,null,null,null,null,null,"2021-01-01","00:00:00","2021-01-01","2021-01-01","2021-01-01",0,0,0,0,0,0,"","",0,0,0]
[null,null,null,null,null,null,null,null,null,null,null,null,null,null,null,null,"2021-01-01","00:00:00","2021-01-01","2021-01-01","2021-01-01",0,0,0,0,0,0,"","",0,0,0]
[null,null,null,null,null,null,null,null,null,null,null,null,null,null,null,null,"2021-01-01","00:00:00","2021-01-01","2021-01-01","2021-01-01",0,0,0,0,0,0,"","",0,0,0]
[null,null,null,null,null,null,null,null,null,null,null,null,null,null,null,null,"2021-01-01","00:00:00","2021-01-01","2021-01-01","2021-01-01",0,0,0,0,0,0,"","",0,0,0]
[null,null,null,null,null,null,null,null,null,null,null,null,null,null,null,null,"2021-01-01","00:00:00","2021-01-01","2021-01-01","2021-01-01",0,0,0,0,0,0,"","",0,0,0]
[null,null,null,null,null,null,null,null,null,null,null,null,null,null,null,null,"2021-01-01","00:00:00","2021-01-01","2021-01-01","2021-01-01",0,0,0,0,0,0,"","",0,0,0]
[null,null,null,null,null,null,null,null,null,null,null,null,null,null,null,null,"2021-01-01","00:00:00","2021-01-01","2021-01-01","2021-01-01",0,0,0,0,0,0,"","",0,0,0]
[null,null,null,null,null,null,null,null,null,null,null,null,null,null,null,null,"2021-01-01","00:00:00","2021-01-01","2021-01-01","2021-01-01",0,0,0,0,0,0,"","",0,0,0]
[null,null,null,null,null,null,null,null,null,null,null,null,null,null,null,null,"2021-01-01","00:00:00","2021-01-01","2021-01-01","2021-01-01",0,0,0,0,0,0,"","",0,0,0]
[null,null,null,null,null,null,null,null,null,null,null,null,null,null,null,null,"2021-01-01","00:00:00","2021-01-01","2021-01-01","2021-01-01",0,0,0,0,0,0,"","",0,{"$f":"IF(OR($Q1667>$Q$1,$R1667<$Q$1),0,YEARFRAC($E1667,$Q1667,1))*12","v":0},{"$f":"IF(OR($Q1667>$R$1,$R1667<$R$1),0,YEARFRAC($E1667,$R1667,1))*12","v":0}]
[null,null,null,null,null,null,null,null,null,null,null,null,null,null,null,null,{"$f":"IF(OR(K1668<$Q$1,K1668=\"Altbestand\"),$Q$1,IF(AND(K1668=\"Nachzucht\",E1668>$Q$1),E1668,IF(K1668=\"Nachzucht\",$Q$1,K1668)))","v":"2021-01-01"},{"$f":"IF(OR(L1668>$R$1,L1668=\"Nein\"),$R$1,L1668)","v":"00:00:00"},{"$f":"IF(OR(R1668<Q1668,(E1668+183)<Q1668),Q1668,IF((E1668+183)>R1668,R1668,(E1668+183)))","v":"2021-01-01"},{"$f":"IF(OR(S1668=R1668,(E1668+365)<Q1668,R1668<Q1668),S1668,IF((E1668+365)>R1668,R1668,(E1668+365)))","v":"2021-01-01"},{"$f":"IF(OR(T1668=R1668,S1668=R1668,(E1668+365*2)<Q1668,R1668<Q1668),T1668,IF((E1668+365*2)>R1668,R1668,(E1668+365*2)))","v":"2021-01-01"},{"$f":"IF(AC1668=\"Kuh\",\"Kuh\",F1668)","v":0},{"$f":"S1668-Q1668","v":0},{"$f":"+T1668-S1668","v":0},{"$f":"+U1668-T1668","v":0},{"$f":"IF(AB1668=\"\",0,AB1668-AA1668)","v":0},{"$f":"SUM(W1668:Y1668)","v":0},{"$f":"IF(R1668<Q1668,\"\",R1668-Q1668)","v":""},{"$f":"IF(OR((ISNA(VLOOKUP(C1668,$I$3:$I$138,1,FALSE))=FALSE),AND(AD1668>1200,F1668=\"w\"),M1668=\"Ja\"),\"Kuh\",\"\")","v":""},{"$f":"IF(OR(L1668=\"Nein\",L1668=\"Ja\"),$R$1-E1668,L1668-E1668)","v":0},0,0]
[null,null,null,null,null,null,null,null,null,null,null,null,null,null,null,null,"2021-01-01","00:00:00","2021-01-01","2021-01-01","2021-01-01",0,0,0,0,0,0,"","",0,0,0]
[null,null,null,null,null,null,null,null,null,null,null,null,null,null,null,null,"2021-01-01","00:00:00","2021-01-01","2021-01-01","2021-01-01",0,0,0,0,0,0,"","",0,0,0]
[null,null,null,null,null,null,null,null,null,null,null,null,null,null,null,null,"2021-01-01","00:00:00","2021-01-01","2021-01-01","2021-01-01",0,0,0,0,0,0,"","",0,0,0]
[null,null,null,null,null,null,null,null,null,null,null,null,null,null,null,null,"2021-01-01","00:00:00","2021-01-01","2021-01-01","2021-01-01",0,0,0,0,0,0,"","",0,0,0]
[null,null,null,null,null,null,null,null,null,null,null,null,null,null,null,null,"2021-01-01","00:00:00","2021-01-01","2021-01-01","2021-01-01",0,0,0,0,0,0,"","",0,0,0]
[null,null,null,null,null,null,null,null,null,null,null,null,null,null,null,null,"2021-01-01","00:00:00","2021-01-01","2021-01-01","2021-01-01",0,0,0,0,0,0,"","",0,0,0]
[null,null,null,null,null,null,null,null,null,null,null,null,null,null,null,null,"2021-01-01","00:00:00","2021-01-01","2021-01-01","2021-01-01",0,0,0,0,0,0,"","",0,0,0]
[null,null,null,null,null,null,null,null,null,null,null,null,null,null,null,null,"2021-01-01","00:00:00","2021-01-01","2021-01-01","2021-01-01",0,0,0,0,0,0,"","",0,0,0]
[null,null,null,null,null,null,null,null,null,null,null,null,null,null,null,null,"2021-01-01","00:00:00","2021-01-01","2021-01-01","2021-01-01",0,0,0,0,0,0,"","",0,0,0]
[null,null,null,null,null,null,null,null,null,null,null,null,null,null,null,null,"2021-01-01","00:00:00","2021-01-01","2021-01-01","2021-01-01",0,0,0,0,0,0,"","",0,0,0]
[null,null,null,null,null,null,null,null,null,null,null,null,null,null,null,null,"2021-01-01","00:00:00","2021-01-01","2021-01-01","2021-01-01",0,0,0,0,0,0,"","",0,0,0]
[null,null,null,null,null,null,null,null,null,null,null,null,null,null,null,null,"2021-01-01","00:00:00","2021-01-01","2021-01-01","2021-01-01",0,0,0,0,0,0,"","",0,0,0]
[null,null,null,null,null,null,null,null,null,null,null,null,null,null,null,null,"2021-01-01","00:00:00","2021-01-01","2021-01-01","2021-01-01",0,0,0,0,0,0,"","",0,0,0]
[null,null,null,null,null,null,null,null,null,null,null,null,null,null,null,null,"2021-01-01","00:00:00","2021-01-01","2021-01-01","2021-01-01",0,0,0,0,0,0,"","",0,0,0]
[null,null,null,null,null,null,null,null,null,null,null,null,null,null,null,null,"2021-01-01","00:00:00","2021-01-01","2021-01-01","2021-01-01",0,0,0,0,0,0,"","",0,0,0]
[null,null,null,null,null,null,null,null,null,null,null,null,null,null,null,null,"2021-01-01","00:00:00","2021-01-01","2021-01-01","2021-01-01",0,0,0,0,0,0,"","",0,0,0]
[null,null,null,null,null,null,null,null,null,null,null,null,null,null,null,null,"2021-01-01","00:00:00","2021-01-01","2021-01-01","2021-01-01",0,0,0,0,0,0,"","",0,0,0]
[null,null,null,null,null,null,null,null,null,null,null,null,null,null,null,null,"2021-01-01","00:00:00","2021-01-01","2021-01-01","2021-01-01",0,0,0,0,0,0,"","",0,0,0]
[null,null,null,null,null,null,null,null,null,null,null,null,null,null,null,null,"2021-01-01","00:00:00","2021-01-01","2021-01-01","2021-01-01",0,0,0,0,0,0,"","",0,0,0]
[null,null,null,null,null,null,null,null,null,null,null,null,null,null,null,null,"2021-01-01","00:00:00","2021-01-01","2021-01-01","2021-01-01",0,0,0,0,0,0,"","",0,0,0]
[null,null,null,null,null,null,null,null,null,null,null,null,null,null,null,null,"2021-01-01","00:00:00","2021-01-01","2021-01-01","2021-01-01",0,0,0,0,0,0,"","",0,0,0]
[null,null,null,null,null,null,null,null,null,null,null,null,null,null,null,null,"2021-01-01","00:00:00","2021-01-01","2021-01-01","2021-01-01",0,0,0,0,0,0,"","",0,0,0]
[null,null,null,null,null,null,null,null,null,null,null,null,null,null,null,null,"2021-01-01","00:00:00","2021-01-01","2021-01-01","2021-01-01",0,0,0,0,0,0,"","",0,0,0]
[null,null,null,null,null,null,null,null,null,null,null,null,null,null,null,null,"2021-01-01","00:00:00","2021-01-01","2021-01-01","2021-01-01",0,0,0,0,0,0,"","",0,0,0]
[null,null,null,null,null,null,null,null,null,null,null,null,null,null,null,null,"2021-01-01","00:00:00","2021-01-01","2021-01-01","2021-01-01",0,0,0,0,0,0,"","",0,0,0]
[null,null,null,null,null,null,null,null,null,null,null,null,null,null,null,null,"2021-01-01","00:00:00","2021-01-01","2021-01-01","2021-01-01",0,0,0,0,0,0,"","",0,0,0]
[null,null,null,null,null,null,null,null,null,null,null,null,null,null,null,null,"2021-01-01","00:00:00","2021-01-01","2021-01-01","2021-01-01",0,0,0,0,0,0,"","",0,0,0]
[null,null,null,null,null,null,null,null,null,null,null,null,null,null,null,null,"2021-01-01","00:00:00","2021-01-01","2021-01-01","2021-01-01",0,0,0,0,0,0,"","",0,0,0]
[null,null,null,null,null,null,null,null,null,null,null,null,null,null,null,null,"2021-01-01","00:00:00","2021-01-01","2021-01-01","2021-01-01",0,0,0,0,0,0,"","",0,0,0]
[null,null,null,null,null,null,null,null,null,null,null,null,null,null,null,null,"2021-01-01","00:00:00","2021-01-01","2021-01-01","2021-01-01",0,0,0,0,0,0,"","",0,0,0]
[null,null,null,null,null,null,null,null,null,null,null,null,null,null,null,null,"2021-01-01","00:00:00","2021-01-01","2021-01-01","2021-01-01",0,0,0,0,0,0,"","",0,0,0]
[null,null,null,null,null,null,null,null,null,null,null,null,null,null,null,null,"2021-01-01","00:00:00","2021-01-01","2021-01-01","2021-01-01",0,0,0,0,0,0,"","",0,0,0]
[null,null,null,null,null,null,null,null,null,null,null,null,null,null,null,null,"2021-01-01","00:00:00","2021-01-01","2021-01-01","2021-01-01",0,0,0,0,0,0,"","",0,0,0]
[null,null,null,null,null,null,null,null,null,null,null,null,null,null,null,null,"2021-01-01","00:00:00","2021-01-01","2021-01-01","2021-01-01",0,0,0,0,0,0,"","",0,0,0]
[null,null,null,null,null,null,null,null,null,null,null,null,null,null,null,null,"2021-01-01","00:00:00","2021-01-01","2021-01-01","2021-01-01",0,0,0,0,0,0,"","",0,0,0]
[null,null,null,null,null,null,null,null,null,null,null,null,null,null,null,null,"2021-01-01","00:00:00","2021-01-01","2021-01-01","2021-01-01",0,0,0,0,0,0,"","",0,0,0]
[null,null,null,null,null,null,null,null,null,null,null,null,null,null,null,null,"2021-01-01","00:00:00","2021-01-01","2021-01-01","2021-01-01",0,0,0,0,0,0,"","",0,0,0]
[null,null,null,null,null,null,null,null,null,null,null,null,null,null,null,null,"2021-01-01","00:00:00","2021-01-01","2021-01-01","2021-01-01",0,0,0,0,0,0,"","",0,0,0]
[null,null,null,null,null,null,null,null,null,null,null,null,null,null,null,null,"2021-01-01","00:00:00","2021-01-01","2021-01-01","2021-01-01",0,0,0,0,0,0,"","",0,0,0]
[null,null,null,null,null,null,null,null,null,null,null,null,null,null,null,null,"2021-01-01","00:00:00","2021-01-01","2021-01-01","2021-01-01",0,0,0,0,0,0,"","",0,0,0]
[null,null,null,null,null,null,null,null,null,null,null,null,null,null,null,null,"2021-01-01","00:00:00","2021-01-01","2021-01-01","2021-01-01",0,0,0,0,0,0,"","",0,0,0]
[null,null,null,null,null,null,null,null,null,null,null,null,null,null,null,null,"2021-01-01","00:00:00","2021-01-01","2021-01-01","2021-01-01",0,0,0,0,0,0,"","",0,0,0]
[null,null,null,null,null,null,null,null,null,null,null,null,null,null,null,null,"2021-01-01","00:00:00","2021-01-01","2021-01-01","2021-01-01",0,0,0,0,0,0,"","",0,0,0]
[null,null,null,null,null,null,null,null,null,null,null,null,null,null,null,null,"2021-01-01","00:00:00","2021-01-01","2021-01-01","2021-01-01",0,0,0,0,0,0,"","",0,0,0]
[null,null,null,null,null,null,null,null,null,null,null,null,null,null,null,null,"2021-01-01","00:00:00","2021-01-01","2021-01-01","2021-01-01",0,0,0,0,0,0,"","",0,0,0]
[null,null,null,null,null,null,null,null,null,null,null,null,null,null,null,null,"2021-01-01","00:00:00","2021-01-01","2021-01-01","2021-01-01",0,0,0,0,0,0,"","",0,0,0]
[null,null,null,null,null,null,null,null,null,null,null,null,null,null,null,null,"2021-01-01","00:00:00","2021-01-01","2021-01-01","2021-01-01",0,0,0,0,0,0,"","",0,0,0]
[null,null,null,null,null,null,null,null,null,null,null,null,null,null,null,null,"2021-01-01","00:00:00","2021-01-01","2021-01-01","2021-01-01",0,0,0,0,0,0,"","",0,0,0]
[null,null,null,null,null,null,null,null,null,null,null,null,null,null,null,null,"2021-01-01","00:00:00","2021-01-01","2021-01-01","2021-01-01",0,0,0,0,0,0,"","",0,0,0]
[null,null,null,null,null,null,null,null,null,null,null,null,null,null,null,null,"2021-01-01","00:00:00","2021-01-01","2021-01-01","2021-01-01",0,0,0,0,0,0,"","",0,0,0]
[null,null,null,null,null,null,null,null,null,null,null,null,null,null,null,null,"2021-01-01","00:00:00","2021-01-01","2021-01-01","2021-01-01",0,0,0,0,0,0,"","",0,0,0]
[null,null,null,null,null,null,null,null,null,null,null,null,null,null,null,null,"2021-01-01","00:00:00","2021-01-01","2021-01-01","2021-01-01",0,0,0,0,0,0,"","",0,0,0]
[null,null,null,null,null,null,null,null,null,null,null,null,null,null,null,null,"2021-01-01","00:00:00","2021-01-01","2021-01-01","2021-01-01",0,0,0,0,0,0,"","",0,0,0]
[null,null,null,null,null,null,null,null,null,null,null,null,null,null,null,null,"2021-01-01","00:00:00","2021-01-01","2021-01-01","2021-01-01",0,0,0,0,0,0,"","",0,0,0]
[null,null,null,null,null,null,null,null,null,null,null,null,null,null,null,null,"2021-01-01","00:00:00","2021-01-01","2021-01-01","2021-01-01",0,0,0,0,0,0,"","",0,0,0]
[null,null,null,null,null,null,null,null,null,null,null,null,null,null,null,null,"2021-01-01","00:00:00","2021-01-01","2021-01-01","2021-01-01",0,0,0,0,0,0,"","",0,0,0]
[null,null,null,null,null,null,null,null,null,null,null,null,null,null,null,null,"2021-01-01","00:00:00","2021-01-01","2021-01-01","2021-01-01",0,0,0,0,0,0,"","",0,0,0]
[null,null,null,null,null,null,null,null,null,null,null,null,null,null,null,null,"2021-01-01","00:00:00","2021-01-01","2021-01-01","2021-01-01",0,0,0,0,0,0,"","",0,0,0]
[null,null,null,null,null,null,null,null,null,null,null,null,null,null,null,null,"2021-01-01","00:00:00","2021-01-01","2021-01-01","2021-01-01",0,0,0,0,0,0,"","",0,0,0]
[null,null,null,null,null,null,null,null,null,null,null,null,null,null,null,null,"2021-01-01","00:00:00","2021-01-01","2021-01-01","2021-01-01",0,0,0,0,0,0,"","",0,0,0]
[null,null,null,null,null,null,null,null,null,null,null,null,null,null,null,null,"2021-01-01","00:00:00","2021-01-01","2021-01-01","2021-01-01",0,0,0,0,0,0,"","",0,0,0]
[null,null,null,null,null,null,null,null,null,null,null,null,null,null,null,null,"2021-01-01","00:00:00","2021-01-01","2021-01-01","2021-01-01",0,0,0,0,0,0,"","",0,0,0]
[null,null,null,null,null,null,null,null,null,null,null,null,null,null,null,null,"2021-01-01","00:00:00","2021-01-01","2021-01-01","2021-01-01",0,0,0,0,0,0,"","",0,{"$f":"IF(OR($Q1731>$Q$1,$R1731<$Q$1),0,YEARFRAC($E1731,$Q1731,1))*12","v":0},{"$f":"IF(OR($Q1731>$R$1,$R1731<$R$1),0,YEARFRAC($E1731,$R1731,1))*12","v":0}]
[null,null,null,null,null,null,null,null,null,null,null,null,null,null,null,null,{"$f":"IF(OR(K1732<$Q$1,K1732=\"Altbestand\"),$Q$1,IF(AND(K1732=\"Nachzucht\",E1732>$Q$1),E1732,IF(K1732=\"Nachzucht\",$Q$1,K1732)))","v":"2021-01-01"},{"$f":"IF(OR(L1732>$R$1,L1732=\"Nein\"),$R$1,L1732)","v":"00:00:00"},{"$f":"IF(OR(R1732<Q1732,(E1732+183)<Q1732),Q1732,IF((E1732+183)>R1732,R1732,(E1732+183)))","v":"2021-01-01"},{"$f":"IF(OR(S1732=R1732,(E1732+365)<Q1732,R1732<Q1732),S1732,IF((E1732+365)>R1732,R1732,(E1732+365)))","v":"2021-01-01"},{"$f":"IF(OR(T1732=R1732,S1732=R1732,(E1732+365*2)<Q1732,R1732<Q1732),T1732,IF((E1732+365*2)>R1732,R1732,(E1732+365*2)))","v":"2021-01-01"},{"$f":"IF(AC1732=\"Kuh\",\"Kuh\",F1732)","v":0},{"$f":"S1732-Q1732","v":0},{"$f":"+T1732-S1732","v":0},{"$f":"+U1732-T1732","v":0},{"$f":"IF(AB1732=\"\",0,AB1732-AA1732)","v":0},{"$f":"SUM(W1732:Y1732)","v":0},{"$f":"IF(R1732<Q1732,\"\",R1732-Q1732)","v":""},{"$f":"IF(OR((ISNA(VLOOKUP(C1732,$I$3:$I$138,1,FALSE))=FALSE),AND(AD1732>1200,F1732=\"w\"),M1732=\"Ja\"),\"Kuh\",\"\")","v":""},{"$f":"IF(OR(L1732=\"Nein\",L1732=\"Ja\"),$R$1-E1732,L1732-E1732)","v":0},0,0]
[null,null,null,null,null,null,null,null,null,null,null,null,null,null,null,null,"2021-01-01","00:00:00","2021-01-01","2021-01-01","2021-01-01",0,0,0,0,0,0,"","",0,0,0]
[null,null,null,null,null,null,null,null,null,null,null,null,null,null,null,null,"2021-01-01","00:00:00","2021-01-01","2021-01-01","2021-01-01",0,0,0,0,0,0,"","",0,0,0]
[null,null,null,null,null,null,null,null,null,null,null,null,null,null,null,null,"2021-01-01","00:00:00","2021-01-01","2021-01-01","2021-01-01",0,0,0,0,0,0,"","",0,0,0]
[null,null,null,null,null,null,null,null,null,null,null,null,null,null,null,null,"2021-01-01","00:00:00","2021-01-01","2021-01-01","2021-01-01",0,0,0,0,0,0,"","",0,0,0]
[null,null,null,null,null,null,null,null,null,null,null,null,null,null,null,null,"2021-01-01","00:00:00","2021-01-01","2021-01-01","2021-01-01",0,0,0,0,0,0,"","",0,0,0]
[null,null,null,null,null,null,null,null,null,null,null,null,null,null,null,null,"2021-01-01","00:00:00","2021-01-01","2021-01-01","2021-01-01",0,0,0,0,0,0,"","",0,0,0]
[null,null,null,null,null,null,null,null,null,null,null,null,null,null,null,null,"2021-01-01","00:00:00","2021-01-01","2021-01-01","2021-01-01",0,0,0,0,0,0,"","",0,0,0]
[null,null,null,null,null,null,null,null,null,null,null,null,null,null,null,null,"2021-01-01","00:00:00","2021-01-01","2021-01-01","2021-01-01",0,0,0,0,0,0,"","",0,0,0]
[null,null,null,null,null,null,null,null,null,null,null,null,null,null,null,null,"2021-01-01","00:00:00","2021-01-01","2021-01-01","2021-01-01",0,0,0,0,0,0,"","",0,0,0]
[null,null,null,null,null,null,null,null,null,null,null,null,null,null,null,null,"2021-01-01","00:00:00","2021-01-01","2021-01-01","2021-01-01",0,0,0,0,0,0,"","",0,0,0]
[null,null,null,null,null,null,null,null,null,null,null,null,null,null,null,null,"2021-01-01","00:00:00","2021-01-01","2021-01-01","2021-01-01",0,0,0,0,0,0,"","",0,0,0]
[null,null,null,null,null,null,null,null,null,null,null,null,null,null,null,null,"2021-01-01","00:00:00","2021-01-01","2021-01-01","2021-01-01",0,0,0,0,0,0,"","",0,0,0]
[null,null,null,null,null,null,null,null,null,null,null,null,null,null,null,null,"2021-01-01","00:00:00","2021-01-01","2021-01-01","2021-01-01",0,0,0,0,0,0,"","",0,0,0]
[null,null,null,null,null,null,null,null,null,null,null,null,null,null,null,null,"2021-01-01","00:00:00","2021-01-01","2021-01-01","2021-01-01",0,0,0,0,0,0,"","",0,0,0]
[null,null,null,null,null,null,null,null,null,null,null,null,null,null,null,null,"2021-01-01","00:00:00","2021-01-01","2021-01-01","2021-01-01",0,0,0,0,0,0,"","",0,0,0]
[null,null,null,null,null,null,null,null,null,null,null,null,null,null,null,null,"2021-01-01","00:00:00","2021-01-01","2021-01-01","2021-01-01",0,0,0,0,0,0,"","",0,0,0]
[null,null,null,null,null,null,null,null,null,null,null,null,null,null,null,null,"2021-01-01","00:00:00","2021-01-01","2021-01-01","2021-01-01",0,0,0,0,0,0,"","",0,0,0]
[null,null,null,null,null,null,null,null,null,null,null,null,null,null,null,null,"2021-01-01","00:00:00","2021-01-01","2021-01-01","2021-01-01",0,0,0,0,0,0,"","",0,0,0]
[null,null,null,null,null,null,null,null,null,null,null,null,null,null,null,null,"2021-01-01","00:00:00","2021-01-01","2021-01-01","2021-01-01",0,0,0,0,0,0,"","",0,0,0]
[null,null,null,null,null,null,null,null,null,null,null,null,null,null,null,null,"2021-01-01","00:00:00","2021-01-01","2021-01-01","2021-01-01",0,0,0,0,0,0,"","",0,0,0]
[null,null,null,null,null,null,null,null,null,null,null,null,null,null,null,null,"2021-01-01","00:00:00","2021-01-01","2021-01-01","2021-01-01",0,0,0,0,0,0,"","",0,0,0]
[null,null,null,null,null,null,null,null,null,null,null,null,null,null,null,null,"2021-01-01","00:00:00","2021-01-01","2021-01-01","2021-01-01",0,0,0,0,0,0,"","",0,0,0]
[null,null,null,null,null,null,null,null,null,null,null,null,null,null,null,null,"2021-01-01","00:00:00","2021-01-01","2021-01-01","2021-01-01",0,0,0,0,0,0,"","",0,0,0]
[null,null,null,null,null,null,null,null,null,null,null,null,null,null,null,null,"2021-01-01","00:00:00","2021-01-01","2021-01-01","2021-01-01",0,0,0,0,0,0,"","",0,0,0]
[null,null,null,null,null,null,null,null,null,null,null,null,null,null,null,null,"2021-01-01","00:00:00","2021-01-01","2021-01-01","2021-01-01",0,0,0,0,0,0,"","",0,0,0]
[null,null,null,null,null,null,null,null,null,null,null,null,null,null,null,null,"2021-01-01","00:00:00","2021-01-01","2021-01-01","2021-01-01",0,0,0,0,0,0,"","",0,0,0]
[null,null,null,null,null,null,null,null,null,null,null,null,null,null,null,null,"2021-01-01","00:00:00","2021-01-01","2021-01-01","2021-01-01",0,0,0,0,0,0,"","",0,0,0]
[null,null,null,null,null,null,null,null,null,null,null,null,null,null,null,null,"2021-01-01","00:00:00","2021-01-01","2021-01-01","2021-01-01",0,0,0,0,0,0,"","",0,0,0]
[null,null,null,null,null,null,null,null,null,null,null,null,null,null,null,null,"2021-01-01","00:00:00","2021-01-01","2021-01-01","2021-01-01",0,0,0,0,0,0,"","",0,0,0]
[null,null,null,null,null,null,null,null,null,null,null,null,null,null,null,null,"2021-01-01","00:00:00","2021-01-01","2021-01-01","2021-01-01",0,0,0,0,0,0,"","",0,0,0]
[null,null,null,null,null,null,null,null,null,null,null,null,null,null,null,null,"2021-01-01","00:00:00","2021-01-01","2021-01-01","2021-01-01",0,0,0,0,0,0,"","",0,0,0]
[null,null,null,null,null,null,null,null,null,null,null,null,null,null,null,null,"2021-01-01","00:00:00","2021-01-01","2021-01-01","2021-01-01",0,0,0,0,0,0,"","",0,0,0]
[null,null,null,null,null,null,null,null,null,null,null,null,null,null,null,null,"2021-01-01","00:00:00","2021-01-01","2021-01-01","2021-01-01",0,0,0,0,0,0,"","",0,0,0]
[null,null,null,null,null,null,null,null,null,null,null,null,null,null,null,null,"2021-01-01","00:00:00","2021-01-01","2021-01-01","2021-01-01",0,0,0,0,0,0,"","",0,0,0]
[null,null,null,null,null,null,null,null,null,null,null,null,null,null,null,null,"2021-01-01","00:00:00","2021-01-01","2021-01-01","2021-01-01",0,0,0,0,0,0,"","",0,0,0]
[null,null,null,null,null,null,null,null,null,null,null,null,null,null,null,null,"2021-01-01","00:00:00","2021-01-01","2021-01-01","2021-01-01",0,0,0,0,0,0,"","",0,0,0]
[null,null,null,null,null,null,null,null,null,null,null,null,null,null,null,null,"2021-01-01","00:00:00","2021-01-01","2021-01-01","2021-01-01",0,0,0,0,0,0,"","",0,0,0]
[null,null,null,null,null,null,null,null,null,null,null,null,null,null,null,null,"2021-01-01","00:00:00","2021-01-01","2021-01-01","2021-01-01",0,0,0,0,0,0,"","",0,0,0]
[null,null,null,null,null,null,null,null,null,null,null,null,null,null,null,null,"2021-01-01","00:00:00","2021-01-01","2021-01-01","2021-01-01",0,0,0,0,0,0,"","",0,0,0]
[null,null,null,null,null,null,null,null,null,null,null,null,null,null,null,null,"2021-01-01","00:00:00","2021-01-01","2021-01-01","2021-01-01",0,0,0,0,0,0,"","",0,0,0]
[null,null,null,null,null,null,null,null,null,null,null,null,null,null,null,null,"2021-01-01","00:00:00","2021-01-01","2021-01-01","2021-01-01",0,0,0,0,0,0,"","",0,0,0]
[null,null,null,null,null,null,null,null,null,null,null,null,null,null,null,null,"2021-01-01","00:00:00","2021-01-01","2021-01-01","2021-01-01",0,0,0,0,0,0,"","",0,0,0]
[null,null,null,null,null,null,null,null,null,null,null,null,null,null,null,null,"2021-01-01","00:00:00","2021-01-01","2021-01-01","2021-01-01",0,0,0,0,0,0,"","",0,0,0]
[null,null,null,null,null,null,null,null,null,null,null,null,null,null,null,null,"2021-01-01","00:00:00","2021-01-01","2021-01-01","2021-01-01",0,0,0,0,0,0,"","",0,0,0]
[null,null,null,null,null,null,null,null,null,null,null,null,null,null,null,null,"2021-01-01","00:00:00","2021-01-01","2021-01-01","2021-01-01",0,0,0,0,0,0,"","",0,0,0]
[null,null,null,null,null,null,null,null,null,null,null,null,null,null,null,null,"2021-01-01","00:00:00","2021-01-01","2021-01-01","2021-01-01",0,0,0,0,0,0,"","",0,0,0]
[null,null,null,null,null,null,null,null,null,null,null,null,null,null,null,null,"2021-01-01","00:00:00","2021-01-01","2021-01-01","2021-01-01",0,0,0,0,0,0,"","",0,0,0]
[null,null,null,null,null,null,null,null,null,null,null,null,null,null,null,null,"2021-01-01","00:00:00","2021-01-01","2021-01-01","2021-01-01",0,0,0,0,0,0,"","",0,0,0]
[null,null,null,null,null,null,null,null,null,null,null,null,null,null,null,null,"2021-01-01","00:00:00","2021-01-01","2021-01-01","2021-01-01",0,0,0,0,0,0,"","",0,0,0]
[null,null,null,null,null,null,null,null,null,null,null,null,null,null,null,null,"2021-01-01","00:00:00","2021-01-01","2021-01-01","2021-01-01",0,0,0,0,0,0,"","",0,0,0]
[null,null,null,null,null,null,null,null,null,null,null,null,null,null,null,null,"2021-01-01","00:00:00","2021-01-01","2021-01-01","2021-01-01",0,0,0,0,0,0,"","",0,0,0]
[null,null,null,null,null,null,null,null,null,null,null,null,null,null,null,null,"2021-01-01","00:00:00","2021-01-01","2021-01-01","2021-01-01",0,0,0,0,0,0,"","",0,0,0]
[null,null,null,null,null,null,null,null,null,null,null,null,null,null,null,null,"2021-01-01","00:00:00","2021-01-01","2021-01-01","2021-01-01",0,0,0,0,0,0,"","",0,0,0]
[null,null,null,null,null,null,null,null,null,null,null,null,null,null,null,null,"2021-01-01","00:00:00","2021-01-01","2021-01-01","2021-01-01",0,0,0,0,0,0,"","",0,0,0]
[null,null,null,null,null,null,null,null,null,null,null,null,null,null,null,null,"2021-01-01","00:00:00","2021-01-01","2021-01-01","2021-01-01",0,0,0,0,0,0,"","",0,0,0]
[null,null,null,null,null,null,null,null,null,null,null,null,null,null,null,null,"2021-01-01","00:00:00","2021-01-01","2021-01-01","2021-01-01",0,0,0,0,0,0,"","",0,0,0]
[null,null,null,null,null,null,null,null,null,null,null,null,null,null,null,null,"2021-01-01","00:00:00","2021-01-01","2021-01-01","2021-01-01",0,0,0,0,0,0,"","",0,0,0]
[null,null,null,null,null,null,null,null,null,null,null,null,null,null,null,null,"2021-01-01","00:00:00","2021-01-01","2021-01-01","2021-01-01",0,0,0,0,0,0,"","",0,0,0]
[null,null,null,null,null,null,null,null,null,null,null,null,null,null,null,null,"2021-01-01","00:00:00","2021-01-01","2021-01-01","2021-01-01",0,0,0,0,0,0,"","",0,0,0]
[null,null,null,null,null,null,null,null,null,null,null,null,null,null,null,null,"2021-01-01","00:00:00","2021-01-01","2021-01-01","2021-01-01",0,0,0,0,0,0,"","",0,0,0]
[null,null,null,null,null,null,null,null,null,null,null,null,null,null,null,null,"2021-01-01","00:00:00","2021-01-01","2021-01-01","2021-01-01",0,0,0,0,0,0,"","",0,0,0]
[null,null,null,null,null,null,null,null,null,null,null,null,null,null,null,null,"2021-01-01","00:00:00","2021-01-01","2021-01-01","2021-01-01",0,0,0,0,0,0,"","",0,0,0]
[null,null,null,null,null,null,null,null,null,null,null,null,null,null,null,null,"2021-01-01","00:00:00","2021-01-01","2021-01-01","2021-01-01",0,0,0,0,0,0,"","",0,{"$f":"IF(OR($Q1795>$Q$1,$R1795<$Q$1),0,YEARFRAC($E1795,$Q1795,1))*12","v":0},{"$f":"IF(OR($Q1795>$R$1,$R1795<$R$1),0,YEARFRAC($E1795,$R1795,1))*12","v":0}]
[null,null,null,null,null,null,null,null,null,null,null,null,null,null,null,null,{"$f":"IF(OR(K1796<$Q$1,K1796=\"Altbestand\"),$Q$1,IF(AND(K1796=\"Nachzucht\",E1796>$Q$1),E1796,IF(K1796=\"Nachzucht\",$Q$1,K1796)))","v":"2021-01-01"},{"$f":"IF(OR(L1796>$R$1,L1796=\"Nein\"),$R$1,L1796)","v":"00:00:00"},{"$f":"IF(OR(R1796<Q1796,(E1796+183)<Q1796),Q1796,IF((E1796+183)>R1796,R1796,(E1796+183)))","v":"2021-01-01"},{"$f":"IF(OR(S1796=R1796,(E1796+365)<Q1796,R1796<Q1796),S1796,IF((E1796+365)>R1796,R1796,(E1796+365)))","v":"2021-01-01"},{"$f":"IF(OR(T1796=R1796,S1796=R1796,(E1796+365*2)<Q1796,R1796<Q1796),T1796,IF((E1796+365*2)>R1796,R1796,(E1796+365*2)))","v":"2021-01-01"},{"$f":"IF(AC1796=\"Kuh\",\"Kuh\",F1796)","v":0},{"$f":"S1796-Q1796","v":0},{"$f":"+T1796-S1796","v":0},{"$f":"+U1796-T1796","v":0},{"$f":"IF(AB1796=\"\",0,AB1796-AA1796)","v":0},{"$f":"SUM(W1796:Y1796)","v":0},{"$f":"IF(R1796<Q1796,\"\",R1796-Q1796)","v":""},{"$f":"IF(OR((ISNA(VLOOKUP(C1796,$I$3:$I$138,1,FALSE))=FALSE),AND(AD1796>1200,F1796=\"w\"),M1796=\"Ja\"),\"Kuh\",\"\")","v":""},{"$f":"IF(OR(L1796=\"Nein\",L1796=\"Ja\"),$R$1-E1796,L1796-E1796)","v":0},0,0]
[null,null,null,null,null,null,null,null,null,null,null,null,null,null,null,null,"2021-01-01","00:00:00","2021-01-01","2021-01-01","2021-01-01",0,0,0,0,0,0,"","",0,0,0]
[null,null,null,null,null,null,null,null,null,null,null,null,null,null,null,null,"2021-01-01","00:00:00","2021-01-01","2021-01-01","2021-01-01",0,0,0,0,0,0,"","",0,0,0]
[null,null,null,null,null,null,null,null,null,null,null,null,null,null,null,null,"2021-01-01","00:00:00","2021-01-01","2021-01-01","2021-01-01",0,0,0,0,0,0,"","",0,0,0]
[null,null,null,null,null,null,null,null,null,null,null,null,null,null,null,null,"2021-01-01","00:00:00","2021-01-01","2021-01-01","2021-01-01",0,0,0,0,0,0,"","",0,0,0]
[null,null,null,null,null,null,null,null,null,null,null,null,null,null,null,null,"2021-01-01","00:00:00","2021-01-01","2021-01-01","2021-01-01",0,0,0,0,0,0,"","",0,0,0]
[null,null,null,null,null,null,null,null,null,null,null,null,null,null,null,null,"2021-01-01","00:00:00","2021-01-01","2021-01-01","2021-01-01",0,0,0,0,0,0,"","",0,0,0]
[null,null,null,null,null,null,null,null,null,null,null,null,null,null,null,null,"2021-01-01","00:00:00","2021-01-01","2021-01-01","2021-01-01",0,0,0,0,0,0,"","",0,0,0]
[null,null,null,null,null,null,null,null,null,null,null,null,null,null,null,null,"2021-01-01","00:00:00","2021-01-01","2021-01-01","2021-01-01",0,0,0,0,0,0,"","",0,0,0]
[null,null,null,null,null,null,null,null,null,null,null,null,null,null,null,null,"2021-01-01","00:00:00","2021-01-01","2021-01-01","2021-01-01",0,0,0,0,0,0,"","",0,0,0]
[null,null,null,null,null,null,null,null,null,null,null,null,null,null,null,null,"2021-01-01","00:00:00","2021-01-01","2021-01-01","2021-01-01",0,0,0,0,0,0,"","",0,0,0]
[null,null,null,null,null,null,null,null,null,null,null,null,null,null,null,null,"2021-01-01","00:00:00","2021-01-01","2021-01-01","2021-01-01",0,0,0,0,0,0,"","",0,0,0]
[null,null,null,null,null,null,null,null,null,null,null,null,null,null,null,null,"2021-01-01","00:00:00","2021-01-01","2021-01-01","2021-01-01",0,0,0,0,0,0,"","",0,0,0]
[null,null,null,null,null,null,null,null,null,null,null,null,null,null,null,null,"2021-01-01","00:00:00","2021-01-01","2021-01-01","2021-01-01",0,0,0,0,0,0,"","",0,0,0]
[null,null,null,null,null,null,null,null,null,null,null,null,null,null,null,null,"2021-01-01","00:00:00","2021-01-01","2021-01-01","2021-01-01",0,0,0,0,0,0,"","",0,0,0]
[null,null,null,null,null,null,null,null,null,null,null,null,null,null,null,null,"2021-01-01","00:00:00","2021-01-01","2021-01-01","2021-01-01",0,0,0,0,0,0,"","",0,0,0]
[null,null,null,null,null,null,null,null,null,null,null,null,null,null,null,null,"2021-01-01","00:00:00","2021-01-01","2021-01-01","2021-01-01",0,0,0,0,0,0,"","",0,0,0]
[null,null,null,null,null,null,null,null,null,null,null,null,null,null,null,null,"2021-01-01","00:00:00","2021-01-01","2021-01-01","2021-01-01",0,0,0,0,0,0,"","",0,0,0]
[null,null,null,null,null,null,null,null,null,null,null,null,null,null,null,null,"2021-01-01","00:00:00","2021-01-01","2021-01-01","2021-01-01",0,0,0,0,0,0,"","",0,0,0]
[null,null,null,null,null,null,null,null,null,null,null,null,null,null,null,null,"2021-01-01","00:00:00","2021-01-01","2021-01-01","2021-01-01",0,0,0,0,0,0,"","",0,0,0]
[null,null,null,null,null,null,null,null,null,null,null,null,null,null,null,null,"2021-01-01","00:00:00","2021-01-01","2021-01-01","2021-01-01",0,0,0,0,0,0,"","",0,0,0]
[null,null,null,null,null,null,null,null,null,null,null,null,null,null,null,null,"2021-01-01","00:00:00","2021-01-01","2021-01-01","2021-01-01",0,0,0,0,0,0,"","",0,0,0]
[null,null,null,null,null,null,null,null,null,null,null,null,null,null,null,null,"2021-01-01","00:00:00","2021-01-01","2021-01-01","2021-01-01",0,0,0,0,0,0,"","",0,0,0]
[null,null,null,null,null,null,null,null,null,null,null,null,null,null,null,null,"2021-01-01","00:00:00","2021-01-01","2021-01-01","2021-01-01",0,0,0,0,0,0,"","",0,0,0]
[null,null,null,null,null,null,null,null,null,null,null,null,null,null,null,null,"2021-01-01","00:00:00","2021-01-01","2021-01-01","2021-01-01",0,0,0,0,0,0,"","",0,0,0]
[null,null,null,null,null,null,null,null,null,null,null,null,null,null,null,null,"2021-01-01","00:00:00","2021-01-01","2021-01-01","2021-01-01",0,0,0,0,0,0,"","",0,0,0]
[null,null,null,null,null,null,null,null,null,null,null,null,null,null,null,null,"2021-01-01","00:00:00","2021-01-01","2021-01-01","2021-01-01",0,0,0,0,0,0,"","",0,0,0]
[null,null,null,null,null,null,null,null,null,null,null,null,null,null,null,null,"2021-01-01","00:00:00","2021-01-01","2021-01-01","2021-01-01",0,0,0,0,0,0,"","",0,0,0]
[null,null,null,null,null,null,null,null,null,null,null,null,null,null,null,null,"2021-01-01","00:00:00","2021-01-01","2021-01-01","2021-01-01",0,0,0,0,0,0,"","",0,0,0]
[null,null,null,null,null,null,null,null,null,null,null,null,null,null,null,null,"2021-01-01","00:00:00","2021-01-01","2021-01-01","2021-01-01",0,0,0,0,0,0,"","",0,0,0]
[null,null,null,null,null,null,null,null,null,null,null,null,null,null,null,null,"2021-01-01","00:00:00","2021-01-01","2021-01-01","2021-01-01",0,0,0,0,0,0,"","",0,0,0]
[null,null,null,null,null,null,null,null,null,null,null,null,null,null,null,null,"2021-01-01","00:00:00","2021-01-01","2021-01-01","2021-01-01",0,0,0,0,0,0,"","",0,0,0]
[null,null,null,null,null,null,null,null,null,null,null,null,null,null,null,null,"2021-01-01","00:00:00","2021-01-01","2021-01-01","2021-01-01",0,0,0,0,0,0,"","",0,0,0]
[null,null,null,null,null,null,null,null,null,null,null,null,null,null,null,null,"2021-01-01","00:00:00","2021-01-01","2021-01-01","2021-01-01",0,0,0,0,0,0,"","",0,0,0]
[null,null,null,null,null,null,null,null,null,null,null,null,null,null,null,null,"2021-01-01","00:00:00","2021-01-01","2021-01-01","2021-01-01",0,0,0,0,0,0,"","",0,0,0]
[null,null,null,null,null,null,null,null,null,null,null,null,null,null,null,null,"2021-01-01","00:00:00","2021-01-01","2021-01-01","2021-01-01",0,0,0,0,0,0,"","",0,0,0]
[null,null,null,null,null,null,null,null,null,null,null,null,null,null,null,null,"2021-01-01","00:00:00","2021-01-01","2021-01-01","2021-01-01",0,0,0,0,0,0,"","",0,0,0]
[null,null,null,null,null,null,null,null,null,null,null,null,null,null,null,null,"2021-01-01","00:00:00","2021-01-01","2021-01-01","2021-01-01",0,0,0,0,0,0,"","",0,0,0]
[null,null,null,null,null,null,null,null,null,null,null,null,null,null,null,null,"2021-01-01","00:00:00","2021-01-01","2021-01-01","2021-01-01",0,0,0,0,0,0,"","",0,0,0]
[null,null,null,null,null,null,null,null,null,null,null,null,null,null,null,null,"2021-01-01","00:00:00","2021-01-01","2021-01-01","2021-01-01",0,0,0,0,0,0,"","",0,0,0]
[null,null,null,null,null,null,null,null,null,null,null,null,null,null,null,null,"2021-01-01","00:00:00","2021-01-01","2021-01-01","2021-01-01",0,0,0,0,0,0,"","",0,0,0]
[null,null,null,null,null,null,null,null,null,null,null,null,null,null,null,null,"2021-01-01","00:00:00","2021-01-01","2021-01-01","2021-01-01",0,0,0,0,0,0,"","",0,0,0]
[null,null,null,null,null,null,null,null,null,null,null,null,null,null,null,null,"2021-01-01","00:00:00","2021-01-01","2021-01-01","2021-01-01",0,0,0,0,0,0,"","",0,0,0]
[null,null,null,null,null,null,null,null,null,null,null,null,null,null,null,null,"2021-01-01","00:00:00","2021-01-01","2021-01-01","2021-01-01",0,0,0,0,0,0,"","",0,0,0]
[null,null,null,null,null,null,null,null,null,null,null,null,null,null,null,null,"2021-01-01","00:00:00","2021-01-01","2021-01-01","2021-01-01",0,0,0,0,0,0,"","",0,0,0]
[null,null,null,null,null,null,null,null,null,null,null,null,null,null,null,null,"2021-01-01","00:00:00","2021-01-01","2021-01-01","2021-01-01",0,0,0,0,0,0,"","",0,0,0]
[null,null,null,null,null,null,null,null,null,null,null,null,null,null,null,null,"2021-01-01","00:00:00","2021-01-01","2021-01-01","2021-01-01",0,0,0,0,0,0,"","",0,0,0]
[null,null,null,null,null,null,null,null,null,null,null,null,null,null,null,null,"2021-01-01","00:00:00","2021-01-01","2021-01-01","2021-01-01",0,0,0,0,0,0,"","",0,0,0]
[null,null,null,null,null,null,null,null,null,null,null,null,null,null,null,null,"2021-01-01","00:00:00","2021-01-01","2021-01-01","2021-01-01",0,0,0,0,0,0,"","",0,0,0]
[null,null,null,null,null,null,null,null,null,null,null,null,null,null,null,null,"2021-01-01","00:00:00","2021-01-01","2021-01-01","2021-01-01",0,0,0,0,0,0,"","",0,0,0]
[null,null,null,null,null,null,null,null,null,null,null,null,null,null,null,null,"2021-01-01","00:00:00","2021-01-01","2021-01-01","2021-01-01",0,0,0,0,0,0,"","",0,0,0]
[null,null,null,null,null,null,null,null,null,null,null,null,null,null,null,null,"2021-01-01","00:00:00","2021-01-01","2021-01-01","2021-01-01",0,0,0,0,0,0,"","",0,0,0]
[null,null,null,null,null,null,null,null,null,null,null,null,null,null,null,null,"2021-01-01","00:00:00","2021-01-01","2021-01-01","2021-01-01",0,0,0,0,0,0,"","",0,0,0]
[null,null,null,null,null,null,null,null,null,null,null,null,null,null,null,null,"2021-01-01","00:00:00","2021-01-01","2021-01-01","2021-01-01",0,0,0,0,0,0,"","",0,0,0]
[null,null,null,null,null,null,null,null,null,null,null,null,null,null,null,null,"2021-01-01","00:00:00","2021-01-01","2021-01-01","2021-01-01",0,0,0,0,0,0,"","",0,0,0]
[null,null,null,null,null,null,null,null,null,null,null,null,null,null,null,null,"2021-01-01","00:00:00","2021-01-01","2021-01-01","2021-01-01",0,0,0,0,0,0,"","",0,0,0]
[null,null,null,null,null,null,null,null,null,null,null,null,null,null,null,null,"2021-01-01","00:00:00","2021-01-01","2021-01-01","2021-01-01",0,0,0,0,0,0,"","",0,0,0]
[null,null,null,null,null,null,null,null,null,null,null,null,null,null,null,null,"2021-01-01","00:00:00","2021-01-01","2021-01-01","2021-01-01",0,0,0,0,0,0,"","",0,0,0]
[null,null,null,null,null,null,null,null,null,null,null,null,null,null,null,null,"2021-01-01","00:00:00","2021-01-01","2021-01-01","2021-01-01",0,0,0,0,0,0,"","",0,0,0]
[null,null,null,null,null,null,null,null,null,null,null,null,null,null,null,null,"2021-01-01","00:00:00","2021-01-01","2021-01-01","2021-01-01",0,0,0,0,0,0,"","",0,0,0]
[null,null,null,null,null,null,null,null,null,null,null,null,null,null,null,null,"2021-01-01","00:00:00","2021-01-01","2021-01-01","2021-01-01",0,0,0,0,0,0,"","",0,0,0]
[null,null,null,null,null,null,null,null,null,null,null,null,null,null,null,null,"2021-01-01","00:00:00","2021-01-01","2021-01-01","2021-01-01",0,0,0,0,0,0,"","",0,0,0]
[null,null,null,null,null,null,null,null,null,null,null,null,null,null,null,null,"2021-01-01","00:00:00","2021-01-01","2021-01-01","2021-01-01",0,0,0,0,0,0,"","",0,0,0]
[null,null,null,null,null,null,null,null,null,null,null,null,null,null,null,null,"2021-01-01","00:00:00","2021-01-01","2021-01-01","2021-01-01",0,0,0,0,0,0,"","",0,{"$f":"IF(OR($Q1859>$Q$1,$R1859<$Q$1),0,YEARFRAC($E1859,$Q1859,1))*12","v":0},{"$f":"IF(OR($Q1859>$R$1,$R1859<$R$1),0,YEARFRAC($E1859,$R1859,1))*12","v":0}]
[null,null,null,null,null,null,null,null,null,null,null,null,null,null,null,null,{"$f":"IF(OR(K1860<$Q$1,K1860=\"Altbestand\"),$Q$1,IF(AND(K1860=\"Nachzucht\",E1860>$Q$1),E1860,IF(K1860=\"Nachzucht\",$Q$1,K1860)))","v":"2021-01-01"},{"$f":"IF(OR(L1860>$R$1,L1860=\"Nein\"),$R$1,L1860)","v":"00:00:00"},{"$f":"IF(OR(R1860<Q1860,(E1860+183)<Q1860),Q1860,IF((E1860+183)>R1860,R1860,(E1860+183)))","v":"2021-01-01"},{"$f":"IF(OR(S1860=R1860,(E1860+365)<Q1860,R1860<Q1860),S1860,IF((E1860+365)>R1860,R1860,(E1860+365)))","v":"2021-01-01"},{"$f":"IF(OR(T1860=R1860,S1860=R1860,(E1860+365*2)<Q1860,R1860<Q1860),T1860,IF((E1860+365*2)>R1860,R1860,(E1860+365*2)))","v":"2021-01-01"},{"$f":"IF(AC1860=\"Kuh\",\"Kuh\",F1860)","v":0},{"$f":"S1860-Q1860","v":0},{"$f":"+T1860-S1860","v":0},{"$f":"+U1860-T1860","v":0},{"$f":"IF(AB1860=\"\",0,AB1860-AA1860)","v":0},{"$f":"SUM(W1860:Y1860)","v":0},{"$f":"IF(R1860<Q1860,\"\",R1860-Q1860)","v":""},{"$f":"IF(OR((ISNA(VLOOKUP(C1860,$I$3:$I$138,1,FALSE))=FALSE),AND(AD1860>1200,F1860=\"w\"),M1860=\"Ja\"),\"Kuh\",\"\")","v":""},{"$f":"IF(OR(L1860=\"Nein\",L1860=\"Ja\"),$R$1-E1860,L1860-E1860)","v":0},0,0]
[null,null,null,null,null,null,null,null,null,null,null,null,null,null,null,null,"2021-01-01","00:00:00","2021-01-01","2021-01-01","2021-01-01",0,0,0,0,0,0,"","",0,0,0]
[null,null,null,null,null,null,null,null,null,null,null,null,null,null,null,null,"2021-01-01","00:00:00","2021-01-01","2021-01-01","2021-01-01",0,0,0,0,0,0,"","",0,0,0]
[null,null,null,null,null,null,null,null,null,null,null,null,null,null,null,null,"2021-01-01","00:00:00","2021-01-01","2021-01-01","2021-01-01",0,0,0,0,0,0,"","",0,0,0]
[null,null,null,null,null,null,null,null,null,null,null,null,null,null,null,null,"2021-01-01","00:00:00","2021-01-01","2021-01-01","2021-01-01",0,0,0,0,0,0,"","",0,0,0]
[null,null,null,null,null,null,null,null,null,null,null,null,null,null,null,null,"2021-01-01","00:00:00","2021-01-01","2021-01-01","2021-01-01",0,0,0,0,0,0,"","",0,0,0]
[null,null,null,null,null,null,null,null,null,null,null,null,null,null,null,null,"2021-01-01","00:00:00","2021-01-01","2021-01-01","2021-01-01",0,0,0,0,0,0,"","",0,0,0]
[null,null,null,null,null,null,null,null,null,null,null,null,null,null,null,null,"2021-01-01","00:00:00","2021-01-01","2021-01-01","2021-01-01",0,0,0,0,0,0,"","",0,0,0]
[null,null,null,null,null,null,null,null,null,null,null,null,null,null,null,null,"2021-01-01","00:00:00","2021-01-01","2021-01-01","2021-01-01",0,0,0,0,0,0,"","",0,0,0]
[null,null,null,null,null,null,null,null,null,null,null,null,null,null,null,null,"2021-01-01","00:00:00","2021-01-01","2021-01-01","2021-01-01",0,0,0,0,0,0,"","",0,0,0]
[null,null,null,null,null,null,null,null,null,null,null,null,null,null,null,null,"2021-01-01","00:00:00","2021-01-01","2021-01-01","2021-01-01",0,0,0,0,0,0,"","",0,0,0]
[null,null,null,null,null,null,null,null,null,null,null,null,null,null,null,null,"2021-01-01","00:00:00","2021-01-01","2021-01-01","2021-01-01",0,0,0,0,0,0,"","",0,0,0]
[null,null,null,null,null,null,null,null,null,null,null,null,null,null,null,null,"2021-01-01","00:00:00","2021-01-01","2021-01-01","2021-01-01",0,0,0,0,0,0,"","",0,0,0]
[null,null,null,null,null,null,null,null,null,null,null,null,null,null,null,null,"2021-01-01","00:00:00","2021-01-01","2021-01-01","2021-01-01",0,0,0,0,0,0,"","",0,0,0]
[null,null,null,null,null,null,null,null,null,null,null,null,null,null,null,null,"2021-01-01","00:00:00","2021-01-01","2021-01-01","2021-01-01",0,0,0,0,0,0,"","",0,0,0]
[null,null,null,null,null,null,null,null,null,null,null,null,null,null,null,null,"2021-01-01","00:00:00","2021-01-01","2021-01-01","2021-01-01",0,0,0,0,0,0,"","",0,0,0]
[null,null,null,null,null,null,null,null,null,null,null,null,null,null,null,null,"2021-01-01","00:00:00","2021-01-01","2021-01-01","2021-01-01",0,0,0,0,0,0,"","",0,0,0]
[null,null,null,null,null,null,null,null,null,null,null,null,null,null,null,null,"2021-01-01","00:00:00","2021-01-01","2021-01-01","2021-01-01",0,0,0,0,0,0,"","",0,0,0]
[null,null,null,null,null,null,null,null,null,null,null,null,null,null,null,null,"2021-01-01","00:00:00","2021-01-01","2021-01-01","2021-01-01",0,0,0,0,0,0,"","",0,0,0]
[null,null,null,null,null,null,null,null,null,null,null,null,null,null,null,null,"2021-01-01","00:00:00","2021-01-01","2021-01-01","2021-01-01",0,0,0,0,0,0,"","",0,0,0]
[null,null,null,null,null,null,null,null,null,null,null,null,null,null,null,null,"2021-01-01","00:00:00","2021-01-01","2021-01-01","2021-01-01",0,0,0,0,0,0,"","",0,0,0]
[null,null,null,null,null,null,null,null,null,null,null,null,null,null,null,null,"2021-01-01","00:00:00","2021-01-01","2021-01-01","2021-01-01",0,0,0,0,0,0,"","",0,0,0]
[null,null,null,null,null,null,null,null,null,null,null,null,null,null,null,null,"2021-01-01","00:00:00","2021-01-01","2021-01-01","2021-01-01",0,0,0,0,0,0,"","",0,0,0]
[null,null,null,null,null,null,null,null,null,null,null,null,null,null,null,null,"2021-01-01","00:00:00","2021-01-01","2021-01-01","2021-01-01",0,0,0,0,0,0,"","",0,0,0]
[null,null,null,null,null,null,null,null,null,null,null,null,null,null,null,null,"2021-01-01","00:00:00","2021-01-01","2021-01-01","2021-01-01",0,0,0,0,0,0,"","",0,0,0]
[null,null,null,null,null,null,null,null,null,null,null,null,null,null,null,null,"2021-01-01","00:00:00","2021-01-01","2021-01-01","2021-01-01",0,0,0,0,0,0,"","",0,0,0]
[null,null,null,null,null,null,null,null,null,null,null,null,null,null,null,null,"2021-01-01","00:00:00","2021-01-01","2021-01-01","2021-01-01",0,0,0,0,0,0,"","",0,0,0]
[null,null,null,null,null,null,null,null,null,null,null,null,null,null,null,null,"2021-01-01","00:00:00","2021-01-01","2021-01-01","2021-01-01",0,0,0,0,0,0,"","",0,0,0]
[null,null,null,null,null,null,null,null,null,null,null,null,null,null,null,null,"2021-01-01","00:00:00","2021-01-01","2021-01-01","2021-01-01",0,0,0,0,0,0,"","",0,0,0]
[null,null,null,null,null,null,null,null,null,null,null,null,null,null,null,null,"2021-01-01","00:00:00","2021-01-01","2021-01-01","2021-01-01",0,0,0,0,0,0,"","",0,0,0]
[null,null,null,null,null,null,null,null,null,null,null,null,null,null,null,null,"2021-01-01","00:00:00","2021-01-01","2021-01-01","2021-01-01",0,0,0,0,0,0,"","",0,0,0]
[null,null,null,null,null,null,null,null,null,null,null,null,null,null,null,null,"2021-01-01","00:00:00","2021-01-01","2021-01-01","2021-01-01",0,0,0,0,0,0,"","",0,0,0]
[null,null,null,null,null,null,null,null,null,null,null,null,null,null,null,null,"2021-01-01","00:00:00","2021-01-01","2021-01-01","2021-01-01",0,0,0,0,0,0,"","",0,0,0]
[null,null,null,null,null,null,null,null,null,null,null,null,null,null,null,null,"2021-01-01","00:00:00","2021-01-01","2021-01-01","2021-01-01",0,0,0,0,0,0,"","",0,0,0]
[null,null,null,null,null,null,null,null,null,null,null,null,null,null,null,null,"2021-01-01","00:00:00","2021-01-01","2021-01-01","2021-01-01",0,0,0,0,0,0,"","",0,0,0]
[null,null,null,null,null,null,null,null,null,null,null,null,null,null,null,null,"2021-01-01","00:00:00","2021-01-01","2021-01-01","2021-01-01",0,0,0,0,0,0,"","",0,0,0]
[null,null,null,null,null,null,null,null,null,null,null,null,null,null,null,null,"2021-01-01","00:00:00","2021-01-01","2021-01-01","2021-01-01",0,0,0,0,0,0,"","",0,0,0]
[null,null,null,null,null,null,null,null,null,null,null,null,null,null,null,null,"2021-01-01","00:00:00","2021-01-01","2021-01-01","2021-01-01",0,0,0,0,0,0,"","",0,0,0]
[null,null,null,null,null,null,null,null,null,null,null,null,null,null,null,null,"2021-01-01","00:00:00","2021-01-01","2021-01-01","2021-01-01",0,0,0,0,0,0,"","",0,0,0]
[null,null,null,null,null,null,null,null,null,null,null,null,null,null,null,null,"2021-01-01","00:00:00","2021-01-01","2021-01-01","2021-01-01",0,0,0,0,0,0,"","",0,0,0]
[null,null,null,null,null,null,null,null,null,null,null,null,null,null,null,null,"2021-01-01","00:00:00","2021-01-01","2021-01-01","2021-01-01",0,0,0,0,0,0,"","",0,0,0]
[null,null,null,null,null,null,null,null,null,null,null,null,null,null,null,null,"2021-01-01","00:00:00","2021-01-01","2021-01-01","2021-01-01",0,0,0,0,0,0,"","",0,0,0]
[null,null,null,null,null,null,null,null,null,null,null,null,null,null,null,null,"2021-01-01","00:00:00","2021-01-01","2021-01-01","2021-01-01",0,0,0,0,0,0,"","",0,0,0]
[null,null,null,null,null,null,null,null,null,null,null,null,null,null,null,null,"2021-01-01","00:00:00","2021-01-01","2021-01-01","2021-01-01",0,0,0,0,0,0,"","",0,0,0]
[null,null,null,null,null,null,null,null,null,null,null,null,null,null,null,null,"2021-01-01","00:00:00","2021-01-01","2021-01-01","2021-01-01",0,0,0,0,0,0,"","",0,0,0]
[null,null,null,null,null,null,null,null,null,null,null,null,null,null,null,null,"2021-01-01","00:00:00","2021-01-01","2021-01-01","2021-01-01",0,0,0,0,0,0,"","",0,0,0]
[null,null,null,null,null,null,null,null,null,null,null,null,null,null,null,null,"2021-01-01","00:00:00","2021-01-01","2021-01-01","2021-01-01",0,0,0,0,0,0,"","",0,0,0]
[null,null,null,null,null,null,null,null,null,null,null,null,null,null,null,null,"2021-01-01","00:00:00","2021-01-01","2021-01-01","2021-01-01",0,0,0,0,0,0,"","",0,0,0]
[null,null,null,null,null,null,null,null,null,null,null,null,null,null,null,null,"2021-01-01","00:00:00","2021-01-01","2021-01-01","2021-01-01",0,0,0,0,0,0,"","",0,0,0]
[null,null,null,null,null,null,null,null,null,null,null,null,null,null,null,null,"2021-01-01","00:00:00","2021-01-01","2021-01-01","2021-01-01",0,0,0,0,0,0,"","",0,0,0]
[null,null,null,null,null,null,null,null,null,null,null,null,null,null,null,null,"2021-01-01","00:00:00","2021-01-01","2021-01-01","2021-01-01",0,0,0,0,0,0,"","",0,0,0]
[null,null,null,null,null,null,null,null,null,null,null,null,null,null,null,null,"2021-01-01","00:00:00","2021-01-01","2021-01-01","2021-01-01",0,0,0,0,0,0,"","",0,0,0]
[null,null,null,null,null,null,null,null,null,null,null,null,null,null,null,null,"2021-01-01","00:00:00","2021-01-01","2021-01-01","2021-01-01",0,0,0,0,0,0,"","",0,0,0]
[null,null,null,null,null,null,null,null,null,null,null,null,null,null,null,null,"2021-01-01","00:00:00","2021-01-01","2021-01-01","2021-01-01",0,0,0,0,0,0,"","",0,0,0]
[null,null,null,null,null,null,null,null,null,null,null,null,null,null,null,null,"2021-01-01","00:00:00","2021-01-01","2021-01-01","2021-01-01",0,0,0,0,0,0,"","",0,0,0]
[null,null,null,null,null,null,null,null,null,null,null,null,null,null,null,null,"2021-01-01","00:00:00","2021-01-01","2021-01-01","2021-01-01",0,0,0,0,0,0,"","",0,0,0]
[null,null,null,null,null,null,null,null,null,null,null,null,null,null,null,null,"2021-01-01","00:00:00","2021-01-01","2021-01-01","2021-01-01",0,0,0,0,0,0,"","",0,0,0]
[null,null,null,null,null,null,null,null,null,null,null,null,null,null,null,null,"2021-01-01","00:00:00","2021-01-01","2021-01-01","2021-01-01",0,0,0,0,0,0,"","",0,0,0]
[null,null,null,null,null,null,null,null,null,null,null,null,null,null,null,null,"2021-01-01","00:00:00","2021-01-01","2021-01-01","2021-01-01",0,0,0,0,0,0,"","",0,0,0]
[null,null,null,null,null,null,null,null,null,null,null,null,null,null,null,null,"2021-01-01","00:00:00","2021-01-01","2021-01-01","2021-01-01",0,0,0,0,0,0,"","",0,0,0]
[null,null,null,null,null,null,null,null,null,null,null,null,null,null,null,null,"2021-01-01","00:00:00","2021-01-01","2021-01-01","2021-01-01",0,0,0,0,0,0,"","",0,0,0]
[null,null,null,null,null,null,null,null,null,null,null,null,null,null,null,null,"2021-01-01","00:00:00","2021-01-01","2021-01-01","2021-01-01",0,0,0,0,0,0,"","",0,0,0]
[null,null,null,null,null,null,null,null,null,null,null,null,null,null,null,null,"2021-01-01","00:00:00","2021-01-01","2021-01-01","2021-01-01",0,0,0,0,0,0,"","",0,0,0]
[null,null,null,null,null,null,null,null,null,null,null,null,null,null,null,null,"2021-01-01","00:00:00","2021-01-01","2021-01-01","2021-01-01",0,0,0,0,0,0,"","",0,{"$f":"IF(OR($Q1923>$Q$1,$R1923<$Q$1),0,YEARFRAC($E1923,$Q1923,1))*12","v":0},{"$f":"IF(OR($Q1923>$R$1,$R1923<$R$1),0,YEARFRAC($E1923,$R1923,1))*12","v":0}]
[null,null,null,null,null,null,null,null,null,null,null,null,null,null,null,null,{"$f":"IF(OR(K1924<$Q$1,K1924=\"Altbestand\"),$Q$1,IF(AND(K1924=\"Nachzucht\",E1924>$Q$1),E1924,IF(K1924=\"Nachzucht\",$Q$1,K1924)))","v":"2021-01-01"},{"$f":"IF(OR(L1924>$R$1,L1924=\"Nein\"),$R$1,L1924)","v":"00:00:00"},{"$f":"IF(OR(R1924<Q1924,(E1924+183)<Q1924),Q1924,IF((E1924+183)>R1924,R1924,(E1924+183)))","v":"2021-01-01"},{"$f":"IF(OR(S1924=R1924,(E1924+365)<Q1924,R1924<Q1924),S1924,IF((E1924+365)>R1924,R1924,(E1924+365)))","v":"2021-01-01"},{"$f":"IF(OR(T1924=R1924,S1924=R1924,(E1924+365*2)<Q1924,R1924<Q1924),T1924,IF((E1924+365*2)>R1924,R1924,(E1924+365*2)))","v":"2021-01-01"},{"$f":"IF(AC1924=\"Kuh\",\"Kuh\",F1924)","v":0},{"$f":"S1924-Q1924","v":0},{"$f":"+T1924-S1924","v":0},{"$f":"+U1924-T1924","v":0},{"$f":"IF(AB1924=\"\",0,AB1924-AA1924)","v":0},{"$f":"SUM(W1924:Y1924)","v":0},{"$f":"IF(R1924<Q1924,\"\",R1924-Q1924)","v":""},{"$f":"IF(OR((ISNA(VLOOKUP(C1924,$I$3:$I$138,1,FALSE))=FALSE),AND(AD1924>1200,F1924=\"w\"),M1924=\"Ja\"),\"Kuh\",\"\")","v":""},{"$f":"IF(OR(L1924=\"Nein\",L1924=\"Ja\"),$R$1-E1924,L1924-E1924)","v":0},0,0]
[null,null,null,null,null,null,null,null,null,null,null,null,null,null,null,null,"2021-01-01","00:00:00","2021-01-01","2021-01-01","2021-01-01",0,0,0,0,0,0,"","",0,0,0]
[null,null,null,null,null,null,null,null,null,null,null,null,null,null,null,null,"2021-01-01","00:00:00","2021-01-01","2021-01-01","2021-01-01",0,0,0,0,0,0,"","",0,0,0]
[null,null,null,null,null,null,null,null,null,null,null,null,null,null,null,null,"2021-01-01","00:00:00","2021-01-01","2021-01-01","2021-01-01",0,0,0,0,0,0,"","",0,0,0]
[null,null,null,null,null,null,null,null,null,null,null,null,null,null,null,null,"2021-01-01","00:00:00","2021-01-01","2021-01-01","2021-01-01",0,0,0,0,0,0,"","",0,0,0]
[null,null,null,null,null,null,null,null,null,null,null,null,null,null,null,null,"2021-01-01","00:00:00","2021-01-01","2021-01-01","2021-01-01",0,0,0,0,0,0,"","",0,0,0]
[null,null,null,null,null,null,null,null,null,null,null,null,null,null,null,null,"2021-01-01","00:00:00","2021-01-01","2021-01-01","2021-01-01",0,0,0,0,0,0,"","",0,0,0]
[null,null,null,null,null,null,null,null,null,null,null,null,null,null,null,null,"2021-01-01","00:00:00","2021-01-01","2021-01-01","2021-01-01",0,0,0,0,0,0,"","",0,0,0]
[null,null,null,null,null,null,null,null,null,null,null,null,null,null,null,null,"2021-01-01","00:00:00","2021-01-01","2021-01-01","2021-01-01",0,0,0,0,0,0,"","",0,0,0]
[null,null,null,null,null,null,null,null,null,null,null,null,null,null,null,null,"2021-01-01","00:00:00","2021-01-01","2021-01-01","2021-01-01",0,0,0,0,0,0,"","",0,0,0]
[null,null,null,null,null,null,null,null,null,null,null,null,null,null,null,null,"2021-01-01","00:00:00","2021-01-01","2021-01-01","2021-01-01",0,0,0,0,0,0,"","",0,0,0]
[null,null,null,null,null,null,null,null,null,null,null,null,null,null,null,null,"2021-01-01","00:00:00","2021-01-01","2021-01-01","2021-01-01",0,0,0,0,0,0,"","",0,0,0]
[null,null,null,null,null,null,null,null,null,null,null,null,null,null,null,null,"2021-01-01","00:00:00","2021-01-01","2021-01-01","2021-01-01",0,0,0,0,0,0,"","",0,0,0]
[null,null,null,null,null,null,null,null,null,null,null,null,null,null,null,null,"2021-01-01","00:00:00","2021-01-01","2021-01-01","2021-01-01",0,0,0,0,0,0,"","",0,0,0]
[null,null,null,null,null,null,null,null,null,null,null,null,null,null,null,null,"2021-01-01","00:00:00","2021-01-01","2021-01-01","2021-01-01",0,0,0,0,0,0,"","",0,0,0]
[null,null,null,null,null,null,null,null,null,null,null,null,null,null,null,null,"2021-01-01","00:00:00","2021-01-01","2021-01-01","2021-01-01",0,0,0,0,0,0,"","",0,0,0]
[null,null,null,null,null,null,null,null,null,null,null,null,null,null,null,null,"2021-01-01","00:00:00","2021-01-01","2021-01-01","2021-01-01",0,0,0,0,0,0,"","",0,0,0]
[null,null,null,null,null,null,null,null,null,null,null,null,null,null,null,null,"2021-01-01","00:00:00","2021-01-01","2021-01-01","2021-01-01",0,0,0,0,0,0,"","",0,0,0]
[null,null,null,null,null,null,null,null,null,null,null,null,null,null,null,null,"2021-01-01","00:00:00","2021-01-01","2021-01-01","2021-01-01",0,0,0,0,0,0,"","",0,0,0]
[null,null,null,null,null,null,null,null,null,null,null,null,null,null,null,null,"2021-01-01","00:00:00","2021-01-01","2021-01-01","2021-01-01",0,0,0,0,0,0,"","",0,0,0]
[null,null,null,null,null,null,null,null,null,null,null,null,null,null,null,null,"2021-01-01","00:00:00","2021-01-01","2021-01-01","2021-01-01",0,0,0,0,0,0,"","",0,0,0]
[null,null,null,null,null,null,null,null,null,null,null,null,null,null,null,null,"2021-01-01","00:00:00","2021-01-01","2021-01-01","2021-01-01",0,0,0,0,0,0,"","",0,0,0]
[null,null,null,null,null,null,null,null,null,null,null,null,null,null,null,null,"2021-01-01","00:00:00","2021-01-01","2021-01-01","2021-01-01",0,0,0,0,0,0,"","",0,0,0]
[null,null,null,null,null,null,null,null,null,null,null,null,null,null,null,null,"2021-01-01","00:00:00","2021-01-01","2021-01-01","2021-01-01",0,0,0,0,0,0,"","",0,0,0]
[null,null,null,null,null,null,null,null,null,null,null,null,null,null,null,null,"2021-01-01","00:00:00","2021-01-01","2021-01-01","2021-01-01",0,0,0,0,0,0,"","",0,0,0]
[null,null,null,null,null,null,null,null,null,null,null,null,null,null,null,null,"2021-01-01","00:00:00","2021-01-01","2021-01-01","2021-01-01",0,0,0,0,0,0,"","",0,0,0]
[null,null,null,null,null,null,null,null,null,null,null,null,null,null,null,null,"2021-01-01","00:00:00","2021-01-01","2021-01-01","2021-01-01",0,0,0,0,0,0,"","",0,0,0]
[null,null,null,null,null,null,null,null,null,null,null,null,null,null,null,null,"2021-01-01","00:00:00","2021-01-01","2021-01-01","2021-01-01",0,0,0,0,0,0,"","",0,0,0]
[null,null,null,null,null,null,null,null,null,null,null,null,null,null,null,null,"2021-01-01","00:00:00","2021-01-01","2021-01-01","2021-01-01",0,0,0,0,0,0,"","",0,0,0]
[null,null,null,null,null,null,null,null,null,null,null,null,null,null,null,null,"2021-01-01","00:00:00","2021-01-01","2021-01-01","2021-01-01",0,0,0,0,0,0,"","",0,0,0]
[null,null,null,null,null,null,null,null,null,null,null,null,null,null,null,null,"2021-01-01","00:00:00","2021-01-01","2021-01-01","2021-01-01",0,0,0,0,0,0,"","",0,0,0]
[null,null,null,null,null,null,null,null,null,null,null,null,null,null,null,null,"2021-01-01","00:00:00","2021-01-01","2021-01-01","2021-01-01",0,0,0,0,0,0,"","",0,0,0]
[null,null,null,null,null,null,null,null,null,null,null,null,null,null,null,null,"2021-01-01","00:00:00","2021-01-01","2021-01-01","2021-01-01",0,0,0,0,0,0,"","",0,0,0]
[null,null,null,null,null,null,null,null,null,null,null,null,null,null,null,null,"2021-01-01","00:00:00","2021-01-01","2021-01-01","2021-01-01",0,0,0,0,0,0,"","",0,0,0]
[null,null,null,null,null,null,null,null,null,null,null,null,null,null,null,null,"2021-01-01","00:00:00","2021-01-01","2021-01-01","2021-01-01",0,0,0,0,0,0,"","",0,0,0]
[null,null,null,null,null,null,null,null,null,null,null,null,null,null,null,null,"2021-01-01","00:00:00","2021-01-01","2021-01-01","2021-01-01",0,0,0,0,0,0,"","",0,0,0]
[null,null,null,null,null,null,null,null,null,null,null,null,null,null,null,null,"2021-01-01","00:00:00","2021-01-01","2021-01-01","2021-01-01",0,0,0,0,0,0,"","",0,0,0]
[null,null,null,null,null,null,null,null,null,null,null,null,null,null,null,null,"2021-01-01","00:00:00","2021-01-01","2021-01-01","2021-01-01",0,0,0,0,0,0,"","",0,0,0]
[null,null,null,null,null,null,null,null,null,null,null,null,null,null,null,null,"2021-01-01","00:00:00","2021-01-01","2021-01-01","2021-01-01",0,0,0,0,0,0,"","",0,0,0]
[null,null,null,null,null,null,null,null,null,null,null,null,null,null,null,null,"2021-01-01","00:00:00","2021-01-01","2021-01-01","2021-01-01",0,0,0,0,0,0,"","",0,0,0]
[null,null,null,null,null,null,null,null,null,null,null,null,null,null,null,null,"2021-01-01","00:00:00","2021-01-01","2021-01-01","2021-01-01",0,0,0,0,0,0,"","",0,0,0]
[null,null,null,null,null,null,null,null,null,null,null,null,null,null,null,null,"2021-01-01","00:00:00","2021-01-01","2021-01-01","2021-01-01",0,0,0,0,0,0,"","",0,0,0]
[null,null,null,null,null,null,null,null,null,null,null,null,null,null,null,null,"2021-01-01","00:00:00","2021-01-01","2021-01-01","2021-01-01",0,0,0,0,0,0,"","",0,0,0]
[null,null,null,null,null,null,null,null,null,null,null,null,null,null,null,null,"2021-01-01","00:00:00","2021-01-01","2021-01-01","2021-01-01",0,0,0,0,0,0,"","",0,0,0]
[null,null,null,null,null,null,null,null,null,null,null,null,null,null,null,null,"2021-01-01","00:00:00","2021-01-01","2021-01-01","2021-01-01",0,0,0,0,0,0,"","",0,0,0]
[null,null,null,null,null,null,null,null,null,null,null,null,null,null,null,null,"2021-01-01","00:00:00","2021-01-01","2021-01-01","2021-01-01",0,0,0,0,0,0,"","",0,0,0]
[null,null,null,null,null,null,null,null,null,null,null,null,null,null,null,null,"2021-01-01","00:00:00","2021-01-01","2021-01-01","2021-01-01",0,0,0,0,0,0,"","",0,0,0]
[null,null,null,null,null,null,null,null,null,null,null,null,null,null,null,null,"2021-01-01","00:00:00","2021-01-01","2021-01-01","2021-01-01",0,0,0,0,0,0,"","",0,0,0]
[null,null,null,null,null,null,null,null,null,null,null,null,null,null,null,null,"2021-01-01","00:00:00","2021-01-01","2021-01-01","2021-01-01",0,0,0,0,0,0,"","",0,0,0]
[null,null,null,null,null,null,null,null,null,null,null,null,null,null,null,null,"2021-01-01","00:00:00","2021-01-01","2021-01-01","2021-01-01",0,0,0,0,0,0,"","",0,0,0]
[null,null,null,null,null,null,null,null,null,null,null,null,null,null,null,null,"2021-01-01","00:00:00","2021-01-01","2021-01-01","2021-01-01",0,0,0,0,0,0,"","",0,0,0]
[null,null,null,null,null,null,null,null,null,null,null,null,null,null,null,null,"2021-01-01","00:00:00","2021-01-01","2021-01-01","2021-01-01",0,0,0,0,0,0,"","",0,0,0]
[null,null,null,null,null,null,null,null,null,null,null,null,null,null,null,null,"2021-01-01","00:00:00","2021-01-01","2021-01-01","2021-01-01",0,0,0,0,0,0,"","",0,0,0]
[null,null,null,null,null,null,null,null,null,null,null,null,null,null,null,null,"2021-01-01","00:00:00","2021-01-01","2021-01-01","2021-01-01",0,0,0,0,0,0,"","",0,0,0]
[null,null,null,null,null,null,null,null,null,null,null,null,null,null,null,null,"2021-01-01","00:00:00","2021-01-01","2021-01-01","2021-01-01",0,0,0,0,0,0,"","",0,0,0]
[null,null,null,null,null,null,null,null,null,null,null,null,null,null,null,null,"2021-01-01","00:00:00","2021-01-01","2021-01-01","2021-01-01",0,0,0,0,0,0,"","",0,0,0]
[null,null,null,null,null,null,null,null,null,null,null,null,null,null,null,null,"2021-01-01","00:00:00","2021-01-01","2021-01-01","2021-01-01",0,0,0,0,0,0,"","",0,0,0]
[null,null,null,null,null,null,null,null,null,null,null,null,null,null,null,null,"2021-01-01","00:00:00","2021-01-01","2021-01-01","2021-01-01",0,0,0,0,0,0,"","",0,0,0]
[null,null,null,null,null,null,null,null,null,null,null,null,null,null,null,null,"2021-01-01","00:00:00","2021-01-01","2021-01-01","2021-01-01",0,0,0,0,0,0,"","",0,0,0]
[null,null,null,null,null,null,null,null,null,null,null,null,null,null,null,null,"2021-01-01","00:00:00","2021-01-01","2021-01-01","2021-01-01",0,0,0,0,0,0,"","",0,0,0]
[null,null,null,null,null,null,null,null,null,null,null,null,null,null,null,null,"2021-01-01","00:00:00","2021-01-01","2021-01-01","2021-01-01",0,0,0,0,0,0,"","",0,0,0]
[null,null,null,null,null,null,null,null,null,null,null,null,null,null,null,null,"2021-01-01","00:00:00","2021-01-01","2021-01-01","2021-01-01",0,0,0,0,0,0,"","",0,0,0]
[null,null,null,null,null,null,null,null,null,null,null,null,null,null,null,null,"2021-01-01","00:00:00","2021-01-01","2021-01-01","2021-01-01",0,0,0,0,0,0,"","",0,0,0]
[null,null,null,null,null,null,null,null,null,null,null,null,null,null,null,null,"2021-01-01","00:00:00","2021-01-01","2021-01-01","2021-01-01",0,0,0,0,0,0,"","",0,{"$f":"IF(OR($Q1987>$Q$1,$R1987<$Q$1),0,YEARFRAC($E1987,$Q1987,1))*12","v":0},{"$f":"IF(OR($Q1987>$R$1,$R1987<$R$1),0,YEARFRAC($E1987,$R1987,1))*12","v":0}]
[null,null,null,null,null,null,null,null,null,null,null,null,null,null,null,null,{"$f":"IF(OR(K1988<$Q$1,K1988=\"Altbestand\"),$Q$1,IF(AND(K1988=\"Nachzucht\",E1988>$Q$1),E1988,IF(K1988=\"Nachzucht\",$Q$1,K1988)))","v":"2021-01-01"},{"$f":"IF(OR(L1988>$R$1,L1988=\"Nein\"),$R$1,L1988)","v":"00:00:00"},{"$f":"IF(OR(R1988<Q1988,(E1988+183)<Q1988),Q1988,IF((E1988+183)>R1988,R1988,(E1988+183)))","v":"2021-01-01"},{"$f":"IF(OR(S1988=R1988,(E1988+365)<Q1988,R1988<Q1988),S1988,IF((E1988+365)>R1988,R1988,(E1988+365)))","v":"2021-01-01"},{"$f":"IF(OR(T1988=R1988,S1988=R1988,(E1988+365*2)<Q1988,R1988<Q1988),T1988,IF((E1988+365*2)>R1988,R1988,(E1988+365*2)))","v":"2021-01-01"},{"$f":"IF(AC1988=\"Kuh\",\"Kuh\",F1988)","v":0},{"$f":"S1988-Q1988","v":0},{"$f":"+T1988-S1988","v":0},{"$f":"+U1988-T1988","v":0},{"$f":"IF(AB1988=\"\",0,AB1988-AA1988)","v":0},{"$f":"SUM(W1988:Y1988)","v":0},{"$f":"IF(R1988<Q1988,\"\",R1988-Q1988)","v":""},{"$f":"IF(OR((ISNA(VLOOKUP(C1988,$I$3:$I$138,1,FALSE))=FALSE),AND(AD1988>1200,F1988=\"w\"),M1988=\"Ja\"),\"Kuh\",\"\")","v":""},{"$f":"IF(OR(L1988=\"Nein\",L1988=\"Ja\"),$R$1-E1988,L1988-E1988)","v":0},0,0]
[null,null,null,null,null,null,null,null,null,null,null,null,null,null,null,null,"2021-01-01","00:00:00","2021-01-01","2021-01-01","2021-01-01",0,0,0,0,0,0,"","",0,0,0]
[null,null,null,null,null,null,null,null,null,null,null,null,null,null,null,null,"2021-01-01","00:00:00","2021-01-01","2021-01-01","2021-01-01",0,0,0,0,0,0,"","",0,0,0]
[null,null,null,null,null,null,null,null,null,null,null,null,null,null,null,null,"2021-01-01","00:00:00","2021-01-01","2021-01-01","2021-01-01",0,0,0,0,0,0,"","",0,0,0]
[null,null,null,null,null,null,null,null,null,null,null,null,null,null,null,null,"2021-01-01","00:00:00","2021-01-01","2021-01-01","2021-01-01",0,0,0,0,0,0,"","",0,0,0]
[null,null,null,null,null,null,null,null,null,null,null,null,null,null,null,null,"2021-01-01","00:00:00","2021-01-01","2021-01-01","2021-01-01",0,0,0,0,0,0,"","",0,0,0]
[null,null,null,null,null,null,null,null,null,null,null,null,null,null,null,null,"2021-01-01","00:00:00","2021-01-01","2021-01-01","2021-01-01",0,0,0,0,0,0,"","",0,0,0]
[null,null,null,null,null,null,null,null,null,null,null,null,null,null,null,null,"2021-01-01","00:00:00","2021-01-01","2021-01-01","2021-01-01",0,0,0,0,0,0,"","",0,0,0]
[null,null,null,null,null,null,null,null,null,null,null,null,null,null,null,null,"2021-01-01","00:00:00","2021-01-01","2021-01-01","2021-01-01",0,0,0,0,0,0,"","",0,0,0]
[null,null,null,null,null,null,null,null,null,null,null,null,null,null,null,null,"2021-01-01","00:00:00","2021-01-01","2021-01-01","2021-01-01",0,0,0,0,0,0,"","",0,0,0]
[null,null,null,null,null,null,null,null,null,null,null,null,null,null,null,null,"2021-01-01","00:00:00","2021-01-01","2021-01-01","2021-01-01",0,0,0,0,0,0,"","",0,0,0]
[null,null,null,null,null,null,null,null,null,null,null,null,null,null,null,null,"2021-01-01","00:00:00","2021-01-01","2021-01-01","2021-01-01",0,0,0,0,0,0,"","",0,0,0]
[null,null,null,null,null,null,null,null,null,null,null,null,null,null,null,null,"2021-01-01","00:00:00","2021-01-01","2021-01-01","2021-01-01",0,0,0,0,0,0,"","",0,0,0]
[null,null,null,null,null,null,null,null,null,null,null,null,null,null,null,null,"2021-01-01","00:00:00","2021-01-01","2021-01-01","2021-01-01",0,0,0,0,0,0,"","",0,0,0]
[null,null,null,null,null,null,null,null,null,null,null,null,null,null,null,null,"2021-01-01","00:00:00","2021-01-01","2021-01-01","2021-01-01",0,0,0,0,0,0,"","",0,0,0]
[null,null,null,null,null,null,null,null,null,null,null,null,null,null,null,null,"2021-01-01","00:00:00","2021-01-01","2021-01-01","2021-01-01",0,0,0,0,0,0,"","",0,0,0]
[null,null,null,null,null,null,null,null,null,null,null,null,null,null,null,null,"2021-01-01","00:00:00","2021-01-01","2021-01-01","2021-01-01",0,0,0,0,0,0,"","",0,0,0]
[null,null,null,null,null,null,null,null,null,null,null,null,null,null,null,null,"2021-01-01","00:00:00","2021-01-01","2021-01-01","2021-01-01",0,0,0,0,0,0,"","",0,0,0]
[null,null,null,null,null,null,null,null,null,null,null,null,null,null,null,null,"2021-01-01","00:00:00","2021-01-01","2021-01-01","2021-01-01",0,0,0,0,0,0,"","",0,0,0]
[null,null,null,null,null,null,null,null,null,null,null,null,null,null,null,null,"2021-01-01","00:00:00","2021-01-01","2021-01-01","2021-01-01",0,0,0,0,0,0,"","",0,0,0]
[null,null,null,null,null,null,null,null,null,null,null,null,null,null,null,null,"2021-01-01","00:00:00","2021-01-01","2021-01-01","2021-01-01",0,0,0,0,0,0,"","",0,0,0]
[null,null,null,null,null,null,null,null,null,null,null,null,null,null,null,null,"2021-01-01","00:00:00","2021-01-01","2021-01-01","2021-01-01",0,0,0,0,0,0,"","",0,0,0]
[null,null,null,null,null,null,null,null,null,null,null,null,null,null,null,null,"2021-01-01","00:00:00","2021-01-01","2021-01-01","2021-01-01",0,0,0,0,0,0,"","",0,0,0]
[null,null,null,null,null,null,null,null,null,null,null,null,null,null,null,null,"2021-01-01","00:00:00","2021-01-01","2021-01-01","2021-01-01",0,0,0,0,0,0,"","",0,0,0]
[null,null,null,null,null,null,null,null,null,null,null,null,null,null,null,null,"2021-01-01","00:00:00","2021-01-01","2021-01-01","2021-01-01",0,0,0,0,0,0,"","",0,0,0]
[null,null,null,null,null,null,null,null,null,null,null,null,null,null,null,null,"2021-01-01","00:00:00","2021-01-01","2021-01-01","2021-01-01",0,0,0,0,0,0,"","",0,0,0]
[null,null,null,null,null,null,null,null,null,null,null,null,null,null,null,null,"2021-01-01","00:00:00","2021-01-01","2021-01-01","2021-01-01",0,0,0,0,0,0,"","",0,0,0]
[null,null,null,null,null,null,null,null,null,null,null,null,null,null,null,null,"2021-01-01","00:00:00","2021-01-01","2021-01-01","2021-01-01",0,0,0,0,0,0,"","",0,0,0]
[null,null,null,null,null,null,null,null,null,null,null,null,null,null,null,null,"2021-01-01","00:00:00","2021-01-01","2021-01-01","2021-01-01",0,0,0,0,0,0,"","",0,0,0]
[null,null,null,null,null,null,null,null,null,null,null,null,null,null,null,null,"2021-01-01","00:00:00","2021-01-01","2021-01-01","2021-01-01",0,0,0,0,0,0,"","",0,0,0]
[null,null,null,null,null,null,null,null,null,null,null,null,null,null,null,null,"2021-01-01","00:00:00","2021-01-01","2021-01-01","2021-01-01",0,0,0,0,0,0,"","",0,0,0]
[null,null,null,null,null,null,null,null,null,null,null,null,null,null,null,null,"2021-01-01","00:00:00","2021-01-01","2021-01-01","2021-01-01",0,0,0,0,0,0,"","",0,0,0]
[null,null,null,null,null,null,null,null,null,null,null,null,null,null,null,null,"2021-01-01","00:00:00","2021-01-01","2021-01-01","2021-01-01",0,0,0,0,0,0,"","",0,0,0]
[null,null,null,null,null,null,null,null,null,null,null,null,null,null,null,null,"2021-01-01","00:00:00","2021-01-01","2021-01-01","2021-01-01",0,0,0,0,0,0,"","",0,0,0]
[null,null,null,null,null,null,null,null,null,null,null,null,null,null,null,null,"2021-01-01","00:00:00","2021-01-01","2021-01-01","2021-01-01",0,0,0,0,0,0,"","",0,0,0]
[null,null,null,null,null,null,null,null,null,null,null,null,null,null,null,null,"2021-01-01","00:00:00","2021-01-01","2021-01-01","2021-01-01",0,0,0,0,0,0,"","",0,0,0]
[null,null,null,null,null,null,null,null,null,null,null,null,null,null,null,null,"2021-01-01","00:00:00","2021-01-01","2021-01-01","2021-01-01",0,0,0,0,0,0,"","",0,0,0]
[null,null,null,null,null,null,null,null,null,null,null,null,null,null,null,null,"2021-01-01","00:00:00","2021-01-01","2021-01-01","2021-01-01",0,0,0,0,0,0,"","",0,0,0]
[null,null,null,null,null,null,null,null,null,null,null,null,null,null,null,null,"2021-01-01","00:00:00","2021-01-01","2021-01-01","2021-01-01",0,0,0,0,0,0,"","",0,0,0]
[null,null,null,null,null,null,null,null,null,null,null,null,null,null,null,null,"2021-01-01","00:00:00","2021-01-01","2021-01-01","2021-01-01",0,0,0,0,0,0,"","",0,0,0]
[null,null,null,null,null,null,null,null,null,null,null,null,null,null,null,null,"2021-01-01","00:00:00","2021-01-01","2021-01-01","2021-01-01",0,0,0,0,0,0,"","",0,0,0]
[null,null,null,null,null,null,null,null,null,null,null,null,null,null,null,null,"2021-01-01","00:00:00","2021-01-01","2021-01-01","2021-01-01",0,0,0,0,0,0,"","",0,0,0]
[null,null,null,null,null,null,null,null,null,null,null,null,null,null,null,null,"2021-01-01","00:00:00","2021-01-01","2021-01-01","2021-01-01",0,0,0,0,0,0,"","",0,0,0]
[null,null,null,null,null,null,null,null,null,null,null,null,null,null,null,null,"2021-01-01","00:00:00","2021-01-01","2021-01-01","2021-01-01",0,0,0,0,0,0,"","",0,0,0]
[null,null,null,null,null,null,null,null,null,null,null,null,null,null,null,null,"2021-01-01","00:00:00","2021-01-01","2021-01-01","2021-01-01",0,0,0,0,0,0,"","",0,0,0]
[null,null,null,null,null,null,null,null,null,null,null,null,null,null,null,null,"2021-01-01","00:00:00","2021-01-01","2021-01-01","2021-01-01",0,0,0,0,0,0,"","",0,0,0]
[null,null,null,null,null,null,null,null,null,null,null,null,null,null,null,null,"2021-01-01","00:00:00","2021-01-01","2021-01-01","2021-01-01",0,0,0,0,0,0,"","",0,0,0]
[null,null,null,null,null,null,null,null,null,null,null,null,null,null,null,null,"2021-01-01","00:00:00","2021-01-01","2021-01-01","2021-01-01",0,0,0,0,0,0,"","",0,0,0]
[null,null,null,null,null,null,null,null,null,null,null,null,null,null,null,null,"2021-01-01","00:00:00","2021-01-01","2021-01-01","2021-01-01",0,0,0,0,0,0,"","",0,0,0]
[null,null,null,null,null,null,null,null,null,null,null,null,null,null,null,null,"2021-01-01","00:00:00","2021-01-01","2021-01-01","2021-01-01",0,0,0,0,0,0,"","",0,0,0]
[null,null,null,null,null,null,null,null,null,null,null,null,null,null,null,null,"2021-01-01","00:00:00","2021-01-01","2021-01-01","2021-01-01",0,0,0,0,0,0,"","",0,0,0]
[null,null,null,null,null,null,null,null,null,null,null,null,null,null,null,null,"2021-01-01","00:00:00","2021-01-01","2021-01-01","2021-01-01",0,0,0,0,0,0,"","",0,0,0]
[null,null,null,null,null,null,null,null,null,null,null,null,null,null,null,null,"2021-01-01","00:00:00","2021-01-01","2021-01-01","2021-01-01",0,0,0,0,0,0,"","",0,0,0]
[null,null,null,null,null,null,null,null,null,null,null,null,null,null,null,null,"2021-01-01","00:00:00","2021-01-01","2021-01-01","2021-01-01",0,0,0,0,0,0,"","",0,0,0]
[null,null,null,null,null,null,null,null,null,null,null,null,null,null,null,null,"2021-01-01","00:00:00","2021-01-01","2021-01-01","2021-01-01",0,0,0,0,0,0,"","",0,0,0]
[null,null,null,null,null,null,null,null,null,null,null,null,null,null,null,null,"2021-01-01","00:00:00","2021-01-01","2021-01-01","2021-01-01",0,0,0,0,0,0,"","",0,0,0]
[null,null,null,null,null,null,null,null,null,null,null,null,null,null,null,null,"2021-01-01","00:00:00","2021-01-01","2021-01-01","2021-01-01",0,0,0,0,0,0,"","",0,0,0]
[null,null,null,null,null,null,null,null,null,null,null,null,null,null,null,null,"2021-01-01","00:00:00","2021-01-01","2021-01-01","2021-01-01",0,0,0,0,0,0,"","",0,0,0]
[null,null,null,null,null,null,null,null,null,null,null,null,null,null,null,null,"2021-01-01","00:00:00","2021-01-01","2021-01-01","2021-01-01",0,0,0,0,0,0,"","",0,0,0]
[null,null,null,null,null,null,null,null,null,null,null,null,null,null,null,null,"2021-01-01","00:00:00","2021-01-01","2021-01-01","2021-01-01",0,0,0,0,0,0,"","",0,0,0]
[null,null,null,null,null,null,null,null,null,null,null,null,null,null,null,null,"2021-01-01","00:00:00","2021-01-01","2021-01-01","2021-01-01",0,0,0,0,0,0,"","",0,0,0]
[null,null,null,null,null,null,null,null,null,null,null,null,null,null,null,null,"2021-01-01","00:00:00","2021-01-01","2021-01-01","2021-01-01",0,0,0,0,0,0,"","",0,0,0]
[null,null,null,null,null,null,null,null,null,null,null,null,null,null,null,null,"2021-01-01","00:00:00","2021-01-01","2021-01-01","2021-01-01",0,0,0,0,0,0,"","",0,0,0]
[null,null,null,null,null,null,null,null,null,null,null,null,null,null,null,null,"2021-01-01","00:00:00","2021-01-01","2021-01-01","2021-01-01",0,0,0,0,0,0,"","",0,{"$f":"IF(OR($Q2051>$Q$1,$R2051<$Q$1),0,YEARFRAC($E2051,$Q2051,1))*12","v":0},{"$f":"IF(OR($Q2051>$R$1,$R2051<$R$1),0,YEARFRAC($E2051,$R2051,1))*12","v":0}]
[null,null,null,null,null,null,null,null,null,null,null,null,null,null,null,null,{"$f":"IF(OR(K2052<$Q$1,K2052=\"Altbestand\"),$Q$1,IF(AND(K2052=\"Nachzucht\",E2052>$Q$1),E2052,IF(K2052=\"Nachzucht\",$Q$1,K2052)))","v":"2021-01-01"},{"$f":"IF(OR(L2052>$R$1,L2052=\"Nein\"),$R$1,L2052)","v":"00:00:00"},{"$f":"IF(OR(R2052<Q2052,(E2052+183)<Q2052),Q2052,IF((E2052+183)>R2052,R2052,(E2052+183)))","v":"2021-01-01"},{"$f":"IF(OR(S2052=R2052,(E2052+365)<Q2052,R2052<Q2052),S2052,IF((E2052+365)>R2052,R2052,(E2052+365)))","v":"2021-01-01"},{"$f":"IF(OR(T2052=R2052,S2052=R2052,(E2052+365*2)<Q2052,R2052<Q2052),T2052,IF((E2052+365*2)>R2052,R2052,(E2052+365*2)))","v":"2021-01-01"},{"$f":"IF(AC2052=\"Kuh\",\"Kuh\",F2052)","v":0},{"$f":"S2052-Q2052","v":0},{"$f":"+T2052-S2052","v":0},{"$f":"+U2052-T2052","v":0},{"$f":"IF(AB2052=\"\",0,AB2052-AA2052)","v":0},{"$f":"SUM(W2052:Y2052)","v":0},{"$f":"IF(R2052<Q2052,\"\",R2052-Q2052)","v":""},{"$f":"IF(OR((ISNA(VLOOKUP(C2052,$I$3:$I$138,1,FALSE))=FALSE),AND(AD2052>1200,F2052=\"w\"),M2052=\"Ja\"),\"Kuh\",\"\")","v":""},{"$f":"IF(OR(L2052=\"Nein\",L2052=\"Ja\"),$R$1-E2052,L2052-E2052)","v":0},0,0]
[null,null,null,null,null,null,null,null,null,null,null,null,null,null,null,null,"2021-01-01","00:00:00","2021-01-01","2021-01-01","2021-01-01",0,0,0,0,0,0,"","",0,0,0]
[null,null,null,null,null,null,null,null,null,null,null,null,null,null,null,null,"2021-01-01","00:00:00","2021-01-01","2021-01-01","2021-01-01",0,0,0,0,0,0,"","",0,0,0]
[null,null,null,null,null,null,null,null,null,null,null,null,null,null,null,null,"2021-01-01","00:00:00","2021-01-01","2021-01-01","2021-01-01",0,0,0,0,0,0,"","",0,0,0]
[null,null,null,null,null,null,null,null,null,null,null,null,null,null,null,null,"2021-01-01","00:00:00","2021-01-01","2021-01-01","2021-01-01",0,0,0,0,0,0,"","",0,0,0]
[null,null,null,null,null,null,null,null,null,null,null,null,null,null,null,null,"2021-01-01","00:00:00","2021-01-01","2021-01-01","2021-01-01",0,0,0,0,0,0,"","",0,0,0]
[null,null,null,null,null,null,null,null,null,null,null,null,null,null,null,null,"2021-01-01","00:00:00","2021-01-01","2021-01-01","2021-01-01",0,0,0,0,0,0,"","",0,0,0]
[null,null,null,null,null,null,null,null,null,null,null,null,null,null,null,null,"2021-01-01","00:00:00","2021-01-01","2021-01-01","2021-01-01",0,0,0,0,0,0,"","",0,0,0]
[null,null,null,null,null,null,null,null,null,null,null,null,null,null,null,null,"2021-01-01","00:00:00","2021-01-01","2021-01-01","2021-01-01",0,0,0,0,0,0,"","",0,0,0]
[null,null,null,null,null,null,null,null,null,null,null,null,null,null,null,null,"2021-01-01","00:00:00","2021-01-01","2021-01-01","2021-01-01",0,0,0,0,0,0,"","",0,0,0]
[null,null,null,null,null,null,null,null,null,null,null,null,null,null,null,null,"2021-01-01","00:00:00","2021-01-01","2021-01-01","2021-01-01",0,0,0,0,0,0,"","",0,0,0]
[null,null,null,null,null,null,null,null,null,null,null,null,null,null,null,null,"2021-01-01","00:00:00","2021-01-01","2021-01-01","2021-01-01",0,0,0,0,0,0,"","",0,0,0]
[null,null,null,null,null,null,null,null,null,null,null,null,null,null,null,null,"2021-01-01","00:00:00","2021-01-01","2021-01-01","2021-01-01",0,0,0,0,0,0,"","",0,0,0]
[null,null,null,null,null,null,null,null,null,null,null,null,null,null,null,null,"2021-01-01","00:00:00","2021-01-01","2021-01-01","2021-01-01",0,0,0,0,0,0,"","",0,0,0]
[null,null,null,null,null,null,null,null,null,null,null,null,null,null,null,null,"2021-01-01","00:00:00","2021-01-01","2021-01-01","2021-01-01",0,0,0,0,0,0,"","",0,0,0]
[null,null,null,null,null,null,null,null,null,null,null,null,null,null,null,null,"2021-01-01","00:00:00","2021-01-01","2021-01-01","2021-01-01",0,0,0,0,0,0,"","",0,0,0]
[null,null,null,null,null,null,null,null,null,null,null,null,null,null,null,null,"2021-01-01","00:00:00","2021-01-01","2021-01-01","2021-01-01",0,0,0,0,0,0,"","",0,0,0]
[null,null,null,null,null,null,null,null,null,null,null,null,null,null,null,null,"2021-01-01","00:00:00","2021-01-01","2021-01-01","2021-01-01",0,0,0,0,0,0,"","",0,0,0]
[null,null,null,null,null,null,null,null,null,null,null,null,null,null,null,null,"2021-01-01","00:00:00","2021-01-01","2021-01-01","2021-01-01",0,0,0,0,0,0,"","",0,0,0]
[null,null,null,null,null,null,null,null,null,null,null,null,null,null,null,null,"2021-01-01","00:00:00","2021-01-01","2021-01-01","2021-01-01",0,0,0,0,0,0,"","",0,0,0]
[null,null,null,null,null,null,null,null,null,null,null,null,null,null,null,null,"2021-01-01","00:00:00","2021-01-01","2021-01-01","2021-01-01",0,0,0,0,0,0,"","",0,0,0]
[null,null,null,null,null,null,null,null,null,null,null,null,null,null,null,null,"2021-01-01","00:00:00","2021-01-01","2021-01-01","2021-01-01",0,0,0,0,0,0,"","",0,0,0]
[null,null,null,null,null,null,null,null,null,null,null,null,null,null,null,null,"2021-01-01","00:00:00","2021-01-01","2021-01-01","2021-01-01",0,0,0,0,0,0,"","",0,0,0]
[null,null,null,null,null,null,null,null,null,null,null,null,null,null,null,null,"2021-01-01","00:00:00","2021-01-01","2021-01-01","2021-01-01",0,0,0,0,0,0,"","",0,0,0]
[null,null,null,null,null,null,null,null,null,null,null,null,null,null,null,null,"2021-01-01","00:00:00","2021-01-01","2021-01-01","2021-01-01",0,0,0,0,0,0,"","",0,0,0]
[null,null,null,null,null,null,null,null,null,null,null,null,null,null,null,null,"2021-01-01","00:00:00","2021-01-01","2021-01-01","2021-01-01",0,0,0,0,0,0,"","",0,0,0]
[null,null,null,null,null,null,null,null,null,null,null,null,null,null,null,null,"2021-01-01","00:00:00","2021-01-01","2021-01-01","2021-01-01",0,0,0,0,0,0,"","",0,0,0]
[null,null,null,null,null,null,null,null,null,null,null,null,null,null,null,null,"2021-01-01","00:00:00","2021-01-01","2021-01-01","2021-01-01",0,0,0,0,0,0,"","",0,0,0]
[null,null,null,null,null,null,null,null,null,null,null,null,null,null,null,null,"2021-01-01","00:00:00","2021-01-01","2021-01-01","2021-01-01",0,0,0,0,0,0,"","",0,0,0]
[null,null,null,null,null,null,null,null,null,null,null,null,null,null,null,null,"2021-01-01","00:00:00","2021-01-01","2021-01-01","2021-01-01",0,0,0,0,0,0,"","",0,0,0]
[null,null,null,null,null,null,null,null,null,null,null,null,null,null,null,null,"2021-01-01","00:00:00","2021-01-01","2021-01-01","2021-01-01",0,0,0,0,0,0,"","",0,0,0]
[null,null,null,null,null,null,null,null,null,null,null,null,null,null,null,null,"2021-01-01","00:00:00","2021-01-01","2021-01-01","2021-01-01",0,0,0,0,0,0,"","",0,0,0]
[null,null,null,null,null,null,null,null,null,null,null,null,null,null,null,null,"2021-01-01","00:00:00","2021-01-01","2021-01-01","2021-01-01",0,0,0,0,0,0,"","",0,0,0]
[null,null,null,null,null,null,null,null,null,null,null,null,null,null,null,null,"2021-01-01","00:00:00","2021-01-01","2021-01-01","2021-01-01",0,0,0,0,0,0,"","",0,0,0]
[null,null,null,null,null,null,null,null,null,null,null,null,null,null,null,null,"2021-01-01","00:00:00","2021-01-01","2021-01-01","2021-01-01",0,0,0,0,0,0,"","",0,0,0]
[null,null,null,null,null,null,null,null,null,null,null,null,null,null,null,null,"2021-01-01","00:00:00","2021-01-01","2021-01-01","2021-01-01",0,0,0,0,0,0,"","",0,0,0]
[null,null,null,null,null,null,null,null,null,null,null,null,null,null,null,null,"2021-01-01","00:00:00","2021-01-01","2021-01-01","2021-01-01",0,0,0,0,0,0,"","",0,0,0]
[null,null,null,null,null,null,null,null,null,null,null,null,null,null,null,null,"2021-01-01","00:00:00","2021-01-01","2021-01-01","2021-01-01",0,0,0,0,0,0,"","",0,0,0]
[null,null,null,null,null,null,null,null,null,null,null,null,null,null,null,null,"2021-01-01","00:00:00","2021-01-01","2021-01-01","2021-01-01",0,0,0,0,0,0,"","",0,0,0]
[null,null,null,null,null,null,null,null,null,null,null,null,null,null,null,null,"2021-01-01","00:00:00","2021-01-01","2021-01-01","2021-01-01",0,0,0,0,0,0,"","",0,0,0]
[null,null,null,null,null,null,null,null,null,null,null,null,null,null,null,null,"2021-01-01","00:00:00","2021-01-01","2021-01-01","2021-01-01",0,0,0,0,0,0,"","",0,0,0]
[null,null,null,null,null,null,null,null,null,null,null,null,null,null,null,null,"2021-01-01","00:00:00","2021-01-01","2021-01-01","2021-01-01",0,0,0,0,0,0,"","",0,0,0]
[null,null,null,null,null,null,null,null,null,null,null,null,null,null,null,null,"2021-01-01","00:00:00","2021-01-01","2021-01-01","2021-01-01",0,0,0,0,0,0,"","",0,0,0]
[null,null,null,null,null,null,null,null,null,null,null,null,null,null,null,null,"2021-01-01","00:00:00","2021-01-01","2021-01-01","2021-01-01",0,0,0,0,0,0,"","",0,0,0]
[null,null,null,null,null,null,null,null,null,null,null,null,null,null,null,null,"2021-01-01","00:00:00","2021-01-01","2021-01-01","2021-01-01",0,0,0,0,0,0,"","",0,0,0]
[null,null,null,null,null,null,null,null,null,null,null,null,null,null,null,null,"2021-01-01","00:00:00","2021-01-01","2021-01-01","2021-01-01",0,0,0,0,0,0,"","",0,0,0]
[null,null,null,null,null,null,null,null,null,null,null,null,null,null,null,null,"2021-01-01","00:00:00","2021-01-01","2021-01-01","2021-01-01",0,0,0,0,0,0,"","",0,0,0]
[null,null,null,null,null,null,null,null,null,null,null,null,null,null,null,null,"2021-01-01","00:00:00","2021-01-01","2021-01-01","2021-01-01",0,0,0,0,0,0,"","",0,0,0]
[null,null,null,null,null,null,null,null,null,null,null,null,null,null,null,null,"2021-01-01","00:00:00","2021-01-01","2021-01-01","2021-01-01",0,0,0,0,0,0,"","",0,0,0]
[null,null,null,null,null,null,null,null,null,null,null,null,null,null,null,null,"2021-01-01","00:00:00","2021-01-01","2021-01-01","2021-01-01",0,0,0,0,0,0,"","",0,0,0]
[null,null,null,null,null,null,null,null,null,null,null,null,null,null,null,null,"2021-01-01","00:00:00","2021-01-01","2021-01-01","2021-01-01",0,0,0,0,0,0,"","",0,0,0]
[null,null,null,null,null,null,null,null,null,null,null,null,null,null,null,null,"2021-01-01","00:00:00","2021-01-01","2021-01-01","2021-01-01",0,0,0,0,0,0,"","",0,0,0]
[null,null,null,null,null,null,null,null,null,null,null,null,null,null,null,null,"2021-01-01","00:00:00","2021-01-01","2021-01-01","2021-01-01",0,0,0,0,0,0,"","",0,0,0]
[null,null,null,null,null,null,null,null,null,null,null,null,null,null,null,null,"2021-01-01","00:00:00","2021-01-01","2021-01-01","2021-01-01",0,0,0,0,0,0,"","",0,0,0]
[null,null,null,null,null,null,null,null,null,null,null,null,null,null,null,null,"2021-01-01","00:00:00","2021-01-01","2021-01-01","2021-01-01",0,0,0,0,0,0,"","",0,0,0]
[null,null,null,null,null,null,null,null,null,null,null,null,null,null,null,null,"2021-01-01","00:00:00","2021-01-01","2021-01-01","2021-01-01",0,0,0,0,0,0,"","",0,0,0]
[null,null,null,null,null,null,null,null,null,null,null,null,null,null,null,null,"2021-01-01","00:00:00","2021-01-01","2021-01-01","2021-01-01",0,0,0,0,0,0,"","",0,0,0]
[null,null,null,null,null,null,null,null,null,null,null,null,null,null,null,null,"2021-01-01","00:00:00","2021-01-01","2021-01-01","2021-01-01",0,0,0,0,0,0,"","",0,0,0]
[null,null,null,null,null,null,null,null,null,null,null,null,null,null,null,null,"2021-01-01","00:00:00","2021-01-01","2021-01-01","2021-01-01",0,0,0,0,0,0,"","",0,0,0]
[null,null,null,null,null,null,null,null,null,null,null,null,null,null,null,null,"2021-01-01","00:00:00","2021-01-01","2021-01-01","2021-01-01",0,0,0,0,0,0,"","",0,0,0]
[null,null,null,null,null,null,null,null,null,null,null,null,null,null,null,null,"2021-01-01","00:00:00","2021-01-01","2021-01-01","2021-01-01",0,0,0,0,0,0,"","",0,0,0]
[null,null,null,null,null,null,null,null,null,null,null,null,null,null,null,null,"2021-01-01","00:00:00","2021-01-01","2021-01-01","2021-01-01",0,0,0,0,0,0,"","",0,0,0]
[null,null,null,null,null,null,null,null,null,null,null,null,null,null,null,null,"2021-01-01","00:00:00","2021-01-01","2021-01-01","2021-01-01",0,0,0,0,0,0,"","",0,0,0]
[null,null,null,null,null,null,null,null,null,null,null,null,null,null,null,null,"2021-01-01","00:00:00","2021-01-01","2021-01-01","2021-01-01",0,0,0,0,0,0,"","",0,{"$f":"IF(OR($Q2115>$Q$1,$R2115<$Q$1),0,YEARFRAC($E2115,$Q2115,1))*12","v":0},{"$f":"IF(OR($Q2115>$R$1,$R2115<$R$1),0,YEARFRAC($E2115,$R2115,1))*12","v":0}]
[null,null,null,null,null,null,null,null,null,null,null,null,null,null,null,null,{"$f":"IF(OR(K2116<$Q$1,K2116=\"Altbestand\"),$Q$1,IF(AND(K2116=\"Nachzucht\",E2116>$Q$1),E2116,IF(K2116=\"Nachzucht\",$Q$1,K2116)))","v":"2021-01-01"},{"$f":"IF(OR(L2116>$R$1,L2116=\"Nein\"),$R$1,L2116)","v":"00:00:00"},{"$f":"IF(OR(R2116<Q2116,(E2116+183)<Q2116),Q2116,IF((E2116+183)>R2116,R2116,(E2116+183)))","v":"2021-01-01"},{"$f":"IF(OR(S2116=R2116,(E2116+365)<Q2116,R2116<Q2116),S2116,IF((E2116+365)>R2116,R2116,(E2116+365)))","v":"2021-01-01"},{"$f":"IF(OR(T2116=R2116,S2116=R2116,(E2116+365*2)<Q2116,R2116<Q2116),T2116,IF((E2116+365*2)>R2116,R2116,(E2116+365*2)))","v":"2021-01-01"},{"$f":"IF(AC2116=\"Kuh\",\"Kuh\",F2116)","v":0},{"$f":"S2116-Q2116","v":0},{"$f":"+T2116-S2116","v":0},{"$f":"+U2116-T2116","v":0},{"$f":"IF(AB2116=\"\",0,AB2116-AA2116)","v":0},{"$f":"SUM(W2116:Y2116)","v":0},{"$f":"IF(R2116<Q2116,\"\",R2116-Q2116)","v":""},{"$f":"IF(OR((ISNA(VLOOKUP(C2116,$I$3:$I$138,1,FALSE))=FALSE),AND(AD2116>1200,F2116=\"w\"),M2116=\"Ja\"),\"Kuh\",\"\")","v":""},{"$f":"IF(OR(L2116=\"Nein\",L2116=\"Ja\"),$R$1-E2116,L2116-E2116)","v":0},0,0]
[null,null,null,null,null,null,null,null,null,null,null,null,null,null,null,null,"2021-01-01","00:00:00","2021-01-01","2021-01-01","2021-01-01",0,0,0,0,0,0,"","",0,0,0]
[null,null,null,null,null,null,null,null,null,null,null,null,null,null,null,null,"2021-01-01","00:00:00","2021-01-01","2021-01-01","2021-01-01",0,0,0,0,0,0,"","",0,0,0]
[null,null,null,null,null,null,null,null,null,null,null,null,null,null,null,null,"2021-01-01","00:00:00","2021-01-01","2021-01-01","2021-01-01",0,0,0,0,0,0,"","",0,0,0]
[null,null,null,null,null,null,null,null,null,null,null,null,null,null,null,null,"2021-01-01","00:00:00","2021-01-01","2021-01-01","2021-01-01",0,0,0,0,0,0,"","",0,0,0]
[null,null,null,null,null,null,null,null,null,null,null,null,null,null,null,null,"2021-01-01","00:00:00","2021-01-01","2021-01-01","2021-01-01",0,0,0,0,0,0,"","",0,0,0]
[null,null,null,null,null,null,null,null,null,null,null,null,null,null,null,null,"2021-01-01","00:00:00","2021-01-01","2021-01-01","2021-01-01",0,0,0,0,0,0,"","",0,0,0]
[null,null,null,null,null,null,null,null,null,null,null,null,null,null,null,null,"2021-01-01","00:00:00","2021-01-01","2021-01-01","2021-01-01",0,0,0,0,0,0,"","",0,0,0]
[null,null,null,null,null,null,null,null,null,null,null,null,null,null,null,null,"2021-01-01","00:00:00","2021-01-01","2021-01-01","2021-01-01",0,0,0,0,0,0,"","",0,0,0]
[null,null,null,null,null,null,null,null,null,null,null,null,null,null,null,null,"2021-01-01","00:00:00","2021-01-01","2021-01-01","2021-01-01",0,0,0,0,0,0,"","",0,0,0]
[null,null,null,null,null,null,null,null,null,null,null,null,null,null,null,null,"2021-01-01","00:00:00","2021-01-01","2021-01-01","2021-01-01",0,0,0,0,0,0,"","",0,0,0]
[null,null,null,null,null,null,null,null,null,null,null,null,null,null,null,null,"2021-01-01","00:00:00","2021-01-01","2021-01-01","2021-01-01",0,0,0,0,0,0,"","",0,0,0]
[null,null,null,null,null,null,null,null,null,null,null,null,null,null,null,null,"2021-01-01","00:00:00","2021-01-01","2021-01-01","2021-01-01",0,0,0,0,0,0,"","",0,0,0]
[null,null,null,null,null,null,null,null,null,null,null,null,null,null,null,null,"2021-01-01","00:00:00","2021-01-01","2021-01-01","2021-01-01",0,0,0,0,0,0,"","",0,0,0]
[null,null,null,null,null,null,null,null,null,null,null,null,null,null,null,null,"2021-01-01","00:00:00","2021-01-01","2021-01-01","2021-01-01",0,0,0,0,0,0,"","",0,0,0]
[null,null,null,null,null,null,null,null,null,null,null,null,null,null,null,null,"2021-01-01","00:00:00","2021-01-01","2021-01-01","2021-01-01",0,0,0,0,0,0,"","",0,0,0]
[null,null,null,null,null,null,null,null,null,null,null,null,null,null,null,null,"2021-01-01","00:00:00","2021-01-01","2021-01-01","2021-01-01",0,0,0,0,0,0,"","",0,0,0]
[null,null,null,null,null,null,null,null,null,null,null,null,null,null,null,null,"2021-01-01","00:00:00","2021-01-01","2021-01-01","2021-01-01",0,0,0,0,0,0,"","",0,0,0]
[null,null,null,null,null,null,null,null,null,null,null,null,null,null,null,null,"2021-01-01","00:00:00","2021-01-01","2021-01-01","2021-01-01",0,0,0,0,0,0,"","",0,0,0]
[null,null,null,null,null,null,null,null,null,null,null,null,null,null,null,null,"2021-01-01","00:00:00","2021-01-01","2021-01-01","2021-01-01",0,0,0,0,0,0,"","",0,0,0]
[null,null,null,null,null,null,null,null,null,null,null,null,null,null,null,null,"2021-01-01","00:00:00","2021-01-01","2021-01-01","2021-01-01",0,0,0,0,0,0,"","",0,0,0]
[null,null,null,null,null,null,null,null,null,null,null,null,null,null,null,null,"2021-01-01","00:00:00","2021-01-01","2021-01-01","2021-01-01",0,0,0,0,0,0,"","",0,0,0]
[null,null,null,null,null,null,null,null,null,null,null,null,null,null,null,null,"2021-01-01","00:00:00","2021-01-01","2021-01-01","2021-01-01",0,0,0,0,0,0,"","",0,0,0]
[null,null,null,null,null,null,null,null,null,null,null,null,null,null,null,null,"2021-01-01","00:00:00","2021-01-01","2021-01-01","2021-01-01",0,0,0,0,0,0,"","",0,0,0]
[null,null,null,null,null,null,null,null,null,null,null,null,null,null,null,null,"2021-01-01","00:00:00","2021-01-01","2021-01-01","2021-01-01",0,0,0,0,0,0,"","",0,0,0]
[null,null,null,null,null,null,null,null,null,null,null,null,null,null,null,null,"2021-01-01","00:00:00","2021-01-01","2021-01-01","2021-01-01",0,0,0,0,0,0,"","",0,0,0]
[null,null,null,null,null,null,null,null,null,null,null,null,null,null,null,null,"2021-01-01","00:00:00","2021-01-01","2021-01-01","2021-01-01",0,0,0,0,0,0,"","",0,0,0]
[null,null,null,null,null,null,null,null,null,null,null,null,null,null,null,null,"2021-01-01","00:00:00","2021-01-01","2021-01-01","2021-01-01",0,0,0,0,0,0,"","",0,0,0]
[null,null,null,null,null,null,null,null,null,null,null,null,null,null,null,null,"2021-01-01","00:00:00","2021-01-01","2021-01-01","2021-01-01",0,0,0,0,0,0,"","",0,0,0]
[null,null,null,null,null,null,null,null,null,null,null,null,null,null,null,null,"2021-01-01","00:00:00","2021-01-01","2021-01-01","2021-01-01",0,0,0,0,0,0,"","",0,0,0]
[null,null,null,null,null,null,null,null,null,null,null,null,null,null,null,null,"2021-01-01","00:00:00","2021-01-01","2021-01-01","2021-01-01",0,0,0,0,0,0,"","",0,0,0]
[null,null,null,null,null,null,null,null,null,null,null,null,null,null,null,null,"2021-01-01","00:00:00","2021-01-01","2021-01-01","2021-01-01",0,0,0,0,0,0,"","",0,0,0]
[null,null,null,null,null,null,null,null,null,null,null,null,null,null,null,null,"2021-01-01","00:00:00","2021-01-01","2021-01-01","2021-01-01",0,0,0,0,0,0,"","",0,0,0]
[null,null,null,null,null,null,null,null,null,null,null,null,null,null,null,null,"2021-01-01","00:00:00","2021-01-01","2021-01-01","2021-01-01",0,0,0,0,0,0,"","",0,0,0]
[null,null,null,null,null,null,null,null,null,null,null,null,null,null,null,null,"2021-01-01","00:00:00","2021-01-01","2021-01-01","2021-01-01",0,0,0,0,0,0,"","",0,0,0]
[null,null,null,null,null,null,null,null,null,null,null,null,null,null,null,null,"2021-01-01","00:00:00","2021-01-01","2021-01-01","2021-01-01",0,0,0,0,0,0,"","",0,0,0]
[null,null,null,null,null,null,null,null,null,null,null,null,null,null,null,null,"2021-01-01","00:00:00","2021-01-01","2021-01-01","2021-01-01",0,0,0,0,0,0,"","",0,0,0]
[null,null,null,null,null,null,null,null,null,null,null,null,null,null,null,null,"2021-01-01","00:00:00","2021-01-01","2021-01-01","2021-01-01",0,0,0,0,0,0,"","",0,0,0]
[null,null,null,null,null,null,null,null,null,null,null,null,null,null,null,null,"2021-01-01","00:00:00","2021-01-01","2021-01-01","2021-01-01",0,0,0,0,0,0,"","",0,0,0]
[null,null,null,null,null,null,null,null,null,null,null,null,null,null,null,null,"2021-01-01","00:00:00","2021-01-01","2021-01-01","2021-01-01",0,0,0,0,0,0,"","",0,0,0]
[null,null,null,null,null,null,null,null,null,null,null,null,null,null,null,null,"2021-01-01","00:00:00","2021-01-01","2021-01-01","2021-01-01",0,0,0,0,0,0,"","",0,0,0]
[null,null,null,null,null,null,null,null,null,null,null,null,null,null,null,null,"2021-01-01","00:00:00","2021-01-01","2021-01-01","2021-01-01",0,0,0,0,0,0,"","",0,0,0]
[null,null,null,null,null,null,null,null,null,null,null,null,null,null,null,null,"2021-01-01","00:00:00","2021-01-01","2021-01-01","2021-01-01",0,0,0,0,0,0,"","",0,0,0]
[null,null,null,null,null,null,null,null,null,null,null,null,null,null,null,null,"2021-01-01","00:00:00","2021-01-01","2021-01-01","2021-01-01",0,0,0,0,0,0,"","",0,0,0]
[null,null,null,null,null,null,null,null,null,null,null,null,null,null,null,null,"2021-01-01","00:00:00","2021-01-01","2021-01-01","2021-01-01",0,0,0,0,0,0,"","",0,0,0]
[null,null,null,null,null,null,null,null,null,null,null,null,null,null,null,null,"2021-01-01","00:00:00","2021-01-01","2021-01-01","2021-01-01",0,0,0,0,0,0,"","",0,0,0]
[null,null,null,null,null,null,null,null,null,null,null,null,null,null,null,null,"2021-01-01","00:00:00","2021-01-01","2021-01-01","2021-01-01",0,0,0,0,0,0,"","",0,0,0]
[null,null,null,null,null,null,null,null,null,null,null,null,null,null,null,null,"2021-01-01","00:00:00","2021-01-01","2021-01-01","2021-01-01",0,0,0,0,0,0,"","",0,0,0]
[null,null,null,null,null,null,null,null,null,null,null,null,null,null,null,null,"2021-01-01","00:00:00","2021-01-01","2021-01-01","2021-01-01",0,0,0,0,0,0,"","",0,0,0]
[null,null,null,null,null,null,null,null,null,null,null,null,null,null,null,null,"2021-01-01","00:00:00","2021-01-01","2021-01-01","2021-01-01",0,0,0,0,0,0,"","",0,0,0]
[null,null,null,null,null,null,null,null,null,null,null,null,null,null,null,null,"2021-01-01","00:00:00","2021-01-01","2021-01-01","2021-01-01",0,0,0,0,0,0,"","",0,0,0]
[null,null,null,null,null,null,null,null,null,null,null,null,null,null,null,null,"2021-01-01","00:00:00","2021-01-01","2021-01-01","2021-01-01",0,0,0,0,0,0,"","",0,0,0]
[null,null,null,null,null,null,null,null,null,null,null,null,null,null,null,null,"2021-01-01","00:00:00","2021-01-01","2021-01-01","2021-01-01",0,0,0,0,0,0,"","",0,0,0]
[null,null,null,null,null,null,null,null,null,null,null,null,null,null,null,null,"2021-01-01","00:00:00","2021-01-01","2021-01-01","2021-01-01",0,0,0,0,0,0,"","",0,0,0]
[null,null,null,null,null,null,null,null,null,null,null,null,null,null,null,null,"2021-01-01","00:00:00","2021-01-01","2021-01-01","2021-01-01",0,0,0,0,0,0,"","",0,0,0]
[null,null,null,null,null,null,null,null,null,null,null,null,null,null,null,null,"2021-01-01","00:00:00","2021-01-01","2021-01-01","2021-01-01",0,0,0,0,0,0,"","",0,0,0]
[null,null,null,null,null,null,null,null,null,null,null,null,null,null,null,null,"2021-01-01","00:00:00","2021-01-01","2021-01-01","2021-01-01",0,0,0,0,0,0,"","",0,0,0]
[null,null,null,null,null,null,null,null,null,null,null,null,null,null,null,null,"2021-01-01","00:00:00","2021-01-01","2021-01-01","2021-01-01",0,0,0,0,0,0,"","",0,0,0]
[null,null,null,null,null,null,null,null,null,null,null,null,null,null,null,null,"2021-01-01","00:00:00","2021-01-01","2021-01-01","2021-01-01",0,0,0,0,0,0,"","",0,0,0]
[null,null,null,null,null,null,null,null,null,null,null,null,null,null,null,null,"2021-01-01","00:00:00","2021-01-01","2021-01-01","2021-01-01",0,0,0,0,0,0,"","",0,0,0]
[null,null,null,null,null,null,null,null,null,null,null,null,null,null,null,null,"2021-01-01","00:00:00","2021-01-01","2021-01-01","2021-01-01",0,0,0,0,0,0,"","",0,0,0]
[null,null,null,null,null,null,null,null,null,null,null,null,null,null,null,null,"2021-01-01","00:00:00","2021-01-01","2021-01-01","2021-01-01",0,0,0,0,0,0,"","",0,0,0]
[null,null,null,null,null,null,null,null,null,null,null,null,null,null,null,null,"2021-01-01","00:00:00","2021-01-01","2021-01-01","2021-01-01",0,0,0,0,0,0,"","",0,0,0]
[null,null,null,null,null,null,null,null,null,null,null,null,null,null,null,null,"2021-01-01","00:00:00","2021-01-01","2021-01-01","2021-01-01",0,0,0,0,0,0,"","",0,{"$f":"IF(OR($Q2179>$Q$1,$R2179<$Q$1),0,YEARFRAC($E2179,$Q2179,1))*12","v":0},{"$f":"IF(OR($Q2179>$R$1,$R2179<$R$1),0,YEARFRAC($E2179,$R2179,1))*12","v":0}]
[null,null,null,null,null,null,null,null,null,null,null,null,null,null,null,null,{"$f":"IF(OR(K2180<$Q$1,K2180=\"Altbestand\"),$Q$1,IF(AND(K2180=\"Nachzucht\",E2180>$Q$1),E2180,IF(K2180=\"Nachzucht\",$Q$1,K2180)))","v":"2021-01-01"},{"$f":"IF(OR(L2180>$R$1,L2180=\"Nein\"),$R$1,L2180)","v":"00:00:00"},{"$f":"IF(OR(R2180<Q2180,(E2180+183)<Q2180),Q2180,IF((E2180+183)>R2180,R2180,(E2180+183)))","v":"2021-01-01"},{"$f":"IF(OR(S2180=R2180,(E2180+365)<Q2180,R2180<Q2180),S2180,IF((E2180+365)>R2180,R2180,(E2180+365)))","v":"2021-01-01"},{"$f":"IF(OR(T2180=R2180,S2180=R2180,(E2180+365*2)<Q2180,R2180<Q2180),T2180,IF((E2180+365*2)>R2180,R2180,(E2180+365*2)))","v":"2021-01-01"},{"$f":"IF(AC2180=\"Kuh\",\"Kuh\",F2180)","v":0},{"$f":"S2180-Q2180","v":0},{"$f":"+T2180-S2180","v":0},{"$f":"+U2180-T2180","v":0},{"$f":"IF(AB2180=\"\",0,AB2180-AA2180)","v":0},{"$f":"SUM(W2180:Y2180)","v":0},{"$f":"IF(R2180<Q2180,\"\",R2180-Q2180)","v":""},{"$f":"IF(OR((ISNA(VLOOKUP(C2180,$I$3:$I$138,1,FALSE))=FALSE),AND(AD2180>1200,F2180=\"w\"),M2180=\"Ja\"),\"Kuh\",\"\")","v":""},{"$f":"IF(OR(L2180=\"Nein\",L2180=\"Ja\"),$R$1-E2180,L2180-E2180)","v":0},0,0]
[null,null,null,null,null,null,null,null,null,null,null,null,null,null,null,null,"2021-01-01","00:00:00","2021-01-01","2021-01-01","2021-01-01",0,0,0,0,0,0,"","",0,0,0]
[null,null,null,null,null,null,null,null,null,null,null,null,null,null,null,null,"2021-01-01","00:00:00","2021-01-01","2021-01-01","2021-01-01",0,0,0,0,0,0,"","",0,0,0]
[null,null,null,null,null,null,null,null,null,null,null,null,null,null,null,null,"2021-01-01","00:00:00","2021-01-01","2021-01-01","2021-01-01",0,0,0,0,0,0,"","",0,0,0]
[null,null,null,null,null,null,null,null,null,null,null,null,null,null,null,null,"2021-01-01","00:00:00","2021-01-01","2021-01-01","2021-01-01",0,0,0,0,0,0,"","",0,0,0]
[null,null,null,null,null,null,null,null,null,null,null,null,null,null,null,null,"2021-01-01","00:00:00","2021-01-01","2021-01-01","2021-01-01",0,0,0,0,0,0,"","",0,0,0]
[null,null,null,null,null,null,null,null,null,null,null,null,null,null,null,null,"2021-01-01","00:00:00","2021-01-01","2021-01-01","2021-01-01",0,0,0,0,0,0,"","",0,0,0]
[null,null,null,null,null,null,null,null,null,null,null,null,null,null,null,null,"2021-01-01","00:00:00","2021-01-01","2021-01-01","2021-01-01",0,0,0,0,0,0,"","",0,0,0]
[null,null,null,null,null,null,null,null,null,null,null,null,null,null,null,null,"2021-01-01","00:00:00","2021-01-01","2021-01-01","2021-01-01",0,0,0,0,0,0,"","",0,0,0]
[null,null,null,null,null,null,null,null,null,null,null,null,null,null,null,null,"2021-01-01","00:00:00","2021-01-01","2021-01-01","2021-01-01",0,0,0,0,0,0,"","",0,0,0]
[null,null,null,null,null,null,null,null,null,null,null,null,null,null,null,null,"2021-01-01","00:00:00","2021-01-01","2021-01-01","2021-01-01",0,0,0,0,0,0,"","",0,0,0]
[null,null,null,null,null,null,null,null,null,null,null,null,null,null,null,null,"2021-01-01","00:00:00","2021-01-01","2021-01-01","2021-01-01",0,0,0,0,0,0,"","",0,0,0]
[null,null,null,null,null,null,null,null,null,null,null,null,null,null,null,null,"2021-01-01","00:00:00","2021-01-01","2021-01-01","2021-01-01",0,0,0,0,0,0,"","",0,0,0]
[null,null,null,null,null,null,null,null,null,null,null,null,null,null,null,null,"2021-01-01","00:00:00","2021-01-01","2021-01-01","2021-01-01",0,0,0,0,0,0,"","",0,0,0]
[null,null,null,null,null,null,null,null,null,null,null,null,null,null,null,null,"2021-01-01","00:00:00","2021-01-01","2021-01-01","2021-01-01",0,0,0,0,0,0,"","",0,0,0]
[null,null,null,null,null,null,null,null,null,null,null,null,null,null,null,null,"2021-01-01","00:00:00","2021-01-01","2021-01-01","2021-01-01",0,0,0,0,0,0,"","",0,0,0]
[null,null,null,null,null,null,null,null,null,null,null,null,null,null,null,null,"2021-01-01","00:00:00","2021-01-01","2021-01-01","2021-01-01",0,0,0,0,0,0,"","",0,0,0]
[null,null,null,null,null,null,null,null,null,null,null,null,null,null,null,null,"2021-01-01","00:00:00","2021-01-01","2021-01-01","2021-01-01",0,0,0,0,0,0,"","",0,0,0]
[null,null,null,null,null,null,null,null,null,null,null,null,null,null,null,null,"2021-01-01","00:00:00","2021-01-01","2021-01-01","2021-01-01",0,0,0,0,0,0,"","",0,0,0]
[null,null,null,null,null,null,null,null,null,null,null,null,null,null,null,null,"2021-01-01","00:00:00","2021-01-01","2021-01-01","2021-01-01",0,0,0,0,0,0,"","",0,0,0]
[null,null,null,null,null,null,null,null,null,null,null,null,null,null,null,null,"2021-01-01","00:00:00","2021-01-01","2021-01-01","2021-01-01",0,0,0,0,0,0,"","",0,0,0]
[null,null,null,null,null,null,null,null,null,null,null,null,null,null,null,null,"2021-01-01","00:00:00","2021-01-01","2021-01-01","2021-01-01",0,0,0,0,0,0,"","",0,0,0]
[null,null,null,null,null,null,null,null,null,null,null,null,null,null,null,null,"2021-01-01","00:00:00","2021-01-01","2021-01-01","2021-01-01",0,0,0,0,0,0,"","",0,0,0]
[null,null,null,null,null,null,null,null,null,null,null,null,null,null,null,null,"2021-01-01","00:00:00","2021-01-01","2021-01-01","2021-01-01",0,0,0,0,0,0,"","",0,0,0]
[null,null,null,null,null,null,null,null,null,null,null,null,null,null,null,null,"2021-01-01","00:00:00","2021-01-01","2021-01-01","2021-01-01",0,0,0,0,0,0,"","",0,0,0]
[null,null,null,null,null,null,null,null,null,null,null,null,null,null,null,null,"2021-01-01","00:00:00","2021-01-01","2021-01-01","2021-01-01",0,0,0,0,0,0,"","",0,0,0]
[null,null,null,null,null,null,null,null,null,null,null,null,null,null,null,null,"2021-01-01","00:00:00","2021-01-01","2021-01-01","2021-01-01",0,0,0,0,0,0,"","",0,0,0]
[null,null,null,null,null,null,null,null,null,null,null,null,null,null,null,null,"2021-01-01","00:00:00","2021-01-01","2021-01-01","2021-01-01",0,0,0,0,0,0,"","",0,0,0]
[null,null,null,null,null,null,null,null,null,null,null,null,null,null,null,null,"2021-01-01","00:00:00","2021-01-01","2021-01-01","2021-01-01",0,0,0,0,0,0,"","",0,0,0]
[null,null,null,null,null,null,null,null,null,null,null,null,null,null,null,null,"2021-01-01","00:00:00","2021-01-01","2021-01-01","2021-01-01",0,0,0,0,0,0,"","",0,0,0]
[null,null,null,null,null,null,null,null,null,null,null,null,null,null,null,null,"2021-01-01","00:00:00","2021-01-01","2021-01-01","2021-01-01",0,0,0,0,0,0,"","",0,0,0]
[null,null,null,null,null,null,null,null,null,null,null,null,null,null,null,null,"2021-01-01","00:00:00","2021-01-01","2021-01-01","2021-01-01",0,0,0,0,0,0,"","",0,0,0]
[null,null,null,null,null,null,null,null,null,null,null,null,null,null,null,null,"2021-01-01","00:00:00","2021-01-01","2021-01-01","2021-01-01",0,0,0,0,0,0,"","",0,0,0]
[null,null,null,null,null,null,null,null,null,null,null,null,null,null,null,null,"2021-01-01","00:00:00","2021-01-01","2021-01-01","2021-01-01",0,0,0,0,0,0,"","",0,0,0]
[null,null,null,null,null,null,null,null,null,null,null,null,null,null,null,null,"2021-01-01","00:00:00","2021-01-01","2021-01-01","2021-01-01",0,0,0,0,0,0,"","",0,0,0]
[null,null,null,null,null,null,null,null,null,null,null,null,null,null,null,null,"2021-01-01","00:00:00","2021-01-01","2021-01-01","2021-01-01",0,0,0,0,0,0,"","",0,0,0]
[null,null,null,null,null,null,null,null,null,null,null,null,null,null,null,null,"2021-01-01","00:00:00","2021-01-01","2021-01-01","2021-01-01",0,0,0,0,0,0,"","",0,0,0]
[null,null,null,null,null,null,null,null,null,null,null,null,null,null,null,null,"2021-01-01","00:00:00","2021-01-01","2021-01-01","2021-01-01",0,0,0,0,0,0,"","",0,0,0]
[null,null,null,null,null,null,null,null,null,null,null,null,null,null,null,null,"2021-01-01","00:00:00","2021-01-01","2021-01-01","2021-01-01",0,0,0,0,0,0,"","",0,0,0]
[null,null,null,null,null,null,null,null,null,null,null,null,null,null,null,null,"2021-01-01","00:00:00","2021-01-01","2021-01-01","2021-01-01",0,0,0,0,0,0,"","",0,0,0]
[null,null,null,null,null,null,null,null,null,null,null,null,null,null,null,null,"2021-01-01","00:00:00","2021-01-01","2021-01-01","2021-01-01",0,0,0,0,0,0,"","",0,0,0]
[null,null,null,null,null,null,null,null,null,null,null,null,null,null,null,null,"2021-01-01","00:00:00","2021-01-01","2021-01-01","2021-01-01",0,0,0,0,0,0,"","",0,0,0]
[null,null,null,null,null,null,null,null,null,null,null,null,null,null,null,null,"2021-01-01","00:00:00","2021-01-01","2021-01-01","2021-01-01",0,0,0,0,0,0,"","",0,0,0]
[null,null,null,null,null,null,null,null,null,null,null,null,null,null,null,null,"2021-01-01","00:00:00","2021-01-01","2021-01-01","2021-01-01",0,0,0,0,0,0,"","",0,0,0]
[null,null,null,null,null,null,null,null,null,null,null,null,null,null,null,null,"2021-01-01","00:00:00","2021-01-01","2021-01-01","2021-01-01",0,0,0,0,0,0,"","",0,0,0]
[null,null,null,null,null,null,null,null,null,null,null,null,null,null,null,null,"2021-01-01","00:00:00","2021-01-01","2021-01-01","2021-01-01",0,0,0,0,0,0,"","",0,0,0]
[null,null,null,null,null,null,null,null,null,null,null,null,null,null,null,null,"2021-01-01","00:00:00","2021-01-01","2021-01-01","2021-01-01",0,0,0,0,0,0,"","",0,0,0]
[null,null,null,null,null,null,null,null,null,null,null,null,null,null,null,null,"2021-01-01","00:00:00","2021-01-01","2021-01-01","2021-01-01",0,0,0,0,0,0,"","",0,0,0]
[null,null,null,null,null,null,null,null,null,null,null,null,null,null,null,null,"2021-01-01","00:00:00","2021-01-01","2021-01-01","2021-01-01",0,0,0,0,0,0,"","",0,0,0]
[null,null,null,null,null,null,null,null,null,null,null,null,null,null,null,null,"2021-01-01","00:00:00","2021-01-01","2021-01-01","2021-01-01",0,0,0,0,0,0,"","",0,0,0]
[null,null,null,null,null,null,null,null,null,null,null,null,null,null,null,null,"2021-01-01","00:00:00","2021-01-01","2021-01-01","2021-01-01",0,0,0,0,0,0,"","",0,0,0]
[null,null,null,null,null,null,null,null,null,null,null,null,null,null,null,null,"2021-01-01","00:00:00","2021-01-01","2021-01-01","2021-01-01",0,0,0,0,0,0,"","",0,0,0]
[null,null,null,null,null,null,null,null,null,null,null,null,null,null,null,null,"2021-01-01","00:00:00","2021-01-01","2021-01-01","2021-01-01",0,0,0,0,0,0,"","",0,0,0]
[null,null,null,null,null,null,null,null,null,null,null,null,null,null,null,null,"2021-01-01","00:00:00","2021-01-01","2021-01-01","2021-01-01",0,0,0,0,0,0,"","",0,0,0]
[null,null,null,null,null,null,null,null,null,null,null,null,null,null,null,null,"2021-01-01","00:00:00","2021-01-01","2021-01-01","2021-01-01",0,0,0,0,0,0,"","",0,0,0]
[null,null,null,null,null,null,null,null,null,null,null,null,null,null,null,null,"2021-01-01","00:00:00","2021-01-01","2021-01-01","2021-01-01",0,0,0,0,0,0,"","",0,0,0]
[null,null,null,null,null,null,null,null,null,null,null,null,null,null,null,null,"2021-01-01","00:00:00","2021-01-01","2021-01-01","2021-01-01",0,0,0,0,0,0,"","",0,0,0]
[null,null,null,null,null,null,null,null,null,null,null,null,null,null,null,null,"2021-01-01","00:00:00","2021-01-01","2021-01-01","2021-01-01",0,0,0,0,0,0,"","",0,0,0]
[null,null,null,null,null,null,null,null,null,null,null,null,null,null,null,null,"2021-01-01","00:00:00","2021-01-01","2021-01-01","2021-01-01",0,0,0,0,0,0,"","",0,0,0]
[null,null,null,null,null,null,null,null,null,null,null,null,null,null,null,null,"2021-01-01","00:00:00","2021-01-01","2021-01-01","2021-01-01",0,0,0,0,0,0,"","",0,0,0]
[null,null,null,null,null,null,null,null,null,null,null,null,null,null,null,null,"2021-01-01","00:00:00","2021-01-01","2021-01-01","2021-01-01",0,0,0,0,0,0,"","",0,0,0]
[null,null,null,null,null,null,null,null,null,null,null,null,null,null,null,null,"2021-01-01","00:00:00","2021-01-01","2021-01-01","2021-01-01",0,0,0,0,0,0,"","",0,0,0]
[null,null,null,null,null,null,null,null,null,null,null,null,null,null,null,null,"2021-01-01","00:00:00","2021-01-01","2021-01-01","2021-01-01",0,0,0,0,0,0,"","",0,0,0]
[null,null,null,null,null,null,null,null,null,null,null,null,null,null,null,null,"2021-01-01","00:00:00","2021-01-01","2021-01-01","2021-01-01",0,0,0,0,0,0,"","",0,{"$f":"IF(OR($Q2243>$Q$1,$R2243<$Q$1),0,YEARFRAC($E2243,$Q2243,1))*12","v":0},{"$f":"IF(OR($Q2243>$R$1,$R2243<$R$1),0,YEARFRAC($E2243,$R2243,1))*12","v":0}]
[null,null,null,null,null,null,null,null,null,null,null,null,null,null,null,null,{"$f":"IF(OR(K2244<$Q$1,K2244=\"Altbestand\"),$Q$1,IF(AND(K2244=\"Nachzucht\",E2244>$Q$1),E2244,IF(K2244=\"Nachzucht\",$Q$1,K2244)))","v":"2021-01-01"},{"$f":"IF(OR(L2244>$R$1,L2244=\"Nein\"),$R$1,L2244)","v":"00:00:00"},{"$f":"IF(OR(R2244<Q2244,(E2244+183)<Q2244),Q2244,IF((E2244+183)>R2244,R2244,(E2244+183)))","v":"2021-01-01"},{"$f":"IF(OR(S2244=R2244,(E2244+365)<Q2244,R2244<Q2244),S2244,IF((E2244+365)>R2244,R2244,(E2244+365)))","v":"2021-01-01"},{"$f":"IF(OR(T2244=R2244,S2244=R2244,(E2244+365*2)<Q2244,R2244<Q2244),T2244,IF((E2244+365*2)>R2244,R2244,(E2244+365*2)))","v":"2021-01-01"},{"$f":"IF(AC2244=\"Kuh\",\"Kuh\",F2244)","v":0},{"$f":"S2244-Q2244","v":0},{"$f":"+T2244-S2244","v":0},{"$f":"+U2244-T2244","v":0},{"$f":"IF(AB2244=\"\",0,AB2244-AA2244)","v":0},{"$f":"SUM(W2244:Y2244)","v":0},{"$f":"IF(R2244<Q2244,\"\",R2244-Q2244)","v":""},{"$f":"IF(OR((ISNA(VLOOKUP(C2244,$I$3:$I$138,1,FALSE))=FALSE),AND(AD2244>1200,F2244=\"w\"),M2244=\"Ja\"),\"Kuh\",\"\")","v":""},{"$f":"IF(OR(L2244=\"Nein\",L2244=\"Ja\"),$R$1-E2244,L2244-E2244)","v":0},0,0]
[null,null,null,null,null,null,null,null,null,null,null,null,null,null,null,null,"2021-01-01","00:00:00","2021-01-01","2021-01-01","2021-01-01",0,0,0,0,0,0,"","",0,0,0]
[null,null,null,null,null,null,null,null,null,null,null,null,null,null,null,null,"2021-01-01","00:00:00","2021-01-01","2021-01-01","2021-01-01",0,0,0,0,0,0,"","",0,0,0]
[null,null,null,null,null,null,null,null,null,null,null,null,null,null,null,null,"2021-01-01","00:00:00","2021-01-01","2021-01-01","2021-01-01",0,0,0,0,0,0,"","",0,0,0]
[null,null,null,null,null,null,null,null,null,null,null,null,null,null,null,null,"2021-01-01","00:00:00","2021-01-01","2021-01-01","2021-01-01",0,0,0,0,0,0,"","",0,0,0]
[null,null,null,null,null,null,null,null,null,null,null,null,null,null,null,null,"2021-01-01","00:00:00","2021-01-01","2021-01-01","2021-01-01",0,0,0,0,0,0,"","",0,0,0]
[null,null,null,null,null,null,null,null,null,null,null,null,null,null,null,null,"2021-01-01","00:00:00","2021-01-01","2021-01-01","2021-01-01",0,0,0,0,0,0,"","",0,0,0]
[null,null,null,null,null,null,null,null,null,null,null,null,null,null,null,null,"2021-01-01","00:00:00","2021-01-01","2021-01-01","2021-01-01",0,0,0,0,0,0,"","",0,0,0]
[null,null,null,null,null,null,null,null,null,null,null,null,null,null,null,null,"2021-01-01","00:00:00","2021-01-01","2021-01-01","2021-01-01",0,0,0,0,0,0,"","",0,0,0]
[null,null,null,null,null,null,null,null,null,null,null,null,null,null,null,null,"2021-01-01","00:00:00","2021-01-01","2021-01-01","2021-01-01",0,0,0,0,0,0,"","",0,0,0]
[null,null,null,null,null,null,null,null,null,null,null,null,null,null,null,null,"2021-01-01","00:00:00","2021-01-01","2021-01-01","2021-01-01",0,0,0,0,0,0,"","",0,0,0]
[null,null,null,null,null,null,null,null,null,null,null,null,null,null,null,null,"2021-01-01","00:00:00","2021-01-01","2021-01-01","2021-01-01",0,0,0,0,0,0,"","",0,0,0]
[null,null,null,null,null,null,null,null,null,null,null,null,null,null,null,null,"2021-01-01","00:00:00","2021-01-01","2021-01-01","2021-01-01",0,0,0,0,0,0,"","",0,0,0]
[null,null,null,null,null,null,null,null,null,null,null,null,null,null,null,null,"2021-01-01","00:00:00","2021-01-01","2021-01-01","2021-01-01",0,0,0,0,0,0,"","",0,0,0]
[null,null,null,null,null,null,null,null,null,null,null,null,null,null,null,null,"2021-01-01","00:00:00","2021-01-01","2021-01-01","2021-01-01",0,0,0,0,0,0,"","",0,0,0]
[null,null,null,null,null,null,null,null,null,null,null,null,null,null,null,null,"2021-01-01","00:00:00","2021-01-01","2021-01-01","2021-01-01",0,0,0,0,0,0,"","",0,0,0]
[null,null,null,null,null,null,null,null,null,null,null,null,null,null,null,null,"2021-01-01","00:00:00","2021-01-01","2021-01-01","2021-01-01",0,0,0,0,0,0,"","",0,0,0]
[null,null,null,null,null,null,null,null,null,null,null,null,null,null,null,null,"2021-01-01","00:00:00","2021-01-01","2021-01-01","2021-01-01",0,0,0,0,0,0,"","",0,0,0]
[null,null,null,null,null,null,null,null,null,null,null,null,null,null,null,null,"2021-01-01","00:00:00","2021-01-01","2021-01-01","2021-01-01",0,0,0,0,0,0,"","",0,0,0]
[null,null,null,null,null,null,null,null,null,null,null,null,null,null,null,null,"2021-01-01","00:00:00","2021-01-01","2021-01-01","2021-01-01",0,0,0,0,0,0,"","",0,0,0]
[null,null,null,null,null,null,null,null,null,null,null,null,null,null,null,null,"2021-01-01","00:00:00","2021-01-01","2021-01-01","2021-01-01",0,0,0,0,0,0,"","",0,0,0]
[null,null,null,null,null,null,null,null,null,null,null,null,null,null,null,null,"2021-01-01","00:00:00","2021-01-01","2021-01-01","2021-01-01",0,0,0,0,0,0,"","",0,0,0]
[null,null,null,null,null,null,null,null,null,null,null,null,null,null,null,null,"2021-01-01","00:00:00","2021-01-01","2021-01-01","2021-01-01",0,0,0,0,0,0,"","",0,0,0]
[null,null,null,null,null,null,null,null,null,null,null,null,null,null,null,null,"2021-01-01","00:00:00","2021-01-01","2021-01-01","2021-01-01",0,0,0,0,0,0,"","",0,0,0]
[null,null,null,null,null,null,null,null,null,null,null,null,null,null,null,null,"2021-01-01","00:00:00","2021-01-01","2021-01-01","2021-01-01",0,0,0,0,0,0,"","",0,0,0]
[null,null,null,null,null,null,null,null,null,null,null,null,null,null,null,null,"2021-01-01","00:00:00","2021-01-01","2021-01-01","2021-01-01",0,0,0,0,0,0,"","",0,0,0]
[null,null,null,null,null,null,null,null,null,null,null,null,null,null,null,null,"2021-01-01","00:00:00","2021-01-01","2021-01-01","2021-01-01",0,0,0,0,0,0,"","",0,0,0]
[null,null,null,null,null,null,null,null,null,null,null,null,null,null,null,null,"2021-01-01","00:00:00","2021-01-01","2021-01-01","2021-01-01",0,0,0,0,0,0,"","",0,0,0]
[null,null,null,null,null,null,null,null,null,null,null,null,null,null,null,null,"2021-01-01","00:00:00","2021-01-01","2021-01-01","2021-01-01",0,0,0,0,0,0,"","",0,0,0]
[null,null,null,null,null,null,null,null,null,null,null,null,null,null,null,null,"2021-01-01","00:00:00","2021-01-01","2021-01-01","2021-01-01",0,0,0,0,0,0,"","",0,0,0]
[null,null,null,null,null,null,null,null,null,null,null,null,null,null,null,null,"2021-01-01","00:00:00","2021-01-01","2021-01-01","2021-01-01",0,0,0,0,0,0,"","",0,0,0]
[null,null,null,null,null,null,null,null,null,null,null,null,null,null,null,null,"2021-01-01","00:00:00","2021-01-01","2021-01-01","2021-01-01",0,0,0,0,0,0,"","",0,0,0]
[null,null,null,null,null,null,null,null,null,null,null,null,null,null,null,null,"2021-01-01","00:00:00","2021-01-01","2021-01-01","2021-01-01",0,0,0,0,0,0,"","",0,0,0]
[null,null,null,null,null,null,null,null,null,null,null,null,null,null,null,null,"2021-01-01","00:00:00","2021-01-01","2021-01-01","2021-01-01",0,0,0,0,0,0,"","",0,0,0]
[null,null,null,null,null,null,null,null,null,null,null,null,null,null,null,null,"2021-01-01","00:00:00","2021-01-01","2021-01-01","2021-01-01",0,0,0,0,0,0,"","",0,0,0]
[null,null,null,null,null,null,null,null,null,null,null,null,null,null,null,null,"2021-01-01","00:00:00","2021-01-01","2021-01-01","2021-01-01",0,0,0,0,0,0,"","",0,0,0]
[null,null,null,null,null,null,null,null,null,null,null,null,null,null,null,null,"2021-01-01","00:00:00","2021-01-01","2021-01-01","2021-01-01",0,0,0,0,0,0,"","",0,0,0]
[null,null,null,null,null,null,null,null,null,null,null,null,null,null,null,null,"2021-01-01","00:00:00","2021-01-01","2021-01-01","2021-01-01",0,0,0,0,0,0,"","",0,0,0]
[null,null,null,null,null,null,null,null,null,null,null,null,null,null,null,null,"2021-01-01","00:00:00","2021-01-01","2021-01-01","2021-01-01",0,0,0,0,0,0,"","",0,0,0]
[null,null,null,null,null,null,null,null,null,null,null,null,null,null,null,null,"2021-01-01","00:00:00","2021-01-01","2021-01-01","2021-01-01",0,0,0,0,0,0,"","",0,0,0]
[null,null,null,null,null,null,null,null,null,null,null,null,null,null,null,null,"2021-01-01","00:00:00","2021-01-01","2021-01-01","2021-01-01",0,0,0,0,0,0,"","",0,0,0]
[null,null,null,null,null,null,null,null,null,null,null,null,null,null,null,null,"2021-01-01","00:00:00","2021-01-01","2021-01-01","2021-01-01",0,0,0,0,0,0,"","",0,0,0]
[null,null,null,null,null,null,null,null,null,null,null,null,null,null,null,null,"2021-01-01","00:00:00","2021-01-01","2021-01-01","2021-01-01",0,0,0,0,0,0,"","",0,0,0]
[null,null,null,null,null,null,null,null,null,null,null,null,null,null,null,null,"2021-01-01","00:00:00","2021-01-01","2021-01-01","2021-01-01",0,0,0,0,0,0,"","",0,0,0]
[null,null,null,null,null,null,null,null,null,null,null,null,null,null,null,null,"2021-01-01","00:00:00","2021-01-01","2021-01-01","2021-01-01",0,0,0,0,0,0,"","",0,0,0]
[null,null,null,null,null,null,null,null,null,null,null,null,null,null,null,null,"2021-01-01","00:00:00","2021-01-01","2021-01-01","2021-01-01",0,0,0,0,0,0,"","",0,0,0]
[null,null,null,null,null,null,null,null,null,null,null,null,null,null,null,null,"2021-01-01","00:00:00","2021-01-01","2021-01-01","2021-01-01",0,0,0,0,0,0,"","",0,0,0]
[null,null,null,null,null,null,null,null,null,null,null,null,null,null,null,null,"2021-01-01","00:00:00","2021-01-01","2021-01-01","2021-01-01",0,0,0,0,0,0,"","",0,0,0]
[null,null,null,null,null,null,null,null,null,null,null,null,null,null,null,null,"2021-01-01","00:00:00","2021-01-01","2021-01-01","2021-01-01",0,0,0,0,0,0,"","",0,0,0]
[null,null,null,null,null,null,null,null,null,null,null,null,null,null,null,null,"2021-01-01","00:00:00","2021-01-01","2021-01-01","2021-01-01",0,0,0,0,0,0,"","",0,0,0]
[null,null,null,null,null,null,null,null,null,null,null,null,null,null,null,null,"2021-01-01","00:00:00","2021-01-01","2021-01-01","2021-01-01",0,0,0,0,0,0,"","",0,0,0]
[null,null,null,null,null,null,null,null,null,null,null,null,null,null,null,null,"2021-01-01","00:00:00","2021-01-01","2021-01-01","2021-01-01",0,0,0,0,0,0,"","",0,0,0]
[null,null,null,null,null,null,null,null,null,null,null,null,null,null,null,null,"2021-01-01","00:00:00","2021-01-01","2021-01-01","2021-01-01",0,0,0,0,0,0,"","",0,0,0]
[null,null,null,null,null,null,null,null,null,null,null,null,null,null,null,null,"2021-01-01","00:00:00","2021-01-01","2021-01-01","2021-01-01",0,0,0,0,0,0,"","",0,0,0]
[null,null,null,null,null,null,null,null,null,null,null,null,null,null,null,null,"2021-01-01","00:00:00","2021-01-01","2021-01-01","2021-01-01",0,0,0,0,0,0,"","",0,0,0]
[null,null,null,null,null,null,null,null,null,null,null,null,null,null,null,null,"2021-01-01","00:00:00","2021-01-01","2021-01-01","2021-01-01",0,0,0,0,0,0,"","",0,0,0]
[null,null,null,null,null,null,null,null,null,null,null,null,null,null,null,null,"2021-01-01","00:00:00","2021-01-01","2021-01-01","2021-01-01",0,0,0,0,0,0,"","",0,0,0]
[null,null,null,null,null,null,null,null,null,null,null,null,null,null,null,null,"2021-01-01","00:00:00","2021-01-01","2021-01-01","2021-01-01",0,0,0,0,0,0,"","",0,0,0]
[null,null,null,null,null,null,null,null,null,null,null,null,null,null,null,null,"2021-01-01","00:00:00","2021-01-01","2021-01-01","2021-01-01",0,0,0,0,0,0,"","",0,0,0]
[null,null,null,null,null,null,null,null,null,null,null,null,null,null,null,null,"2021-01-01","00:00:00","2021-01-01","2021-01-01","2021-01-01",0,0,0,0,0,0,"","",0,0,0]
[null,null,null,null,null,null,null,null,null,null,null,null,null,null,null,null,"2021-01-01","00:00:00","2021-01-01","2021-01-01","2021-01-01",0,0,0,0,0,0,"","",0,0,0]
[null,null,null,null,null,null,null,null,null,null,null,null,null,null,null,null,"2021-01-01","00:00:00","2021-01-01","2021-01-01","2021-01-01",0,0,0,0,0,0,"","",0,0,0]
[null,null,null,null,null,null,null,null,null,null,null,null,null,null,null,null,"2021-01-01","00:00:00","2021-01-01","2021-01-01","2021-01-01",0,0,0,0,0,0,"","",0,0,0]
[null,null,null,null,null,null,null,null,null,null,null,null,null,null,null,null,"2021-01-01","00:00:00","2021-01-01","2021-01-01","2021-01-01",0,0,0,0,0,0,"","",0,{"$f":"IF(OR($Q2307>$Q$1,$R2307<$Q$1),0,YEARFRAC($E2307,$Q2307,1))*12","v":0},{"$f":"IF(OR($Q2307>$R$1,$R2307<$R$1),0,YEARFRAC($E2307,$R2307,1))*12","v":0}]
[null,null,null,null,null,null,null,null,null,null,null,null,null,null,null,null,{"$f":"IF(OR(K2308<$Q$1,K2308=\"Altbestand\"),$Q$1,IF(AND(K2308=\"Nachzucht\",E2308>$Q$1),E2308,IF(K2308=\"Nachzucht\",$Q$1,K2308)))","v":"2021-01-01"},{"$f":"IF(OR(L2308>$R$1,L2308=\"Nein\"),$R$1,L2308)","v":"00:00:00"},{"$f":"IF(OR(R2308<Q2308,(E2308+183)<Q2308),Q2308,IF((E2308+183)>R2308,R2308,(E2308+183)))","v":"2021-01-01"},{"$f":"IF(OR(S2308=R2308,(E2308+365)<Q2308,R2308<Q2308),S2308,IF((E2308+365)>R2308,R2308,(E2308+365)))","v":"2021-01-01"},{"$f":"IF(OR(T2308=R2308,S2308=R2308,(E2308+365*2)<Q2308,R2308<Q2308),T2308,IF((E2308+365*2)>R2308,R2308,(E2308+365*2)))","v":"2021-01-01"},{"$f":"IF(AC2308=\"Kuh\",\"Kuh\",F2308)","v":0},{"$f":"S2308-Q2308","v":0},{"$f":"+T2308-S2308","v":0},{"$f":"+U2308-T2308","v":0},{"$f":"IF(AB2308=\"\",0,AB2308-AA2308)","v":0},{"$f":"SUM(W2308:Y2308)","v":0},{"$f":"IF(R2308<Q2308,\"\",R2308-Q2308)","v":""},{"$f":"IF(OR((ISNA(VLOOKUP(C2308,$I$3:$I$138,1,FALSE))=FALSE),AND(AD2308>1200,F2308=\"w\"),M2308=\"Ja\"),\"Kuh\",\"\")","v":""},{"$f":"IF(OR(L2308=\"Nein\",L2308=\"Ja\"),$R$1-E2308,L2308-E2308)","v":0},0,0]
[null,null,null,null,null,null,null,null,null,null,null,null,null,null,null,null,"2021-01-01","00:00:00","2021-01-01","2021-01-01","2021-01-01",0,0,0,0,0,0,"","",0,0,0]
[null,null,null,null,null,null,null,null,null,null,null,null,null,null,null,null,"2021-01-01","00:00:00","2021-01-01","2021-01-01","2021-01-01",0,0,0,0,0,0,"","",0,0,0]
[null,null,null,null,null,null,null,null,null,null,null,null,null,null,null,null,"2021-01-01","00:00:00","2021-01-01","2021-01-01","2021-01-01",0,0,0,0,0,0,"","",0,0,0]
[null,null,null,null,null,null,null,null,null,null,null,null,null,null,null,null,"2021-01-01","00:00:00","2021-01-01","2021-01-01","2021-01-01",0,0,0,0,0,0,"","",0,0,0]
[null,null,null,null,null,null,null,null,null,null,null,null,null,null,null,null,"2021-01-01","00:00:00","2021-01-01","2021-01-01","2021-01-01",0,0,0,0,0,0,"","",0,0,0]
[null,null,null,null,null,null,null,null,null,null,null,null,null,null,null,null,"2021-01-01","00:00:00","2021-01-01","2021-01-01","2021-01-01",0,0,0,0,0,0,"","",0,0,0]
[null,null,null,null,null,null,null,null,null,null,null,null,null,null,null,null,"2021-01-01","00:00:00","2021-01-01","2021-01-01","2021-01-01",0,0,0,0,0,0,"","",0,0,0]
[null,null,null,null,null,null,null,null,null,null,null,null,null,null,null,null,"2021-01-01","00:00:00","2021-01-01","2021-01-01","2021-01-01",0,0,0,0,0,0,"","",0,0,0]
[null,null,null,null,null,null,null,null,null,null,null,null,null,null,null,null,"2021-01-01","00:00:00","2021-01-01","2021-01-01","2021-01-01",0,0,0,0,0,0,"","",0,0,0]
[null,null,null,null,null,null,null,null,null,null,null,null,null,null,null,null,"2021-01-01","00:00:00","2021-01-01","2021-01-01","2021-01-01",0,0,0,0,0,0,"","",0,0,0]
[null,null,null,null,null,null,null,null,null,null,null,null,null,null,null,null,"2021-01-01","00:00:00","2021-01-01","2021-01-01","2021-01-01",0,0,0,0,0,0,"","",0,0,0]
[null,null,null,null,null,null,null,null,null,null,null,null,null,null,null,null,"2021-01-01","00:00:00","2021-01-01","2021-01-01","2021-01-01",0,0,0,0,0,0,"","",0,0,0]
[null,null,null,null,null,null,null,null,null,null,null,null,null,null,null,null,"2021-01-01","00:00:00","2021-01-01","2021-01-01","2021-01-01",0,0,0,0,0,0,"","",0,0,0]
[null,null,null,null,null,null,null,null,null,null,null,null,null,null,null,null,"2021-01-01","00:00:00","2021-01-01","2021-01-01","2021-01-01",0,0,0,0,0,0,"","",0,0,0]
[null,null,null,null,null,null,null,null,null,null,null,null,null,null,null,null,"2021-01-01","00:00:00","2021-01-01","2021-01-01","2021-01-01",0,0,0,0,0,0,"","",0,0,0]
[null,null,null,null,null,null,null,null,null,null,null,null,null,null,null,null,"2021-01-01","00:00:00","2021-01-01","2021-01-01","2021-01-01",0,0,0,0,0,0,"","",0,0,0]
[null,null,null,null,null,null,null,null,null,null,null,null,null,null,null,null,"2021-01-01","00:00:00","2021-01-01","2021-01-01","2021-01-01",0,0,0,0,0,0,"","",0,0,0]
[null,null,null,null,null,null,null,null,null,null,null,null,null,null,null,null,"2021-01-01","00:00:00","2021-01-01","2021-01-01","2021-01-01",0,0,0,0,0,0,"","",0,0,0]
[null,null,null,null,null,null,null,null,null,null,null,null,null,null,null,null,"2021-01-01","00:00:00","2021-01-01","2021-01-01","2021-01-01",0,0,0,0,0,0,"","",0,0,0]
[null,null,null,null,null,null,null,null,null,null,null,null,null,null,null,null,"2021-01-01","00:00:00","2021-01-01","2021-01-01","2021-01-01",0,0,0,0,0,0,"","",0,0,0]
[null,null,null,null,null,null,null,null,null,null,null,null,null,null,null,null,"2021-01-01","00:00:00","2021-01-01","2021-01-01","2021-01-01",0,0,0,0,0,0,"","",0,0,0]
[null,null,null,null,null,null,null,null,null,null,null,null,null,null,null,null,"2021-01-01","00:00:00","2021-01-01","2021-01-01","2021-01-01",0,0,0,0,0,0,"","",0,0,0]
[null,null,null,null,null,null,null,null,null,null,null,null,null,null,null,null,"2021-01-01","00:00:00","2021-01-01","2021-01-01","2021-01-01",0,0,0,0,0,0,"","",0,0,0]
[null,null,null,null,null,null,null,null,null,null,null,null,null,null,null,null,"2021-01-01","00:00:00","2021-01-01","2021-01-01","2021-01-01",0,0,0,0,0,0,"","",0,0,0]
[null,null,null,null,null,null,null,null,null,null,null,null,null,null,null,null,"2021-01-01","00:00:00","2021-01-01","2021-01-01","2021-01-01",0,0,0,0,0,0,"","",0,0,0]
[null,null,null,null,null,null,null,null,null,null,null,null,null,null,null,null,"2021-01-01","00:00:00","2021-01-01","2021-01-01","2021-01-01",0,0,0,0,0,0,"","",0,0,0]
[null,null,null,null,null,null,null,null,null,null,null,null,null,null,null,null,"2021-01-01","00:00:00","2021-01-01","2021-01-01","2021-01-01",0,0,0,0,0,0,"","",0,0,0]
[null,null,null,null,null,null,null,null,null,null,null,null,null,null,null,null,"2021-01-01","00:00:00","2021-01-01","2021-01-01","2021-01-01",0,0,0,0,0,0,"","",0,0,0]
[null,null,null,null,null,null,null,null,null,null,null,null,null,null,null,null,"2021-01-01","00:00:00","2021-01-01","2021-01-01","2021-01-01",0,0,0,0,0,0,"","",0,0,0]
[null,null,null,null,null,null,null,null,null,null,null,null,null,null,null,null,"2021-01-01","00:00:00","2021-01-01","2021-01-01","2021-01-01",0,0,0,0,0,0,"","",0,0,0]
[null,null,null,null,null,null,null,null,null,null,null,null,null,null,null,null,"2021-01-01","00:00:00","2021-01-01","2021-01-01","2021-01-01",0,0,0,0,0,0,"","",0,0,0]
[null,null,null,null,null,null,null,null,null,null,null,null,null,null,null,null,"2021-01-01","00:00:00","2021-01-01","2021-01-01","2021-01-01",0,0,0,0,0,0,"","",0,0,0]
[null,null,null,null,null,null,null,null,null,null,null,null,null,null,null,null,"2021-01-01","00:00:00","2021-01-01","2021-01-01","2021-01-01",0,0,0,0,0,0,"","",0,0,0]
[null,null,null,null,null,null,null,null,null,null,null,null,null,null,null,null,"2021-01-01","00:00:00","2021-01-01","2021-01-01","2021-01-01",0,0,0,0,0,0,"","",0,0,0]
[null,null,null,null,null,null,null,null,null,null,null,null,null,null,null,null,"2021-01-01","00:00:00","2021-01-01","2021-01-01","2021-01-01",0,0,0,0,0,0,"","",0,0,0]
[null,null,null,null,null,null,null,null,null,null,null,null,null,null,null,null,"2021-01-01","00:00:00","2021-01-01","2021-01-01","2021-01-01",0,0,0,0,0,0,"","",0,0,0]
[null,null,null,null,null,null,null,null,null,null,null,null,null,null,null,null,"2021-01-01","00:00:00","2021-01-01","2021-01-01","2021-01-01",0,0,0,0,0,0,"","",0,0,0]
[null,null,null,null,null,null,null,null,null,null,null,null,null,null,null,null,"2021-01-01","00:00:00","2021-01-01","2021-01-01","2021-01-01",0,0,0,0,0,0,"","",0,0,0]
[null,null,null,null,null,null,null,null,null,null,null,null,null,null,null,null,"2021-01-01","00:00:00","2021-01-01","2021-01-01","2021-01-01",0,0,0,0,0,0,"","",0,0,0]
[null,null,null,null,null,null,null,null,null,null,null,null,null,null,null,null,"2021-01-01","00:00:00","2021-01-01","2021-01-01","2021-01-01",0,0,0,0,0,0,"","",0,0,0]
[null,null,null,null,null,null,null,null,null,null,null,null,null,null,null,null,"2021-01-01","00:00:00","2021-01-01","2021-01-01","2021-01-01",0,0,0,0,0,0,"","",0,0,0]
[null,null,null,null,null,null,null,null,null,null,null,null,null,null,null,null,"2021-01-01","00:00:00","2021-01-01","2021-01-01","2021-01-01",0,0,0,0,0,0,"","",0,0,0]
[null,null,null,null,null,null,null,null,null,null,null,null,null,null,null,null,"2021-01-01","00:00:00","2021-01-01","2021-01-01","2021-01-01",0,0,0,0,0,0,"","",0,0,0]
[null,null,null,null,null,null,null,null,null,null,null,null,null,null,null,null,"2021-01-01","00:00:00","2021-01-01","2021-01-01","2021-01-01",0,0,0,0,0,0,"","",0,0,0]
[null,null,null,null,null,null,null,null,null,null,null,null,null,null,null,null,"2021-01-01","00:00:00","2021-01-01","2021-01-01","2021-01-01",0,0,0,0,0,0,"","",0,0,0]
[null,null,null,null,null,null,null,null,null,null,null,null,null,null,null,null,"2021-01-01","00:00:00","2021-01-01","2021-01-01","2021-01-01",0,0,0,0,0,0,"","",0,0,0]
[null,null,null,null,null,null,null,null,null,null,null,null,null,null,null,null,"2021-01-01","00:00:00","2021-01-01","2021-01-01","2021-01-01",0,0,0,0,0,0,"","",0,0,0]
[null,null,null,null,null,null,null,null,null,null,null,null,null,null,null,null,"2021-01-01","00:00:00","2021-01-01","2021-01-01","2021-01-01",0,0,0,0,0,0,"","",0,0,0]
[null,null,null,null,null,null,null,null,null,null,null,null,null,null,null,null,"2021-01-01","00:00:00","2021-01-01","2021-01-01","2021-01-01",0,0,0,0,0,0,"","",0,0,0]
[null,null,null,null,null,null,null,null,null,null,null,null,null,null,null,null,"2021-01-01","00:00:00","2021-01-01","2021-01-01","2021-01-01",0,0,0,0,0,0,"","",0,0,0]
[null,null,null,null,null,null,null,null,null,null,null,null,null,null,null,null,"2021-01-01","00:00:00","2021-01-01","2021-01-01","2021-01-01",0,0,0,0,0,0,"","",0,0,0]
[null,null,null,null,null,null,null,null,null,null,null,null,null,null,null,null,"2021-01-01","00:00:00","2021-01-01","2021-01-01","2021-01-01",0,0,0,0,0,0,"","",0,0,0]
[null,null,null,null,null,null,null,null,null,null,null,null,null,null,null,null,"2021-01-01","00:00:00","2021-01-01","2021-01-01","2021-01-01",0,0,0,0,0,0,"","",0,0,0]
[null,null,null,null,null,null,null,null,null,null,null,null,null,null,null,null,"2021-01-01","00:00:00","2021-01-01","2021-01-01","2021-01-01",0,0,0,0,0,0,"","",0,0,0]
[null,null,null,null,null,null,null,null,null,null,null,null,null,null,null,null,"2021-01-01","00:00:00","2021-01-01","2021-01-01","2021-01-01",0,0,0,0,0,0,"","",0,0,0]
[null,null,null,null,null,null,null,null,null,null,null,null,null,null,null,null,"2021-01-01","00:00:00","2021-01-01","2021-01-01","2021-01-01",0,0,0,0,0,0,"","",0,0,0]
[null,null,null,null,null,null,null,null,null,null,null,null,null,null,null,null,"2021-01-01","00:00:00","2021-01-01","2021-01-01","2021-01-01",0,0,0,0,0,0,"","",0,0,0]
[null,null,null,null,null,null,null,null,null,null,null,null,null,null,null,null,"2021-01-01","00:00:00","2021-01-01","2021-01-01","2021-01-01",0,0,0,0,0,0,"","",0,0,0]
[null,null,null,null,null,null,null,null,null,null,null,null,null,null,null,null,"2021-01-01","00:00:00","2021-01-01","2021-01-01","2021-01-01",0,0,0,0,0,0,"","",0,0,0]
[null,null,null,null,null,null,null,null,null,null,null,null,null,null,null,null,"2021-01-01","00:00:00","2021-01-01","2021-01-01","2021-01-01",0,0,0,0,0,0,"","",0,0,0]
[null,null,null,null,null,null,null,null,null,null,null,null,null,null,null,null,"2021-01-01","00:00:00","2021-01-01","2021-01-01","2021-01-01",0,0,0,0,0,0,"","",0,0,0]
[null,null,null,null,null,null,null,null,null,null,null,null,null,null,null,null,"2021-01-01","00:00:00","2021-01-01","2021-01-01","2021-01-01",0,0,0,0,0,0,"","",0,0,0]
[null,null,null,null,null,null,null,null,null,null,null,null,null,null,null,null,"2021-01-01","00:00:00","2021-01-01","2021-01-01","2021-01-01",0,0,0,0,0,0,"","",0,{"$f":"IF(OR($Q2371>$Q$1,$R2371<$Q$1),0,YEARFRAC($E2371,$Q2371,1))*12","v":0},{"$f":"IF(OR($Q2371>$R$1,$R2371<$R$1),0,YEARFRAC($E2371,$R2371,1))*12","v":0}]
[null,null,null,null,null,null,null,null,null,null,null,null,null,null,null,null,{"$f":"IF(OR(K2372<$Q$1,K2372=\"Altbestand\"),$Q$1,IF(AND(K2372=\"Nachzucht\",E2372>$Q$1),E2372,IF(K2372=\"Nachzucht\",$Q$1,K2372)))","v":"2021-01-01"},{"$f":"IF(OR(L2372>$R$1,L2372=\"Nein\"),$R$1,L2372)","v":"00:00:00"},{"$f":"IF(OR(R2372<Q2372,(E2372+183)<Q2372),Q2372,IF((E2372+183)>R2372,R2372,(E2372+183)))","v":"2021-01-01"},{"$f":"IF(OR(S2372=R2372,(E2372+365)<Q2372,R2372<Q2372),S2372,IF((E2372+365)>R2372,R2372,(E2372+365)))","v":"2021-01-01"},{"$f":"IF(OR(T2372=R2372,S2372=R2372,(E2372+365*2)<Q2372,R2372<Q2372),T2372,IF((E2372+365*2)>R2372,R2372,(E2372+365*2)))","v":"2021-01-01"},{"$f":"IF(AC2372=\"Kuh\",\"Kuh\",F2372)","v":0},{"$f":"S2372-Q2372","v":0},{"$f":"+T2372-S2372","v":0},{"$f":"+U2372-T2372","v":0},{"$f":"IF(AB2372=\"\",0,AB2372-AA2372)","v":0},{"$f":"SUM(W2372:Y2372)","v":0},{"$f":"IF(R2372<Q2372,\"\",R2372-Q2372)","v":""},{"$f":"IF(OR((ISNA(VLOOKUP(C2372,$I$3:$I$138,1,FALSE))=FALSE),AND(AD2372>1200,F2372=\"w\"),M2372=\"Ja\"),\"Kuh\",\"\")","v":""},{"$f":"IF(OR(L2372=\"Nein\",L2372=\"Ja\"),$R$1-E2372,L2372-E2372)","v":0},0,0]
[null,null,null,null,null,null,null,null,null,null,null,null,null,null,null,null,"2021-01-01","00:00:00","2021-01-01","2021-01-01","2021-01-01",0,0,0,0,0,0,"","",0,0,0]
[null,null,null,null,null,null,null,null,null,null,null,null,null,null,null,null,"2021-01-01","00:00:00","2021-01-01","2021-01-01","2021-01-01",0,0,0,0,0,0,"","",0,0,0]
[null,null,null,null,null,null,null,null,null,null,null,null,null,null,null,null,"2021-01-01","00:00:00","2021-01-01","2021-01-01","2021-01-01",0,0,0,0,0,0,"","",0,0,0]
[null,null,null,null,null,null,null,null,null,null,null,null,null,null,null,null,"2021-01-01","00:00:00","2021-01-01","2021-01-01","2021-01-01",0,0,0,0,0,0,"","",0,0,0]
[null,null,null,null,null,null,null,null,null,null,null,null,null,null,null,null,"2021-01-01","00:00:00","2021-01-01","2021-01-01","2021-01-01",0,0,0,0,0,0,"","",0,0,0]
[null,null,null,null,null,null,null,null,null,null,null,null,null,null,null,null,"2021-01-01","00:00:00","2021-01-01","2021-01-01","2021-01-01",0,0,0,0,0,0,"","",0,0,0]
[null,null,null,null,null,null,null,null,null,null,null,null,null,null,null,null,"2021-01-01","00:00:00","2021-01-01","2021-01-01","2021-01-01",0,0,0,0,0,0,"","",0,0,0]
[null,null,null,null,null,null,null,null,null,null,null,null,null,null,null,null,"2021-01-01","00:00:00","2021-01-01","2021-01-01","2021-01-01",0,0,0,0,0,0,"","",0,0,0]
[null,null,null,null,null,null,null,null,null,null,null,null,null,null,null,null,"2021-01-01","00:00:00","2021-01-01","2021-01-01","2021-01-01",0,0,0,0,0,0,"","",0,0,0]
[null,null,null,null,null,null,null,null,null,null,null,null,null,null,null,null,"2021-01-01","00:00:00","2021-01-01","2021-01-01","2021-01-01",0,0,0,0,0,0,"","",0,0,0]
[null,null,null,null,null,null,null,null,null,null,null,null,null,null,null,null,"2021-01-01","00:00:00","2021-01-01","2021-01-01","2021-01-01",0,0,0,0,0,0,"","",0,0,0]
[null,null,null,null,null,null,null,null,null,null,null,null,null,null,null,null,"2021-01-01","00:00:00","2021-01-01","2021-01-01","2021-01-01",0,0,0,0,0,0,"","",0,0,0]
[null,null,null,null,null,null,null,null,null,null,null,null,null,null,null,null,"2021-01-01","00:00:00","2021-01-01","2021-01-01","2021-01-01",0,0,0,0,0,0,"","",0,0,0]
[null,null,null,null,null,null,null,null,null,null,null,null,null,null,null,null,"2021-01-01","00:00:00","2021-01-01","2021-01-01","2021-01-01",0,0,0,0,0,0,"","",0,0,0]
[null,null,null,null,null,null,null,null,null,null,null,null,null,null,null,null,"2021-01-01","00:00:00","2021-01-01","2021-01-01","2021-01-01",0,0,0,0,0,0,"","",0,0,0]
[null,null,null,null,null,null,null,null,null,null,null,null,null,null,null,null,"2021-01-01","00:00:00","2021-01-01","2021-01-01","2021-01-01",0,0,0,0,0,0,"","",0,0,0]
[null,null,null,null,null,null,null,null,null,null,null,null,null,null,null,null,"2021-01-01","00:00:00","2021-01-01","2021-01-01","2021-01-01",0,0,0,0,0,0,"","",0,0,0]
[null,null,null,null,null,null,null,null,null,null,null,null,null,null,null,null,"2021-01-01","00:00:00","2021-01-01","2021-01-01","2021-01-01",0,0,0,0,0,0,"","",0,0,0]
[null,null,null,null,null,null,null,null,null,null,null,null,null,null,null,null,"2021-01-01","00:00:00","2021-01-01","2021-01-01","2021-01-01",0,0,0,0,0,0,"","",0,0,0]
[null,null,null,null,null,null,null,null,null,null,null,null,null,null,null,null,"2021-01-01","00:00:00","2021-01-01","2021-01-01","2021-01-01",0,0,0,0,0,0,"","",0,0,0]
[null,null,null,null,null,null,null,null,null,null,null,null,null,null,null,null,"2021-01-01","00:00:00","2021-01-01","2021-01-01","2021-01-01",0,0,0,0,0,0,"","",0,0,0]
[null,null,null,null,null,null,null,null,null,null,null,null,null,null,null,null,"2021-01-01","00:00:00","2021-01-01","2021-01-01","2021-01-01",0,0,0,0,0,0,"","",0,0,0]
[null,null,null,null,null,null,null,null,null,null,null,null,null,null,null,null,"2021-01-01","00:00:00","2021-01-01","2021-01-01","2021-01-01",0,0,0,0,0,0,"","",0,0,0]
[null,null,null,null,null,null,null,null,null,null,null,null,null,null,null,null,"2021-01-01","00:00:00","2021-01-01","2021-01-01","2021-01-01",0,0,0,0,0,0,"","",0,0,0]
[null,null,null,null,null,null,null,null,null,null,null,null,null,null,null,null,"2021-01-01","00:00:00","2021-01-01","2021-01-01","2021-01-01",0,0,0,0,0,0,"","",0,0,0]
[null,null,null,null,null,null,null,null,null,null,null,null,null,null,null,null,"2021-01-01","00:00:00","2021-01-01","2021-01-01","2021-01-01",0,0,0,0,0,0,"","",0,0,0]
[null,null,null,null,null,null,null,null,null,null,null,null,null,null,null,null,"2021-01-01","00:00:00","2021-01-01","2021-01-01","2021-01-01",0,0,0,0,0,0,"","",0,0,0]
[null,null,null,null,null,null,null,null,null,null,null,null,null,null,null,null,"2021-01-01","00:00:00","2021-01-01","2021-01-01","2021-01-01",0,0,0,0,0,0,"","",0,0,0]
[null,null,null,null,null,null,null,null,null,null,null,null,null,null,null,null,"2021-01-01","00:00:00","2021-01-01","2021-01-01","2021-01-01",0,0,0,0,0,0,"","",0,0,0]
[null,null,null,null,null,null,null,null,null,null,null,null,null,null,null,null,"2021-01-01","00:00:00","2021-01-01","2021-01-01","2021-01-01",0,0,0,0,0,0,"","",0,0,0]
[null,null,null,null,null,null,null,null,null,null,null,null,null,null,null,null,"2021-01-01","00:00:00","2021-01-01","2021-01-01","2021-01-01",0,0,0,0,0,0,"","",0,0,0]
[null,null,null,null,null,null,null,null,null,null,null,null,null,null,null,null,"2021-01-01","00:00:00","2021-01-01","2021-01-01","2021-01-01",0,0,0,0,0,0,"","",0,0,0]
[null,null,null,null,null,null,null,null,null,null,null,null,null,null,null,null,"2021-01-01","00:00:00","2021-01-01","2021-01-01","2021-01-01",0,0,0,0,0,0,"","",0,0,0]
[null,null,null,null,null,null,null,null,null,null,null,null,null,null,null,null,"2021-01-01","00:00:00","2021-01-01","2021-01-01","2021-01-01",0,0,0,0,0,0,"","",0,0,0]
[null,null,null,null,null,null,null,null,null,null,null,null,null,null,null,null,"2021-01-01","00:00:00","2021-01-01","2021-01-01","2021-01-01",0,0,0,0,0,0,"","",0,0,0]
[null,null,null,null,null,null,null,null,null,null,null,null,null,null,null,null,"2021-01-01","00:00:00","2021-01-01","2021-01-01","2021-01-01",0,0,0,0,0,0,"","",0,0,0]
[null,null,null,null,null,null,null,null,null,null,null,null,null,null,null,null,"2021-01-01","00:00:00","2021-01-01","2021-01-01","2021-01-01",0,0,0,0,0,0,"","",0,0,0]
[null,null,null,null,null,null,null,null,null,null,null,null,null,null,null,null,"2021-01-01","00:00:00","2021-01-01","2021-01-01","2021-01-01",0,0,0,0,0,0,"","",0,0,0]
[null,null,null,null,null,null,null,null,null,null,null,null,null,null,null,null,"2021-01-01","00:00:00","2021-01-01","2021-01-01","2021-01-01",0,0,0,0,0,0,"","",0,0,0]
[null,null,null,null,null,null,null,null,null,null,null,null,null,null,null,null,"2021-01-01","00:00:00","2021-01-01","2021-01-01","2021-01-01",0,0,0,0,0,0,"","",0,0,0]
[null,null,null,null,null,null,null,null,null,null,null,null,null,null,null,null,"2021-01-01","00:00:00","2021-01-01","2021-01-01","2021-01-01",0,0,0,0,0,0,"","",0,0,0]
[null,null,null,null,null,null,null,null,null,null,null,null,null,null,null,null,"2021-01-01","00:00:00","2021-01-01","2021-01-01","2021-01-01",0,0,0,0,0,0,"","",0,0,0]
[null,null,null,null,null,null,null,null,null,null,null,null,null,null,null,null,"2021-01-01","00:00:00","2021-01-01","2021-01-01","2021-01-01",0,0,0,0,0,0,"","",0,0,0]
[null,null,null,null,null,null,null,null,null,null,null,null,null,null,null,null,"2021-01-01","00:00:00","2021-01-01","2021-01-01","2021-01-01",0,0,0,0,0,0,"","",0,0,0]
[null,null,null,null,null,null,null,null,null,null,null,null,null,null,null,null,"2021-01-01","00:00:00","2021-01-01","2021-01-01","2021-01-01",0,0,0,0,0,0,"","",0,0,0]
[null,null,null,null,null,null,null,null,null,null,null,null,null,null,null,null,"2021-01-01","00:00:00","2021-01-01","2021-01-01","2021-01-01",0,0,0,0,0,0,"","",0,0,0]
[null,null,null,null,null,null,null,null,null,null,null,null,null,null,null,null,"2021-01-01","00:00:00","2021-01-01","2021-01-01","2021-01-01",0,0,0,0,0,0,"","",0,0,0]
[null,null,null,null,null,null,null,null,null,null,null,null,null,null,null,null,"2021-01-01","00:00:00","2021-01-01","2021-01-01","2021-01-01",0,0,0,0,0,0,"","",0,0,0]
[null,null,null,null,null,null,null,null,null,null,null,null,null,null,null,null,"2021-01-01","00:00:00","2021-01-01","2021-01-01","2021-01-01",0,0,0,0,0,0,"","",0,0,0]
[null,null,null,null,null,null,null,null,null,null,null,null,null,null,null,null,"2021-01-01","00:00:00","2021-01-01","2021-01-01","2021-01-01",0,0,0,0,0,0,"","",0,0,0]
[null,null,null,null,null,null,null,null,null,null,null,null,null,null,null,null,"2021-01-01","00:00:00","2021-01-01","2021-01-01","2021-01-01",0,0,0,0,0,0,"","",0,0,0]
[null,null,null,null,null,null,null,null,null,null,null,null,null,null,null,null,"2021-01-01","00:00:00","2021-01-01","2021-01-01","2021-01-01",0,0,0,0,0,0,"","",0,0,0]
[null,null,null,null,null,null,null,null,null,null,null,null,null,null,null,null,"2021-01-01","00:00:00","2021-01-01","2021-01-01","2021-01-01",0,0,0,0,0,0,"","",0,0,0]
[null,null,null,null,null,null,null,null,null,null,null,null,null,null,null,null,"2021-01-01","00:00:00","2021-01-01","2021-01-01","2021-01-01",0,0,0,0,0,0,"","",0,0,0]
[null,null,null,null,null,null,null,null,null,null,null,null,null,null,null,null,"2021-01-01","00:00:00","2021-01-01","2021-01-01","2021-01-01",0,0,0,0,0,0,"","",0,0,0]
[null,null,null,null,null,null,null,null,null,null,null,null,null,null,null,null,"2021-01-01","00:00:00","2021-01-01","2021-01-01","2021-01-01",0,0,0,0,0,0,"","",0,0,0]
[null,null,null,null,null,null,null,null,null,null,null,null,null,null,null,null,"2021-01-01","00:00:00","2021-01-01","2021-01-01","2021-01-01",0,0,0,0,0,0,"","",0,0,0]
[null,null,null,null,null,null,null,null,null,null,null,null,null,null,null,null,"2021-01-01","00:00:00","2021-01-01","2021-01-01","2021-01-01",0,0,0,0,0,0,"","",0,0,0]
[null,null,null,null,null,null,null,null,null,null,null,null,null,null,null,null,"2021-01-01","00:00:00","2021-01-01","2021-01-01","2021-01-01",0,0,0,0,0,0,"","",0,0,0]
[null,null,null,null,null,null,null,null,null,null,null,null,null,null,null,null,"2021-01-01","00:00:00","2021-01-01","2021-01-01","2021-01-01",0,0,0,0,0,0,"","",0,0,0]
[null,null,null,null,null,null,null,null,null,null,null,null,null,null,null,null,"2021-01-01","00:00:00","2021-01-01","2021-01-01","2021-01-01",0,0,0,0,0,0,"","",0,0,0]
[null,null,null,null,null,null,null,null,null,null,null,null,null,null,null,null,"2021-01-01","00:00:00","2021-01-01","2021-01-01","2021-01-01",0,0,0,0,0,0,"","",0,0,0]
[null,null,null,null,null,null,null,null,null,null,null,null,null,null,null,null,"2021-01-01","00:00:00","2021-01-01","2021-01-01","2021-01-01",0,0,0,0,0,0,"","",0,{"$f":"IF(OR($Q2435>$Q$1,$R2435<$Q$1),0,YEARFRAC($E2435,$Q2435,1))*12","v":0},{"$f":"IF(OR($Q2435>$R$1,$R2435<$R$1),0,YEARFRAC($E2435,$R2435,1))*12","v":0}]
[null,null,null,null,null,null,null,null,null,null,null,null,null,null,null,null,{"$f":"IF(OR(K2436<$Q$1,K2436=\"Altbestand\"),$Q$1,IF(AND(K2436=\"Nachzucht\",E2436>$Q$1),E2436,IF(K2436=\"Nachzucht\",$Q$1,K2436)))","v":"2021-01-01"},{"$f":"IF(OR(L2436>$R$1,L2436=\"Nein\"),$R$1,L2436)","v":"00:00:00"},{"$f":"IF(OR(R2436<Q2436,(E2436+183)<Q2436),Q2436,IF((E2436+183)>R2436,R2436,(E2436+183)))","v":"2021-01-01"},{"$f":"IF(OR(S2436=R2436,(E2436+365)<Q2436,R2436<Q2436),S2436,IF((E2436+365)>R2436,R2436,(E2436+365)))","v":"2021-01-01"},{"$f":"IF(OR(T2436=R2436,S2436=R2436,(E2436+365*2)<Q2436,R2436<Q2436),T2436,IF((E2436+365*2)>R2436,R2436,(E2436+365*2)))","v":"2021-01-01"},{"$f":"IF(AC2436=\"Kuh\",\"Kuh\",F2436)","v":0},{"$f":"S2436-Q2436","v":0},{"$f":"+T2436-S2436","v":0},{"$f":"+U2436-T2436","v":0},{"$f":"IF(AB2436=\"\",0,AB2436-AA2436)","v":0},{"$f":"SUM(W2436:Y2436)","v":0},{"$f":"IF(R2436<Q2436,\"\",R2436-Q2436)","v":""},{"$f":"IF(OR((ISNA(VLOOKUP(C2436,$I$3:$I$138,1,FALSE))=FALSE),AND(AD2436>1200,F2436=\"w\"),M2436=\"Ja\"),\"Kuh\",\"\")","v":""},{"$f":"IF(OR(L2436=\"Nein\",L2436=\"Ja\"),$R$1-E2436,L2436-E2436)","v":0},0,0]
[null,null,null,null,null,null,null,null,null,null,null,null,null,null,null,null,"2021-01-01","00:00:00","2021-01-01","2021-01-01","2021-01-01",0,0,0,0,0,0,"","",0,0,0]
[null,null,null,null,null,null,null,null,null,null,null,null,null,null,null,null,"2021-01-01","00:00:00","2021-01-01","2021-01-01","2021-01-01",0,0,0,0,0,0,"","",0,0,0]
[null,null,null,null,null,null,null,null,null,null,null,null,null,null,null,null,"2021-01-01","00:00:00","2021-01-01","2021-01-01","2021-01-01",0,0,0,0,0,0,"","",0,0,0]
[null,null,null,null,null,null,null,null,null,null,null,null,null,null,null,null,"2021-01-01","00:00:00","2021-01-01","2021-01-01","2021-01-01",0,0,0,0,0,0,"","",0,0,0]
[null,null,null,null,null,null,null,null,null,null,null,null,null,null,null,null,"2021-01-01","00:00:00","2021-01-01","2021-01-01","2021-01-01",0,0,0,0,0,0,"","",0,0,0]
[null,null,null,null,null,null,null,null,null,null,null,null,null,null,null,null,"2021-01-01","00:00:00","2021-01-01","2021-01-01","2021-01-01",0,0,0,0,0,0,"","",0,0,0]
[null,null,null,null,null,null,null,null,null,null,null,null,null,null,null,null,"2021-01-01","00:00:00","2021-01-01","2021-01-01","2021-01-01",0,0,0,0,0,0,"","",0,0,0]
[null,null,null,null,null,null,null,null,null,null,null,null,null,null,null,null,"2021-01-01","00:00:00","2021-01-01","2021-01-01","2021-01-01",0,0,0,0,0,0,"","",0,0,0]
[null,null,null,null,null,null,null,null,null,null,null,null,null,null,null,null,"2021-01-01","00:00:00","2021-01-01","2021-01-01","2021-01-01",0,0,0,0,0,0,"","",0,0,0]
[null,null,null,null,null,null,null,null,null,null,null,null,null,null,null,null,"2021-01-01","00:00:00","2021-01-01","2021-01-01","2021-01-01",0,0,0,0,0,0,"","",0,0,0]
[null,null,null,null,null,null,null,null,null,null,null,null,null,null,null,null,"2021-01-01","00:00:00","2021-01-01","2021-01-01","2021-01-01",0,0,0,0,0,0,"","",0,0,0]
[null,null,null,null,null,null,null,null,null,null,null,null,null,null,null,null,"2021-01-01","00:00:00","2021-01-01","2021-01-01","2021-01-01",0,0,0,0,0,0,"","",0,0,0]
[null,null,null,null,null,null,null,null,null,null,null,null,null,null,null,null,"2021-01-01","00:00:00","2021-01-01","2021-01-01","2021-01-01",0,0,0,0,0,0,"","",0,0,0]
[null,null,null,null,null,null,null,null,null,null,null,null,null,null,null,null,"2021-01-01","00:00:00","2021-01-01","2021-01-01","2021-01-01",0,0,0,0,0,0,"","",0,0,0]
[null,null,null,null,null,null,null,null,null,null,null,null,null,null,null,null,"2021-01-01","00:00:00","2021-01-01","2021-01-01","2021-01-01",0,0,0,0,0,0,"","",0,0,0]
[null,null,null,null,null,null,null,null,null,null,null,null,null,null,null,null,"2021-01-01","00:00:00","2021-01-01","2021-01-01","2021-01-01",0,0,0,0,0,0,"","",0,0,0]
[null,null,null,null,null,null,null,null,null,null,null,null,null,null,null,null,"2021-01-01","00:00:00","2021-01-01","2021-01-01","2021-01-01",0,0,0,0,0,0,"","",0,0,0]
[null,null,null,null,null,null,null,null,null,null,null,null,null,null,null,null,"2021-01-01","00:00:00","2021-01-01","2021-01-01","2021-01-01",0,0,0,0,0,0,"","",0,0,0]
[null,null,null,null,null,null,null,null,null,null,null,null,null,null,null,null,"2021-01-01","00:00:00","2021-01-01","2021-01-01","2021-01-01",0,0,0,0,0,0,"","",0,0,0]
[null,null,null,null,null,null,null,null,null,null,null,null,null,null,null,null,"2021-01-01","00:00:00","2021-01-01","2021-01-01","2021-01-01",0,0,0,0,0,0,"","",0,0,0]
[null,null,null,null,null,null,null,null,null,null,null,null,null,null,null,null,"2021-01-01","00:00:00","2021-01-01","2021-01-01","2021-01-01",0,0,0,0,0,0,"","",0,0,0]
[null,null,null,null,null,null,null,null,null,null,null,null,null,null,null,null,"2021-01-01","00:00:00","2021-01-01","2021-01-01","2021-01-01",0,0,0,0,0,0,"","",0,0,0]
[null,null,null,null,null,null,null,null,null,null,null,null,null,null,null,null,"2021-01-01","00:00:00","2021-01-01","2021-01-01","2021-01-01",0,0,0,0,0,0,"","",0,0,0]
[null,null,null,null,null,null,null,null,null,null,null,null,null,null,null,null,"2021-01-01","00:00:00","2021-01-01","2021-01-01","2021-01-01",0,0,0,0,0,0,"","",0,0,0]
[null,null,null,null,null,null,null,null,null,null,null,null,null,null,null,null,"2021-01-01","00:00:00","2021-01-01","2021-01-01","2021-01-01",0,0,0,0,0,0,"","",0,0,0]
[null,null,null,null,null,null,null,null,null,null,null,null,null,null,null,null,"2021-01-01","00:00:00","2021-01-01","2021-01-01","2021-01-01",0,0,0,0,0,0,"","",0,0,0]
[null,null,null,null,null,null,null,null,null,null,null,null,null,null,null,null,"2021-01-01","00:00:00","2021-01-01","2021-01-01","2021-01-01",0,0,0,0,0,0,"","",0,0,0]
[null,null,null,null,null,null,null,null,null,null,null,null,null,null,null,null,"2021-01-01","00:00:00","2021-01-01","2021-01-01","2021-01-01",0,0,0,0,0,0,"","",0,0,0]
[null,null,null,null,null,null,null,null,null,null,null,null,null,null,null,null,"2021-01-01","00:00:00","2021-01-01","2021-01-01","2021-01-01",0,0,0,0,0,0,"","",0,0,0]
[null,null,null,null,null,null,null,null,null,null,null,null,null,null,null,null,"2021-01-01","00:00:00","2021-01-01","2021-01-01","2021-01-01",0,0,0,0,0,0,"","",0,0,0]
[null,null,null,null,null,null,null,null,null,null,null,null,null,null,null,null,"2021-01-01","00:00:00","2021-01-01","2021-01-01","2021-01-01",0,0,0,0,0,0,"","",0,0,0]
[null,null,null,null,null,null,null,null,null,null,null,null,null,null,null,null,"2021-01-01","00:00:00","2021-01-01","2021-01-01","2021-01-01",0,0,0,0,0,0,"","",0,0,0]
[null,null,null,null,null,null,null,null,null,null,null,null,null,null,null,null,"2021-01-01","00:00:00","2021-01-01","2021-01-01","2021-01-01",0,0,0,0,0,0,"","",0,0,0]
[null,null,null,null,null,null,null,null,null,null,null,null,null,null,null,null,"2021-01-01","00:00:00","2021-01-01","2021-01-01","2021-01-01",0,0,0,0,0,0,"","",0,0,0]
[null,null,null,null,null,null,null,null,null,null,null,null,null,null,null,null,"2021-01-01","00:00:00","2021-01-01","2021-01-01","2021-01-01",0,0,0,0,0,0,"","",0,0,0]
[null,null,null,null,null,null,null,null,null,null,null,null,null,null,null,null,"2021-01-01","00:00:00","2021-01-01","2021-01-01","2021-01-01",0,0,0,0,0,0,"","",0,0,0]
[null,null,null,null,null,null,null,null,null,null,null,null,null,null,null,null,"2021-01-01","00:00:00","2021-01-01","2021-01-01","2021-01-01",0,0,0,0,0,0,"","",0,0,0]
[null,null,null,null,null,null,null,null,null,null,null,null,null,null,null,null,"2021-01-01","00:00:00","2021-01-01","2021-01-01","2021-01-01",0,0,0,0,0,0,"","",0,0,0]
[null,null,null,null,null,null,null,null,null,null,null,null,null,null,null,null,"2021-01-01","00:00:00","2021-01-01","2021-01-01","2021-01-01",0,0,0,0,0,0,"","",0,0,0]
[null,null,null,null,null,null,null,null,null,null,null,null,null,null,null,null,"2021-01-01","00:00:00","2021-01-01","2021-01-01","2021-01-01",0,0,0,0,0,0,"","",0,0,0]
[null,null,null,null,null,null,null,null,null,null,null,null,null,null,null,null,"2021-01-01","00:00:00","2021-01-01","2021-01-01","2021-01-01",0,0,0,0,0,0,"","",0,0,0]
[null,null,null,null,null,null,null,null,null,null,null,null,null,null,null,null,"2021-01-01","00:00:00","2021-01-01","2021-01-01","2021-01-01",0,0,0,0,0,0,"","",0,0,0]
[null,null,null,null,null,null,null,null,null,null,null,null,null,null,null,null,"2021-01-01","00:00:00","2021-01-01","2021-01-01","2021-01-01",0,0,0,0,0,0,"","",0,0,0]
[null,null,null,null,null,null,null,null,null,null,null,null,null,null,null,null,"2021-01-01","00:00:00","2021-01-01","2021-01-01","2021-01-01",0,0,0,0,0,0,"","",0,0,0]
[null,null,null,null,null,null,null,null,null,null,null,null,null,null,null,null,"2021-01-01","00:00:00","2021-01-01","2021-01-01","2021-01-01",0,0,0,0,0,0,"","",0,0,0]
[null,null,null,null,null,null,null,null,null,null,null,null,null,null,null,null,"2021-01-01","00:00:00","2021-01-01","2021-01-01","2021-01-01",0,0,0,0,0,0,"","",0,0,0]
[null,null,null,null,null,null,null,null,null,null,null,null,null,null,null,null,"2021-01-01","00:00:00","2021-01-01","2021-01-01","2021-01-01",0,0,0,0,0,0,"","",0,0,0]
[null,null,null,null,null,null,null,null,null,null,null,null,null,null,null,null,"2021-01-01","00:00:00","2021-01-01","2021-01-01","2021-01-01",0,0,0,0,0,0,"","",0,0,0]
[null,null,null,null,null,null,null,null,null,null,null,null,null,null,null,null,"2021-01-01","00:00:00","2021-01-01","2021-01-01","2021-01-01",0,0,0,0,0,0,"","",0,0,0]
[null,null,null,null,null,null,null,null,null,null,null,null,null,null,null,null,"2021-01-01","00:00:00","2021-01-01","2021-01-01","2021-01-01",0,0,0,0,0,0,"","",0,0,0]
[null,null,null,null,null,null,null,null,null,null,null,null,null,null,null,null,"2021-01-01","00:00:00","2021-01-01","2021-01-01","2021-01-01",0,0,0,0,0,0,"","",0,0,0]
[null,null,null,null,null,null,null,null,null,null,null,null,null,null,null,null,"2021-01-01","00:00:00","2021-01-01","2021-01-01","2021-01-01",0,0,0,0,0,0,"","",0,0,0]
[null,null,null,null,null,null,null,null,null,null,null,null,null,null,null,null,"2021-01-01","00:00:00","2021-01-01","2021-01-01","2021-01-01",0,0,0,0,0,0,"","",0,0,0]
[null,null,null,null,null,null,null,null,null,null,null,null,null,null,null,null,"2021-01-01","00:00:00","2021-01-01","2021-01-01","2021-01-01",0,0,0,0,0,0,"","",0,0,0]
[null,null,null,null,null,null,null,null,null,null,null,null,null,null,null,null,"2021-01-01","00:00:00","2021-01-01","2021-01-01","2021-01-01",0,0,0,0,0,0,"","",0,0,0]
[null,null,null,null,null,null,null,null,null,null,null,null,null,null,null,null,"2021-01-01","00:00:00","2021-01-01","2021-01-01","2021-01-01",0,0,0,0,0,0,"","",0,0,0]
[null,null,null,null,null,null,null,null,null,null,null,null,null,null,null,null,"2021-01-01","00:00:00","2021-01-01","2021-01-01","2021-01-01",0,0,0,0,0,0,"","",0,0,0]
[null,null,null,null,null,null,null,null,null,null,null,null,null,null,null,null,"2021-01-01","00:00:00","2021-01-01","2021-01-01","2021-01-01",0,0,0,0,0,0,"","",0,0,0]
[null,null,null,null,null,null,null,null,null,null,null,null,null,null,null,null,"2021-01-01","00:00:00","2021-01-01","2021-01-01","2021-01-01",0,0,0,0,0,0,"","",0,0,0]
[null,null,null,null,null,null,null,null,null,null,null,null,null,null,null,null,"2021-01-01","00:00:00","2021-01-01","2021-01-01","2021-01-01",0,0,0,0,0,0,"","",0,0,0]
[null,null,null,null,null,null,null,null,null,null,null,null,null,null,null,null,"2021-01-01","00:00:00","2021-01-01","2021-01-01","2021-01-01",0,0,0,0,0,0,"","",0,0,0]
[null,null,null,null,null,null,null,null,null,null,null,null,null,null,null,null,"2021-01-01","00:00:00","2021-01-01","2021-01-01","2021-01-01",0,0,0,0,0,0,"","",0,0,0]
[null,null,null,null,null,null,null,null,null,null,null,null,null,null,null,null,"2021-01-01","00:00:00","2021-01-01","2021-01-01","2021-01-01",0,0,0,0,0,0,"","",0,{"$f":"IF(OR($Q2499>$Q$1,$R2499<$Q$1),0,YEARFRAC($E2499,$Q2499,1))*12","v":0},{"$f":"IF(OR($Q2499>$R$1,$R2499<$R$1),0,YEARFRAC($E2499,$R2499,1))*12","v":0}]
[null,null,null,null,null,null,null,null,null,null,null,null,null,null,null,null,{"$f":"IF(OR(K2500<$Q$1,K2500=\"Altbestand\"),$Q$1,IF(AND(K2500=\"Nachzucht\",E2500>$Q$1),E2500,IF(K2500=\"Nachzucht\",$Q$1,K2500)))","v":"2021-01-01"},{"$f":"IF(OR(L2500>$R$1,L2500=\"Nein\"),$R$1,L2500)","v":"00:00:00"},{"$f":"IF(OR(R2500<Q2500,(E2500+183)<Q2500),Q2500,IF((E2500+183)>R2500,R2500,(E2500+183)))","v":"2021-01-01"},{"$f":"IF(OR(S2500=R2500,(E2500+365)<Q2500,R2500<Q2500),S2500,IF((E2500+365)>R2500,R2500,(E2500+365)))","v":"2021-01-01"},{"$f":"IF(OR(T2500=R2500,S2500=R2500,(E2500+365*2)<Q2500,R2500<Q2500),T2500,IF((E2500+365*2)>R2500,R2500,(E2500+365*2)))","v":"2021-01-01"},{"$f":"IF(AC2500=\"Kuh\",\"Kuh\",F2500)","v":0},{"$f":"S2500-Q2500","v":0},{"$f":"+T2500-S2500","v":0},{"$f":"+U2500-T2500","v":0},{"$f":"IF(AB2500=\"\",0,AB2500-AA2500)","v":0},{"$f":"SUM(W2500:Y2500)","v":0},{"$f":"IF(R2500<Q2500,\"\",R2500-Q2500)","v":""},{"$f":"IF(OR((ISNA(VLOOKUP(C2500,$I$3:$I$138,1,FALSE))=FALSE),AND(AD2500>1200,F2500=\"w\"),M2500=\"Ja\"),\"Kuh\",\"\")","v":""},{"$f":"IF(OR(L2500=\"Nein\",L2500=\"Ja\"),$R$1-E2500,L2500-E2500)","v":0},0,0]
[null,null,null,null,null,null,null,null,null,null,null,null,null,null,null,null,"2021-01-01","00:00:00","2021-01-01","2021-01-01","2021-01-01",0,0,0,0,0,0,"","",0,0,0]
[null,null,null,null,null,null,null,null,null,null,null,null,null,null,null,null,"2021-01-01","00:00:00","2021-01-01","2021-01-01","2021-01-01",0,0,0,0,0,0,"","",0,0,0]
[null,null,null,null,null,null,null,null,null,null,null,null,null,null,null,null,"2021-01-01","00:00:00","2021-01-01","2021-01-01","2021-01-01",0,0,0,0,0,0,"","",0,0,0]
[null,null,null,null,null,null,null,null,null,null,null,null,null,null,null,null,"2021-01-01","00:00:00","2021-01-01","2021-01-01","2021-01-01",0,0,0,0,0,0,"","",0,0,0]
[null,null,null,null,null,null,null,null,null,null,null,null,null,null,null,null,"2021-01-01","00:00:00","2021-01-01","2021-01-01","2021-01-01",0,0,0,0,0,0,"","",0,0,0]
[null,null,null,null,null,null,null,null,null,null,null,null,null,null,null,null,"2021-01-01","00:00:00","2021-01-01","2021-01-01","2021-01-01",0,0,0,0,0,0,"","",0,0,0]
[null,null,null,null,null,null,null,null,null,null,null,null,null,null,null,null,"2021-01-01","00:00:00","2021-01-01","2021-01-01","2021-01-01",0,0,0,0,0,0,"","",0,0,0]
[null,null,null,null,null,null,null,null,null,null,null,null,null,null,null,null,"2021-01-01","00:00:00","2021-01-01","2021-01-01","2021-01-01",0,0,0,0,0,0,"","",0,0,0]
[null,null,null,null,null,null,null,null,null,null,null,null,null,null,null,null,"2021-01-01","00:00:00","2021-01-01","2021-01-01","2021-01-01",0,0,0,0,0,0,"","",0,0,0]
[null,null,null,null,null,null,null,null,null,null,null,null,null,null,null,null,"2021-01-01","00:00:00","2021-01-01","2021-01-01","2021-01-01",0,0,0,0,0,0,"","",0,0,0]
[null,null,null,null,null,null,null,null,null,null,null,null,null,null,null,null,"2021-01-01","00:00:00","2021-01-01","2021-01-01","2021-01-01",0,0,0,0,0,0,"","",0,0,0]
[null,null,null,null,null,null,null,null,null,null,null,null,null,null,null,null,"2021-01-01","00:00:00","2021-01-01","2021-01-01","2021-01-01",0,0,0,0,0,0,"","",0,0,0]
[null,null,null,null,null,null,null,null,null,null,null,null,null,null,null,null,"2021-01-01","00:00:00","2021-01-01","2021-01-01","2021-01-01",0,0,0,0,0,0,"","",0,0,0]
[null,null,null,null,null,null,null,null,null,null,null,null,null,null,null,null,"2021-01-01","00:00:00","2021-01-01","2021-01-01","2021-01-01",0,0,0,0,0,0,"","",0,0,0]
[null,null,null,null,null,null,null,null,null,null,null,null,null,null,null,null,"2021-01-01","00:00:00","2021-01-01","2021-01-01","2021-01-01",0,0,0,0,0,0,"","",0,0,0]
[null,null,null,null,null,null,null,null,null,null,null,null,null,null,null,null,"2021-01-01","00:00:00","2021-01-01","2021-01-01","2021-01-01",0,0,0,0,0,0,"","",0,0,0]
[null,null,null,null,null,null,null,null,null,null,null,null,null,null,null,null,"2021-01-01","00:00:00","2021-01-01","2021-01-01","2021-01-01",0,0,0,0,0,0,"","",0,0,0]
[null,null,null,null,null,null,null,null,null,null,null,null,null,null,null,null,"2021-01-01","00:00:00","2021-01-01","2021-01-01","2021-01-01",0,0,0,0,0,0,"","",0,0,0]
[null,null,null,null,null,null,null,null,null,null,null,null,null,null,null,null,"2021-01-01","00:00:00","2021-01-01","2021-01-01","2021-01-01",0,0,0,0,0,0,"","",0,0,0]
[null,null,null,null,null,null,null,null,null,null,null,null,null,null,null,null,"2021-01-01","00:00:00","2021-01-01","2021-01-01","2021-01-01",0,0,0,0,0,0,"","",0,0,0]
[null,null,null,null,null,null,null,null,null,null,null,null,null,null,null,null,"2021-01-01","00:00:00","2021-01-01","2021-01-01","2021-01-01",0,0,0,0,0,0,"","",0,0,0]
[null,null,null,null,null,null,null,null,null,null,null,null,null,null,null,null,"2021-01-01","00:00:00","2021-01-01","2021-01-01","2021-01-01",0,0,0,0,0,0,"","",0,0,0]
[null,null,null,null,null,null,null,null,null,null,null,null,null,null,null,null,"2021-01-01","00:00:00","2021-01-01","2021-01-01","2021-01-01",0,0,0,0,0,0,"","",0,0,0]
[null,null,null,null,null,null,null,null,null,null,null,null,null,null,null,null,"2021-01-01","00:00:00","2021-01-01","2021-01-01","2021-01-01",0,0,0,0,0,0,"","",0,0,0]
[null,null,null,null,null,null,null,null,null,null,null,null,null,null,null,null,"2021-01-01","00:00:00","2021-01-01","2021-01-01","2021-01-01",0,0,0,0,0,0,"","",0,0,0]
[null,null,null,null,null,null,null,null,null,null,null,null,null,null,null,null,"2021-01-01","00:00:00","2021-01-01","2021-01-01","2021-01-01",0,0,0,0,0,0,"","",0,0,0]
[null,null,null,null,null,null,null,null,null,null,null,null,null,null,null,null,"2021-01-01","00:00:00","2021-01-01","2021-01-01","2021-01-01",0,0,0,0,0,0,"","",0,0,0]
[null,null,null,null,null,null,null,null,null,null,null,null,null,null,null,null,"2021-01-01","00:00:00","2021-01-01","2021-01-01","2021-01-01",0,0,0,0,0,0,"","",0,0,0]
[null,null,null,null,null,null,null,null,null,null,null,null,null,null,null,null,"2021-01-01","00:00:00","2021-01-01","2021-01-01","2021-01-01",0,0,0,0,0,0,"","",0,0,0]
[null,null,null,null,null,null,null,null,null,null,null,null,null,null,null,null,"2021-01-01","00:00:00","2021-01-01","2021-01-01","2021-01-01",0,0,0,0,0,0,"","",0,0,0]
[null,null,null,null,null,null,null,null,null,null,null,null,null,null,null,null,"2021-01-01","00:00:00","2021-01-01","2021-01-01","2021-01-01",0,0,0,0,0,0,"","",0,0,0]
[null,null,null,null,null,null,null,null,null,null,null,null,null,null,null,null,"2021-01-01","00:00:00","2021-01-01","2021-01-01","2021-01-01",0,0,0,0,0,0,"","",0,0,0]
[null,null,null,null,null,null,null,null,null,null,null,null,null,null,null,null,"2021-01-01","00:00:00","2021-01-01","2021-01-01","2021-01-01",0,0,0,0,0,0,"","",0,0,0]
[null,null,null,null,null,null,null,null,null,null,null,null,null,null,null,null,"2021-01-01","00:00:00","2021-01-01","2021-01-01","2021-01-01",0,0,0,0,0,0,"","",0,0,0]
[null,null,null,null,null,null,null,null,null,null,null,null,null,null,null,null,"2021-01-01","00:00:00","2021-01-01","2021-01-01","2021-01-01",0,0,0,0,0,0,"","",0,0,0]
[null,null,null,null,null,null,null,null,null,null,null,null,null,null,null,null,"2021-01-01","00:00:00","2021-01-01","2021-01-01","2021-01-01",0,0,0,0,0,0,"","",0,0,0]
[null,null,null,null,null,null,null,null,null,null,null,null,null,null,null,null,"2021-01-01","00:00:00","2021-01-01","2021-01-01","2021-01-01",0,0,0,0,0,0,"","",0,0,0]
[null,null,null,null,null,null,null,null,null,null,null,null,null,null,null,null,"2021-01-01","00:00:00","2021-01-01","2021-01-01","2021-01-01",0,0,0,0,0,0,"","",0,0,0]
[null,null,null,null,null,null,null,null,null,null,null,null,null,null,null,null,"2021-01-01","00:00:00","2021-01-01","2021-01-01","2021-01-01",0,0,0,0,0,0,"","",0,0,0]
[null,null,null,null,null,null,null,null,null,null,null,null,null,null,null,null,"2021-01-01","00:00:00","2021-01-01","2021-01-01","2021-01-01",0,0,0,0,0,0,"","",0,0,0]
[null,null,null,null,null,null,null,null,null,null,null,null,null,null,null,null,"2021-01-01","00:00:00","2021-01-01","2021-01-01","2021-01-01",0,0,0,0,0,0,"","",0,0,0]
[null,null,null,null,null,null,null,null,null,null,null,null,null,null,null,null,"2021-01-01","00:00:00","2021-01-01","2021-01-01","2021-01-01",0,0,0,0,0,0,"","",0,0,0]
[null,null,null,null,null,null,null,null,null,null,null,null,null,null,null,null,"2021-01-01","00:00:00","2021-01-01","2021-01-01","2021-01-01",0,0,0,0,0,0,"","",0,0,0]
[null,null,null,null,null,null,null,null,null,null,null,null,null,null,null,null,"2021-01-01","00:00:00","2021-01-01","2021-01-01","2021-01-01",0,0,0,0,0,0,"","",0,0,0]
[null,null,null,null,null,null,null,null,null,null,null,null,null,null,null,null,"2021-01-01","00:00:00","2021-01-01","2021-01-01","2021-01-01",0,0,0,0,0,0,"","",0,0,0]
[null,null,null,null,null,null,null,null,null,null,null,null,null,null,null,null,"2021-01-01","00:00:00","2021-01-01","2021-01-01","2021-01-01",0,0,0,0,0,0,"","",0,0,0]
[null,null,null,null,null,null,null,null,null,null,null,null,null,null,null,null,"2021-01-01","00:00:00","2021-01-01","2021-01-01","2021-01-01",0,0,0,0,0,0,"","",0,0,0]
[null,null,null,null,null,null,null,null,null,null,null,null,null,null,null,null,"2021-01-01","00:00:00","2021-01-01","2021-01-01","2021-01-01",0,0,0,0,0,0,"","",0,0,0]
[null,null,null,null,null,null,null,null,null,null,null,null,null,null,null,null,"2021-01-01","00:00:00","2021-01-01","2021-01-01","2021-01-01",0,0,0,0,0,0,"","",0,0,0]
[null,null,null,null,null,null,null,null,null,null,null,null,null,null,null,null,"2021-01-01","00:00:00","2021-01-01","2021-01-01","2021-01-01",0,0,0,0,0,0,"","",0,0,0]
[null,null,null,null,null,null,null,null,null,null,null,null,null,null,null,null,"2021-01-01","00:00:00","2021-01-01","2021-01-01","2021-01-01",0,0,0,0,0,0,"","",0,0,0]
[null,null,null,null,null,null,null,null,null,null,null,null,null,null,null,null,"2021-01-01","00:00:00","2021-01-01","2021-01-01","2021-01-01",0,0,0,0,0,0,"","",0,0,0]
[null,null,null,null,null,null,null,null,null,null,null,null,null,null,null,null,"2021-01-01","00:00:00","2021-01-01","2021-01-01","2021-01-01",0,0,0,0,0,0,"","",0,0,0]
[null,null,null,null,null,null,null,null,null,null,null,null,null,null,null,null,"2021-01-01","00:00:00","2021-01-01","2021-01-01","2021-01-01",0,0,0,0,0,0,"","",0,0,0]
[null,null,null,null,null,null,null,null,null,null,null,null,null,null,null,null,"2021-01-01","00:00:00","2021-01-01","2021-01-01","2021-01-01",0,0,0,0,0,0,"","",0,0,0]
[null,null,null,null,null,null,null,null,null,null,null,null,null,null,null,null,"2021-01-01","00:00:00","2021-01-01","2021-01-01","2021-01-01",0,0,0,0,0,0,"","",0,0,0]
[null,null,null,null,null,null,null,null,null,null,null,null,null,null,null,null,"2021-01-01","00:00:00","2021-01-01","2021-01-01","2021-01-01",0,0,0,0,0,0,"","",0,0,0]
[null,null,null,null,null,null,null,null,null,null,null,null,null,null,null,null,"2021-01-01","00:00:00","2021-01-01","2021-01-01","2021-01-01",0,0,0,0,0,0,"","",0,0,0]
[null,null,null,null,null,null,null,null,null,null,null,null,null,null,null,null,"2021-01-01","00:00:00","2021-01-01","2021-01-01","2021-01-01",0,0,0,0,0,0,"","",0,0,0]
[null,null,null,null,null,null,null,null,null,null,null,null,null,null,null,null,"2021-01-01","00:00:00","2021-01-01","2021-01-01","2021-01-01",0,0,0,0,0,0,"","",0,0,0]
[null,null,null,null,null,null,null,null,null,null,null,null,null,null,null,null,"2021-01-01","00:00:00","2021-01-01","2021-01-01","2021-01-01",0,0,0,0,0,0,"","",0,0,0]
[null,null,null,null,null,null,null,null,null,null,null,null,null,null,null,null,"2021-01-01","00:00:00","2021-01-01","2021-01-01","2021-01-01",0,0,0,0,0,0,"","",0,0,0]
[null,null,null,null,null,null,null,null,null,null,null,null,null,null,null,null,"2021-01-01","00:00:00","2021-01-01","2021-01-01","2021-01-01",0,0,0,0,0,0,"","",0,{"$f":"IF(OR($Q2563>$Q$1,$R2563<$Q$1),0,YEARFRAC($E2563,$Q2563,1))*12","v":0},{"$f":"IF(OR($Q2563>$R$1,$R2563<$R$1),0,YEARFRAC($E2563,$R2563,1))*12","v":0}]
[null,null,null,null,null,null,null,null,null,null,null,null,null,null,null,null,{"$f":"IF(OR(K2564<$Q$1,K2564=\"Altbestand\"),$Q$1,IF(AND(K2564=\"Nachzucht\",E2564>$Q$1),E2564,IF(K2564=\"Nachzucht\",$Q$1,K2564)))","v":"2021-01-01"},{"$f":"IF(OR(L2564>$R$1,L2564=\"Nein\"),$R$1,L2564)","v":"00:00:00"},{"$f":"IF(OR(R2564<Q2564,(E2564+183)<Q2564),Q2564,IF((E2564+183)>R2564,R2564,(E2564+183)))","v":"2021-01-01"},{"$f":"IF(OR(S2564=R2564,(E2564+365)<Q2564,R2564<Q2564),S2564,IF((E2564+365)>R2564,R2564,(E2564+365)))","v":"2021-01-01"},{"$f":"IF(OR(T2564=R2564,S2564=R2564,(E2564+365*2)<Q2564,R2564<Q2564),T2564,IF((E2564+365*2)>R2564,R2564,(E2564+365*2)))","v":"2021-01-01"},{"$f":"IF(AC2564=\"Kuh\",\"Kuh\",F2564)","v":0},{"$f":"S2564-Q2564","v":0},{"$f":"+T2564-S2564","v":0},{"$f":"+U2564-T2564","v":0},{"$f":"IF(AB2564=\"\",0,AB2564-AA2564)","v":0},{"$f":"SUM(W2564:Y2564)","v":0},{"$f":"IF(R2564<Q2564,\"\",R2564-Q2564)","v":""},{"$f":"IF(OR((ISNA(VLOOKUP(C2564,$I$3:$I$138,1,FALSE))=FALSE),AND(AD2564>1200,F2564=\"w\"),M2564=\"Ja\"),\"Kuh\",\"\")","v":""},{"$f":"IF(OR(L2564=\"Nein\",L2564=\"Ja\"),$R$1-E2564,L2564-E2564)","v":0},0,0]
[null,null,null,null,null,null,null,null,null,null,null,null,null,null,null,null,"2021-01-01","00:00:00","2021-01-01","2021-01-01","2021-01-01",0,0,0,0,0,0,"","",0,0,0]
[null,null,null,null,null,null,null,null,null,null,null,null,null,null,null,null,"2021-01-01","00:00:00","2021-01-01","2021-01-01","2021-01-01",0,0,0,0,0,0,"","",0,0,0]
[null,null,null,null,null,null,null,null,null,null,null,null,null,null,null,null,"2021-01-01","00:00:00","2021-01-01","2021-01-01","2021-01-01",0,0,0,0,0,0,"","",0,0,0]
[null,null,null,null,null,null,null,null,null,null,null,null,null,null,null,null,"2021-01-01","00:00:00","2021-01-01","2021-01-01","2021-01-01",0,0,0,0,0,0,"","",0,0,0]
[null,null,null,null,null,null,null,null,null,null,null,null,null,null,null,null,"2021-01-01","00:00:00","2021-01-01","2021-01-01","2021-01-01",0,0,0,0,0,0,"","",0,0,0]
[null,null,null,null,null,null,null,null,null,null,null,null,null,null,null,null,"2021-01-01","00:00:00","2021-01-01","2021-01-01","2021-01-01",0,0,0,0,0,0,"","",0,0,0]
[null,null,null,null,null,null,null,null,null,null,null,null,null,null,null,null,"2021-01-01","00:00:00","2021-01-01","2021-01-01","2021-01-01",0,0,0,0,0,0,"","",0,0,0]
[null,null,null,null,null,null,null,null,null,null,null,null,null,null,null,null,"2021-01-01","00:00:00","2021-01-01","2021-01-01","2021-01-01",0,0,0,0,0,0,"","",0,0,0]
[null,null,null,null,null,null,null,null,null,null,null,null,null,null,null,null,"2021-01-01","00:00:00","2021-01-01","2021-01-01","2021-01-01",0,0,0,0,0,0,"","",0,0,0]
[null,null,null,null,null,null,null,null,null,null,null,null,null,null,null,null,"2021-01-01","00:00:00","2021-01-01","2021-01-01","2021-01-01",0,0,0,0,0,0,"","",0,0,0]
[null,null,null,null,null,null,null,null,null,null,null,null,null,null,null,null,"2021-01-01","00:00:00","2021-01-01","2021-01-01","2021-01-01",0,0,0,0,0,0,"","",0,0,0]
[null,null,null,null,null,null,null,null,null,null,null,null,null,null,null,null,"2021-01-01","00:00:00","2021-01-01","2021-01-01","2021-01-01",0,0,0,0,0,0,"","",0,0,0]
[null,null,null,null,null,null,null,null,null,null,null,null,null,null,null,null,"2021-01-01","00:00:00","2021-01-01","2021-01-01","2021-01-01",0,0,0,0,0,0,"","",0,0,0]
[null,null,null,null,null,null,null,null,null,null,null,null,null,null,null,null,"2021-01-01","00:00:00","2021-01-01","2021-01-01","2021-01-01",0,0,0,0,0,0,"","",0,0,0]
[null,null,null,null,null,null,null,null,null,null,null,null,null,null,null,null,"2021-01-01","00:00:00","2021-01-01","2021-01-01","2021-01-01",0,0,0,0,0,0,"","",0,0,0]
[null,null,null,null,null,null,null,null,null,null,null,null,null,null,null,null,"2021-01-01","00:00:00","2021-01-01","2021-01-01","2021-01-01",0,0,0,0,0,0,"","",0,0,0]
[null,null,null,null,null,null,null,null,null,null,null,null,null,null,null,null,"2021-01-01","00:00:00","2021-01-01","2021-01-01","2021-01-01",0,0,0,0,0,0,"","",0,0,0]
[null,null,null,null,null,null,null,null,null,null,null,null,null,null,null,null,"2021-01-01","00:00:00","2021-01-01","2021-01-01","2021-01-01",0,0,0,0,0,0,"","",0,0,0]
[null,null,null,null,null,null,null,null,null,null,null,null,null,null,null,null,"2021-01-01","00:00:00","2021-01-01","2021-01-01","2021-01-01",0,0,0,0,0,0,"","",0,0,0]
[null,null,null,null,null,null,null,null,null,null,null,null,null,null,null,null,"2021-01-01","00:00:00","2021-01-01","2021-01-01","2021-01-01",0,0,0,0,0,0,"","",0,0,0]
[null,null,null,null,null,null,null,null,null,null,null,null,null,null,null,null,"2021-01-01","00:00:00","2021-01-01","2021-01-01","2021-01-01",0,0,0,0,0,0,"","",0,0,0]
[null,null,null,null,null,null,null,null,null,null,null,null,null,null,null,null,"2021-01-01","00:00:00","2021-01-01","2021-01-01","2021-01-01",0,0,0,0,0,0,"","",0,0,0]
[null,null,null,null,null,null,null,null,null,null,null,null,null,null,null,null,"2021-01-01","00:00:00","2021-01-01","2021-01-01","2021-01-01",0,0,0,0,0,0,"","",0,0,0]
[null,null,null,null,null,null,null,null,null,null,null,null,null,null,null,null,"2021-01-01","00:00:00","2021-01-01","2021-01-01","2021-01-01",0,0,0,0,0,0,"","",0,0,0]
[null,null,null,null,null,null,null,null,null,null,null,null,null,null,null,null,"2021-01-01","00:00:00","2021-01-01","2021-01-01","2021-01-01",0,0,0,0,0,0,"","",0,0,0]
[null,null,null,null,null,null,null,null,null,null,null,null,null,null,null,null,"2021-01-01","00:00:00","2021-01-01","2021-01-01","2021-01-01",0,0,0,0,0,0,"","",0,0,0]
[null,null,null,null,null,null,null,null,null,null,null,null,null,null,null,null,"2021-01-01","00:00:00","2021-01-01","2021-01-01","2021-01-01",0,0,0,0,0,0,"","",0,0,0]
[null,null,null,null,null,null,null,null,null,null,null,null,null,null,null,null,"2021-01-01","00:00:00","2021-01-01","2021-01-01","2021-01-01",0,0,0,0,0,0,"","",0,0,0]
[null,null,null,null,null,null,null,null,null,null,null,null,null,null,null,null,"2021-01-01","00:00:00","2021-01-01","2021-01-01","2021-01-01",0,0,0,0,0,0,"","",0,0,0]
[null,null,null,null,null,null,null,null,null,null,null,null,null,null,null,null,"2021-01-01","00:00:00","2021-01-01","2021-01-01","2021-01-01",0,0,0,0,0,0,"","",0,0,0]
[null,null,null,null,null,null,null,null,null,null,null,null,null,null,null,null,"2021-01-01","00:00:00","2021-01-01","2021-01-01","2021-01-01",0,0,0,0,0,0,"","",0,0,0]
[null,null,null,null,null,null,null,null,null,null,null,null,null,null,null,null,"2021-01-01","00:00:00","2021-01-01","2021-01-01","2021-01-01",0,0,0,0,0,0,"","",0,0,0]
[null,null,null,null,null,null,null,null,null,null,null,null,null,null,null,null,"2021-01-01","00:00:00","2021-01-01","2021-01-01","2021-01-01",0,0,0,0,0,0,"","",0,0,0]
[null,null,null,null,null,null,null,null,null,null,null,null,null,null,null,null,"2021-01-01","00:00:00","2021-01-01","2021-01-01","2021-01-01",0,0,0,0,0,0,"","",0,0,0]
[null,null,null,null,null,null,null,null,null,null,null,null,null,null,null,null,"2021-01-01","00:00:00","2021-01-01","2021-01-01","2021-01-01",0,0,0,0,0,0,"","",0,0,0]
[null,null,null,null,null,null,null,null,null,null,null,null,null,null,null,null,"2021-01-01","00:00:00","2021-01-01","2021-01-01","2021-01-01",0,0,0,0,0,0,"","",0,0,0]
[null,null,null,null,null,null,null,null,null,null,null,null,null,null,null,null,"2021-01-01","00:00:00","2021-01-01","2021-01-01","2021-01-01",0,0,0,0,0,0,"","",0,0,0]
[null,null,null,null,null,null,null,null,null,null,null,null,null,null,null,null,"2021-01-01","00:00:00","2021-01-01","2021-01-01","2021-01-01",0,0,0,0,0,0,"","",0,0,0]
[null,null,null,null,null,null,null,null,null,null,null,null,null,null,null,null,"2021-01-01","00:00:00","2021-01-01","2021-01-01","2021-01-01",0,0,0,0,0,0,"","",0,0,0]
[null,null,null,null,null,null,null,null,null,null,null,null,null,null,null,null,"2021-01-01","00:00:00","2021-01-01","2021-01-01","2021-01-01",0,0,0,0,0,0,"","",0,0,0]
[null,null,null,null,null,null,null,null,null,null,null,null,null,null,null,null,"2021-01-01","00:00:00","2021-01-01","2021-01-01","2021-01-01",0,0,0,0,0,0,"","",0,0,0]
[null,null,null,null,null,null,null,null,null,null,null,null,null,null,null,null,"2021-01-01","00:00:00","2021-01-01","2021-01-01","2021-01-01",0,0,0,0,0,0,"","",0,0,0]
[null,null,null,null,null,null,null,null,null,null,null,null,null,null,null,null,"2021-01-01","00:00:00","2021-01-01","2021-01-01","2021-01-01",0,0,0,0,0,0,"","",0,0,0]
[null,null,null,null,null,null,null,null,null,null,null,null,null,null,null,null,"2021-01-01","00:00:00","2021-01-01","2021-01-01","2021-01-01",0,0,0,0,0,0,"","",0,0,0]
[null,null,null,null,null,null,null,null,null,null,null,null,null,null,null,null,"2021-01-01","00:00:00","2021-01-01","2021-01-01","2021-01-01",0,0,0,0,0,0,"","",0,0,0]
[null,null,null,null,null,null,null,null,null,null,null,null,null,null,null,null,"2021-01-01","00:00:00","2021-01-01","2021-01-01","2021-01-01",0,0,0,0,0,0,"","",0,0,0]
[null,null,null,null,null,null,null,null,null,null,null,null,null,null,null,null,"2021-01-01","00:00:00","2021-01-01","2021-01-01","2021-01-01",0,0,0,0,0,0,"","",0,0,0]
[null,null,null,null,null,null,null,null,null,null,null,null,null,null,null,null,"2021-01-01","00:00:00","2021-01-01","2021-01-01","2021-01-01",0,0,0,0,0,0,"","",0,0,0]
[null,null,null,null,null,null,null,null,null,null,null,null,null,null,null,null,"2021-01-01","00:00:00","2021-01-01","2021-01-01","2021-01-01",0,0,0,0,0,0,"","",0,0,0]
[null,null,null,null,null,null,null,null,null,null,null,null,null,null,null,null,"2021-01-01","00:00:00","2021-01-01","2021-01-01","2021-01-01",0,0,0,0,0,0,"","",0,0,0]
[null,null,null,null,null,null,null,null,null,null,null,null,null,null,null,null,"2021-01-01","00:00:00","2021-01-01","2021-01-01","2021-01-01",0,0,0,0,0,0,"","",0,0,0]
[null,null,null,null,null,null,null,null,null,null,null,null,null,null,null,null,"2021-01-01","00:00:00","2021-01-01","2021-01-01","2021-01-01",0,0,0,0,0,0,"","",0,0,0]
[null,null,null,null,null,null,null,null,null,null,null,null,null,null,null,null,"2021-01-01","00:00:00","2021-01-01","2021-01-01","2021-01-01",0,0,0,0,0,0,"","",0,0,0]
[null,null,null,null,null,null,null,null,null,null,null,null,null,null,null,null,"2021-01-01","00:00:00","2021-01-01","2021-01-01","2021-01-01",0,0,0,0,0,0,"","",0,0,0]
[null,null,null,null,null,null,null,null,null,null,null,null,null,null,null,null,"2021-01-01","00:00:00","2021-01-01","2021-01-01","2021-01-01",0,0,0,0,0,0,"","",0,0,0]
[null,null,null,null,null,null,null,null,null,null,null,null,null,null,null,null,"2021-01-01","00:00:00","2021-01-01","2021-01-01","2021-01-01",0,0,0,0,0,0,"","",0,0,0]
[null,null,null,null,null,null,null,null,null,null,null,null,null,null,null,null,"2021-01-01","00:00:00","2021-01-01","2021-01-01","2021-01-01",0,0,0,0,0,0,"","",0,0,0]
[null,null,null,null,null,null,null,null,null,null,null,null,null,null,null,null,"2021-01-01","00:00:00","2021-01-01","2021-01-01","2021-01-01",0,0,0,0,0,0,"","",0,0,0]
[null,null,null,null,null,null,null,null,null,null,null,null,null,null,null,null,"2021-01-01","00:00:00","2021-01-01","2021-01-01","2021-01-01",0,0,0,0,0,0,"","",0,0,0]
[null,null,null,null,null,null,null,null,null,null,null,null,null,null,null,null,"2021-01-01","00:00:00","2021-01-01","2021-01-01","2021-01-01",0,0,0,0,0,0,"","",0,0,0]
[null,null,null,null,null,null,null,null,null,null,null,null,null,null,null,null,"2021-01-01","00:00:00","2021-01-01","2021-01-01","2021-01-01",0,0,0,0,0,0,"","",0,0,0]
[null,null,null,null,null,null,null,null,null,null,null,null,null,null,null,null,"2021-01-01","00:00:00","2021-01-01","2021-01-01","2021-01-01",0,0,0,0,0,0,"","",0,0,0]
[null,null,null,null,null,null,null,null,null,null,null,null,null,null,null,null,"2021-01-01","00:00:00","2021-01-01","2021-01-01","2021-01-01",0,0,0,0,0,0,"","",0,{"$f":"IF(OR($Q2627>$Q$1,$R2627<$Q$1),0,YEARFRAC($E2627,$Q2627,1))*12","v":0},{"$f":"IF(OR($Q2627>$R$1,$R2627<$R$1),0,YEARFRAC($E2627,$R2627,1))*12","v":0}]
[null,null,null,null,null,null,null,null,null,null,null,null,null,null,null,null,{"$f":"IF(OR(K2628<$Q$1,K2628=\"Altbestand\"),$Q$1,IF(AND(K2628=\"Nachzucht\",E2628>$Q$1),E2628,IF(K2628=\"Nachzucht\",$Q$1,K2628)))","v":"2021-01-01"},{"$f":"IF(OR(L2628>$R$1,L2628=\"Nein\"),$R$1,L2628)","v":"00:00:00"},{"$f":"IF(OR(R2628<Q2628,(E2628+183)<Q2628),Q2628,IF((E2628+183)>R2628,R2628,(E2628+183)))","v":"2021-01-01"},{"$f":"IF(OR(S2628=R2628,(E2628+365)<Q2628,R2628<Q2628),S2628,IF((E2628+365)>R2628,R2628,(E2628+365)))","v":"2021-01-01"},{"$f":"IF(OR(T2628=R2628,S2628=R2628,(E2628+365*2)<Q2628,R2628<Q2628),T2628,IF((E2628+365*2)>R2628,R2628,(E2628+365*2)))","v":"2021-01-01"},{"$f":"IF(AC2628=\"Kuh\",\"Kuh\",F2628)","v":0},{"$f":"S2628-Q2628","v":0},{"$f":"+T2628-S2628","v":0},{"$f":"+U2628-T2628","v":0},{"$f":"IF(AB2628=\"\",0,AB2628-AA2628)","v":0},{"$f":"SUM(W2628:Y2628)","v":0},{"$f":"IF(R2628<Q2628,\"\",R2628-Q2628)","v":""},{"$f":"IF(OR((ISNA(VLOOKUP(C2628,$I$3:$I$138,1,FALSE))=FALSE),AND(AD2628>1200,F2628=\"w\"),M2628=\"Ja\"),\"Kuh\",\"\")","v":""},{"$f":"IF(OR(L2628=\"Nein\",L2628=\"Ja\"),$R$1-E2628,L2628-E2628)","v":0},0,0]
[null,null,null,null,null,null,null,null,null,null,null,null,null,null,null,null,"2021-01-01","00:00:00","2021-01-01","2021-01-01","2021-01-01",0,0,0,0,0,0,"","",0,0,0]
[null,null,null,null,null,null,null,null,null,null,null,null,null,null,null,null,"2021-01-01","00:00:00","2021-01-01","2021-01-01","2021-01-01",0,0,0,0,0,0,"","",0,0,0]
[null,null,null,null,null,null,null,null,null,null,null,null,null,null,null,null,"2021-01-01","00:00:00","2021-01-01","2021-01-01","2021-01-01",0,0,0,0,0,0,"","",0,0,0]
[null,null,null,null,null,null,null,null,null,null,null,null,null,null,null,null,"2021-01-01","00:00:00","2021-01-01","2021-01-01","2021-01-01",0,0,0,0,0,0,"","",0,0,0]
[null,null,null,null,null,null,null,null,null,null,null,null,null,null,null,null,"2021-01-01","00:00:00","2021-01-01","2021-01-01","2021-01-01",0,0,0,0,0,0,"","",0,0,0]
[null,null,null,null,null,null,null,null,null,null,null,null,null,null,null,null,"2021-01-01","00:00:00","2021-01-01","2021-01-01","2021-01-01",0,0,0,0,0,0,"","",0,0,0]
[null,null,null,null,null,null,null,null,null,null,null,null,null,null,null,null,"2021-01-01","00:00:00","2021-01-01","2021-01-01","2021-01-01",0,0,0,0,0,0,"","",0,0,0]
[null,null,null,null,null,null,null,null,null,null,null,null,null,null,null,null,"2021-01-01","00:00:00","2021-01-01","2021-01-01","2021-01-01",0,0,0,0,0,0,"","",0,0,0]
[null,null,null,null,null,null,null,null,null,null,null,null,null,null,null,null,"2021-01-01","00:00:00","2021-01-01","2021-01-01","2021-01-01",0,0,0,0,0,0,"","",0,0,0]
[null,null,null,null,null,null,null,null,null,null,null,null,null,null,null,null,"2021-01-01","00:00:00","2021-01-01","2021-01-01","2021-01-01",0,0,0,0,0,0,"","",0,0,0]
[null,null,null,null,null,null,null,null,null,null,null,null,null,null,null,null,"2021-01-01","00:00:00","2021-01-01","2021-01-01","2021-01-01",0,0,0,0,0,0,"","",0,0,0]
[null,null,null,null,null,null,null,null,null,null,null,null,null,null,null,null,"2021-01-01","00:00:00","2021-01-01","2021-01-01","2021-01-01",0,0,0,0,0,0,"","",0,0,0]
[null,null,null,null,null,null,null,null,null,null,null,null,null,null,null,null,"2021-01-01","00:00:00","2021-01-01","2021-01-01","2021-01-01",0,0,0,0,0,0,"","",0,0,0]
[null,null,null,null,null,null,null,null,null,null,null,null,null,null,null,null,"2021-01-01","00:00:00","2021-01-01","2021-01-01","2021-01-01",0,0,0,0,0,0,"","",0,0,0]
[null,null,null,null,null,null,null,null,null,null,null,null,null,null,null,null,"2021-01-01","00:00:00","2021-01-01","2021-01-01","2021-01-01",0,0,0,0,0,0,"","",0,0,0]
[null,null,null,null,null,null,null,null,null,null,null,null,null,null,null,null,"2021-01-01","00:00:00","2021-01-01","2021-01-01","2021-01-01",0,0,0,0,0,0,"","",0,0,0]
[null,null,null,null,null,null,null,null,null,null,null,null,null,null,null,null,"2021-01-01","00:00:00","2021-01-01","2021-01-01","2021-01-01",0,0,0,0,0,0,"","",0,0,0]
[null,null,null,null,null,null,null,null,null,null,null,null,null,null,null,null,"2021-01-01","00:00:00","2021-01-01","2021-01-01","2021-01-01",0,0,0,0,0,0,"","",0,0,0]
[null,null,null,null,null,null,null,null,null,null,null,null,null,null,null,null,"2021-01-01","00:00:00","2021-01-01","2021-01-01","2021-01-01",0,0,0,0,0,0,"","",0,0,0]
[null,null,null,null,null,null,null,null,null,null,null,null,null,null,null,null,"2021-01-01","00:00:00","2021-01-01","2021-01-01","2021-01-01",0,0,0,0,0,0,"","",0,0,0]
[null,null,null,null,null,null,null,null,null,null,null,null,null,null,null,null,"2021-01-01","00:00:00","2021-01-01","2021-01-01","2021-01-01",0,0,0,0,0,0,"","",0,0,0]
[null,null,null,null,null,null,null,null,null,null,null,null,null,null,null,null,"2021-01-01","00:00:00","2021-01-01","2021-01-01","2021-01-01",0,0,0,0,0,0,"","",0,0,0]
[null,null,null,null,null,null,null,null,null,null,null,null,null,null,null,null,"2021-01-01","00:00:00","2021-01-01","2021-01-01","2021-01-01",0,0,0,0,0,0,"","",0,0,0]
[null,null,null,null,null,null,null,null,null,null,null,null,null,null,null,null,"2021-01-01","00:00:00","2021-01-01","2021-01-01","2021-01-01",0,0,0,0,0,0,"","",0,0,0]
[null,null,null,null,null,null,null,null,null,null,null,null,null,null,null,null,"2021-01-01","00:00:00","2021-01-01","2021-01-01","2021-01-01",0,0,0,0,0,0,"","",0,0,0]
[null,null,null,null,null,null,null,null,null,null,null,null,null,null,null,null,"2021-01-01","00:00:00","2021-01-01","2021-01-01","2021-01-01",0,0,0,0,0,0,"","",0,0,0]
[null,null,null,null,null,null,null,null,null,null,null,null,null,null,null,null,"2021-01-01","00:00:00","2021-01-01","2021-01-01","2021-01-01",0,0,0,0,0,0,"","",0,0,0]
[null,null,null,null,null,null,null,null,null,null,null,null,null,null,null,null,"2021-01-01","00:00:00","2021-01-01","2021-01-01","2021-01-01",0,0,0,0,0,0,"","",0,0,0]
[null,null,null,null,null,null,null,null,null,null,null,null,null,null,null,null,"2021-01-01","00:00:00","2021-01-01","2021-01-01","2021-01-01",0,0,0,0,0,0,"","",0,0,0]
[null,null,null,null,null,null,null,null,null,null,null,null,null,null,null,null,"2021-01-01","00:00:00","2021-01-01","2021-01-01","2021-01-01",0,0,0,0,0,0,"","",0,0,0]
[null,null,null,null,null,null,null,null,null,null,null,null,null,null,null,null,"2021-01-01","00:00:00","2021-01-01","2021-01-01","2021-01-01",0,0,0,0,0,0,"","",0,0,0]
[null,null,null,null,null,null,null,null,null,null,null,null,null,null,null,null,"2021-01-01","00:00:00","2021-01-01","2021-01-01","2021-01-01",0,0,0,0,0,0,"","",0,0,0]
[null,null,null,null,null,null,null,null,null,null,null,null,null,null,null,null,"2021-01-01","00:00:00","2021-01-01","2021-01-01","2021-01-01",0,0,0,0,0,0,"","",0,0,0]
[null,null,null,null,null,null,null,null,null,null,null,null,null,null,null,null,"2021-01-01","00:00:00","2021-01-01","2021-01-01","2021-01-01",0,0,0,0,0,0,"","",0,0,0]
[null,null,null,null,null,null,null,null,null,null,null,null,null,null,null,null,"2021-01-01","00:00:00","2021-01-01","2021-01-01","2021-01-01",0,0,0,0,0,0,"","",0,0,0]
[null,null,null,null,null,null,null,null,null,null,null,null,null,null,null,null,"2021-01-01","00:00:00","2021-01-01","2021-01-01","2021-01-01",0,0,0,0,0,0,"","",0,0,0]
[null,null,null,null,null,null,null,null,null,null,null,null,null,null,null,null,"2021-01-01","00:00:00","2021-01-01","2021-01-01","2021-01-01",0,0,0,0,0,0,"","",0,0,0]
[null,null,null,null,null,null,null,null,null,null,null,null,null,null,null,null,"2021-01-01","00:00:00","2021-01-01","2021-01-01","2021-01-01",0,0,0,0,0,0,"","",0,0,0]
[null,null,null,null,null,null,null,null,null,null,null,null,null,null,null,null,"2021-01-01","00:00:00","2021-01-01","2021-01-01","2021-01-01",0,0,0,0,0,0,"","",0,0,0]
[null,null,null,null,null,null,null,null,null,null,null,null,null,null,null,null,"2021-01-01","00:00:00","2021-01-01","2021-01-01","2021-01-01",0,0,0,0,0,0,"","",0,0,0]
[null,null,null,null,null,null,null,null,null,null,null,null,null,null,null,null,"2021-01-01","00:00:00","2021-01-01","2021-01-01","2021-01-01",0,0,0,0,0,0,"","",0,0,0]
[null,null,null,null,null,null,null,null,null,null,null,null,null,null,null,null,"2021-01-01","00:00:00","2021-01-01","2021-01-01","2021-01-01",0,0,0,0,0,0,"","",0,0,0]
[null,null,null,null,null,null,null,null,null,null,null,null,null,null,null,null,"2021-01-01","00:00:00","2021-01-01","2021-01-01","2021-01-01",0,0,0,0,0,0,"","",0,0,0]
[null,null,null,null,null,null,null,null,null,null,null,null,null,null,null,null,"2021-01-01","00:00:00","2021-01-01","2021-01-01","2021-01-01",0,0,0,0,0,0,"","",0,0,0]
[null,null,null,null,null,null,null,null,null,null,null,null,null,null,null,null,"2021-01-01","00:00:00","2021-01-01","2021-01-01","2021-01-01",0,0,0,0,0,0,"","",0,0,0]
[null,null,null,null,null,null,null,null,null,null,null,null,null,null,null,null,"2021-01-01","00:00:00","2021-01-01","2021-01-01","2021-01-01",0,0,0,0,0,0,"","",0,0,0]
[null,null,null,null,null,null,null,null,null,null,null,null,null,null,null,null,"2021-01-01","00:00:00","2021-01-01","2021-01-01","2021-01-01",0,0,0,0,0,0,"","",0,0,0]
[null,null,null,null,null,null,null,null,null,null,null,null,null,null,null,null,"2021-01-01","00:00:00","2021-01-01","2021-01-01","2021-01-01",0,0,0,0,0,0,"","",0,0,0]
[null,null,null,null,null,null,null,null,null,null,null,null,null,null,null,null,"2021-01-01","00:00:00","2021-01-01","2021-01-01","2021-01-01",0,0,0,0,0,0,"","",0,0,0]
[null,null,null,null,null,null,null,null,null,null,null,null,null,null,null,null,"2021-01-01","00:00:00","2021-01-01","2021-01-01","2021-01-01",0,0,0,0,0,0,"","",0,0,0]
[null,null,null,null,null,null,null,null,null,null,null,null,null,null,null,null,"2021-01-01","00:00:00","2021-01-01","2021-01-01","2021-01-01",0,0,0,0,0,0,"","",0,0,0]
[null,null,null,null,null,null,null,null,null,null,null,null,null,null,null,null,"2021-01-01","00:00:00","2021-01-01","2021-01-01","2021-01-01",0,0,0,0,0,0,"","",0,0,0]
[null,null,null,null,null,null,null,null,null,null,null,null,null,null,null,null,"2021-01-01","00:00:00","2021-01-01","2021-01-01","2021-01-01",0,0,0,0,0,0,"","",0,0,0]
[null,null,null,null,null,null,null,null,null,null,null,null,null,null,null,null,"2021-01-01","00:00:00","2021-01-01","2021-01-01","2021-01-01",0,0,0,0,0,0,"","",0,0,0]
[null,null,null,null,null,null,null,null,null,null,null,null,null,null,null,null,"2021-01-01","00:00:00","2021-01-01","2021-01-01","2021-01-01",0,0,0,0,0,0,"","",0,0,0]
[null,null,null,null,null,null,null,null,null,null,null,null,null,null,null,null,"2021-01-01","00:00:00","2021-01-01","2021-01-01","2021-01-01",0,0,0,0,0,0,"","",0,0,0]
[null,null,null,null,null,null,null,null,null,null,null,null,null,null,null,null,"2021-01-01","00:00:00","2021-01-01","2021-01-01","2021-01-01",0,0,0,0,0,0,"","",0,0,0]
[null,null,null,null,null,null,null,null,null,null,null,null,null,null,null,null,"2021-01-01","00:00:00","2021-01-01","2021-01-01","2021-01-01",0,0,0,0,0,0,"","",0,0,0]
[null,null,null,null,null,null,null,null,null,null,null,null,null,null,null,null,"2021-01-01","00:00:00","2021-01-01","2021-01-01","2021-01-01",0,0,0,0,0,0,"","",0,0,0]
[null,null,null,null,null,null,null,null,null,null,null,null,null,null,null,null,"2021-01-01","00:00:00","2021-01-01","2021-01-01","2021-01-01",0,0,0,0,0,0,"","",0,0,0]
[null,null,null,null,null,null,null,null,null,null,null,null,null,null,null,null,"2021-01-01","00:00:00","2021-01-01","2021-01-01","2021-01-01",0,0,0,0,0,0,"","",0,0,0]
[null,null,null,null,null,null,null,null,null,null,null,null,null,null,null,null,"2021-01-01","00:00:00","2021-01-01","2021-01-01","2021-01-01",0,0,0,0,0,0,"","",0,0,0]
[null,null,null,null,null,null,null,null,null,null,null,null,null,null,null,null,"2021-01-01","00:00:00","2021-01-01","2021-01-01","2021-01-01",0,0,0,0,0,0,"","",0,{"$f":"IF(OR($Q2691>$Q$1,$R2691<$Q$1),0,YEARFRAC($E2691,$Q2691,1))*12","v":0},{"$f":"IF(OR($Q2691>$R$1,$R2691<$R$1),0,YEARFRAC($E2691,$R2691,1))*12","v":0}]
[null,null,null,null,null,null,null,null,null,null,null,null,null,null,null,null,{"$f":"IF(OR(K2692<$Q$1,K2692=\"Altbestand\"),$Q$1,IF(AND(K2692=\"Nachzucht\",E2692>$Q$1),E2692,IF(K2692=\"Nachzucht\",$Q$1,K2692)))","v":"2021-01-01"},{"$f":"IF(OR(L2692>$R$1,L2692=\"Nein\"),$R$1,L2692)","v":"00:00:00"},{"$f":"IF(OR(R2692<Q2692,(E2692+183)<Q2692),Q2692,IF((E2692+183)>R2692,R2692,(E2692+183)))","v":"2021-01-01"},{"$f":"IF(OR(S2692=R2692,(E2692+365)<Q2692,R2692<Q2692),S2692,IF((E2692+365)>R2692,R2692,(E2692+365)))","v":"2021-01-01"},{"$f":"IF(OR(T2692=R2692,S2692=R2692,(E2692+365*2)<Q2692,R2692<Q2692),T2692,IF((E2692+365*2)>R2692,R2692,(E2692+365*2)))","v":"2021-01-01"},{"$f":"IF(AC2692=\"Kuh\",\"Kuh\",F2692)","v":0},{"$f":"S2692-Q2692","v":0},{"$f":"+T2692-S2692","v":0},{"$f":"+U2692-T2692","v":0},{"$f":"IF(AB2692=\"\",0,AB2692-AA2692)","v":0},{"$f":"SUM(W2692:Y2692)","v":0},{"$f":"IF(R2692<Q2692,\"\",R2692-Q2692)","v":""},{"$f":"IF(OR((ISNA(VLOOKUP(C2692,$I$3:$I$138,1,FALSE))=FALSE),AND(AD2692>1200,F2692=\"w\"),M2692=\"Ja\"),\"Kuh\",\"\")","v":""},{"$f":"IF(OR(L2692=\"Nein\",L2692=\"Ja\"),$R$1-E2692,L2692-E2692)","v":0},0,0]
[null,null,null,null,null,null,null,null,null,null,null,null,null,null,null,null,"2021-01-01","00:00:00","2021-01-01","2021-01-01","2021-01-01",0,0,0,0,0,0,"","",0,0,0]
[null,null,null,null,null,null,null,null,null,null,null,null,null,null,null,null,"2021-01-01","00:00:00","2021-01-01","2021-01-01","2021-01-01",0,0,0,0,0,0,"","",0,0,0]
[null,null,null,null,null,null,null,null,null,null,null,null,null,null,null,null,"2021-01-01","00:00:00","2021-01-01","2021-01-01","2021-01-01",0,0,0,0,0,0,"","",0,0,0]
[null,null,null,null,null,null,null,null,null,null,null,null,null,null,null,null,"2021-01-01","00:00:00","2021-01-01","2021-01-01","2021-01-01",0,0,0,0,0,0,"","",0,0,0]
[null,null,null,null,null,null,null,null,null,null,null,null,null,null,null,null,"2021-01-01","00:00:00","2021-01-01","2021-01-01","2021-01-01",0,0,0,0,0,0,"","",0,0,0]
[null,null,null,null,null,null,null,null,null,null,null,null,null,null,null,null,"2021-01-01","00:00:00","2021-01-01","2021-01-01","2021-01-01",0,0,0,0,0,0,"","",0,0,0]
[null,null,null,null,null,null,null,null,null,null,null,null,null,null,null,null,"2021-01-01","00:00:00","2021-01-01","2021-01-01","2021-01-01",0,0,0,0,0,0,"","",0,0,0]
[null,null,null,null,null,null,null,null,null,null,null,null,null,null,null,null,"2021-01-01","00:00:00","2021-01-01","2021-01-01","2021-01-01",0,0,0,0,0,0,"","",0,0,0]
[null,null,null,null,null,null,null,null,null,null,null,null,null,null,null,null,"2021-01-01","00:00:00","2021-01-01","2021-01-01","2021-01-01",0,0,0,0,0,0,"","",0,0,0]
[null,null,null,null,null,null,null,null,null,null,null,null,null,null,null,null,"2021-01-01","00:00:00","2021-01-01","2021-01-01","2021-01-01",0,0,0,0,0,0,"","",0,0,0]
[null,null,null,null,null,null,null,null,null,null,null,null,null,null,null,null,"2021-01-01","00:00:00","2021-01-01","2021-01-01","2021-01-01",0,0,0,0,0,0,"","",0,0,0]
[null,null,null,null,null,null,null,null,null,null,null,null,null,null,null,null,"2021-01-01","00:00:00","2021-01-01","2021-01-01","2021-01-01",0,0,0,0,0,0,"","",0,0,0]
[null,null,null,null,null,null,null,null,null,null,null,null,null,null,null,null,"2021-01-01","00:00:00","2021-01-01","2021-01-01","2021-01-01",0,0,0,0,0,0,"","",0,0,0]
[null,null,null,null,null,null,null,null,null,null,null,null,null,null,null,null,"2021-01-01","00:00:00","2021-01-01","2021-01-01","2021-01-01",0,0,0,0,0,0,"","",0,0,0]
[null,null,null,null,null,null,null,null,null,null,null,null,null,null,null,null,"2021-01-01","00:00:00","2021-01-01","2021-01-01","2021-01-01",0,0,0,0,0,0,"","",0,0,0]
[null,null,null,null,null,null,null,null,null,null,null,null,null,null,null,null,"2021-01-01","00:00:00","2021-01-01","2021-01-01","2021-01-01",0,0,0,0,0,0,"","",0,0,0]
[null,null,null,null,null,null,null,null,null,null,null,null,null,null,null,null,"2021-01-01","00:00:00","2021-01-01","2021-01-01","2021-01-01",0,0,0,0,0,0,"","",0,0,0]
[null,null,null,null,null,null,null,null,null,null,null,null,null,null,null,null,"2021-01-01","00:00:00","2021-01-01","2021-01-01","2021-01-01",0,0,0,0,0,0,"","",0,0,0]
[null,null,null,null,null,null,null,null,null,null,null,null,null,null,null,null,"2021-01-01","00:00:00","2021-01-01","2021-01-01","2021-01-01",0,0,0,0,0,0,"","",0,0,0]
[null,null,null,null,null,null,null,null,null,null,null,null,null,null,null,null,"2021-01-01","00:00:00","2021-01-01","2021-01-01","2021-01-01",0,0,0,0,0,0,"","",0,0,0]
[null,null,null,null,null,null,null,null,null,null,null,null,null,null,null,null,"2021-01-01","00:00:00","2021-01-01","2021-01-01","2021-01-01",0,0,0,0,0,0,"","",0,0,0]
[null,null,null,null,null,null,null,null,null,null,null,null,null,null,null,null,"2021-01-01","00:00:00","2021-01-01","2021-01-01","2021-01-01",0,0,0,0,0,0,"","",0,0,0]
[null,null,null,null,null,null,null,null,null,null,null,null,null,null,null,null,"2021-01-01","00:00:00","2021-01-01","2021-01-01","2021-01-01",0,0,0,0,0,0,"","",0,0,0]
[null,null,null,null,null,null,null,null,null,null,null,null,null,null,null,null,"2021-01-01","00:00:00","2021-01-01","2021-01-01","2021-01-01",0,0,0,0,0,0,"","",0,0,0]
[null,null,null,null,null,null,null,null,null,null,null,null,null,null,null,null,"2021-01-01","00:00:00","2021-01-01","2021-01-01","2021-01-01",0,0,0,0,0,0,"","",0,0,0]
[null,null,null,null,null,null,null,null,null,null,null,null,null,null,null,null,"2021-01-01","00:00:00","2021-01-01","2021-01-01","2021-01-01",0,0,0,0,0,0,"","",0,0,0]
[null,null,null,null,null,null,null,null,null,null,null,null,null,null,null,null,"2021-01-01","00:00:00","2021-01-01","2021-01-01","2021-01-01",0,0,0,0,0,0,"","",0,0,0]
[null,null,null,null,null,null,null,null,null,null,null,null,null,null,null,null,"2021-01-01","00:00:00","2021-01-01","2021-01-01","2021-01-01",0,0,0,0,0,0,"","",0,0,0]
[null,null,null,null,null,null,null,null,null,null,null,null,null,null,null,null,"2021-01-01","00:00:00","2021-01-01","2021-01-01","2021-01-01",0,0,0,0,0,0,"","",0,0,0]
[null,null,null,null,null,null,null,null,null,null,null,null,null,null,null,null,"2021-01-01","00:00:00","2021-01-01","2021-01-01","2021-01-01",0,0,0,0,0,0,"","",0,0,0]
[null,null,null,null,null,null,null,null,null,null,null,null,null,null,null,null,"2021-01-01","00:00:00","2021-01-01","2021-01-01","2021-01-01",0,0,0,0,0,0,"","",0,0,0]
[null,null,null,null,null,null,null,null,null,null,null,null,null,null,null,null,"2021-01-01","00:00:00","2021-01-01","2021-01-01","2021-01-01",0,0,0,0,0,0,"","",0,0,0]
[null,null,null,null,null,null,null,null,null,null,null,null,null,null,null,null,"2021-01-01","00:00:00","2021-01-01","2021-01-01","2021-01-01",0,0,0,0,0,0,"","",0,0,0]
[null,null,null,null,null,null,null,null,null,null,null,null,null,null,null,null,"2021-01-01","00:00:00","2021-01-01","2021-01-01","2021-01-01",0,0,0,0,0,0,"","",0,0,0]
[null,null,null,null,null,null,null,null,null,null,null,null,null,null,null,null,"2021-01-01","00:00:00","2021-01-01","2021-01-01","2021-01-01",0,0,0,0,0,0,"","",0,0,0]
[null,null,null,null,null,null,null,null,null,null,null,null,null,null,null,null,"2021-01-01","00:00:00","2021-01-01","2021-01-01","2021-01-01",0,0,0,0,0,0,"","",0,0,0]
[null,null,null,null,null,null,null,null,null,null,null,null,null,null,null,null,"2021-01-01","00:00:00","2021-01-01","2021-01-01","2021-01-01",0,0,0,0,0,0,"","",0,0,0]
[null,null,null,null,null,null,null,null,null,null,null,null,null,null,null,null,"2021-01-01","00:00:00","2021-01-01","2021-01-01","2021-01-01",0,0,0,0,0,0,"","",0,0,0]
[null,null,null,null,null,null,null,null,null,null,null,null,null,null,null,null,"2021-01-01","00:00:00","2021-01-01","2021-01-01","2021-01-01",0,0,0,0,0,0,"","",0,0,0]
[null,null,null,null,null,null,null,null,null,null,null,null,null,null,null,null,"2021-01-01","00:00:00","2021-01-01","2021-01-01","2021-01-01",0,0,0,0,0,0,"","",0,0,0]
[null,null,null,null,null,null,null,null,null,null,null,null,null,null,null,null,"2021-01-01","00:00:00","2021-01-01","2021-01-01","2021-01-01",0,0,0,0,0,0,"","",0,0,0]
[null,null,null,null,null,null,null,null,null,null,null,null,null,null,null,null,"2021-01-01","00:00:00","2021-01-01","2021-01-01","2021-01-01",0,0,0,0,0,0,"","",0,0,0]
[null,null,null,null,null,null,null,null,null,null,null,null,null,null,null,null,"2021-01-01","00:00:00","2021-01-01","2021-01-01","2021-01-01",0,0,0,0,0,0,"","",0,0,0]
[null,null,null,null,null,null,null,null,null,null,null,null,null,null,null,null,"2021-01-01","00:00:00","2021-01-01","2021-01-01","2021-01-01",0,0,0,0,0,0,"","",0,0,0]
[null,null,null,null,null,null,null,null,null,null,null,null,null,null,null,null,"2021-01-01","00:00:00","2021-01-01","2021-01-01","2021-01-01",0,0,0,0,0,0,"","",0,0,0]
[null,null,null,null,null,null,null,null,null,null,null,null,null,null,null,null,"2021-01-01","00:00:00","2021-01-01","2021-01-01","2021-01-01",0,0,0,0,0,0,"","",0,0,0]
[null,null,null,null,null,null,null,null,null,null,null,null,null,null,null,null,"2021-01-01","00:00:00","2021-01-01","2021-01-01","2021-01-01",0,0,0,0,0,0,"","",0,0,0]
[null,null,null,null,null,null,null,null,null,null,null,null,null,null,null,null,"2021-01-01","00:00:00","2021-01-01","2021-01-01","2021-01-01",0,0,0,0,0,0,"","",0,0,0]
[null,null,null,null,null,null,null,null,null,null,null,null,null,null,null,null,"2021-01-01","00:00:00","2021-01-01","2021-01-01","2021-01-01",0,0,0,0,0,0,"","",0,0,0]
[null,null,null,null,null,null,null,null,null,null,null,null,null,null,null,null,"2021-01-01","00:00:00","2021-01-01","2021-01-01","2021-01-01",0,0,0,0,0,0,"","",0,0,0]
[null,null,null,null,null,null,null,null,null,null,null,null,null,null,null,null,"2021-01-01","00:00:00","2021-01-01","2021-01-01","2021-01-01",0,0,0,0,0,0,"","",0,0,0]
[null,null,null,null,null,null,null,null,null,null,null,null,null,null,null,null,"2021-01-01","00:00:00","2021-01-01","2021-01-01","2021-01-01",0,0,0,0,0,0,"","",0,0,0]
[null,null,null,null,null,null,null,null,null,null,null,null,null,null,null,null,"2021-01-01","00:00:00","2021-01-01","2021-01-01","2021-01-01",0,0,0,0,0,0,"","",0,0,0]
[null,null,null,null,null,null,null,null,null,null,null,null,null,null,null,null,"2021-01-01","00:00:00","2021-01-01","2021-01-01","2021-01-01",0,0,0,0,0,0,"","",0,0,0]
[null,null,null,null,null,null,null,null,null,null,null,null,null,null,null,null,"2021-01-01","00:00:00","2021-01-01","2021-01-01","2021-01-01",0,0,0,0,0,0,"","",0,0,0]
[null,null,null,null,null,null,null,null,null,null,null,null,null,null,null,null,"2021-01-01","00:00:00","2021-01-01","2021-01-01","2021-01-01",0,0,0,0,0,0,"","",0,0,0]
[null,null,null,null,null,null,null,null,null,null,null,null,null,null,null,null,"2021-01-01","00:00:00","2021-01-01","2021-01-01","2021-01-01",0,0,0,0,0,0,"","",0,0,0]
[null,null,null,null,null,null,null,null,null,null,null,null,null,null,null,null,"2021-01-01","00:00:00","2021-01-01","2021-01-01","2021-01-01",0,0,0,0,0,0,"","",0,0,0]
[null,null,null,null,null,null,null,null,null,null,null,null,null,null,null,null,"2021-01-01","00:00:00","2021-01-01","2021-01-01","2021-01-01",0,0,0,0,0,0,"","",0,0,0]
[null,null,null,null,null,null,null,null,null,null,null,null,null,null,null,null,"2021-01-01","00:00:00","2021-01-01","2021-01-01","2021-01-01",0,0,0,0,0,0,"","",0,0,0]
[null,null,null,null,null,null,null,null,null,null,null,null,null,null,null,null,"2021-01-01","00:00:00","2021-01-01","2021-01-01","2021-01-01",0,0,0,0,0,0,"","",0,0,0]
[null,null,null,null,null,null,null,null,null,null,null,null,null,null,null,null,"2021-01-01","00:00:00","2021-01-01","2021-01-01","2021-01-01",0,0,0,0,0,0,"","",0,0,0]
[null,null,null,null,null,null,null,null,null,null,null,null,null,null,null,null,"2021-01-01","00:00:00","2021-01-01","2021-01-01","2021-01-01",0,0,0,0,0,0,"","",0,{"$f":"IF(OR($Q2755>$Q$1,$R2755<$Q$1),0,YEARFRAC($E2755,$Q2755,1))*12","v":0},{"$f":"IF(OR($Q2755>$R$1,$R2755<$R$1),0,YEARFRAC($E2755,$R2755,1))*12","v":0}]
[null,null,null,null,null,null,null,null,null,null,null,null,null,null,null,null,{"$f":"IF(OR(K2756<$Q$1,K2756=\"Altbestand\"),$Q$1,IF(AND(K2756=\"Nachzucht\",E2756>$Q$1),E2756,IF(K2756=\"Nachzucht\",$Q$1,K2756)))","v":"2021-01-01"},{"$f":"IF(OR(L2756>$R$1,L2756=\"Nein\"),$R$1,L2756)","v":"00:00:00"},{"$f":"IF(OR(R2756<Q2756,(E2756+183)<Q2756),Q2756,IF((E2756+183)>R2756,R2756,(E2756+183)))","v":"2021-01-01"},{"$f":"IF(OR(S2756=R2756,(E2756+365)<Q2756,R2756<Q2756),S2756,IF((E2756+365)>R2756,R2756,(E2756+365)))","v":"2021-01-01"},{"$f":"IF(OR(T2756=R2756,S2756=R2756,(E2756+365*2)<Q2756,R2756<Q2756),T2756,IF((E2756+365*2)>R2756,R2756,(E2756+365*2)))","v":"2021-01-01"},{"$f":"IF(AC2756=\"Kuh\",\"Kuh\",F2756)","v":0},{"$f":"S2756-Q2756","v":0},{"$f":"+T2756-S2756","v":0},{"$f":"+U2756-T2756","v":0},{"$f":"IF(AB2756=\"\",0,AB2756-AA2756)","v":0},{"$f":"SUM(W2756:Y2756)","v":0},{"$f":"IF(R2756<Q2756,\"\",R2756-Q2756)","v":""},{"$f":"IF(OR((ISNA(VLOOKUP(C2756,$I$3:$I$138,1,FALSE))=FALSE),AND(AD2756>1200,F2756=\"w\"),M2756=\"Ja\"),\"Kuh\",\"\")","v":""},{"$f":"IF(OR(L2756=\"Nein\",L2756=\"Ja\"),$R$1-E2756,L2756-E2756)","v":0},0,0]
[null,null,null,null,null,null,null,null,null,null,null,null,null,null,null,null,"2021-01-01","00:00:00","2021-01-01","2021-01-01","2021-01-01",0,0,0,0,0,0,"","",0,0,0]
[null,null,null,null,null,null,null,null,null,null,null,null,null,null,null,null,"2021-01-01","00:00:00","2021-01-01","2021-01-01","2021-01-01",0,0,0,0,0,0,"","",0,0,0]
[null,null,null,null,null,null,null,null,null,null,null,null,null,null,null,null,"2021-01-01","00:00:00","2021-01-01","2021-01-01","2021-01-01",0,0,0,0,0,0,"","",0,0,0]
[null,null,null,null,null,null,null,null,null,null,null,null,null,null,null,null,"2021-01-01","00:00:00","2021-01-01","2021-01-01","2021-01-01",0,0,0,0,0,0,"","",0,0,0]
[null,null,null,null,null,null,null,null,null,null,null,null,null,null,null,null,"2021-01-01","00:00:00","2021-01-01","2021-01-01","2021-01-01",0,0,0,0,0,0,"","",0,0,0]
[null,null,null,null,null,null,null,null,null,null,null,null,null,null,null,null,"2021-01-01","00:00:00","2021-01-01","2021-01-01","2021-01-01",0,0,0,0,0,0,"","",0,0,0]
[null,null,null,null,null,null,null,null,null,null,null,null,null,null,null,null,"2021-01-01","00:00:00","2021-01-01","2021-01-01","2021-01-01",0,0,0,0,0,0,"","",0,0,0]
[null,null,null,null,null,null,null,null,null,null,null,null,null,null,null,null,"2021-01-01","00:00:00","2021-01-01","2021-01-01","2021-01-01",0,0,0,0,0,0,"","",0,0,0]
[null,null,null,null,null,null,null,null,null,null,null,null,null,null,null,null,"2021-01-01","00:00:00","2021-01-01","2021-01-01","2021-01-01",0,0,0,0,0,0,"","",0,0,0]
[null,null,null,null,null,null,null,null,null,null,null,null,null,null,null,null,"2021-01-01","00:00:00","2021-01-01","2021-01-01","2021-01-01",0,0,0,0,0,0,"","",0,0,0]
[null,null,null,null,null,null,null,null,null,null,null,null,null,null,null,null,"2021-01-01","00:00:00","2021-01-01","2021-01-01","2021-01-01",0,0,0,0,0,0,"","",0,0,0]
[null,null,null,null,null,null,null,null,null,null,null,null,null,null,null,null,"2021-01-01","00:00:00","2021-01-01","2021-01-01","2021-01-01",0,0,0,0,0,0,"","",0,0,0]
[null,null,null,null,null,null,null,null,null,null,null,null,null,null,null,null,"2021-01-01","00:00:00","2021-01-01","2021-01-01","2021-01-01",0,0,0,0,0,0,"","",0,0,0]
[null,null,null,null,null,null,null,null,null,null,null,null,null,null,null,null,"2021-01-01","00:00:00","2021-01-01","2021-01-01","2021-01-01",0,0,0,0,0,0,"","",0,0,0]
[null,null,null,null,null,null,null,null,null,null,null,null,null,null,null,null,"2021-01-01","00:00:00","2021-01-01","2021-01-01","2021-01-01",0,0,0,0,0,0,"","",0,0,0]
[null,null,null,null,null,null,null,null,null,null,null,null,null,null,null,null,"2021-01-01","00:00:00","2021-01-01","2021-01-01","2021-01-01",0,0,0,0,0,0,"","",0,0,0]
[null,null,null,null,null,null,null,null,null,null,null,null,null,null,null,null,"2021-01-01","00:00:00","2021-01-01","2021-01-01","2021-01-01",0,0,0,0,0,0,"","",0,0,0]
[null,null,null,null,null,null,null,null,null,null,null,null,null,null,null,null,"2021-01-01","00:00:00","2021-01-01","2021-01-01","2021-01-01",0,0,0,0,0,0,"","",0,0,0]
[null,null,null,null,null,null,null,null,null,null,null,null,null,null,null,null,"2021-01-01","00:00:00","2021-01-01","2021-01-01","2021-01-01",0,0,0,0,0,0,"","",0,0,0]
[null,null,null,null,null,null,null,null,null,null,null,null,null,null,null,null,"2021-01-01","00:00:00","2021-01-01","2021-01-01","2021-01-01",0,0,0,0,0,0,"","",0,0,0]
[null,null,null,null,null,null,null,null,null,null,null,null,null,null,null,null,"2021-01-01","00:00:00","2021-01-01","2021-01-01","2021-01-01",0,0,0,0,0,0,"","",0,0,0]
[null,null,null,null,null,null,null,null,null,null,null,null,null,null,null,null,"2021-01-01","00:00:00","2021-01-01","2021-01-01","2021-01-01",0,0,0,0,0,0,"","",0,0,0]
[null,null,null,null,null,null,null,null,null,null,null,null,null,null,null,null,"2021-01-01","00:00:00","2021-01-01","2021-01-01","2021-01-01",0,0,0,0,0,0,"","",0,0,0]
[null,null,null,null,null,null,null,null,null,null,null,null,null,null,null,null,"2021-01-01","00:00:00","2021-01-01","2021-01-01","2021-01-01",0,0,0,0,0,0,"","",0,0,0]
[null,null,null,null,null,null,null,null,null,null,null,null,null,null,null,null,"2021-01-01","00:00:00","2021-01-01","2021-01-01","2021-01-01",0,0,0,0,0,0,"","",0,0,0]
[null,null,null,null,null,null,null,null,null,null,null,null,null,null,null,null,"2021-01-01","00:00:00","2021-01-01","2021-01-01","2021-01-01",0,0,0,0,0,0,"","",0,0,0]
[null,null,null,null,null,null,null,null,null,null,null,null,null,null,null,null,"2021-01-01","00:00:00","2021-01-01","2021-01-01","2021-01-01",0,0,0,0,0,0,"","",0,0,0]
[null,null,null,null,null,null,null,null,null,null,null,null,null,null,null,null,"2021-01-01","00:00:00","2021-01-01","2021-01-01","2021-01-01",0,0,0,0,0,0,"","",0,0,0]
[null,null,null,null,null,null,null,null,null,null,null,null,null,null,null,null,"2021-01-01","00:00:00","2021-01-01","2021-01-01","2021-01-01",0,0,0,0,0,0,"","",0,0,0]
[null,null,null,null,null,null,null,null,null,null,null,null,null,null,null,null,"2021-01-01","00:00:00","2021-01-01","2021-01-01","2021-01-01",0,0,0,0,0,0,"","",0,0,0]
[null,null,null,null,null,null,null,null,null,null,null,null,null,null,null,null,"2021-01-01","00:00:00","2021-01-01","2021-01-01","2021-01-01",0,0,0,0,0,0,"","",0,0,0]
[null,null,null,null,null,null,null,null,null,null,null,null,null,null,null,null,"2021-01-01","00:00:00","2021-01-01","2021-01-01","2021-01-01",0,0,0,0,0,0,"","",0,0,0]
[null,null,null,null,null,null,null,null,null,null,null,null,null,null,null,null,"2021-01-01","00:00:00","2021-01-01","2021-01-01","2021-01-01",0,0,0,0,0,0,"","",0,0,0]
[null,null,null,null,null,null,null,null,null,null,null,null,null,null,null,null,"2021-01-01","00:00:00","2021-01-01","2021-01-01","2021-01-01",0,0,0,0,0,0,"","",0,0,0]
[null,null,null,null,null,null,null,null,null,null,null,null,null,null,null,null,"2021-01-01","00:00:00","2021-01-01","2021-01-01","2021-01-01",0,0,0,0,0,0,"","",0,0,0]
[null,null,null,null,null,null,null,null,null,null,null,null,null,null,null,null,"2021-01-01","00:00:00","2021-01-01","2021-01-01","2021-01-01",0,0,0,0,0,0,"","",0,0,0]
[null,null,null,null,null,null,null,null,null,null,null,null,null,null,null,null,"2021-01-01","00:00:00","2021-01-01","2021-01-01","2021-01-01",0,0,0,0,0,0,"","",0,0,0]
[null,null,null,null,null,null,null,null,null,null,null,null,null,null,null,null,"2021-01-01","00:00:00","2021-01-01","2021-01-01","2021-01-01",0,0,0,0,0,0,"","",0,0,0]
[null,null,null,null,null,null,null,null,null,null,null,null,null,null,null,null,"2021-01-01","00:00:00","2021-01-01","2021-01-01","2021-01-01",0,0,0,0,0,0,"","",0,0,0]
[null,null,null,null,null,null,null,null,null,null,null,null,null,null,null,null,"2021-01-01","00:00:00","2021-01-01","2021-01-01","2021-01-01",0,0,0,0,0,0,"","",0,0,0]
[null,null,null,null,null,null,null,null,null,null,null,null,null,null,null,null,"2021-01-01","00:00:00","2021-01-01","2021-01-01","2021-01-01",0,0,0,0,0,0,"","",0,0,0]
[null,null,null,null,null,null,null,null,null,null,null,null,null,null,null,null,"2021-01-01","00:00:00","2021-01-01","2021-01-01","2021-01-01",0,0,0,0,0,0,"","",0,0,0]
[null,null,null,null,null,null,null,null,null,null,null,null,null,null,null,null,"2021-01-01","00:00:00","2021-01-01","2021-01-01","2021-01-01",0,0,0,0,0,0,"","",0,0,0]
[null,null,null,null,null,null,null,null,null,null,null,null,null,null,null,null,"2021-01-01","00:00:00","2021-01-01","2021-01-01","2021-01-01",0,0,0,0,0,0,"","",0,0,0]
[null,null,null,null,null,null,null,null,null,null,null,null,null,null,null,null,"2021-01-01","00:00:00","2021-01-01","2021-01-01","2021-01-01",0,0,0,0,0,0,"","",0,0,0]
[null,null,null,null,null,null,null,null,null,null,null,null,null,null,null,null,"2021-01-01","00:00:00","2021-01-01","2021-01-01","2021-01-01",0,0,0,0,0,0,"","",0,0,0]
[null,null,null,null,null,null,null,null,null,null,null,null,null,null,null,null,"2021-01-01","00:00:00","2021-01-01","2021-01-01","2021-01-01",0,0,0,0,0,0,"","",0,0,0]
[null,null,null,null,null,null,null,null,null,null,null,null,null,null,null,null,"2021-01-01","00:00:00","2021-01-01","2021-01-01","2021-01-01",0,0,0,0,0,0,"","",0,0,0]
[null,null,null,null,null,null,null,null,null,null,null,null,null,null,null,null,"2021-01-01","00:00:00","2021-01-01","2021-01-01","2021-01-01",0,0,0,0,0,0,"","",0,0,0]
[null,null,null,null,null,null,null,null,null,null,null,null,null,null,null,null,"2021-01-01","00:00:00","2021-01-01","2021-01-01","2021-01-01",0,0,0,0,0,0,"","",0,0,0]
[null,null,null,null,null,null,null,null,null,null,null,null,null,null,null,null,"2021-01-01","00:00:00","2021-01-01","2021-01-01","2021-01-01",0,0,0,0,0,0,"","",0,0,0]
[null,null,null,null,null,null,null,null,null,null,null,null,null,null,null,null,"2021-01-01","00:00:00","2021-01-01","2021-01-01","2021-01-01",0,0,0,0,0,0,"","",0,0,0]
[null,null,null,null,null,null,null,null,null,null,null,null,null,null,null,null,"2021-01-01","00:00:00","2021-01-01","2021-01-01","2021-01-01",0,0,0,0,0,0,"","",0,0,0]
[null,null,null,null,null,null,null,null,null,null,null,null,null,null,null,null,"2021-01-01","00:00:00","2021-01-01","2021-01-01","2021-01-01",0,0,0,0,0,0,"","",0,0,0]
[null,null,null,null,null,null,null,null,null,null,null,null,null,null,null,null,"2021-01-01","00:00:00","2021-01-01","2021-01-01","2021-01-01",0,0,0,0,0,0,"","",0,0,0]
[null,null,null,null,null,null,null,null,null,null,null,null,null,null,null,null,"2021-01-01","00:00:00","2021-01-01","2021-01-01","2021-01-01",0,0,0,0,0,0,"","",0,0,0]
[null,null,null,null,null,null,null,null,null,null,null,null,null,null,null,null,"2021-01-01","00:00:00","2021-01-01","2021-01-01","2021-01-01",0,0,0,0,0,0,"","",0,0,0]
[null,null,null,null,null,null,null,null,null,null,null,null,null,null,null,null,"2021-01-01","00:00:00","2021-01-01","2021-01-01","2021-01-01",0,0,0,0,0,0,"","",0,0,0]
[null,null,null,null,null,null,null,null,null,null,null,null,null,null,null,null,"2021-01-01","00:00:00","2021-01-01","2021-01-01","2021-01-01",0,0,0,0,0,0,"","",0,0,0]
[null,null,null,null,null,null,null,null,null,null,null,null,null,null,null,null,"2021-01-01","00:00:00","2021-01-01","2021-01-01","2021-01-01",0,0,0,0,0,0,"","",0,0,0]
[null,null,null,null,null,null,null,null,null,null,null,null,null,null,null,null,"2021-01-01","00:00:00","2021-01-01","2021-01-01","2021-01-01",0,0,0,0,0,0,"","",0,0,0]
[null,null,null,null,null,null,null,null,null,null,null,null,null,null,null,null,"2021-01-01","00:00:00","2021-01-01","2021-01-01","2021-01-01",0,0,0,0,0,0,"","",0,0,0]
[null,null,null,null,null,null,null,null,null,null,null,null,null,null,null,null,"2021-01-01","00:00:00","2021-01-01","2021-01-01","2021-01-01",0,0,0,0,0,0,"","",0,{"$f":"IF(OR($Q2819>$Q$1,$R2819<$Q$1),0,YEARFRAC($E2819,$Q2819,1))*12","v":0},{"$f":"IF(OR($Q2819>$R$1,$R2819<$R$1),0,YEARFRAC($E2819,$R2819,1))*12","v":0}]
[null,null,null,null,null,null,null,null,null,null,null,null,null,null,null,null,{"$f":"IF(OR(K2820<$Q$1,K2820=\"Altbestand\"),$Q$1,IF(AND(K2820=\"Nachzucht\",E2820>$Q$1),E2820,IF(K2820=\"Nachzucht\",$Q$1,K2820)))","v":"2021-01-01"},{"$f":"IF(OR(L2820>$R$1,L2820=\"Nein\"),$R$1,L2820)","v":"00:00:00"},{"$f":"IF(OR(R2820<Q2820,(E2820+183)<Q2820),Q2820,IF((E2820+183)>R2820,R2820,(E2820+183)))","v":"2021-01-01"},{"$f":"IF(OR(S2820=R2820,(E2820+365)<Q2820,R2820<Q2820),S2820,IF((E2820+365)>R2820,R2820,(E2820+365)))","v":"2021-01-01"},{"$f":"IF(OR(T2820=R2820,S2820=R2820,(E2820+365*2)<Q2820,R2820<Q2820),T2820,IF((E2820+365*2)>R2820,R2820,(E2820+365*2)))","v":"2021-01-01"},{"$f":"IF(AC2820=\"Kuh\",\"Kuh\",F2820)","v":0},{"$f":"S2820-Q2820","v":0},{"$f":"+T2820-S2820","v":0},{"$f":"+U2820-T2820","v":0},{"$f":"IF(AB2820=\"\",0,AB2820-AA2820)","v":0},{"$f":"SUM(W2820:Y2820)","v":0},{"$f":"IF(R2820<Q2820,\"\",R2820-Q2820)","v":""},{"$f":"IF(OR((ISNA(VLOOKUP(C2820,$I$3:$I$138,1,FALSE))=FALSE),AND(AD2820>1200,F2820=\"w\"),M2820=\"Ja\"),\"Kuh\",\"\")","v":""},{"$f":"IF(OR(L2820=\"Nein\",L2820=\"Ja\"),$R$1-E2820,L2820-E2820)","v":0},0,0]
[null,null,null,null,null,null,null,null,null,null,null,null,null,null,null,null,"2021-01-01","00:00:00","2021-01-01","2021-01-01","2021-01-01",0,0,0,0,0,0,"","",0,0,0]
[null,null,null,null,null,null,null,null,null,null,null,null,null,null,null,null,"2021-01-01","00:00:00","2021-01-01","2021-01-01","2021-01-01",0,0,0,0,0,0,"","",0,0,0]
[null,null,null,null,null,null,null,null,null,null,null,null,null,null,null,null,"2021-01-01","00:00:00","2021-01-01","2021-01-01","2021-01-01",0,0,0,0,0,0,"","",0,0,0]
[null,null,null,null,null,null,null,null,null,null,null,null,null,null,null,null,"2021-01-01","00:00:00","2021-01-01","2021-01-01","2021-01-01",0,0,0,0,0,0,"","",0,0,0]
[null,null,null,null,null,null,null,null,null,null,null,null,null,null,null,null,"2021-01-01","00:00:00","2021-01-01","2021-01-01","2021-01-01",0,0,0,0,0,0,"","",0,0,0]
[null,null,null,null,null,null,null,null,null,null,null,null,null,null,null,null,"2021-01-01","00:00:00","2021-01-01","2021-01-01","2021-01-01",0,0,0,0,0,0,"","",0,0,0]
[null,null,null,null,null,null,null,null,null,null,null,null,null,null,null,null,"2021-01-01","00:00:00","2021-01-01","2021-01-01","2021-01-01",0,0,0,0,0,0,"","",0,0,0]
[null,null,null,null,null,null,null,null,null,null,null,null,null,null,null,null,"2021-01-01","00:00:00","2021-01-01","2021-01-01","2021-01-01",0,0,0,0,0,0,"","",0,0,0]
[null,null,null,null,null,null,null,null,null,null,null,null,null,null,null,null,"2021-01-01","00:00:00","2021-01-01","2021-01-01","2021-01-01",0,0,0,0,0,0,"","",0,0,0]
[null,null,null,null,null,null,null,null,null,null,null,null,null,null,null,null,"2021-01-01","00:00:00","2021-01-01","2021-01-01","2021-01-01",0,0,0,0,0,0,"","",0,0,0]
[null,null,null,null,null,null,null,null,null,null,null,null,null,null,null,null,"2021-01-01","00:00:00","2021-01-01","2021-01-01","2021-01-01",0,0,0,0,0,0,"","",0,0,0]
[null,null,null,null,null,null,null,null,null,null,null,null,null,null,null,null,"2021-01-01","00:00:00","2021-01-01","2021-01-01","2021-01-01",0,0,0,0,0,0,"","",0,0,0]
[null,null,null,null,null,null,null,null,null,null,null,null,null,null,null,null,"2021-01-01","00:00:00","2021-01-01","2021-01-01","2021-01-01",0,0,0,0,0,0,"","",0,0,0]
[null,null,null,null,null,null,null,null,null,null,null,null,null,null,null,null,"2021-01-01","00:00:00","2021-01-01","2021-01-01","2021-01-01",0,0,0,0,0,0,"","",0,0,0]
[null,null,null,null,null,null,null,null,null,null,null,null,null,null,null,null,"2021-01-01","00:00:00","2021-01-01","2021-01-01","2021-01-01",0,0,0,0,0,0,"","",0,0,0]
[null,null,null,null,null,null,null,null,null,null,null,null,null,null,null,null,"2021-01-01","00:00:00","2021-01-01","2021-01-01","2021-01-01",0,0,0,0,0,0,"","",0,0,0]
[null,null,null,null,null,null,null,null,null,null,null,null,null,null,null,null,"2021-01-01","00:00:00","2021-01-01","2021-01-01","2021-01-01",0,0,0,0,0,0,"","",0,0,0]
[null,null,null,null,null,null,null,null,null,null,null,null,null,null,null,null,"2021-01-01","00:00:00","2021-01-01","2021-01-01","2021-01-01",0,0,0,0,0,0,"","",0,0,0]
[null,null,null,null,null,null,null,null,null,null,null,null,null,null,null,null,"2021-01-01","00:00:00","2021-01-01","2021-01-01","2021-01-01",0,0,0,0,0,0,"","",0,0,0]
[null,null,null,null,null,null,null,null,null,null,null,null,null,null,null,null,"2021-01-01","00:00:00","2021-01-01","2021-01-01","2021-01-01",0,0,0,0,0,0,"","",0,0,0]
[null,null,null,null,null,null,null,null,null,null,null,null,null,null,null,null,"2021-01-01","00:00:00","2021-01-01","2021-01-01","2021-01-01",0,0,0,0,0,0,"","",0,0,0]
[null,null,null,null,null,null,null,null,null,null,null,null,null,null,null,null,"2021-01-01","00:00:00","2021-01-01","2021-01-01","2021-01-01",0,0,0,0,0,0,"","",0,0,0]
[null,null,null,null,null,null,null,null,null,null,null,null,null,null,null,null,"2021-01-01","00:00:00","2021-01-01","2021-01-01","2021-01-01",0,0,0,0,0,0,"","",0,0,0]
[null,null,null,null,null,null,null,null,null,null,null,null,null,null,null,null,"2021-01-01","00:00:00","2021-01-01","2021-01-01","2021-01-01",0,0,0,0,0,0,"","",0,0,0]
[null,null,null,null,null,null,null,null,null,null,null,null,null,null,null,null,"2021-01-01","00:00:00","2021-01-01","2021-01-01","2021-01-01",0,0,0,0,0,0,"","",0,0,0]
[null,null,null,null,null,null,null,null,null,null,null,null,null,null,null,null,"2021-01-01","00:00:00","2021-01-01","2021-01-01","2021-01-01",0,0,0,0,0,0,"","",0,0,0]
[null,null,null,null,null,null,null,null,null,null,null,null,null,null,null,null,"2021-01-01","00:00:00","2021-01-01","2021-01-01","2021-01-01",0,0,0,0,0,0,"","",0,0,0]
[null,null,null,null,null,null,null,null,null,null,null,null,null,null,null,null,"2021-01-01","00:00:00","2021-01-01","2021-01-01","2021-01-01",0,0,0,0,0,0,"","",0,0,0]
[null,null,null,null,null,null,null,null,null,null,null,null,null,null,null,null,"2021-01-01","00:00:00","2021-01-01","2021-01-01","2021-01-01",0,0,0,0,0,0,"","",0,0,0]
[null,null,null,null,null,null,null,null,null,null,null,null,null,null,null,null,"2021-01-01","00:00:00","2021-01-01","2021-01-01","2021-01-01",0,0,0,0,0,0,"","",0,0,0]
[null,null,null,null,null,null,null,null,null,null,null,null,null,null,null,null,"2021-01-01","00:00:00","2021-01-01","2021-01-01","2021-01-01",0,0,0,0,0,0,"","",0,0,0]
[null,null,null,null,null,null,null,null,null,null,null,null,null,null,null,null,"2021-01-01","00:00:00","2021-01-01","2021-01-01","2021-01-01",0,0,0,0,0,0,"","",0,0,0]
[null,null,null,null,null,null,null,null,null,null,null,null,null,null,null,null,"2021-01-01","00:00:00","2021-01-01","2021-01-01","2021-01-01",0,0,0,0,0,0,"","",0,0,0]
[null,null,null,null,null,null,null,null,null,null,null,null,null,null,null,null,"2021-01-01","00:00:00","2021-01-01","2021-01-01","2021-01-01",0,0,0,0,0,0,"","",0,0,0]
[null,null,null,null,null,null,null,null,null,null,null,null,null,null,null,null,"2021-01-01","00:00:00","2021-01-01","2021-01-01","2021-01-01",0,0,0,0,0,0,"","",0,0,0]
[null,null,null,null,null,null,null,null,null,null,null,null,null,null,null,null,"2021-01-01","00:00:00","2021-01-01","2021-01-01","2021-01-01",0,0,0,0,0,0,"","",0,0,0]
[null,null,null,null,null,null,null,null,null,null,null,null,null,null,null,null,"2021-01-01","00:00:00","2021-01-01","2021-01-01","2021-01-01",0,0,0,0,0,0,"","",0,0,0]
[null,null,null,null,null,null,null,null,null,null,null,null,null,null,null,null,"2021-01-01","00:00:00","2021-01-01","2021-01-01","2021-01-01",0,0,0,0,0,0,"","",0,0,0]
[null,null,null,null,null,null,null,null,null,null,null,null,null,null,null,null,"2021-01-01","00:00:00","2021-01-01","2021-01-01","2021-01-01",0,0,0,0,0,0,"","",0,0,0]
[null,null,null,null,null,null,null,null,null,null,null,null,null,null,null,null,"2021-01-01","00:00:00","2021-01-01","2021-01-01","2021-01-01",0,0,0,0,0,0,"","",0,0,0]
[null,null,null,null,null,null,null,null,null,null,null,null,null,null,null,null,"2021-01-01","00:00:00","2021-01-01","2021-01-01","2021-01-01",0,0,0,0,0,0,"","",0,0,0]
[null,null,null,null,null,null,null,null,null,null,null,null,null,null,null,null,"2021-01-01","00:00:00","2021-01-01","2021-01-01","2021-01-01",0,0,0,0,0,0,"","",0,0,0]
[null,null,null,null,null,null,null,null,null,null,null,null,null,null,null,null,"2021-01-01","00:00:00","2021-01-01","2021-01-01","2021-01-01",0,0,0,0,0,0,"","",0,0,0]
[null,null,null,null,null,null,null,null,null,null,null,null,null,null,null,null,"2021-01-01","00:00:00","2021-01-01","2021-01-01","2021-01-01",0,0,0,0,0,0,"","",0,0,0]
[null,null,null,null,null,null,null,null,null,null,null,null,null,null,null,null,"2021-01-01","00:00:00","2021-01-01","2021-01-01","2021-01-01",0,0,0,0,0,0,"","",0,0,0]
[null,null,null,null,null,null,null,null,null,null,null,null,null,null,null,null,"2021-01-01","00:00:00","2021-01-01","2021-01-01","2021-01-01",0,0,0,0,0,0,"","",0,0,0]
[null,null,null,null,null,null,null,null,null,null,null,null,null,null,null,null,"2021-01-01","00:00:00","2021-01-01","2021-01-01","2021-01-01",0,0,0,0,0,0,"","",0,0,0]
[null,null,null,null,null,null,null,null,null,null,null,null,null,null,null,null,"2021-01-01","00:00:00","2021-01-01","2021-01-01","2021-01-01",0,0,0,0,0,0,"","",0,0,0]
[null,null,null,null,null,null,null,null,null,null,null,null,null,null,null,null,"2021-01-01","00:00:00","2021-01-01","2021-01-01","2021-01-01",0,0,0,0,0,0,"","",0,0,0]
[null,null,null,null,null,null,null,null,null,null,null,null,null,null,null,null,"2021-01-01","00:00:00","2021-01-01","2021-01-01","2021-01-01",0,0,0,0,0,0,"","",0,0,0]
[null,null,null,null,null,null,null,null,null,null,null,null,null,null,null,null,"2021-01-01","00:00:00","2021-01-01","2021-01-01","2021-01-01",0,0,0,0,0,0,"","",0,0,0]
[null,null,null,null,null,null,null,null,null,null,null,null,null,null,null,null,"2021-01-01","00:00:00","2021-01-01","2021-01-01","2021-01-01",0,0,0,0,0,0,"","",0,0,0]
[null,null,null,null,null,null,null,null,null,null,null,null,null,null,null,null,"2021-01-01","00:00:00","2021-01-01","2021-01-01","2021-01-01",0,0,0,0,0,0,"","",0,0,0]
[null,null,null,null,null,null,null,null,null,null,null,null,null,null,null,null,"2021-01-01","00:00:00","2021-01-01","2021-01-01","2021-01-01",0,0,0,0,0,0,"","",0,0,0]
[null,null,null,null,null,null,null,null,null,null,null,null,null,null,null,null,"2021-01-01","00:00:00","2021-01-01","2021-01-01","2021-01-01",0,0,0,0,0,0,"","",0,0,0]
[null,null,null,null,null,null,null,null,null,null,null,null,null,null,null,null,"2021-01-01","00:00:00","2021-01-01","2021-01-01","2021-01-01",0,0,0,0,0,0,"","",0,0,0]
[null,null,null,null,null,null,null,null,null,null,null,null,null,null,null,null,"2021-01-01","00:00:00","2021-01-01","2021-01-01","2021-01-01",0,0,0,0,0,0,"","",0,0,0]
[null,null,null,null,null,null,null,null,null,null,null,null,null,null,null,null,"2021-01-01","00:00:00","2021-01-01","2021-01-01","2021-01-01",0,0,0,0,0,0,"","",0,0,0]
[null,null,null,null,null,null,null,null,null,null,null,null,null,null,null,null,"2021-01-01","00:00:00","2021-01-01","2021-01-01","2021-01-01",0,0,0,0,0,0,"","",0,0,0]
[null,null,null,null,null,null,null,null,null,null,null,null,null,null,null,null,"2021-01-01","00:00:00","2021-01-01","2021-01-01","2021-01-01",0,0,0,0,0,0,"","",0,0,0]
[null,null,null,null,null,null,null,null,null,null,null,null,null,null,null,null,"2021-01-01","00:00:00","2021-01-01","2021-01-01","2021-01-01",0,0,0,0,0,0,"","",0,0,0]
[null,null,null,null,null,null,null,null,null,null,null,null,null,null,null,null,"2021-01-01","00:00:00","2021-01-01","2021-01-01","2021-01-01",0,0,0,0,0,0,"","",0,0,0]
[null,null,null,null,null,null,null,null,null,null,null,null,null,null,null,null,"2021-01-01","00:00:00","2021-01-01","2021-01-01","2021-01-01",0,0,0,0,0,0,"","",0,{"$f":"IF(OR($Q2883>$Q$1,$R2883<$Q$1),0,YEARFRAC($E2883,$Q2883,1))*12","v":0},{"$f":"IF(OR($Q2883>$R$1,$R2883<$R$1),0,YEARFRAC($E2883,$R2883,1))*12","v":0}]
[null,null,null,null,null,null,null,null,null,null,null,null,null,null,null,null,{"$f":"IF(OR(K2884<$Q$1,K2884=\"Altbestand\"),$Q$1,IF(AND(K2884=\"Nachzucht\",E2884>$Q$1),E2884,IF(K2884=\"Nachzucht\",$Q$1,K2884)))","v":"2021-01-01"},{"$f":"IF(OR(L2884>$R$1,L2884=\"Nein\"),$R$1,L2884)","v":"00:00:00"},{"$f":"IF(OR(R2884<Q2884,(E2884+183)<Q2884),Q2884,IF((E2884+183)>R2884,R2884,(E2884+183)))","v":"2021-01-01"},{"$f":"IF(OR(S2884=R2884,(E2884+365)<Q2884,R2884<Q2884),S2884,IF((E2884+365)>R2884,R2884,(E2884+365)))","v":"2021-01-01"},{"$f":"IF(OR(T2884=R2884,S2884=R2884,(E2884+365*2)<Q2884,R2884<Q2884),T2884,IF((E2884+365*2)>R2884,R2884,(E2884+365*2)))","v":"2021-01-01"},{"$f":"IF(AC2884=\"Kuh\",\"Kuh\",F2884)","v":0},{"$f":"S2884-Q2884","v":0},{"$f":"+T2884-S2884","v":0},{"$f":"+U2884-T2884","v":0},{"$f":"IF(AB2884=\"\",0,AB2884-AA2884)","v":0},{"$f":"SUM(W2884:Y2884)","v":0},{"$f":"IF(R2884<Q2884,\"\",R2884-Q2884)","v":""},{"$f":"IF(OR((ISNA(VLOOKUP(C2884,$I$3:$I$138,1,FALSE))=FALSE),AND(AD2884>1200,F2884=\"w\"),M2884=\"Ja\"),\"Kuh\",\"\")","v":""},{"$f":"IF(OR(L2884=\"Nein\",L2884=\"Ja\"),$R$1-E2884,L2884-E2884)","v":0},0,0]
[null,null,null,null,null,null,null,null,null,null,null,null,null,null,null,null,"2021-01-01","00:00:00","2021-01-01","2021-01-01","2021-01-01",0,0,0,0,0,0,"","",0,0,0]
[null,null,null,null,null,null,null,null,null,null,null,null,null,null,null,null,"2021-01-01","00:00:00","2021-01-01","2021-01-01","2021-01-01",0,0,0,0,0,0,"","",0,0,0]
[null,null,null,null,null,null,null,null,null,null,null,null,null,null,null,null,"2021-01-01","00:00:00","2021-01-01","2021-01-01","2021-01-01",0,0,0,0,0,0,"","",0,0,0]
[null,null,null,null,null,null,null,null,null,null,null,null,null,null,null,null,"2021-01-01","00:00:00","2021-01-01","2021-01-01","2021-01-01",0,0,0,0,0,0,"","",0,0,0]
[null,null,null,null,null,null,null,null,null,null,null,null,null,null,null,null,"2021-01-01","00:00:00","2021-01-01","2021-01-01","2021-01-01",0,0,0,0,0,0,"","",0,0,0]
[null,null,null,null,null,null,null,null,null,null,null,null,null,null,null,null,"2021-01-01","00:00:00","2021-01-01","2021-01-01","2021-01-01",0,0,0,0,0,0,"","",0,0,0]
[null,null,null,null,null,null,null,null,null,null,null,null,null,null,null,null,"2021-01-01","00:00:00","2021-01-01","2021-01-01","2021-01-01",0,0,0,0,0,0,"","",0,0,0]
[null,null,null,null,null,null,null,null,null,null,null,null,null,null,null,null,"2021-01-01","00:00:00","2021-01-01","2021-01-01","2021-01-01",0,0,0,0,0,0,"","",0,0,0]
[null,null,null,null,null,null,null,null,null,null,null,null,null,null,null,null,"2021-01-01","00:00:00","2021-01-01","2021-01-01","2021-01-01",0,0,0,0,0,0,"","",0,0,0]
[null,null,null,null,null,null,null,null,null,null,null,null,null,null,null,null,"2021-01-01","00:00:00","2021-01-01","2021-01-01","2021-01-01",0,0,0,0,0,0,"","",0,0,0]
[null,null,null,null,null,null,null,null,null,null,null,null,null,null,null,null,"2021-01-01","00:00:00","2021-01-01","2021-01-01","2021-01-01",0,0,0,0,0,0,"","",0,0,0]
[null,null,null,null,null,null,null,null,null,null,null,null,null,null,null,null,"2021-01-01","00:00:00","2021-01-01","2021-01-01","2021-01-01",0,0,0,0,0,0,"","",0,0,0]
[null,null,null,null,null,null,null,null,null,null,null,null,null,null,null,null,"2021-01-01","00:00:00","2021-01-01","2021-01-01","2021-01-01",0,0,0,0,0,0,"","",0,0,0]
[null,null,null,null,null,null,null,null,null,null,null,null,null,null,null,null,"2021-01-01","00:00:00","2021-01-01","2021-01-01","2021-01-01",0,0,0,0,0,0,"","",0,0,0]
[null,null,null,null,null,null,null,null,null,null,null,null,null,null,null,null,"2021-01-01","00:00:00","2021-01-01","2021-01-01","2021-01-01",0,0,0,0,0,0,"","",0,0,0]
[null,null,null,null,null,null,null,null,null,null,null,null,null,null,null,null,"2021-01-01","00:00:00","2021-01-01","2021-01-01","2021-01-01",0,0,0,0,0,0,"","",0,0,0]
[null,null,null,null,null,null,null,null,null,null,null,null,null,null,null,null,"2021-01-01","00:00:00","2021-01-01","2021-01-01","2021-01-01",0,0,0,0,0,0,"","",0,0,0]
[null,null,null,null,null,null,null,null,null,null,null,null,null,null,null,null,"2021-01-01","00:00:00","2021-01-01","2021-01-01","2021-01-01",0,0,0,0,0,0,"","",0,0,0]
[null,null,null,null,null,null,null,null,null,null,null,null,null,null,null,null,"2021-01-01","00:00:00","2021-01-01","2021-01-01","2021-01-01",0,0,0,0,0,0,"","",0,0,0]
[null,null,null,null,null,null,null,null,null,null,null,null,null,null,null,null,"2021-01-01","00:00:00","2021-01-01","2021-01-01","2021-01-01",0,0,0,0,0,0,"","",0,0,0]
[null,null,null,null,null,null,null,null,null,null,null,null,null,null,null,null,"2021-01-01","00:00:00","2021-01-01","2021-01-01","2021-01-01",0,0,0,0,0,0,"","",0,0,0]
[null,null,null,null,null,null,null,null,null,null,null,null,null,null,null,null,"2021-01-01","00:00:00","2021-01-01","2021-01-01","2021-01-01",0,0,0,0,0,0,"","",0,0,0]
[null,null,null,null,null,null,null,null,null,null,null,null,null,null,null,null,"2021-01-01","00:00:00","2021-01-01","2021-01-01","2021-01-01",0,0,0,0,0,0,"","",0,0,0]
[null,null,null,null,null,null,null,null,null,null,null,null,null,null,null,null,"2021-01-01","00:00:00","2021-01-01","2021-01-01","2021-01-01",0,0,0,0,0,0,"","",0,0,0]
[null,null,null,null,null,null,null,null,null,null,null,null,null,null,null,null,"2021-01-01","00:00:00","2021-01-01","2021-01-01","2021-01-01",0,0,0,0,0,0,"","",0,0,0]
[null,null,null,null,null,null,null,null,null,null,null,null,null,null,null,null,"2021-01-01","00:00:00","2021-01-01","2021-01-01","2021-01-01",0,0,0,0,0,0,"","",0,0,0]
[null,null,null,null,null,null,null,null,null,null,null,null,null,null,null,null,"2021-01-01","00:00:00","2021-01-01","2021-01-01","2021-01-01",0,0,0,0,0,0,"","",0,0,0]
[null,null,null,null,null,null,null,null,null,null,null,null,null,null,null,null,"2021-01-01","00:00:00","2021-01-01","2021-01-01","2021-01-01",0,0,0,0,0,0,"","",0,0,0]
[null,null,null,null,null,null,null,null,null,null,null,null,null,null,null,null,"2021-01-01","00:00:00","2021-01-01","2021-01-01","2021-01-01",0,0,0,0,0,0,"","",0,0,0]
[null,null,null,null,null,null,null,null,null,null,null,null,null,null,null,null,"2021-01-01","00:00:00","2021-01-01","2021-01-01","2021-01-01",0,0,0,0,0,0,"","",0,0,0]
[null,null,null,null,null,null,null,null,null,null,null,null,null,null,null,null,"2021-01-01","00:00:00","2021-01-01","2021-01-01","2021-01-01",0,0,0,0,0,0,"","",0,0,0]
[null,null,null,null,null,null,null,null,null,null,null,null,null,null,null,null,"2021-01-01","00:00:00","2021-01-01","2021-01-01","2021-01-01",0,0,0,0,0,0,"","",0,0,0]
[null,null,null,null,null,null,null,null,null,null,null,null,null,null,null,null,"2021-01-01","00:00:00","2021-01-01","2021-01-01","2021-01-01",0,0,0,0,0,0,"","",0,0,0]
[null,null,null,null,null,null,null,null,null,null,null,null,null,null,null,null,"2021-01-01","00:00:00","2021-01-01","2021-01-01","2021-01-01",0,0,0,0,0,0,"","",0,0,0]
[null,null,null,null,null,null,null,null,null,null,null,null,null,null,null,null,"2021-01-01","00:00:00","2021-01-01","2021-01-01","2021-01-01",0,0,0,0,0,0,"","",0,0,0]
[null,null,null,null,null,null,null,null,null,null,null,null,null,null,null,null,"2021-01-01","00:00:00","2021-01-01","2021-01-01","2021-01-01",0,0,0,0,0,0,"","",0,0,0]
[null,null,null,null,null,null,null,null,null,null,null,null,null,null,null,null,"2021-01-01","00:00:00","2021-01-01","2021-01-01","2021-01-01",0,0,0,0,0,0,"","",0,0,0]
[null,null,null,null,null,null,null,null,null,null,null,null,null,null,null,null,"2021-01-01","00:00:00","2021-01-01","2021-01-01","2021-01-01",0,0,0,0,0,0,"","",0,0,0]
[null,null,null,null,null,null,null,null,null,null,null,null,null,null,null,null,"2021-01-01","00:00:00","2021-01-01","2021-01-01","2021-01-01",0,0,0,0,0,0,"","",0,0,0]
[null,null,null,null,null,null,null,null,null,null,null,null,null,null,null,null,"2021-01-01","00:00:00","2021-01-01","2021-01-01","2021-01-01",0,0,0,0,0,0,"","",0,0,0]
[null,null,null,null,null,null,null,null,null,null,null,null,null,null,null,null,"2021-01-01","00:00:00","2021-01-01","2021-01-01","2021-01-01",0,0,0,0,0,0,"","",0,0,0]
[null,null,null,null,null,null,null,null,null,null,null,null,null,null,null,null,"2021-01-01","00:00:00","2021-01-01","2021-01-01","2021-01-01",0,0,0,0,0,0,"","",0,0,0]
[null,null,null,null,null,null,null,null,null,null,null,null,null,null,null,null,"2021-01-01","00:00:00","2021-01-01","2021-01-01","2021-01-01",0,0,0,0,0,0,"","",0,0,0]
[null,null,null,null,null,null,null,null,null,null,null,null,null,null,null,null,"2021-01-01","00:00:00","2021-01-01","2021-01-01","2021-01-01",0,0,0,0,0,0,"","",0,0,0]
[null,null,null,null,null,null,null,null,null,null,null,null,null,null,null,null,"2021-01-01","00:00:00","2021-01-01","2021-01-01","2021-01-01",0,0,0,0,0,0,"","",0,0,0]
[null,null,null,null,null,null,null,null,null,null,null,null,null,null,null,null,"2021-01-01","00:00:00","2021-01-01","2021-01-01","2021-01-01",0,0,0,0,0,0,"","",0,0,0]
[null,null,null,null,null,null,null,null,null,null,null,null,null,null,null,null,"2021-01-01","00:00:00","2021-01-01","2021-01-01","2021-01-01",0,0,0,0,0,0,"","",0,0,0]
[null,null,null,null,null,null,null,null,null,null,null,null,null,null,null,null,"2021-01-01","00:00:00","2021-01-01","2021-01-01","2021-01-01",0,0,0,0,0,0,"","",0,0,0]
[null,null,null,null,null,null,null,null,null,null,null,null,null,null,null,null,"2021-01-01","00:00:00","2021-01-01","2021-01-01","2021-01-01",0,0,0,0,0,0,"","",0,0,0]
[null,null,null,null,null,null,null,null,null,null,null,null,null,null,null,null,"2021-01-01","00:00:00","2021-01-01","2021-01-01","2021-01-01",0,0,0,0,0,0,"","",0,0,0]
[null,null,null,null,null,null,null,null,null,null,null,null,null,null,null,null,"2021-01-01","00:00:00","2021-01-01","2021-01-01","2021-01-01",0,0,0,0,0,0,"","",0,0,0]
[null,null,null,null,null,null,null,null,null,null,null,null,null,null,null,null,"2021-01-01","00:00:00","2021-01-01","2021-01-01","2021-01-01",0,0,0,0,0,0,"","",0,0,0]
[null,null,null,null,null,null,null,null,null,null,null,null,null,null,null,null,"2021-01-01","00:00:00","2021-01-01","2021-01-01","2021-01-01",0,0,0,0,0,0,"","",0,0,0]
[null,null,null,null,null,null,null,null,null,null,null,null,null,null,null,null,"2021-01-01","00:00:00","2021-01-01","2021-01-01","2021-01-01",0,0,0,0,0,0,"","",0,0,0]
[null,null,null,null,null,null,null,null,null,null,null,null,null,null,null,null,"2021-01-01","00:00:00","2021-01-01","2021-01-01","2021-01-01",0,0,0,0,0,0,"","",0,0,0]
[null,null,null,null,null,null,null,null,null,null,null,null,null,null,null,null,"2021-01-01","00:00:00","2021-01-01","2021-01-01","2021-01-01",0,0,0,0,0,0,"","",0,0,0]
[null,null,null,null,null,null,null,null,null,null,null,null,null,null,null,null,"2021-01-01","00:00:00","2021-01-01","2021-01-01","2021-01-01",0,0,0,0,0,0,"","",0,0,0]
[null,null,null,null,null,null,null,null,null,null,null,null,null,null,null,null,"2021-01-01","00:00:00","2021-01-01","2021-01-01","2021-01-01",0,0,0,0,0,0,"","",0,0,0]
[null,null,null,null,null,null,null,null,null,null,null,null,null,null,null,null,"2021-01-01","00:00:00","2021-01-01","2021-01-01","2021-01-01",0,0,0,0,0,0,"","",0,0,0]
[null,null,null,null,null,null,null,null,null,null,null,null,null,null,null,null,"2021-01-01","00:00:00","2021-01-01","2021-01-01","2021-01-01",0,0,0,0,0,0,"","",0,0,0]
[null,null,null,null,null,null,null,null,null,null,null,null,null,null,null,null,"2021-01-01","00:00:00","2021-01-01","2021-01-01","2021-01-01",0,0,0,0,0,0,"","",0,0,0]
[null,null,null,null,null,null,null,null,null,null,null,null,null,null,null,null,"2021-01-01","00:00:00","2021-01-01","2021-01-01","2021-01-01",0,0,0,0,0,0,"","",0,0,0]
[null,null,null,null,null,null,null,null,null,null,null,null,null,null,null,null,"2021-01-01","00:00:00","2021-01-01","2021-01-01","2021-01-01",0,0,0,0,0,0,"","",0,{"$f":"IF(OR($Q2947>$Q$1,$R2947<$Q$1),0,YEARFRAC($E2947,$Q2947,1))*12","v":0},{"$f":"IF(OR($Q2947>$R$1,$R2947<$R$1),0,YEARFRAC($E2947,$R2947,1))*12","v":0}]
[null,null,null,null,null,null,null,null,null,null,null,null,null,null,null,null,{"$f":"IF(OR(K2948<$Q$1,K2948=\"Altbestand\"),$Q$1,IF(AND(K2948=\"Nachzucht\",E2948>$Q$1),E2948,IF(K2948=\"Nachzucht\",$Q$1,K2948)))","v":"2021-01-01"},{"$f":"IF(OR(L2948>$R$1,L2948=\"Nein\"),$R$1,L2948)","v":"00:00:00"},{"$f":"IF(OR(R2948<Q2948,(E2948+183)<Q2948),Q2948,IF((E2948+183)>R2948,R2948,(E2948+183)))","v":"2021-01-01"},{"$f":"IF(OR(S2948=R2948,(E2948+365)<Q2948,R2948<Q2948),S2948,IF((E2948+365)>R2948,R2948,(E2948+365)))","v":"2021-01-01"},{"$f":"IF(OR(T2948=R2948,S2948=R2948,(E2948+365*2)<Q2948,R2948<Q2948),T2948,IF((E2948+365*2)>R2948,R2948,(E2948+365*2)))","v":"2021-01-01"},{"$f":"IF(AC2948=\"Kuh\",\"Kuh\",F2948)","v":0},{"$f":"S2948-Q2948","v":0},{"$f":"+T2948-S2948","v":0},{"$f":"+U2948-T2948","v":0},{"$f":"IF(AB2948=\"\",0,AB2948-AA2948)","v":0},{"$f":"SUM(W2948:Y2948)","v":0},{"$f":"IF(R2948<Q2948,\"\",R2948-Q2948)","v":""},{"$f":"IF(OR((ISNA(VLOOKUP(C2948,$I$3:$I$138,1,FALSE))=FALSE),AND(AD2948>1200,F2948=\"w\"),M2948=\"Ja\"),\"Kuh\",\"\")","v":""},{"$f":"IF(OR(L2948=\"Nein\",L2948=\"Ja\"),$R$1-E2948,L2948-E2948)","v":0},0,0]
[null,null,null,null,null,null,null,null,null,null,null,null,null,null,null,null,"2021-01-01","00:00:00","2021-01-01","2021-01-01","2021-01-01",0,0,0,0,0,0,"","",0,0,0]
[null,null,null,null,null,null,null,null,null,null,null,null,null,null,null,null,"2021-01-01","00:00:00","2021-01-01","2021-01-01","2021-01-01",0,0,0,0,0,0,"","",0,0,0]
[null,null,null,null,null,null,null,null,null,null,null,null,null,null,null,null,"2021-01-01","00:00:00","2021-01-01","2021-01-01","2021-01-01",0,0,0,0,0,0,"","",0,0,0]
[null,null,null,null,null,null,null,null,null,null,null,null,null,null,null,null,"2021-01-01","00:00:00","2021-01-01","2021-01-01","2021-01-01",0,0,0,0,0,0,"","",0,0,0]
[null,null,null,null,null,null,null,null,null,null,null,null,null,null,null,null,"2021-01-01","00:00:00","2021-01-01","2021-01-01","2021-01-01",0,0,0,0,0,0,"","",0,0,0]
[null,null,null,null,null,null,null,null,null,null,null,null,null,null,null,null,"2021-01-01","00:00:00","2021-01-01","2021-01-01","2021-01-01",0,0,0,0,0,0,"","",0,0,0]
[null,null,null,null,null,null,null,null,null,null,null,null,null,null,null,null,"2021-01-01","00:00:00","2021-01-01","2021-01-01","2021-01-01",0,0,0,0,0,0,"","",0,0,0]
[null,null,null,null,null,null,null,null,null,null,null,null,null,null,null,null,"2021-01-01","00:00:00","2021-01-01","2021-01-01","2021-01-01",0,0,0,0,0,0,"","",0,0,0]
[null,null,null,null,null,null,null,null,null,null,null,null,null,null,null,null,"2021-01-01","00:00:00","2021-01-01","2021-01-01","2021-01-01",0,0,0,0,0,0,"","",0,0,0]
[null,null,null,null,null,null,null,null,null,null,null,null,null,null,null,null,"2021-01-01","00:00:00","2021-01-01","2021-01-01","2021-01-01",0,0,0,0,0,0,"","",0,0,0]
[null,null,null,null,null,null,null,null,null,null,null,null,null,null,null,null,"2021-01-01","00:00:00","2021-01-01","2021-01-01","2021-01-01",0,0,0,0,0,0,"","",0,0,0]
[null,null,null,null,null,null,null,null,null,null,null,null,null,null,null,null,"2021-01-01","00:00:00","2021-01-01","2021-01-01","2021-01-01",0,0,0,0,0,0,"","",0,0,0]
[null,null,null,null,null,null,null,null,null,null,null,null,null,null,null,null,"2021-01-01","00:00:00","2021-01-01","2021-01-01","2021-01-01",0,0,0,0,0,0,"","",0,0,0]
[null,null,null,null,null,null,null,null,null,null,null,null,null,null,null,null,"2021-01-01","00:00:00","2021-01-01","2021-01-01","2021-01-01",0,0,0,0,0,0,"","",0,0,0]
[null,null,null,null,null,null,null,null,null,null,null,null,null,null,null,null,"2021-01-01","00:00:00","2021-01-01","2021-01-01","2021-01-01",0,0,0,0,0,0,"","",0,0,0]
[null,null,null,null,null,null,null,null,null,null,null,null,null,null,null,null,"2021-01-01","00:00:00","2021-01-01","2021-01-01","2021-01-01",0,0,0,0,0,0,"","",0,0,0]
[null,null,null,null,null,null,null,null,null,null,null,null,null,null,null,null,"2021-01-01","00:00:00","2021-01-01","2021-01-01","2021-01-01",0,0,0,0,0,0,"","",0,0,0]
[null,null,null,null,null,null,null,null,null,null,null,null,null,null,null,null,"2021-01-01","00:00:00","2021-01-01","2021-01-01","2021-01-01",0,0,0,0,0,0,"","",0,0,0]
[null,null,null,null,null,null,null,null,null,null,null,null,null,null,null,null,"2021-01-01","00:00:00","2021-01-01","2021-01-01","2021-01-01",0,0,0,0,0,0,"","",0,0,0]
[null,null,null,null,null,null,null,null,null,null,null,null,null,null,null,null,"2021-01-01","00:00:00","2021-01-01","2021-01-01","2021-01-01",0,0,0,0,0,0,"","",0,0,0]
[null,null,null,null,null,null,null,null,null,null,null,null,null,null,null,null,"2021-01-01","00:00:00","2021-01-01","2021-01-01","2021-01-01",0,0,0,0,0,0,"","",0,0,0]
[null,null,null,null,null,null,null,null,null,null,null,null,null,null,null,null,"2021-01-01","00:00:00","2021-01-01","2021-01-01","2021-01-01",0,0,0,0,0,0,"","",0,0,0]
[null,null,null,null,null,null,null,null,null,null,null,null,null,null,null,null,"2021-01-01","00:00:00","2021-01-01","2021-01-01","2021-01-01",0,0,0,0,0,0,"","",0,0,0]
[null,null,null,null,null,null,null,null,null,null,null,null,null,null,null,null,"2021-01-01","00:00:00","2021-01-01","2021-01-01","2021-01-01",0,0,0,0,0,0,"","",0,0,0]
[null,null,null,null,null,null,null,null,null,null,null,null,null,null,null,null,"2021-01-01","00:00:00","2021-01-01","2021-01-01","2021-01-01",0,0,0,0,0,0,"","",0,0,0]
[null,null,null,null,null,null,null,null,null,null,null,null,null,null,null,null,"2021-01-01","00:00:00","2021-01-01","2021-01-01","2021-01-01",0,0,0,0,0,0,"","",0,0,0]
[null,null,null,null,null,null,null,null,null,null,null,null,null,null,null,null,"2021-01-01","00:00:00","2021-01-01","2021-01-01","2021-01-01",0,0,0,0,0,0,"","",0,0,0]
[null,null,null,null,null,null,null,null,null,null,null,null,null,null,null,null,"2021-01-01","00:00:00","2021-01-01","2021-01-01","2021-01-01",0,0,0,0,0,0,"","",0,0,0]
[null,null,null,null,null,null,null,null,null,null,null,null,null,null,null,null,"2021-01-01","00:00:00","2021-01-01","2021-01-01","2021-01-01",0,0,0,0,0,0,"","",0,0,0]
[null,null,null,null,null,null,null,null,null,null,null,null,null,null,null,null,"2021-01-01","00:00:00","2021-01-01","2021-01-01","2021-01-01",0,0,0,0,0,0,"","",0,0,0]
[null,null,null,null,null,null,null,null,null,null,null,null,null,null,null,null,"2021-01-01","00:00:00","2021-01-01","2021-01-01","2021-01-01",0,0,0,0,0,0,"","",0,0,0]
[null,null,null,null,null,null,null,null,null,null,null,null,null,null,null,null,"2021-01-01","00:00:00","2021-01-01","2021-01-01","2021-01-01",0,0,0,0,0,0,"","",0,0,0]
[null,null,null,null,null,null,null,null,null,null,null,null,null,null,null,null,"2021-01-01","00:00:00","2021-01-01","2021-01-01","2021-01-01",0,0,0,0,0,0,"","",0,0,0]
[null,null,null,null,null,null,null,null,null,null,null,null,null,null,null,null,"2021-01-01","00:00:00","2021-01-01","2021-01-01","2021-01-01",0,0,0,0,0,0,"","",0,0,0]
[null,null,null,null,null,null,null,null,null,null,null,null,null,null,null,null,"2021-01-01","00:00:00","2021-01-01","2021-01-01","2021-01-01",0,0,0,0,0,0,"","",0,0,0]
[null,null,null,null,null,null,null,null,null,null,null,null,null,null,null,null,"2021-01-01","00:00:00","2021-01-01","2021-01-01","2021-01-01",0,0,0,0,0,0,"","",0,0,0]
[null,null,null,null,null,null,null,null,null,null,null,null,null,null,null,null,"2021-01-01","00:00:00","2021-01-01","2021-01-01","2021-01-01",0,0,0,0,0,0,"","",0,0,0]
[null,null,null,null,null,null,null,null,null,null,null,null,null,null,null,null,"2021-01-01","00:00:00","2021-01-01","2021-01-01","2021-01-01",0,0,0,0,0,0,"","",0,0,0]
[null,null,null,null,null,null,null,null,null,null,null,null,null,null,null,null,"2021-01-01","00:00:00","2021-01-01","2021-01-01","2021-01-01",0,0,0,0,0,0,"","",0,0,0]
[null,null,null,null,null,null,null,null,null,null,null,null,null,null,null,null,"2021-01-01","00:00:00","2021-01-01","2021-01-01","2021-01-01",0,0,0,0,0,0,"","",0,0,0]
[null,null,null,null,null,null,null,null,null,null,null,null,null,null,null,null,"2021-01-01","00:00:00","2021-01-01","2021-01-01","2021-01-01",0,0,0,0,0,0,"","",0,0,0]
[null,null,null,null,null,null,null,null,null,null,null,null,null,null,null,null,"2021-01-01","00:00:00","2021-01-01","2021-01-01","2021-01-01",0,0,0,0,0,0,"","",0,0,0]
[null,null,null,null,null,null,null,null,null,null,null,null,null,null,null,null,"2021-01-01","00:00:00","2021-01-01","2021-01-01","2021-01-01",0,0,0,0,0,0,"","",0,0,0]
[null,null,null,null,null,null,null,null,null,null,null,null,null,null,null,null,"2021-01-01","00:00:00","2021-01-01","2021-01-01","2021-01-01",0,0,0,0,0,0,"","",0,0,0]
[null,null,null,null,null,null,null,null,null,null,null,null,null,null,null,null,"2021-01-01","00:00:00","2021-01-01","2021-01-01","2021-01-01",0,0,0,0,0,0,"","",0,0,0]
[null,null,null,null,null,null,null,null,null,null,null,null,null,null,null,null,"2021-01-01","00:00:00","2021-01-01","2021-01-01","2021-01-01",0,0,0,0,0,0,"","",0,0,0]
[null,null,null,null,null,null,null,null,null,null,null,null,null,null,null,null,"2021-01-01","00:00:00","2021-01-01","2021-01-01","2021-01-01",0,0,0,0,0,0,"","",0,0,0]
[null,null,null,null,null,null,null,null,null,null,null,null,null,null,null,null,"2021-01-01","00:00:00","2021-01-01","2021-01-01","2021-01-01",0,0,0,0,0,0,"","",0,0,0]
[null,null,null,null,null,null,null,null,null,null,null,null,null,null,null,null,"2021-01-01","00:00:00","2021-01-01","2021-01-01","2021-01-01",0,0,0,0,0,0,"","",0,0,0]
[null,null,null,null,null,null,null,null,null,null,null,null,null,null,null,null,"2021-01-01","00:00:00","2021-01-01","2021-01-01","2021-01-01",0,0,0,0,0,0,"","",0,0,0]
[null,null,null,null,null,null,null,null,null,null,null,null,null,null,null,null,"2021-01-01","00:00:00","2021-01-01","2021-01-01","2021-01-01",0,0,0,0,0,0,"","",0,0,0]
[null,null,null,null,null,null,null,null,null,null,null,null,null,null,null,null,"2021-01-01","00:00:00","2021-01-01","2021-01-01","2021-01-01",0,0,0,0,0,0,"","",0,0,0]

{"sheet":"WurzelFrucht","index":30,"n_rows":122,"n_cols":41,"rows_kept":122,"cut":false,"hidden":false,"merged":[[0,33,2,33],[0,34,2,34],[0,40,2,40],[0,35,2,35],[0,36,2,36],[0,37,2,37],[0,38,2,38],[0,39,2,39],[0,15,2,15],[0,16,2,16],[0,29,2,29],[0,30,2,30],[0,19,2,19],[0,20,2,20],[0,21,2,21],[0,22,2,22],[0,25,2,25],[0,26,2,26],[0,23,2,23],[0,24,2,24],[0,17,2,17],[0,7,2,7],[0,8,2,8],[0,9,2,9],[0,10,2,10],[59,35,59,36],[59,25,59,26],[59,29,59,31],[0,18,2,18],[0,31,2,31],[0,11,2,11],[0,12,2,12],[0,13,2,13],[0,14,2,14],[0,32,2,32],[0,27,2,27],[0,28,2,28],[58,2,58,5],[58,18,58,21],[58,14,58,17],[58,10,58,13],[58,6,58,9]]}
["Fruchtliste",null,null,null,null,null,null,"Ackerbau","Marktfruchtbau","Getreidebau inkl. Mais","Ölsaaten/Eiweißpflanzen","Hackfrüchte","Zuckerrueben","Kartoffel","Gemüsebau","Dauerkulturen","Obst","Wein","Forstwirtschaft","sonstiger BZW Pflanzenbau","Grundfutter ohne Silomais","Silomais",null,"Milchproduktion (Kühe inkl. Kälber, w. Aufzucht)","Milchproduktion (Schafe bzw. Ziegen)","Rindermast (Kalbinnen, Stier, Ochsen)","Mutterkuhhaltung","Schafe (Fleisch)","Pferde (auch Einsteller)","Ferkelproduktion","Schweinemast","Legehennen","Geflügelmast","Imkerei","sonstiger BZW Tierhaltung","lw Nebentätigkeit","UaB","Direktvermarktung","Maschinenring",null,"Sonstiges"]
[]
["Erträge"]
[null,"Grünland einmähdig","1 Nutzung","----","----","----","----",null,null,null,null,null,null,null,null,null,null,null,null,1,1,null,null,null,null,null,null,null,null,null,null,null,null,null,null,null,null,null,null,null,1]
[null,"Grünland mehrmähdig","----","2 Nutzungen","3 Nutzungen","4 Nutzungen","5 und mehr Nutzungen",null,null,null,null,null,null,null,null,null,null,null,null,1,1,null,null,null,null,null,null,null,null,null,null,null,null,null,null,null,null,null,null,null,1]
[null,"Dauerweide","niedrig","mittel","hoch","sehr hoch","----",null,null,null,null,null,null,null,null,null,null,null,null,1,1,null,null,null,null,null,null,null,null,null,null,null,null,null,null,null,null,null,null,null,1]
[null,"Feldfutter gräserbetont","2 Nutzungen","3 Nutzungen","4 Nutzungen","5 Nutzungen","6 Nutzungen",null,null,null,null,null,null,null,null,null,null,null,null,1,1,null,null,null,null,null,null,null,null,null,null,null,null,null,null,null,null,null,null,null,1]
[null,"Feldfutter leguminosenbetont","2 Nutzungen","3 Nutzungen","4 Nutzungen","5 Nutzungen","6 Nutzungen",null,null,null,null,null,null,null,null,null,null,null,null,1,1,null,null,null,null,null,null,null,null,null,null,null,null,null,null,null,null,null,null,null,1]
[null,"Silomais (FM)","< 40","40 - 50","50,0 - 57,5","57,5 - 65,0","> 65,0",null,null,null,null,1,null,null,null,null,null,null,null,1,null,1,null,null,null,null,null,null,null,null,null,null,null,null,null,null,null,null,null,null,1]
[null,"Silohirse, -sorghum FM","< 55","55 - 68","68 - 77","77 - 83",">83",null,null,null,null,null,null,null,null,null,null,null,null,1,null,1,null,null,null,null,null,null,null,null,null,null,null,null,null,null,null,null,null,null,1]
[null,"Weizen < 14% RP","< 3,5","3,5 - 6,0","6,0 - 7,5","7,5 - 9,0","> 9,0",1,1,1,null,null,null,null,null,null,null,null,null,1,null,null,null,null,null,null,null,null,null,null,null,null,null,null,null,null,null,null,null,null,1]
[null,"Weizen >= 14% RP","< 3,5","3,5 - 5,5","5,5 - 7,0","7,0 - 8,5","> 8,5",1,1,1,null,null,null,null,null,null,null,null,null,1,null,null,null,null,null,null,null,null,null,null,null,null,null,null,null,null,null,null,null,null,1]
[null,"Durum","< 3,0","3,0 - 4,5","4,5 - 6,0","6,0 - 7,5","> 7,5",1,1,1,null,null,null,null,null,null,null,null,null,1,null,null,null,null,null,null,null,null,null,null,null,null,null,null,null,null,null,null,null,null,1]
[null,"Wintergerste","< 3,5","3,5 - 6,0","6,0 - 7,5","7,5 - 9,0","> 9,0",1,1,1,null,null,null,null,null,null,null,null,null,1,null,null,null,null,null,null,null,null,null,null,null,null,null,null,null,null,null,null,null,null,1]
[null,"Triticale","< 3,5","3,5 - 6,0","6,0 - 7,5","7,5 - 9,0","> 9,0",1,1,1,null,null,null,null,null,null,null,null,null,1,null,null,null,null,null,null,null,null,null,null,null,null,null,null,null,null,null,null,null,null,1]
[null,"Roggen","< 3,5","3,5 - 5,5","5,5 - 7,0","7,0 - 8,5","> 8,5",1,1,1,null,null,null,null,null,null,null,null,null,1,null,null,null,null,null,null,null,null,null,null,null,null,null,null,null,null,null,null,null,null,1]
[null,"Sommergerste","< 3,5","3,5 - 5,5","5,5 - 7,0","7,0 - 8,5","> 8,5",1,1,1,null,null,null,null,null,null,null,null,null,1,null,null,null,null,null,null,null,null,null,null,null,null,null,null,null,null,null,null,null,null,1]
[null,"Dinkel (entspelzt)","< 1,5","1,5 - 2,5","> 2,5","----","----",1,1,1,null,null,null,null,null,null,null,null,null,1,null,null,null,null,null,null,null,null,null,null,null,null,null,null,null,null,null,null,null,null,1]
[null,"Hafer","< 3,5","3,5 - 5,0","5,0 - 6,5","6,5 - 8,0","> 8,0",1,1,1,null,null,null,null,null,null,null,null,null,1,null,null,null,null,null,null,null,null,null,null,null,null,null,null,null,null,null,null,null,null,1]
[null,"Sommerbraugerste","< 3,5","3,5 - 5,0","5,0 - 6,5","> 6,5","----",1,1,1,null,null,null,null,null,null,null,null,null,1,null,null,null,null,null,null,null,null,null,null,null,null,null,null,null,null,null,null,null,null,1]
[null,"Körnermais","< 6,0","6,0 - 10,0","10 - 11,5","11,5 - 13,0","> 13,0",1,1,1,null,null,null,null,null,null,null,null,null,1,null,null,null,null,null,null,null,null,null,null,null,null,null,null,null,null,null,null,null,null,1]
[null,"Körnerhirse, - sorghum","<6,5","6,5 - 8,0","8,0 - 9,5","9,5 - 10",">10",1,1,1,null,null,null,null,null,null,null,null,null,1,null,null,null,null,null,null,null,null,null,null,null,null,null,null,null,null,null,null,null,null,1]
[null,"Körnererbse","< 2,5","2,5 - 4,0","> 4,0","----","----",1,1,null,1,null,null,null,null,null,null,null,null,1,null,null,null,null,null,null,null,null,null,null,null,null,null,null,null,null,null,null,null,null,1]
[null,"Ackerbohne","< 2,5","2,5 - 4,0","> 4,0","----","----",1,1,null,1,null,null,null,null,null,null,null,null,1,null,null,null,null,null,null,null,null,null,null,null,null,null,null,null,null,null,null,null,null,1]
[null,"Sojabohne","< 1,5","1,5 - 3,0","> 3,0","----","----",1,1,null,1,null,null,null,null,null,null,null,null,1,null,null,null,null,null,null,null,null,null,null,null,null,null,null,null,null,null,null,null,null,1]
[null,"Körnerraps","< 2,0","2,0 - 3,0","3,0 - 4,0","4,0 - 5,0","> 5,0",1,1,null,1,null,null,null,null,null,null,null,null,1,null,null,null,null,null,null,null,null,null,null,null,null,null,null,null,null,null,null,null,null,1]
[null,"Sonnenblume","< 2,0","2,0 - 3,0","3,0 - 4,0","4,0 - 5,0","> 5,0",1,1,null,1,null,null,null,null,null,null,null,null,1,null,null,null,null,null,null,null,null,null,null,null,null,null,null,null,null,null,null,null,null,1]
[null,"Sudangras","< 40","40 - 50","50,0 - 57,5","> 57,5","----",1,1,null,null,null,null,null,null,null,null,null,null,1,null,null,null,null,null,null,null,null,null,null,null,null,null,null,null,null,null,null,null,null,1]
[null,"Zuckerrübe","< 45","45 - 60","60 - 70","70 - 80","> 80",1,1,null,null,1,1,null,null,null,null,null,null,1,null,null,null,null,null,null,null,null,null,null,null,null,null,null,null,null,null,null,null,null,1]
[null,"Futterrübe","< 60","60 - 100","> 100","----","----",1,1,null,null,1,null,null,null,null,null,null,null,1,1,null,null,null,null,null,null,null,null,null,null,null,null,null,null,null,null,null,null,null,1]
[null,"Speise + Industriekartoffel","< 25","25 - 35","35 - 45","45 - 55","> 55",1,1,null,null,1,null,1,null,null,null,null,null,1,null,null,null,null,null,null,null,null,null,null,null,null,null,null,null,null,null,null,null,null,1]
[null,"Frühkartoffel","< 15","15 - 20","> 20","----","----",1,1,null,null,1,null,1,null,null,null,null,null,1,null,null,null,null,null,null,null,null,null,null,null,null,null,null,null,null,null,null,null,null,1]
[null,"Pflanzkartoffel","< 15","15 - 20","> 20","----","----",1,1,null,null,1,null,1,null,null,null,null,null,1,null,null,null,null,null,null,null,null,null,null,null,null,null,null,null,null,null,null,null,null,1]
[null,"Erdbeere","< 15","15 - 25","> 25","> 25","> 25",1,null,null,null,null,null,null,1,null,null,null,null,1,null,null,null,null,null,null,null,null,null,null,null,null,null,null,null,null,null,null,null,null,1]
[null,"Futterzwischenfrucht mit Leguminosen","Ertrag niedrig","Ertrag mittel","Ertrag hoch 1","----","----",null,null,null,null,null,null,null,null,null,null,null,null,1,1,null,null,null,null,null,null,null,null,null,null,null,null,null,null,null,null,null,null,null,1]
[null,"Futterzwischenfrucht ohne Leguminosen","Ertrag niedrig","Ertrag mittel","Ertrag hoch 1","----","----",null,null,null,null,null,null,null,null,null,null,null,null,1,1,null,null,null,null,null,null,null,null,null,null,null,null,null,null,null,null,null,null,null,1]
[null,"Brache, Blühstreifen","Standard",null,null,null,null,null,null,null,null,null,null,null,null,null,null,null,null,1,1,null,null,null,null,null,null,null,null,null,null,null,null,null,null,null,null,null,null,null,1]
[null,"Kümmel","< 1,0","1,0 - 1,5","1,5 - 1,7","1,7 - 1,9","> 1,9",1,1,null,null,null,null,null,null,null,null,null,null,1,null,null,null,null,null,null,null,null,null,null,null,null,null,null,null,null,null,null,null,null,1]
[null,"Mohn","< 0,6","0,6 - 0,8","0,8 - 0,9","0,9 - 1,0","> 1,0",1,1,null,null,null,null,null,null,null,null,null,null,1,null,null,null,null,null,null,null,null,null,null,null,null,null,null,null,null,null,null,null,null,1]
[null,"Ölkürbis","Ertrag niedrig","Ertrag mittel","Ertrag hoch 1","Ertrag hoch 2","----",1,1,null,null,null,null,null,null,null,null,null,null,1,null,null,null,null,null,null,null,null,null,null,null,null,null,null,null,null,null,null,null,null,1]
[null,"Eigene Alm, Bergmähder","Standard",null,null,null,null,null,null,null,null,null,null,null,null,null,null,null,null,1,1,null,null,null,null,null,null,null,null,null,null,null,null,null,null,null,null,null,null,null,1]
[null,"Hutweiden, Streuwiesen","Standard",null,null,null,null,null,null,null,null,null,null,null,null,null,null,null,null,1,1,null,null,null,null,null,null,null,null,null,null,null,null,null,null,null,null,null,null,null,1]
[null,"Dauerkultur","Standard",null,null,null,null,null,null,null,null,null,null,null,null,1]
[null,"Obstbau","<30","30-40","40-50","50-60",">60",null,null,null,null,null,null,null,null,1,1]
[null,"Weinbau","<7","7-9","9-11","11-13",">13",null,null,null,null,null,null,null,null,1,null,1]
[null,"Weitere Kultur 1","Standard",null,null,null,null,1,null,null,null,null,null,null,1,null,null,null,null,1]
[null,"Weitere Kultur 2","Standard",null,null,null,null,1,null,null,null,null,null,null,1,null,null,null,null,1]
[null,"Weitere Kultur 3","Standard",null,null,null,null,1,null,null,null,null,null,null,1,null,null,null,null,1]
[null,"Weitere Kultur 4","Standard",null,null,null,null,1,null,null,null,null,null,null,1,null,null,null,null,1]
[null,"Weitere Kultur 5","Standard",null,null,null,null,1,null,null,null,null,null,null,1,null,null,null,null,1]
[null,"Weitere Kultur 6","Standard",null,null,null,null,1,null,null,null,null,null,null,1,null,null,null,null,1]
[null,"Weitere Kultur 7","Standard",null,null,null,null,1,null,null,null,null,null,null,1,null,null,null,null,1]
[null,"Weitere Kultur 8","Standard",null,null,null,null,1,null,null,null,null,null,null,1,null,null,null,null,1]
[null,"Weitere Kultur 9","Standard",null,null,null,null,1,null,null,null,null,null,null,1,null,null,null,null,1]
[null,"Weitere Kultur 10","Standard",null,null,null,null,1,null,null,null,null,null,null,1,null,null,null,null,1]
[null,"Wald","Standard",null,null,null,null,null,null,null,null,null,null,null,null,null,null,null,1,1,null,null,null,null,null,null,null,null,null,null,null,null,null,null,null,null,null,null,null,null,1]
[]
[]
["Fruchtdaten",null,"niedrige Ertragslage",null,null,null,"mittlere Ertragslage",null,null,null,"Ertragslage hoch 1",null,null,null,"Ertragslage hoch 2",null,null,null,"Ertragslage hoch 3",null,null,null,"Acker","Grünland","Waldfläche","Futterfläche Acker Grünland","Futterfläche Grünland, Acker ohne Silomais","ÖPUL\nΣ Grünland + AF","ÖPUL\nΣ Ackerfläche","Σ Grund futter","Grundfutter ohne Silomais","Silomais","FF ohne Silomais","kein Grundfutter","Standarddieselverbrauch","AZ \nHeimgutfläche"]
[null,"Kultur","Ertrag bis","Rein N","P2O5","K2O","Ertrag","Rein N","P2O5","K2O","Ertrag ","Rein N","P2O5","K2O","Ertrag","Rein N","P2O5","K2O","Ertrag","Rein N","P2O5","K2O",null,null,null,"Grundfutterfläche Reduktion",null,"öpul",null,"Grundfutterfläche ohne Reduktion",null,null,null,null,null,"AZ  ",null,"Diesel-verbrauch GF ohne SM","prämienfähige Fläche für Direktzahlungen"]
[null,null,"Nutzungen, \nt/ha","kg N/ha",null,null,"Nutzungen, \nt/ha","kg N/ha",null,null,"Nutzungen, \nt/ha","kg N/ha",null,null,"Nutzungen, \nt/ha","kg N/ha",null,null,"Nutzungen, \nt/ha","kg N/ha",null,null,"Acker-fläche","Grünland-fläche","Waldfläche","Grundfutter ","Grundfutter ohne Silomais","UBAG/BIO Grünland/FF","UBAG/Bio Acker","Grundfutter ","Grundfutter ohne Silomais","Silomais","Feldfutter ohne Silomais","kein Grundfutter","Standarddiesel-verbrauch l/ha","AZ \nFutterfläche","AZ sonstige Fläche - \nmit AZ Heimgut verschmolzen","ja/nein","prämienfähige Fläche für einheitliche Betriebsprämie"]
[null,"Grünland einmähdig","1 Nutzung",30,30,80,"----",30,30,80,"----",30,30,80,"----",30,30,80,"----",30,30,80,0,1,0,1,1,1,0,1,1,0,0,0,70,1,null,1,1]
[null,"Grünland mehrmähdig","----",0,0,0,"2 Nutzungen",65,45,120,"3 Nutzungen",120,65,170,"4 Nutzungen",200,80,205,"5 und mehr Nutzungen",225,85,230,0,1,0,1,1,1,0,1,1,0,0,0,70,1,null,1,1]
[null,"Dauerweide","niedrig",65,45,120,"mittel",120,65,170,"hoch",200,80,205,"sehr hoch",225,85,230,"----",120,65,170,0,1,0,1,1,1,0,1,1,0,0,0,70,1,null,1,1]
[null,"Feldfutter gräserbetont","2 Nutzungen",65,50,145,"3 Nutzungen",120,70,205,"4 Nutzungen",175,125,365,"5 Nutzungen",225,125,365,"6 Nutzungen",252.5,125,365,1,0,0,1,1,1,0,1,1,0,1,0,70,1,null,1,1]
[null,"Feldfutter leguminosenbetont","2 Nutzungen",52.5,50,155,"3 Nutzungen",92.5,65,190,"4 Nutzungen",132.5,95,310,"5 Nutzungen",170,95,310,"6 Nutzungen",190,95,310,1,0,0,1,1,1,0,1,1,0,1,0,70,1,null,1,1]
[null,"Silomais (FM)","< 40",112.5,81,203,"40 - 50",152.5,90,225,"50,0 - 57,5",192.5,104,259,"57,5 - 65,0",217.5,104,259,"> 65,0",228.75,104,259,1,0,0,1,0,0,1,1,0,1,0,0,80,1,null,0,1]
[null,"Silohirse, -sorghum FM","< 55",113,80,340,"55 - 68",145,90,375,"68 - 77",178,105,430,"77 - 83",203,105,430,">83",218,105,430,1,0,0,1,0,0,1,1,0,1,0,0,80,1,null,0,1]
[null,"Weizen < 14% RP","< 3,5",92.5,50,72,"3,5 - 6,0",125,55,80,"6,0 - 7,5",157.5,63,92,"7,5 - 9,0",175,63,92,"> 9,0",185,63,92,1,0,0,0,0,0,1,0,0,0,0,1,80,1,null,0,1]
[null,"Weizen >= 14% RP","< 3,5",92.5,50,72,"3,5 - 5,5",125,55,80,"5,5 - 7,0",157.5,63,92,"7,0 - 8,5",175,63,92,"> 8,5",185,63,92,1,0,0,0,0,0,1,0,0,0,0,1,80,1,null,0,1]
[null,"Durum","< 3,0",92.5,50,72,"3,0 - 4,5",125,55,80,"4,5 - 6,0",157.5,63,92,"6,0 - 7,5",175,63,92,"> 7,5",185,63,92,1,0,0,0,0,0,1,0,0,0,0,1,80,1,null,0,1]
[null,"Wintergerste","< 3,5",82.5,50,72,"3,5 - 6,0",112.5,55,80,"6,0 - 7,5",142.5,63,92,"7,5 - 9,0",162.5,63,92,"> 9,0",171.25,63,92,1,0,0,0,0,0,1,0,0,0,0,1,80,1,null,0,1]
[null,"Triticale","< 3,5",77.5,50,72,"3,5 - 6,0",105,55,80,"6,0 - 7,5",132.5,63,92,"7,5 - 9,0",150,63,92,"> 9,0",157.5,63,92,1,0,0,0,0,0,1,0,0,0,0,1,80,1,null,0,1]
[null,"Roggen","< 3,5",70,50,72,"3,5 - 5,5",95,55,80,"5,5 - 7,0",120,63,92,"7,0 - 8,5",135,63,92,"> 8,5",142.5,63,92,1,0,0,0,0,0,1,0,0,0,0,1,80,1,null,0,1]
[null,"Sommergerste","< 3,5",70,50,72,"3,5 - 5,5",95,55,80,"5,5 - 7,0",120,63,92,"7,0 - 8,5",135,63,92,"> 8,5",142.5,63,92,1,0,0,0,0,0,1,0,0,0,0,1,80,1,null,0,1]
[null,"Dinkel (entspelzt)","< 1,5",57.5,50,72,"1,5 - 2,5",77.5,55,80,"> 2,5",97.5,63,92,"----",null,63,92,"----",null,63,92,1,0,0,0,0,0,1,0,0,0,0,1,80,1,null,0,1]
[null,"Hafer","< 3,5",67.5,50,72,"3,5 - 5,0",87.5,55,80,"5,0 - 6,5",107.5,63,92,"6,5 - 8,0",120,63,92,"> 8,0",127.5,63,92,1,0,0,0,0,0,1,0,0,0,0,1,80,1,null,0,1]
[null,"Sommerbraugerste","< 3,5",45,50,72,"3,5 - 5,0",60,55,80,"5,0 - 6,5",75,63,92,"> 6,5",80,63,92,"----",40,63,92,1,0,0,0,0,0,1,0,0,0,0,1,80,1,null,0,1]
[null,"Körnermais","< 6,0",102.5,77,180,"6,0 - 10,0",135,85,200,"10 - 11,5",167.5,98,230,"11,5 - 13,0",187.5,98,230,"> 13,0",198.75,98,230,1,0,0,0,0,0,1,0,0,0,0,1,80,1,null,0,1]
[null,"Körnerhirse, - sorghum","<6,5",103,77,60,"6,5 - 8,0",128,85,70,"8,0-9,5",177,100,80,"9,5 - 10",177,105,80,">10",193,105,80,1,0,0,0,0,0,1,0,0,0,0,1,80,1,null,0,1]
[null,"Körnererbse","< 2,5",0,59,90,"2,5 - 4,0",0,65,100,"> 4,0",0,75,115,"----",0,0,0,"----",0,0,0,1,0,0,0,0,0,1,0,0,0,0,1,80,1,null,0,1]
[null,"Ackerbohne","< 2,5",0,59,108,"2,5 - 4,0",0,65,120,"> 4,0",0,75,138,"----",0,0,0,"----",0,0,0,1,0,0,0,0,0,1,0,0,0,0,1,80,1,null,0,1]
[null,"Sojabohne","< 1,5",0,59,81,"1,5 - 3,0",0,65,90,"> 3,0",0,75,104,"----",0,0,0,"----",0,0,0,1,0,0,0,0,0,1,0,0,0,0,1,80,1,null,0,1]
[null,"Körnerraps","< 2,0",102.5,68,180,"2,0 - 3,0",135,75,200,"3,0 - 4,0",167.5,86,230,"4,0 - 5,0",187.5,86,230,"> 5,0",198.75,86,230,1,0,0,0,0,0,1,0,0,0,0,1,80,1,null,0,1]
[null,"Sonnenblume","< 2,0",47.5,59,180,"2,0 - 3,0",60,65,200,"3,0 - 4,0",72.5,75,230,"4,0 - 5,0",82.5,75,230,"> 5,0",86.25,75,230,1,0,0,0,0,0,1,0,0,0,0,1,80,1,null,0,1]
[null,"Sudangras","< 40",110,0,0,"40 - 50",140,0,0,"50,0 - 57,5",170,0,0,"> 57,5",190,0,0,"----",95,0,0,1,0,0,0,0,0,1,0,0,0,0,1,80,1,null,0,1]
[null,"Zuckerrübe","< 45",77.5,77,288,"45 - 60",105,85,320,"60 - 70",132.5,98,368,"70 - 80",150,98,368,"> 80",157.5,98,368,1,0,0,0,0,0,1,0,0,0,0,1,130,1,null,0,1]
[null,"Futterrübe","< 60",97.5,77,288,"60 - 100",132.5,85,320,"> 100",167.5,98,368,"----",null,98,368,"----",null,98,368,1,0,0,0,0,0,1,0,0,0,0,1,80,1,null,0,1]
[null,"Speise + Industriekartoffel","< 25",92.5,59,180,"25 - 35",125,65,200,"35 - 45",157.5,75,230,"45 - 55",175,75,230,"> 55",185,75,230,1,0,0,0,0,0,1,0,0,0,0,1,130,1,null,0,1]
[null,"Frühkartoffel","< 15",77.5,54,162,"15 - 20",105,60,180,"> 20",132.5,69,207,"----",null,69,207,"----",null,69,207,1,0,0,0,0,0,1,0,0,0,0,1,130,1,null,0,1]
[null,"Pflanzkartoffel","< 15",77.5,54,162,"15 - 20",105,60,180,"> 20",132.5,69,207,"----",null,69,207,"----",null,69,207,1,0,0,0,0,0,1,0,0,0,0,1,130,1,null,0,1]
[null,"Erdbeere","< 15",80,0,0,"15 - 25",110,0,0,"> 25",140,0,0,"> 25",150,0,0,"> 25",150,0,0,1,0,0,0,0,0,1,0,0,0,0,1,80,1,null,0,1]
[null,"Futterzwischenfrucht mit Leguminosen","Ertrag niedrig",40,23,72,"Ertrag mittel",40,25,80,"Ertrag hoch 1",40,29,92,"----",40,29,92,"----",40,29,92,0,0,0,0,0,0,0,0,0,0,0,0,0,0,null,0,0]
[null,"Futterzwischenfrucht ohne Leguminosen","Ertrag niedrig",80,23,72,"Ertrag mittel",80,25,80,"Ertrag hoch 1",80,29,92,"----",80,29,92,"----",80,29,92,0,0,0,0,0,0,0,0,0,0,0,0,0,0,null,0,0]
[null,"Brache, Blühstreifen","Standard",0,0,0,null,null,null,null,null,null,null,null,null,null,null,null,null,null,null,null,1,0,0,0,0,0,0,0,0,0,0,1,80,0,null,0,1]
[null,"Kümmel","< 1,0",82.5,54,72,"1,0 - 1,5",112.5,60,80,"1,5 - 1,7",142.5,69,92,"1,7 - 1,9",162.5,69,92,"> 1,9",171.25,69,92,1,0,0,0,0,0,1,0,0,0,0,1,80,1,null,0,1]
[null,"Mohn","< 0,6",57.5,50,90,"0,6 - 0,8",77.5,55,100,"0,8 - 0,9",97.5,63,115,"0,9 - 1,0",107.5,63,115,"> 1,0",113.75,63,115,1,0,0,0,0,0,1,0,0,0,0,1,80,1,null,0,1]
[null,"Ölkürbis","Ertrag niedrig",95,0,0,"Ertrag mittel",112.5,0,0,"Ertrag hoch 1",130,0,0,"Ertrag hoch 2",140,0,0,"----",140,0,0,1,0,0,0,0,0,1,0,0,0,0,1,80,1,null,0,1]
[null,"Wald","Standard",0,0,0,null,null,null,null,null,null,null,null,null,null,null,null,null,null,null,null,0,0,1,0,0,0,0,0,0,0,0,0,4,0,null,0,0]
[null,"Eigene Alm, Bergmähder","Standard",0,0,0,null,null,null,null,null,null,null,null,null,null,null,null,null,null,null,null,0,0,0,0,0,0,0,0,0,0,0,0,4,0,null,1,1]
[null,"Hutweiden, Streuwiesen","Standard",0,0,0,null,null,null,null,null,null,null,null,null,null,null,null,null,null,null,null,0,0,0,0,0,0,0,0,0,0,0,0,4,0,null,1,1]
[null,"Dauerkultur","Standard",0,0,0]
[null,"Obstbau","<30",40,10,40,"30-40",50,15,60,"40-50",60,20,75,"50-60",70,25,90,">60",80,30,110,1,null,null,null,null,null,null,null,null,null,null,null,130,1,null,null,1]
[null,"Weinbau","<7",32,8,6,"7-9",42,10,8,"9-11",53,13,10,"11-13",64,16,12,">13",74,18,14,1,null,null,null,null,null,null,null,null,null,null,null,130,1,null,null,1]
[null,"Weitere Kultur 1","Standard",0,0,0,null,null,null,null,null,null,null,null,null,null,null,null,null,null,null,null,1,0,0,0,0,0,1,0,0,0,0,1,130,1,null,0,1]
[null,"Weitere Kultur 2","Standard",0,0,0,null,null,null,null,null,null,null,null,null,null,null,null,null,null,null,null,1,0,0,0,0,0,1,0,0,0,0,1,130,1,null,0,1]
[null,"Weitere Kultur 3","Standard",0,0,0,null,null,null,null,null,null,null,null,null,null,null,null,null,null,null,null,1,0,0,0,0,0,1,0,0,0,0,1,130,1,null,0,1]
[null,"Weitere Kultur 4","Standard",0,0,0,null,null,null,null,null,null,null,null,null,null,null,null,null,null,null,null,1,0,0,0,0,0,1,0,0,0,0,1,130,1,null,0,1]
[null,"Weitere Kultur 5","Standard",0,0,0,null,null,null,null,null,null,null,null,null,null,null,null,null,null,null,null,1,0,0,0,0,0,1,0,0,0,0,1,130,1,null,0,1]
[null,"Weitere Kultur 6","Standard",0,0,0,null,null,null,null,null,null,null,null,null,null,null,null,null,null,null,null,1,0,0,0,0,0,1,0,0,0,0,1,130,1,null,0,1]
[null,"Weitere Kultur 7","Standard",0,0,0,null,null,null,null,null,null,null,null,null,null,null,null,null,null,null,null,1,0,0,0,0,0,1,0,0,0,0,1,130,1,null,0,1]
[null,"Weitere Kultur 8","Standard",0,0,0,null,null,null,null,null,null,null,null,null,null,null,null,null,null,null,null,1,0,0,0,0,0,1,0,0,0,0,1,130,1,null,0,1]
[null,"Weitere Kultur 9","Standard",0,0,0,null,null,null,null,null,null,null,null,null,null,null,null,null,null,null,null,1,0,0,0,0,0,1,0,0,0,0,1,130,1,null,0,1]
[null,"Weitere Kultur 10","Standard",0,0,0,null,null,null,null,null,null,null,null,null,null,null,null,null,null,null,null,1,0,0,0,0,0,1,0,0,0,0,1,130,1,null,0,1]
[]
[]
["Silomaisertrag","< 55","55 - 68","68 - 77","77 - 83",">83"]
["Ertragsnivau",{"$f":"C9","v":"< 40"},{"$f":"D9","v":"40 - 50"},{"$f":"E9","v":"50,0 - 57,5"},{"$f":"F9","v":"57,5 - 65,0"},{"$f":"G9","v":"> 65,0"}]
["Ø TMertrag / ha",10500,13500,16000,18000,19500]
["SorghumFMertrag"]
["Ertragsnivau","< 55","55 - 68","68 - 77","77 - 83",">83"]
["Ø TMertrag / ha",10500,13500,16000,18000,19500]

{"sheet":"WurzelTiere","index":31,"n_rows":87,"n_cols":22,"rows_kept":87,"cut":false,"hidden":false,"merged":[[2,20,3,20],[55,2,55,4],[1,19,2,19],[2,8,2,9],[1,2,1,4],[1,7,1,10],[1,13,1,17],[1,18,2,18],[55,12,55,14]]}
[]
[null,"Tierart","N-anfall- Stallverluste - Lagerverluste - Ausbringverluste - Jahreswirksamkeit (Mist 60%)",null,null,"kg P2O5 pro Tier/Platz und Jahr","kg K2O pro Tier/Platz und Jahr","m³-anfall pro Tier/Platz und 1/2 Jahr",null,null,null,"RGVE","GVE/RGVE","Betriebstzweige",null,null,null,null,"Grundfutter-bedarf kg TM/Stück","Bewertungssätze lt. LBG EUR/Tier"]
[null,null,"Gülle","Jauche","Mist",null,null,"Gülle","Mist/Jauche",null,"Mist",null,null,null,null,null,null,null,null,null,"Milchkuh für SiloVerzicht"]
[null,null,null,null,null,null,null,null,"Jauche","Mist"]
["Rinder"]
[null,"männliche Kälber und Jungrinder unter 1/2 Jahr ",8.25,7.32,5.7,7.1,10.9,1.3,0.7,0.8,1.7,0.4,0.4,"Milchproduktion (Kühe inkl. Kälber, w. Aufzucht)","Mutterkuhhaltung","Rindermast (Kalbinnen, Stier, Ochsen)","sonstiger BZW Tierhaltung","Sonstiges",3.5,400,0]
[null,"weibliche Kälber und Jungrinder unter 1/2 Jahr ",8.25,7.32,5.7,7.1,10.9,1.3,0.7,0.8,1.7,0.4,0.4,"Milchproduktion (Kühe inkl. Kälber, w. Aufzucht)","Mutterkuhhaltung","Rindermast (Kalbinnen, Stier, Ochsen)","sonstiger BZW Tierhaltung","Sonstiges",3.5,400,0]
[null,"Jungvieh 1/2 bis 1 Jahr  männlich",22.425000000000001,20.14,15.48,13.5,43.1,3.4,1.7,1.8,3.9,0.6,0.6,"Milchproduktion (Kühe inkl. Kälber, w. Aufzucht)","Mutterkuhhaltung","Rindermast (Kalbinnen, Stier, Ochsen)","sonstiger BZW Tierhaltung","Sonstiges",6,650,0]
[null,"Jungvieh 1/2 bis 1 Jahr weiblich",22.4,20.100000000000001,15.5,13.5,43.1,3.4,1.7,1.8,3.9,0.6,0.6,"Milchproduktion (Kühe inkl. Kälber, w. Aufzucht)","Mutterkuhhaltung","Rindermast (Kalbinnen, Stier, Ochsen)","sonstiger BZW Tierhaltung","Sonstiges",6.5,650,0]
[null,"Jungvieh 1 bis 2 Jahre männlich",29.774999999999999,26.56,20.46,19.600000000000001,74.8,5.8,2.9,3,6.2,0.6,0.6,"Milchproduktion (Kühe inkl. Kälber, w. Aufzucht)","Mutterkuhhaltung","Rindermast (Kalbinnen, Stier, Ochsen)","sonstiger BZW Tierhaltung","Sonstiges",8,800,0]
[null,"Jungvieh 1 bis 2 Jahre weiblich",29.774999999999999,26.56,20.46,19.600000000000001,74.8,5.8,2.9,3,6.2,0.6,0.6,"Milchproduktion (Kühe inkl. Kälber, w. Aufzucht)","Mutterkuhhaltung","Rindermast (Kalbinnen, Stier, Ochsen)","sonstiger BZW Tierhaltung","Sonstiges",8.5,800,0]
[null,"Ochsen, Stiere über 2 Jahre",35.700000000000003,31.96,24.6,24.8,84.9,7.1,3.5,3.5,7.7,1,1,"Milchproduktion (Kühe inkl. Kälber, w. Aufzucht)","Mutterkuhhaltung","Rindermast (Kalbinnen, Stier, Ochsen)","sonstiger BZW Tierhaltung","Sonstiges",10.5,1000,0]
[null,"Kalbinnen über 2 Jahre",38.4,34.36,26.46,25.5,104.2,7.65,3.8,3.8,8.1999999999999993,1,1,"Milchproduktion (Kühe inkl. Kälber, w. Aufzucht)","Mutterkuhhaltung","Rindermast (Kalbinnen, Stier, Ochsen)","sonstiger BZW Tierhaltung","Sonstiges",11,1000,0]
[null,"Mutterkühe (3000 kg Milch)  ",38.549999999999997,31.8,26.58,19,119.1,11.25,3.7,7.2,11.6,1,1,"Milchproduktion (Kühe inkl. Kälber, w. Aufzucht)","Mutterkuhhaltung","Rindermast (Kalbinnen, Stier, Ochsen)","sonstiger BZW Tierhaltung","Sonstiges",12.5,700,0]
[null,"Milchkühe (3000 kg Milch)  ",38.549999999999997,31.8,26.58,19,119.1,11.25,3.7,7.2,11.6,1,1,"Milchproduktion (Kühe inkl. Kälber, w. Aufzucht)","Mutterkuhhaltung","Rindermast (Kalbinnen, Stier, Ochsen)","sonstiger BZW Tierhaltung","Sonstiges",13,700,1]
[null,"Milchkühe (4000 kg Milch)  ",43.5,35.979999999999997,30.06,23.6,134,11.25,3.7,7.2,11.6,1,1,"Milchproduktion (Kühe inkl. Kälber, w. Aufzucht)","Mutterkuhhaltung","Rindermast (Kalbinnen, Stier, Ochsen)","sonstiger BZW Tierhaltung","Sonstiges",13.5,700,1]
[null,"Milchkühe (5000 kg Milch) ",48.524999999999999,39.96,33.479999999999997,28.2,148.9,11.5,3.8,7.4,11.9,1,1,"Milchproduktion (Kühe inkl. Kälber, w. Aufzucht)","Mutterkuhhaltung","Rindermast (Kalbinnen, Stier, Ochsen)","sonstiger BZW Tierhaltung","Sonstiges",14,700,1]
[null,"Milchkühe (6000 kg Milch) ",53.475000000000001,44.2,36.9,32.799999999999997,163.80000000000001,11.8,3.9,7.6,12.1,1,1,"Milchproduktion (Kühe inkl. Kälber, w. Aufzucht)","Mutterkuhhaltung","Rindermast (Kalbinnen, Stier, Ochsen)","sonstiger BZW Tierhaltung","Sonstiges",14.5,700,1]
[null,"Milchkühe (7000 kg Milch) ",58.5,48.28,40.32,37.4,178.7,11.65,3.85,7.5,12,1,1,"Milchproduktion (Kühe inkl. Kälber, w. Aufzucht)","Mutterkuhhaltung","Rindermast (Kalbinnen, Stier, Ochsen)","sonstiger BZW Tierhaltung","Sonstiges",14.5,700,1]
[null,"Milchkühe (8000 kg Milch) ",63.524999999999999,52.36,43.8,41.9,193.6,11.95,3.95,7.6,12.3,1,1,"Milchproduktion (Kühe inkl. Kälber, w. Aufzucht)","Mutterkuhhaltung","Rindermast (Kalbinnen, Stier, Ochsen)","sonstiger BZW Tierhaltung","Sonstiges",15,700,1]
[null,"Milchkühe (9000 kg Milch) ",68.55,56.54,47.22,46.5,208.5,12.3,4.05,7.9,12.6,1,1,"Milchproduktion (Kühe inkl. Kälber, w. Aufzucht)","Mutterkuhhaltung","Rindermast (Kalbinnen, Stier, Ochsen)","sonstiger BZW Tierhaltung","Sonstiges",15,700,1]
[null,"Milchkühe (> 10.000 kg Milch) ",73.5,60.62,50.64,51.1,223.4,12.7,4.2,8.1,13,1,1,"Milchproduktion (Kühe inkl. Kälber, w. Aufzucht)","Mutterkuhhaltung","Rindermast (Kalbinnen, Stier, Ochsen)","sonstiger BZW Tierhaltung","Sonstiges",15.5,700,1]
["Schweine"]
[null,"Ferkel 8 bis 32 kg Lebendgewicht ",1.7849999999999999,1.44,1.2,1.4,2.1,0.3,0.05,0.13,0.33,0,7.0000000000000007E-2,"Ferkelproduktion","Schweinemast","sonstiger BZW Tierhaltung","Sonstiges",null,null,35,0]
[null,"MS + JS ab 32 kg LG bis Mastende/Belegung",6.9019999999999992,5.6280000000000001,4.7039999999999997,5.04,7,0.98,0.32200000000000001,0.67199999999999993,1.0779999999999998,0,0.15,"Ferkelproduktion","Schweinemast","sonstiger BZW Tierhaltung","Sonstiges",null,null,80,0]
[null,"Zuchtschweine",9.4350000000000005,7.82,6.48,9,6.8,2.5499999999999998,0.84,1.73,2.72,0,0.3,"Ferkelproduktion","Schweinemast","sonstiger BZW Tierhaltung","Sonstiges",null,null,250,0]
[null,"Zuchteber",13.09,10.8,8.94,10.7,6.8,2.5499999999999998,0.84,1.73,2.72,0,0.3,"Ferkelproduktion","Schweinemast","sonstiger BZW Tierhaltung","Sonstiges",null,null,500,0]
["Geflügel"]
[null,"Kücken u. Junghennen für Legezw. bis 1/2 Jahr  ",{"$f":"0.11*0.85","v":9.35E-2},0,{"$f":"0.1*0.5","v":0.05},0.17,0.13,1.6799999999999999E-2,0,0,1.26E-2,0,1.5E-3,"Legehennen","Geflügelmast","sonstiger BZW Tierhaltung","Sonstiges",null,null,0.1,0]
[null,"Legehennen, Hähne ",{"$f":"0.44*0.85","v":0.374},0,{"$f":"0.39*0.5","v":0.19500000000000001},0.45,0.33,4.6199999999999998E-2,0,0,2.24E-2,0,4.0000000000000001E-3,"Legehennen","Geflügelmast","sonstiger BZW Tierhaltung","Sonstiges",null,null,1.55,0]
[null,"Mastkücken und Jungmasthühner - 7 Umtriebe ",0,0,{"$f":"0.15*0.5","v":7.4999999999999997E-2},0.12,0.1,0,0,0,8.3999999999999995E-3,0,1.5E-3,"Legehennen","Geflügelmast","sonstiger BZW Tierhaltung","Sonstiges",null,null,0.55000000000000004,0]
[null,"Gänse",0,0,{"$f":"0.26*0.5","v":0.13},0.25,0.2,0,0,0,4.0599999999999997E-2,0,8.0000000000000002E-3,"Legehennen","Geflügelmast","sonstiger BZW Tierhaltung","Sonstiges",null,null,3.5,0]
[null,"Enten",0,0,{"$f":"0.26*0.5","v":0.13},0.25,0.2,0,0,0,1.9599999999999999E-2,0,4.0000000000000001E-3,"Legehennen","Geflügelmast","sonstiger BZW Tierhaltung","Sonstiges",null,null,3.5,0]
[null,"Truthühner (Puten) ",0,0,{"$f":"0.59*0.5","v":0.29499999999999998},0.6,0.48,0,0,0,4.1999999999999996E-2,0,7.0000000000000001E-3,"Legehennen","Geflügelmast","sonstiger BZW Tierhaltung","Sonstiges",null,null,3.5,0]
["Pferde, Schafe, Ziegen",null,null,null,null,null,null,null,null,null,null,null,1]
[null,"Kleinpferde (<300 kg, bis 148 cm) 1/2 bis 3 Jahre",0,0,4.8600000000000003,4.5,8.9,0,0,0,2,0.5,0.5,"Pferde (auch Einsteller)","sonstiger BZW Tierhaltung","Sonstiges",null,null,5,750,0]
[null,"Kleinpferde (<300 kg) > 3 Jahre incl. Fohlen bis 1/2 Jahr",0,0,5.76,5.3,10.5,0,0,0,2.5,0.5,0.5,"Pferde (auch Einsteller)","sonstiger BZW Tierhaltung","Sonstiges",null,null,8,750,0]
[null,"Kleinpferde (>300 kg, bis 148 cm) 1/2 bis 3 Jahre",0,0,9.48,8.6999999999999993,17.399999999999999,0,0,0,3,0.5,0.5,"Pferde (auch Einsteller)","sonstiger BZW Tierhaltung","Sonstiges",null,null,6,750,0]
[null,"Kleinpferde (>300 kg) > 3 Jahre incl. Fohlen bis 1/2 Jahr",0,0,11.22,10.3,20.5,0,0,0,3.8,0.5,0.5,"Pferde (auch Einsteller)","sonstiger BZW Tierhaltung","Sonstiges",null,null,9,750,0]
[null,"Pferde (>500 kg, über 148 cm) 1/2 bis 3 Jahre",0,0,17.04,15.6,31.2,0,0,0,6,1,1,"Pferde (auch Einsteller)","sonstiger BZW Tierhaltung","Sonstiges",null,null,7,750,0]
[null,"Pferde (>500 kg)> 3 Jahre incl. Fohlen bis 1/2 Jahr",0,0,20.100000000000001,18.399999999999999,36.799999999999997,0,0,0,6.7,1,1,"Pferde (auch Einsteller)","sonstiger BZW Tierhaltung","Sonstiges",null,null,12,750,0]
[null,"Schafe Lämmer bis 1/2 Jahr",0,0,2.94,2,5.7,0,0,0,0.22,7.0000000000000007E-2,7.0000000000000007E-2,"Milchproduktion (Schafe bzw. Ziegen)","Schafe (Fleisch)","sonstiger BZW Tierhaltung","Sonstiges",null,0.8,20,0]
[null,"Schafe ab 1/2 Jahr bis 1,5 Jahre",0,0,3.96,3.4,15.5,0,0,0,0.52,0.15,0.15,"Milchproduktion (Schafe bzw. Ziegen)","Schafe (Fleisch)","sonstiger BZW Tierhaltung","Sonstiges",null,1.5,25,0]
[null,"Mutterschafe",0,0,4.2,4,17.5,0,0,0,0.52,0.15,0.15,"Milchproduktion (Schafe bzw. Ziegen)","Schafe (Fleisch)","sonstiger BZW Tierhaltung","Sonstiges",null,2,50,0]
[null,"Ziegen bis 1/2 Jahr",0,0,2.76,2.2000000000000002,7.9,0,0,0,0.16,7.0000000000000007E-2,7.0000000000000007E-2,"Milchproduktion (Schafe bzw. Ziegen)","Schafe (Fleisch)","sonstiger BZW Tierhaltung","Sonstiges",null,0.8,20,0]
[null,"Ziegen ab 1/2 Jahr bis 1,5 Jahre",0,0,3.6,3.7,13.3,0,0,0,0.38,0.15,0.15,"Milchproduktion (Schafe bzw. Ziegen)","Schafe (Fleisch)","sonstiger BZW Tierhaltung","Sonstiges",null,1.5,25,0]
[null,"Mutterziegen",0,0,3.96,4.5999999999999996,15.2,0,0,0,0.38,0.15,0.15,"Milchproduktion (Schafe bzw. Ziegen)","Schafe (Fleisch)","sonstiger BZW Tierhaltung","Sonstiges",null,2,50,0]
["Andere"]
[null,"Rotwild* ab 1 Jahr",0,0,17,0,0,0,0,0,0,0.25,0.25,"sonstiger BZW Tierhaltung","Sonstiges",null,null,null,null,null,0]
[null,"Andere pflanzenfressende Wildhuftiere - Zuchtwild* ab 1 Jahr",0,0,7.1,0,0,0,0,0,0,0.15,0.15,"sonstiger BZW Tierhaltung","Sonstiges",null,null,null,null,null,0]
[null,"Lama ab 1 Jahr",0,0,7.1,0,0,0,0,0,0,0.15,0.15,"sonstiger BZW Tierhaltung","Sonstiges",null,null,null,null,null,0]
[null,"Strauße ab 1 Jahr ",4.0999999999999996,0,3.52,0,0,0,0,0,0,0.15,0.15,"sonstiger BZW Tierhaltung","Sonstiges",null,null,null,null,null,0]
[null,"Mastkaninchen ",0.72,0,0.62,0,0,0,0,0,0,2.5000000000000001E-3,2.5000000000000001E-3,"sonstiger BZW Tierhaltung","Sonstiges",null,null,null,null,null,0]
[null,"Zuchtkaninchen ",1.57,0,1.34,0,0,0,0,0,0,2.5000000000000001E-2,2.5000000000000001E-2,"sonstiger BZW Tierhaltung","Sonstiges",null,null,null,null,null,0]
[]
[null,null,"N-anfall- Stallverluste - Lagerverluste - Ausbringverluste ",null,null,"kg P2O5 pro Tier/Platz und Jahr","kg K2O pro Tier/Platz und Jahr",null,null,null,null,null,"N-anfall- Stallverluste - Lagerverluste - Ausbringverluste ",null,null,null,null,"kg P2O5 pro Tier/Platz und Jahr","kg K2O pro Tier/Platz und Jahr"]
["Düngerdaten",null,"Gülle","Jauche","Mist",null,null,"Gülle","Jauche","Mist",null,null,"Gülle","Jauche","Mist",null,null,null,null,"Gülle","Jauche","Mist"]
[null,{"$f":"IF(WurzelHDWD!F4=\"\",\"\",WurzelHDWD!F4)","v":"Milchvieh Stallmist (einstreuarm) "},{"$f":"WurzelHDWD!G4","v":0},{"$f":"WurzelHDWD!H4","v":0},{"$f":"WurzelHDWD!I4","v":1.7},{"$f":"WurzelHDWD!J4","v":2.5},{"$f":"WurzelHDWD!K4","v":4.2},{"$f":"WurzelHDWD!L4","v":0},{"$f":"WurzelHDWD!M4","v":0},{"$f":"WurzelHDWD!N4","v":1},null,null,null,null,null,null,null,1.5,6,1]
[null,{"$f":"IF(WurzelHDWD!F5=\"\",\"\",WurzelHDWD!F5)","v":"Milchvieh Jauche (unverdünnt) "},{"$f":"WurzelHDWD!G5","v":0},{"$f":"WurzelHDWD!H5","v":3},{"$f":"WurzelHDWD!I5","v":0},{"$f":"WurzelHDWD!J5","v":0.2},{"$f":"WurzelHDWD!K5","v":9.5},{"$f":"WurzelHDWD!L5","v":0},{"$f":"WurzelHDWD!M5","v":1},{"$f":"WurzelHDWD!N5","v":0},null,null,null,null,null,null,null,1.5,5.0999999999999996,1]
[null,{"$f":"IF(WurzelHDWD!F6=\"\",\"\",WurzelHDWD!F6)","v":"Milchvieh Gülle (1+1 verdünnt)"},{"$f":"WurzelHDWD!G6","v":1.3},{"$f":"WurzelHDWD!H6","v":0},{"$f":"WurzelHDWD!I6","v":0},{"$f":"WurzelHDWD!J6","v":1},{"$f":"WurzelHDWD!K6","v":3.3},{"$f":"WurzelHDWD!L6","v":1},{"$f":"WurzelHDWD!M6","v":0},{"$f":"WurzelHDWD!N6","v":0},null,"Mastbullengülle (7,5 % TS) (m3) ","3,0",null,null,null,null,1.7,4.4000000000000004,1]
[null,{"$f":"IF(WurzelHDWD!F7=\"\",\"\",WurzelHDWD!F7)","v":"Mastrindergülle (unverdünnt)"},{"$f":"WurzelHDWD!G7","v":3.4},{"$f":"WurzelHDWD!H7","v":0},{"$f":"WurzelHDWD!I7","v":0},{"$f":"WurzelHDWD!J7","v":2.5},{"$f":"WurzelHDWD!K7","v":5},{"$f":"WurzelHDWD!L7","v":1},{"$f":"WurzelHDWD!M7","v":0},{"$f":"WurzelHDWD!N7","v":0},null,"Mastschweinegülle (7,5 % TS)     - einphasige Fütterung (m3) ","5,2",null,null,null,null,3.3,3.3,1]
[null,{"$f":"IF(WurzelHDWD!F8=\"\",\"\",WurzelHDWD!F8)","v":""},{"$f":"WurzelHDWD!G8","v":0},{"$f":"WurzelHDWD!H8","v":0},{"$f":"WurzelHDWD!I8","v":0},{"$f":"WurzelHDWD!J8","v":0},{"$f":"WurzelHDWD!K8","v":0},{"$f":"WurzelHDWD!L8","v":0},{"$f":"WurzelHDWD!M8","v":0},{"$f":"WurzelHDWD!N8","v":0},null,"Mastschweinegülle (7,5 % TS)     - zweiphasige, N- und P-reduzierte  Fütterung (m3) ","4,0",null,null,null,null,2.5,2.8,1]
[null,{"$f":"IF(WurzelHDWD!F9=\"\",\"\",WurzelHDWD!F9)","v":"Zuchtsauenmist"},{"$f":"WurzelHDWD!G9","v":0},{"$f":"WurzelHDWD!H9","v":0},{"$f":"WurzelHDWD!I9","v":2.2999999999999998},{"$f":"WurzelHDWD!J9","v":5.5},{"$f":"WurzelHDWD!K9","v":3.6},{"$f":"WurzelHDWD!L9","v":0},{"$f":"WurzelHDWD!M9","v":0},{"$f":"WurzelHDWD!N9","v":1},null,"Zuchtsauengülle (mit Ferkel, 7,5 % TS)     - einphasige Fütterung (m3) ","5,2",null,null,null,null,3.8,3.2,1]
[null,{"$f":"IF(WurzelHDWD!F10=\"\",\"\",WurzelHDWD!F10)","v":"Zuchtsauen   Gülle (1+1 verdünnt)"},{"$f":"WurzelHDWD!G10","v":2.4},{"$f":"WurzelHDWD!H10","v":0},{"$f":"WurzelHDWD!I10","v":0},{"$f":"WurzelHDWD!J10","v":2.2000000000000002},{"$f":"WurzelHDWD!K10","v":2},{"$f":"WurzelHDWD!L10","v":1},{"$f":"WurzelHDWD!M10","v":0},{"$f":"WurzelHDWD!N10","v":0},null,"Zuchtsauengülle (mit Ferkel, 7,5 % TS)     - zweiphasige, N- und P-reduzierte Fütterung (m3) ","4,2",null,null,null,null,3,3,1]
[null,{"$f":"IF(WurzelHDWD!F11=\"\",\"\",WurzelHDWD!F11)","v":"Mastschweine   Gülle (Futtergrundlage MKS-CCM)"},{"$f":"WurzelHDWD!G11","v":4.5},{"$f":"WurzelHDWD!H11","v":0},{"$f":"WurzelHDWD!I11","v":0},{"$f":"WurzelHDWD!J11","v":3.5},{"$f":"WurzelHDWD!K11","v":3.5},{"$f":"WurzelHDWD!L11","v":1},{"$f":"WurzelHDWD!M11","v":0},{"$f":"WurzelHDWD!N11","v":0},null,"Hühnermist (45 % TS) (t) ",null,null,16,null,null,14.5,14.5,null,null,1]
[null,{"$f":"IF(WurzelHDWD!F12=\"\",\"\",WurzelHDWD!F12)","v":"Mastschweine   Gülle (Futtergrundlage Getreide)"},{"$f":"WurzelHDWD!G12","v":5.0999999999999996},{"$f":"WurzelHDWD!H12","v":0},{"$f":"WurzelHDWD!I12","v":0},{"$f":"WurzelHDWD!J12","v":5},{"$f":"WurzelHDWD!K12","v":4},{"$f":"WurzelHDWD!L12","v":1},{"$f":"WurzelHDWD!M12","v":0},{"$f":"WurzelHDWD!N12","v":0},null,"Hühnertrockenkot (70 % TS) (t) ",null,null,"27,0",null,null,20,21,null,null,1]
[null,{"$f":"IF(WurzelHDWD!F13=\"\",\"\",WurzelHDWD!F13)","v":"Mastschweine   Tiefstallmist  "},{"$f":"WurzelHDWD!G13","v":0},{"$f":"WurzelHDWD!H13","v":0},{"$f":"WurzelHDWD!I13","v":4},{"$f":"WurzelHDWD!J13","v":4.5999999999999996},{"$f":"WurzelHDWD!K13","v":7.3},{"$f":"WurzelHDWD!L13","v":0},{"$f":"WurzelHDWD!M13","v":0},{"$f":"WurzelHDWD!N13","v":1},null,"flüssiger Geflügelkot (10 % TS) (m3) ","4,7",null,null,null,null,2.8,3,1]
[null,{"$f":"IF(WurzelHDWD!F14=\"\",\"\",WurzelHDWD!F14)","v":""},{"$f":"WurzelHDWD!G14","v":0},{"$f":"WurzelHDWD!H14","v":0},{"$f":"WurzelHDWD!I14","v":0},{"$f":"WurzelHDWD!J14","v":0},{"$f":"WurzelHDWD!K14","v":0},{"$f":"WurzelHDWD!L14","v":0},{"$f":"WurzelHDWD!M14","v":0},{"$f":"WurzelHDWD!N14","v":0},null,"Rindermist, Kurz- und Mittellangstand (t) ",null,null,"4,0",null,null,4,6,null,null,1]
[null,{"$f":"IF(WurzelHDWD!F15=\"\",\"\",WurzelHDWD!F15)","v":"Legehennen   Frischkot (= unverd. Gülle)"},{"$f":"WurzelHDWD!G15","v":2.1},{"$f":"WurzelHDWD!H15","v":0},{"$f":"WurzelHDWD!I15","v":0},{"$f":"WurzelHDWD!J15","v":2.5},{"$f":"WurzelHDWD!K15","v":1.5},{"$f":"WurzelHDWD!L15","v":1},{"$f":"WurzelHDWD!M15","v":0},{"$f":"WurzelHDWD!N15","v":0},null,"Rindermist, Tiefstall (t) ",null,null,"4,0",null,null,3,10,null,null,1]
[null,{"$f":"IF(WurzelHDWD!F16=\"\",\"\",WurzelHDWD!F16)","v":"Legehennen   Trockenkot  "},{"$f":"WurzelHDWD!G16","v":0},{"$f":"WurzelHDWD!H16","v":0},{"$f":"WurzelHDWD!I16","v":4.5999999999999996},{"$f":"WurzelHDWD!J16","v":12},{"$f":"WurzelHDWD!K16","v":7},{"$f":"WurzelHDWD!L16","v":0},{"$f":"WurzelHDWD!M16","v":0},{"$f":"WurzelHDWD!N16","v":1},null,"Mastschweine- Ferkelaufzuchtmist (t) ",null,null,"6,4",null,null,6,7,null,null,1]
[null,{"$f":"IF(WurzelHDWD!F17=\"\",\"\",WurzelHDWD!F17)","v":"Masthühnermist"},{"$f":"WurzelHDWD!G17","v":0},{"$f":"WurzelHDWD!H17","v":0},{"$f":"WurzelHDWD!I17","v":5},{"$f":"WurzelHDWD!J17","v":10},{"$f":"WurzelHDWD!K17","v":8},{"$f":"WurzelHDWD!L17","v":0},{"$f":"WurzelHDWD!M17","v":0},{"$f":"WurzelHDWD!N17","v":1},null,"Mist von Zuchtsau + Ferkel bis Absetzen geringe Einstreu (t) ",null,null,"5,6",null,null,12,4,null,null,1]
[null,{"$f":"IF(WurzelHDWD!F18=\"\",\"\",WurzelHDWD!F18)","v":"Putenfestmist"},{"$f":"WurzelHDWD!G18","v":0},{"$f":"WurzelHDWD!H18","v":0},{"$f":"WurzelHDWD!I18","v":4.2},{"$f":"WurzelHDWD!J18","v":10},{"$f":"WurzelHDWD!K18","v":8},{"$f":"WurzelHDWD!L18","v":0},{"$f":"WurzelHDWD!M18","v":0},{"$f":"WurzelHDWD!N18","v":1},null,"Rinderjauche (m3) ",null,"3,2",null,null,null,0,8,null,1]
[null,{"$f":"IF(WurzelHDWD!F19=\"\",\"\",WurzelHDWD!F19)","v":""},{"$f":"WurzelHDWD!G19","v":0},{"$f":"WurzelHDWD!H19","v":0},{"$f":"WurzelHDWD!I19","v":0},{"$f":"WurzelHDWD!J19","v":0},{"$f":"WurzelHDWD!K19","v":0},{"$f":"WurzelHDWD!L19","v":0},{"$f":"WurzelHDWD!M19","v":0},{"$f":"WurzelHDWD!N19","v":0},null,"Schweinejauche (m3) ",null,"4,0",null,null,null,0,4,null,1]
[null,{"$f":"IF(WurzelHDWD!F20=\"\",\"\",WurzelHDWD!F20)","v":""},{"$f":"WurzelHDWD!G20","v":0},{"$f":"WurzelHDWD!H20","v":0},{"$f":"WurzelHDWD!I20","v":0},{"$f":"WurzelHDWD!J20","v":0},{"$f":"WurzelHDWD!K20","v":0},{"$f":"WurzelHDWD!L20","v":0},{"$f":"WurzelHDWD!M20","v":0},{"$f":"WurzelHDWD!N20","v":0}]
[null,{"$f":"IF(WurzelHDWD!F21=\"\",\"\",WurzelHDWD!F21)","v":""},{"$f":"WurzelHDWD!G21","v":0},{"$f":"WurzelHDWD!H21","v":0},{"$f":"WurzelHDWD!I21","v":0},{"$f":"WurzelHDWD!J21","v":0},{"$f":"WurzelHDWD!K21","v":0},{"$f":"WurzelHDWD!L21","v":0},{"$f":"WurzelHDWD!M21","v":0},{"$f":"WurzelHDWD!N21","v":0}]
[null,{"$f":"IF(WurzelHDWD!F22=\"\",\"\",WurzelHDWD!F22)","v":""},{"$f":"WurzelHDWD!G22","v":0},{"$f":"WurzelHDWD!H22","v":0},{"$f":"WurzelHDWD!I22","v":0},{"$f":"WurzelHDWD!J22","v":0},{"$f":"WurzelHDWD!K22","v":0},{"$f":"WurzelHDWD!L22","v":0},{"$f":"WurzelHDWD!M22","v":0},{"$f":"WurzelHDWD!N22","v":0}]
[null,{"$f":"IF(WurzelHDWD!F23=\"\",\"\",WurzelHDWD!F23)","v":""},{"$f":"WurzelHDWD!G23","v":0},{"$f":"WurzelHDWD!H23","v":0},{"$f":"WurzelHDWD!I23","v":0},{"$f":"WurzelHDWD!J23","v":0},{"$f":"WurzelHDWD!K23","v":0},{"$f":"WurzelHDWD!L23","v":0},{"$f":"WurzelHDWD!M23","v":0},{"$f":"WurzelHDWD!N23","v":0}]
[null,{"$f":"IF(WurzelHDWD!F24=\"\",\"\",WurzelHDWD!F24)","v":""},{"$f":"WurzelHDWD!G24","v":0},{"$f":"WurzelHDWD!H24","v":0},{"$f":"WurzelHDWD!I24","v":0},{"$f":"WurzelHDWD!J24","v":0},{"$f":"WurzelHDWD!K24","v":0},{"$f":"WurzelHDWD!L24","v":0},{"$f":"WurzelHDWD!M24","v":0},{"$f":"WurzelHDWD!N24","v":0}]
[null,{"$f":"IF(WurzelHDWD!F25=\"\",\"\",WurzelHDWD!F25)","v":""},{"$f":"WurzelHDWD!G25","v":0},{"$f":"WurzelHDWD!H25","v":0},{"$f":"WurzelHDWD!I25","v":0},{"$f":"WurzelHDWD!J25","v":0},{"$f":"WurzelHDWD!K25","v":0},{"$f":"WurzelHDWD!L25","v":0},{"$f":"WurzelHDWD!M25","v":0},{"$f":"WurzelHDWD!N25","v":0}]
[null,{"$f":"IF(WurzelHDWD!F26=\"\",\"\",WurzelHDWD!F26)","v":""},{"$f":"WurzelHDWD!G26","v":0},{"$f":"WurzelHDWD!H26","v":0},{"$f":"WurzelHDWD!I26","v":0},{"$f":"WurzelHDWD!J26","v":0},{"$f":"WurzelHDWD!K26","v":0},{"$f":"WurzelHDWD!L26","v":0},{"$f":"WurzelHDWD!M26","v":0},{"$f":"WurzelHDWD!N26","v":0}]
[null,{"$f":"IF(WurzelHDWD!F27=\"\",\"\",WurzelHDWD!F27)","v":""},{"$f":"WurzelHDWD!G27","v":0},{"$f":"WurzelHDWD!H27","v":0},{"$f":"WurzelHDWD!I27","v":0},{"$f":"WurzelHDWD!J27","v":0},{"$f":"WurzelHDWD!K27","v":0},{"$f":"WurzelHDWD!L27","v":0},{"$f":"WurzelHDWD!M27","v":0},{"$f":"WurzelHDWD!N27","v":0}]
[null,{"$f":"IF(WurzelHDWD!F28=\"\",\"\",WurzelHDWD!F28)","v":""},{"$f":"WurzelHDWD!G28","v":0},{"$f":"WurzelHDWD!H28","v":0},{"$f":"WurzelHDWD!I28","v":0},{"$f":"WurzelHDWD!J28","v":0},{"$f":"WurzelHDWD!K28","v":0},{"$f":"WurzelHDWD!L28","v":0},{"$f":"WurzelHDWD!M28","v":0},{"$f":"WurzelHDWD!N28","v":0}]
[null,{"$f":"IF(WurzelHDWD!F29=\"\",\"\",WurzelHDWD!F29)","v":""},{"$f":"WurzelHDWD!G29","v":0},{"$f":"WurzelHDWD!H29","v":0},{"$f":"WurzelHDWD!I29","v":0},{"$f":"WurzelHDWD!J29","v":0},{"$f":"WurzelHDWD!K29","v":0},{"$f":"WurzelHDWD!L29","v":0},{"$f":"WurzelHDWD!M29","v":0},{"$f":"WurzelHDWD!N29","v":0}]
[null,{"$f":"IF(WurzelHDWD!F30=\"\",\"\",WurzelHDWD!F30)","v":""},{"$f":"WurzelHDWD!G30","v":0},{"$f":"WurzelHDWD!H30","v":0},{"$f":"WurzelHDWD!I30","v":0},{"$f":"WurzelHDWD!J30","v":0},{"$f":"WurzelHDWD!K30","v":0},{"$f":"WurzelHDWD!L30","v":0},{"$f":"WurzelHDWD!M30","v":0},{"$f":"WurzelHDWD!N30","v":0}]
[null,{"$f":"IF(WurzelHDWD!F31=\"\",\"\",WurzelHDWD!F31)","v":""},{"$f":"WurzelHDWD!G31","v":0},{"$f":"WurzelHDWD!H31","v":0},{"$f":"WurzelHDWD!I31","v":0},{"$f":"WurzelHDWD!J31","v":0},{"$f":"WurzelHDWD!K31","v":0},{"$f":"WurzelHDWD!L31","v":0},{"$f":"WurzelHDWD!M31","v":0},{"$f":"WurzelHDWD!N31","v":0}]
[null,{"$f":"IF(WurzelHDWD!F32=\"\",\"\",WurzelHDWD!F32)","v":""},{"$f":"WurzelHDWD!G32","v":0},{"$f":"WurzelHDWD!H32","v":0},{"$f":"WurzelHDWD!I32","v":0},{"$f":"WurzelHDWD!J32","v":0},{"$f":"WurzelHDWD!K32","v":0},{"$f":"WurzelHDWD!L32","v":0},{"$f":"WurzelHDWD!M32","v":0},{"$f":"WurzelHDWD!N32","v":0}]
[null,{"$f":"IF(WurzelHDWD!F33=\"\",\"\",WurzelHDWD!F33)","v":""},{"$f":"WurzelHDWD!G33","v":0},{"$f":"WurzelHDWD!H33","v":0},{"$f":"WurzelHDWD!I33","v":0},{"$f":"WurzelHDWD!J33","v":0},{"$f":"WurzelHDWD!K33","v":0},{"$f":"WurzelHDWD!L33","v":0},{"$f":"WurzelHDWD!M33","v":0},{"$f":"WurzelHDWD!N33","v":0}]

{"sheet":"WurzelBZweige","index":32,"n_rows":189,"n_cols":51,"rows_kept":189,"cut":false,"hidden":false,"merged":[[1,2,1,14],[1,18,1,34],[2,2,2,16],[2,48,2,50],[2,31,2,34],[1,15,1,16],[2,18,2,29]]}
[null,"Zurück","Zurück"]
[null,null,"Hauptkostenstellen",null,null,null,null,null,null,null,null,null,null,null,null,"Umlagekst.",null,null,"Hauptkostenstellen"]
[null,null,"Flächen",null,null,null,null,null,null,null,null,null,null,null,null,null,null,null,"Tiere",null,null,null,null,null,null,null,null,null,null,null,null,"Nebentätigk.",null,null,null,null,null,null,null,"B-Zweig 1","B-Zweig 2","B-Zweig 3","B-Zweig 4","B-Zweig 5","B-Zweig 6","B-Zweig 7",null,null,"Listen"]
[null,null,"Ackerbau","Marktfruchtbau","Getreide inkl. K-Mais","Ölsaaten/Eiweißpflanzen","Hackfrüchte","Zuckerrüben","Kartoffel","Gartenbau, Gemüsebau","Dauerkultur","Obstbau","Weinbau","Forstwirtschaft","sonstiger BZW Pflanzenbau","Grundfutter ohne Silomais","Silomais",null,"Milchproduktion (Kühe inkl. Kälber, w. Aufzucht)","Milchproduktion (Schafe, Ziegen)","Rindermast (Kalbinnen, Ochsen, Stiere)","Mutterkuhhaltung","Schafe (Fleisch)","Pferde (auch Einsteller)","Ferkelproduktion","Schweinemast","Legehennen","Geflügelmast","Imkerei","sonstiger BZW Tierhaltung",null,"lw Nebentätigkeit","UaB","Direktvermarktung","Maschinenring",null,"Sonstiges","Auswahl/Schlüsselung J/N","Konten mit zuordenbaren Leistungen/Kosten\n(ohne kalk. Konten)",{"$f":"BZw_1","v":"Sonstiges"},{"$f":"BZw_2","v":0},{"$f":"BZw_3","v":0},{"$f":"BZw_4","v":0},{"$f":"BZw_5","v":0},{"$f":"BZw_6","v":0},{"$f":"BZw_7","v":0},"Leistung/Kosten Ja/Nein","Gesamte ausgewählte Konten","Felder werden Makroartig ausgefüllt"]
["Direktleistungen",null,null,null,null,null,null,null,null,null,null,null,null,null,null,null,null,null,null,null,null,null,null,null,null,null,null,null,null,null,null,null,null,null,null,null,null,null,null,null,null,null,null,null,null,null,null,null,null,null,"üVLK-Liste IL"]
[null,"Marktfrüchte",1,1,1,1,1,1,1,null,null,null,null,null,null,null,null,null,null,null,null,null,null,null,null,null,null,null,null,null,null,null,null,null,null,null,null,"Nein",{"$f":"IF(AU6=\"ja\",B6,\"\")","v":""},{"$f":"IF(AN$4=0,0,HLOOKUP(AN$4,$C$4:$AK$116,ROW()-3,FALSE))","v":0},0,0,0,0,0,0,{"$f":"IF(AND(SUM(AN6:AT6)>0,AL6<>\"\"),\"ja\",\"nein\")","v":"nein"},{"$f":"IF(SUM(AN6:AT6)>0,B6,\"\")","v":""},"Sonstige Leistungen ",null,"Energie (Strom, Wärme)"]
[null,"Wein(trauben)",null,null,null,null,null,null,null,null,null,null,1,null,null,null,null,null,null,null,null,null,null,null,null,null,null,null,null,null,null,null,null,null,null,null,null,"Nein",{"$f":"IF(AU7=\"ja\",B7,\"\")","v":""},0,0,0,0,0,0,0,{"$f":"IF(AND(SUM(AN7:AT7)>0,AL7<>\"\"),\"ja\",\"nein\")","v":"nein"},{"$f":"IF(SUM(AN7:AT7)>0,B7,\"\")","v":""}]
[null,"Obst, sonstige Früchte",null,null,null,null,null,null,null,null,1,1,null,null,1,null,null,null,null,null,null,null,null,null,null,null,null,null,null,null,null,null,null,null,null,null,null,"Nein","",0,0,0,0,0,0,0,"nein",""]
[null,"Gemüse",null,null,null,null,null,null,null,1,null,null,null," ",null,null,null,null,null,null,null,null,null,null,null,null,null,null,null,null,null,null,null,null,null,null,null,"Nein","",0,0,0,0,0,0,0,"nein",""]
[null,"Milch",null,null,null,null,null,null,null,null,null,null,null,null,null,null,null,null,1,1,null,null,null,null,null,null,null,null,null,null,null,null,null,null,null,null,null,"Nein","",0,0,0,0,0,0,0,"nein",""]
[null,"Kälber, Kalbinnen, Altkühe",null,null,null,null,null,null,null,null,null,null,null,null,null,null,null,null,1,null,null,null,null,null,null,null,null,null,null,null,null,null,null,null,null,null,null,"Nein","",0,0,0,0,0,0,0,"nein","",null,null,"Tierzweige"]
[null,"Alttiere, Kitze bzw. Lämmer",null,null,null,null,null,null,null,null,null,null,null,null,null,null,null,null,null,1,null,null,null,null,null,null,null,null,null,null,null,null,null,null,null,null,null,"Nein","",0,0,0,0,0,0,0,"nein","",null,null,"Milchproduktion (Kühe inkl. Kälber, w. Aufzucht)"]
[null,"Rinder",null,null,null,null,null,null,null,null,null,null,null,null,null,null,null,null,null,null,1,null,null,null,null,null,null,null,null,null,null,null,null,null,null,null,null,"Nein","",0,0,0,0,0,0,0,"nein","",null,null,"Milchproduktion (Schafe, Ziegen)"]
[null,"Kälber",null,null,null,null,null,null,null,null,null,null,null,null,null,null,null,null,null,null,null,1,null,null,null,null,null,null,null,null,null,null,null,null,null,null,null,"Nein","",0,0,0,0,0,0,0,"nein","",null,null,"Rindermast (Kalbinnen, Ochsen, Stiere)"]
[null,"Altkühe",null,null,null,null,null,null,null,null,null,null,null,null,null,null,null,null,null,null,null,1,null,null,null,null,null,null,null,null,null,null,null,null,null,null,null,"Nein","",0,0,0,0,0,0,0,"nein","",null,null,"Mutterkuhhaltung"]
[null,"Lämmer",null,null,null,null,null,null,null,null,null,null,null,null,null,null,null,null,null,null,null,null,1,null,null,null,null,null,null,null,null,null,null,null,null,null,null,"Nein","",{"$f":"IF(AN$4=0,0,HLOOKUP(AN$4,$C$4:$AK$116,ROW()-3,FALSE))","v":0},0,0,0,0,0,0,"nein","",null,null,"Schafe (Fleisch)"]
[null,"Alttiere",null,null,null,null,null,null,null,null,null,null,null,null,null,null,null,null,null,null,null,null,1,null,null,null,1,null,null,null,null,null,null,null,null,null,null,"Nein","",0,0,0,0,0,0,0,"nein","",null,null,"Pferde (auch Einsteller)"]
[null,"Eier",null,null,null,null,null,null,null,null,null,null,null,null,null,null,null,null,null,null,null,null,null,null,null,null,1,null,null,null,null,null,null,null,null,null,null,"Nein","",0,0,0,0,0,0,0,"nein","",null,null,"Ferkelproduktion"]
[null,"Masthühner",null,null,null,null,null,null,null,null,null,null,null,null,null,null,null,null,null,null,null,null,null,null,null,null,null,1,null,null,null,null,null,null,null,null,null,"Nein","",0,0,0,0,0,0,0,"nein","",null,null,"Schweinemast"]
[null,"Ferkel",null,null,null,null,null,null,null,null,null,null,null,null,null,null,null,null,null,null,null,null,null,null,1,null,null,null,null,null,null,null,null,null,null,null,null,"Nein","",0,0,0,0,0,0,0,"nein","",null,null,"Legehennen"]
[null,"Altsauen",null,null,null,null,null,null,null,null,null,null,null,null,null,null,null,null,null,null,null,null,null,null,1,null,null,null,null,null,null,null,null,null,null,null,null,"Nein","",0,0,0,0,0,0,0,"nein","",null,null,"Geflügelmast"]
[null,"Mastschweine",null,null,null,null,null,null,null,null,null,null,null,null,null,null,null,null,null,null,null,null,null,null,null,1,null,null,null,null,null,null,null,null,null,null,null,"Nein","",0,0,0,0,0,0,0,"nein","",null,null,"Imkerei"]
[null,"Einstellmiete",null,null,null,null,null,null,null,null,null,null,null,null,null,null,null,null,null,null,null,null,null,1,null,null,null,null,null,null,null,null,null,null,null,null,null,"Nein","",0,0,0,0,0,0,0,"nein","",null,null,"sonstiger BZW Tierhaltung"]
[null,"Honig",null,null,null,null,null,null,null,null,null,null,null,null,null,null,null,null,null,null,null,null,null,null,null,null,null,null,1,null,null,null,null,null,null,null,null,"Nein","",0,0,0,0,0,0,0,"nein","",null,null,"Sonstiges"]
[null,"Hauptleistung",null,null,null,null,null,null,null,null,null,null,null,null,1,null,null,null,null,null,null,null,null,1,null,null,null,null,null,1,null,1,1,1,1,null,null,"Nein","",0,0,0,0,0,0,0,"nein",""]
[null,"Direkt zuordenbare Prämie ",null,null,null,null,null,null,1,null,null,null,null,null,1,null,null,null,1,null,null,1,null,null,null,null,null,null,null,1,null,null,null,null,null,null,null,"Nein","",{"$f":"IF(AN$4=0,0,HLOOKUP(AN$4,$C$4:$AK$116,ROW()-3,FALSE))","v":0},0,0,0,0,0,0,"nein","",null,null,"SchlWegListe"]
[null,"Sonstige Leistungen ",1,1,1,1,1,1,1,1,1,1,1,1,1,1,1,null,1,1,1,1,1,1,1,1,1,1,1,1,null,1,1,1,1,null,1,"Nein","Sonstige Leistungen ",1,0,0,0,0,0,0,{"$f":"IF(AND(SUM(AN27:AT27)>0,AL27<>\"\"),\"ja\",\"nein\")","v":"ja"},"Sonstige Leistungen "]
[null,"Nutzholz",null,null,null,null,null,null,null,null,null,null,null,1,null,null,null,null,null,null,null,null,null,null,null,null,null,null,null,null,null,null,null,null,null,null,null,"Nein","",0,0,0,0,0,0,0,{"$f":"IF(AND(SUM(AN28:AT28)>0,AL28<>\"\"),\"ja\",\"nein\")","v":"nein"},"",null,null,{"$f":"B63","v":"Treibstoffe"}]
[null,"Brennholz",null,null,null,null,null,null,null,null,null,null,null,1,null,null,null,null,null,null,null,null,null,null,null,null,null,null,null,null,null,null,null,null,null,null,null,"Nein","",0,0,0,0,0,0,0,"nein","",null,null,{"$f":"B64","v":"Mineralölsteuervergütung"}]
[null,"Grundfutterverkauf, Silomaisverkauf",null,null,null,null,null,null,null,null,null,null,null,null,null,1,1,null,null,null,null,null,null,null,null,null,null,null,null,null,null,null,null,null,null,null,null,"Nein",{"$f":"IF(AU30=\"ja\",B30,\"\")","v":""},0,0,0,0,0,0,0,{"$f":"IF(AND(SUM(AN30:AT30)>0,AL30<>\"\"),\"ja\",\"nein\")","v":"nein"},{"$f":"IF(SUM(AN30:AT30)>0,B30,\"\")","v":""},null,null,{"$f":"B65","v":"Reparatur und Instandhaltung Maschinen"}]
[null,"Mehr/Minderwert Tiere",null,null,null,null,null,null,null,null,null,null,null,null,null,null,null,null,1,1,1,1,1,1,1,1,1,1,1,1,null,null,null,null,null,null,null,"Nein",{"$f":"IF(AU31=\"ja\",B31,\"\")","v":""},0,0,0,0,0,0,0,{"$f":"IF(AND(SUM(AN31:AT31)>0,AL31<>\"\"),\"ja\",\"nein\")","v":"nein"},{"$f":"IF(SUM(AN31:AT31)>0,B31,\"\")","v":""},null,null,{"$f":"B68","v":"Wasser"}]
[null,"Reserve 2",null,null,null,null,null,null,null,null,null,null,null,null,null,null,null,null,null,null,null,null,null,null,null,null,null,null,null,null,null,null,null,null,null,null,null,null,{"$f":"IF(AU32=\"ja\",B32,\"\")","v":""},0,0,0,0,0,0,0,{"$f":"IF(AND(SUM(AN32:AT32)>0,AL32<>\"\"),\"ja\",\"nein\")","v":"nein"},{"$f":"IF(SUM(AN32:AT32)>0,B32,\"\")","v":""},null,null,{"$f":"B72","v":"Instandhaltung Gebäude und bauliche Anlagen "}]
[null,"Reserve 3",null,null,null,null,null,null,null,null,null,null,null,null,null,null,null,null,null,null,null,null,null,null,null,null,null,null,null,null,null,null,null,null,null,null,null,null,{"$f":"IF(AU33=\"ja\",B33,\"\")","v":""},0,0,0,0,0,0,0,{"$f":"IF(AND(SUM(AN33:AT33)>0,AL33<>\"\"),\"ja\",\"nein\")","v":"nein"},{"$f":"IF(SUM(AN33:AT33)>0,B33,\"\")","v":""},null,null,{"$f":"B73","v":"PKW - Betriebsanteil"}]
[null,"Reserve 4",null,null,null,null,null,null,null,null,null,null,null,null,null,null,null,null,null,null,null,null,null,null,null,null,null,null,null,null,null,null,null,null,null,null,null,null,"",0,0,0,0,0,0,0,"nein","",null,null,{"$f":"B74","v":"Sachversicherungen ohne Versicherung PKW"}]
[null,"Wirtschaftsdünger innerbetrieblich",null,null,null,null,null,null,null,null,null,null,null,null,null,null,null,null,1,1,1,1,1,1,1,1,1,1,null,1,null,null,null,null,null,null,1,null,"",1,0,0,0,0,0,0,"nein","Wirtschaftsdünger innerbetrieblich",null,null,{"$f":"B75","v":"Steuern, Betriebsabgaben "}]
[null,"Direktleistungen",1,1,1,1,1,1,1,1,1,1,1,1,1,1,1,null,1,1,1,1,1,1,1,1,1,1,1,1,null,1,1,1,1,null,1,null,"",1,0,0,0,0,0,0,"nein","Direktleistungen",null,null,{"$f":"$B$89","v":"Beiträge zur SVB"}]
["Direktkosten",null,null,null,null,null,null,null,null,null,null,null,null,null,null,null,null,null,null,null,null,null,null,null,null,null,null,null,null,null,null,null,null,null,null,null,null,null,null,null,null,null,null,null,null,null,null,"",null,null,"Pachtkosten (Pachtland)"]
[null,"Saatgut",1,1,1,1,1,1,1,null,null,null,null,null,1,1,1,null,null,null,null,null,null,null,null,null,null,null,null,null,null,null,null,null,null,null,1,"Nein","Saatgut",{"$f":"IF(AN$4=0,0,HLOOKUP(AN$4,$C$4:$AK$116,ROW()-3,FALSE))","v":1},0,0,0,0,0,0,"ja","Saatgut","Saatgut"]
[null,"Jungpflanzen",null,null,null,null,null,null,null,1,null,null,null,1,null,null,null,null,null,null,null,null,null,null,null,null,null,null,null,null,null,null,null,null,null,null,null,"Nein","",0,0,0,0,0,0,0,"nein","","Dünger (Wirtschaftsdünger + Handelsdünger)"]
[null,"Dünger (Wirtschaftsdünger + Handelsdünger)",1,1,1,1,1,1,1,1,1,1,1,1,1,1,1,null,null,null,null,null,null,null,null,null,null,null,null,null,null,null,null,null,null,null,1,"Ja","Dünger (Wirtschaftsdünger + Handelsdünger)",1,0,0,0,0,0,0,"ja","Dünger (Wirtschaftsdünger + Handelsdünger)","Pflanzenschutz"]
[null,"Pflanzenschutz",1,1,1,1,1,1,1,1,1,1,1,1,1,1,1,null,null,null,null,null,null,null,null,null,null,null,null,null,null,null,null,null,null,null,1,"Nein","Pflanzenschutz",1,0,0,0,0,0,0,"ja","Pflanzenschutz","Sonstige direkte Kosten"]
[null,"Sonstige Direktkosten Grundfutter",null,null,null,null,null,null,null,null,null,null,null,null,null,null,null,null,null,null,null,null,null,null,null,null,null,null,null,null,null,null,null,null,null,null,null,"Nein","",0,0,0,0,0,0,0,{"$f":"IF(AND(SUM(AN42:AT42)>0,AL44<>\"\"),\"ja\",\"nein\")","v":"nein"},""]
[null,"Grundfutterzukauf",null,null,null,null,null,null,null,null,null,null,null,null,null,1,1,null,null,null,null,null,null,null,null,null,null,null,null,null,null,null,null,null,null,null,null,"Ja","",0,0,0,0,0,0,0,{"$f":"IF(AND(SUM(AN43:AT43)>0,AL45<>\"\"),\"ja\",\"nein\")","v":"nein"},""]
[null,"Bestandesergänzung",null,null,null,null,null,null,null,null,null,null,null,null,null,null,null,null,1,1,null,1,1,1,1,null,1,null,1,1,null,null,null,null,null,null,null,"Nein","",0,0,0,0,0,0,0,{"$f":"IF(AND(SUM(AN44:AT44)>0,AL46<>\"\"),\"ja\",\"nein\")","v":"nein"},""]
[null,"Kälber (Zukauf, Überstellung)",null,null,null,null,null,null,null,null,null,null,null,null,null,null,null,null,null,null,1,null,null,null,null,null,null,null,null,null,null,null,null,null,null,null,null,"Nein","",0,0,0,0,0,0,0,{"$f":"IF(AND(SUM(AN45:AT45)>0,AL47<>\"\"),\"ja\",\"nein\")","v":"nein"},""]
[null,"Ferkel (Zukauf, Überstellung)",null,null,null,null,null,null,null,null,null,null,null,null,null,null,null,null,null,null,null,null,null,null,null,1,null,null,null,null,null,null,null,null,null,null,null,"Nein","",0,0,0,0,0,0,0,{"$f":"IF(AND(SUM(AN46:AT46)>0,AL42<>\"\"),\"ja\",\"nein\")","v":"nein"},""]
[null,"Kücken",null,null,null,null,null,null,null,null,null,null,null,null,null,null,null,null,null,null,null,null,null,null,null,null,null,1,null,null,null,null,null,null,null,null,null,"Nein","",0,0,0,0,0,0,0,{"$f":"IF(AND(SUM(AN47:AT47)>0,AL43<>\"\"),\"ja\",\"nein\")","v":"nein"},""]
[null,"Junghennen",null,null,null,null,null,null,null,null,null,null,null,null,null,null,null,null,null,null,null,null,null,null,null,null,1,null,null,null,null,null,null,null,null,null,null,"Nein","",{"$f":"IF(AN$4=0,0,HLOOKUP(AN$4,$C$4:$AK$116,ROW()-3,FALSE))","v":0},0,0,0,0,0,0,{"$f":"IF(AND(SUM(AN48:AT48)>0,AL48<>\"\"),\"ja\",\"nein\")","v":"nein"},""]
[null,"Kraftfutter",null,null,null,null,null,null,null,null,null,null,null,null,null,null,null,null,1,1,1,1,1,1,1,1,1,1,1,1,null,null,null,null,null,null,null,"Nein","",0,0,0,0,0,0,0,"nein",""]
[null,"Tiergesundheit",null,null,null,null,null,null,null,null,null,null,null,null,null,null,null,null,1,1,1,1,1,1,1,1,1,1,1,1,null,null,null,null,null,null,null,"Nein","",0,0,0,0,0,0,0,"nein",""]
[null,"Besamung",null,null,null,null,null,null,null,null,null,null,null,null,null,null,null,null,1,1,null,1,1,1,1,null,null,null,null,1,null,null,null,null,null,null,null,"Nein","",0,0,0,0,0,0,0,"nein",""]
[null,"Sonstige direkte Kosten",1,1,1,1,1,1,1,1,1,1,1,1,1,1,1,null,1,1,1,1,1,1,1,1,1,1,1,1,null,1,1,1,1,null,1,"Nein",{"$f":"IF(AU52=\"ja\",B52,\"\")","v":"Sonstige direkte Kosten"},1,0,0,0,0,0,0,"ja",{"$f":"IF(SUM(AN52:AT52)>0,B52,\"\")","v":"Sonstige direkte Kosten"}]
[null,"Wareneinsatz",null,null,null,null,null,null,null,null,null,null,null,null,null,null,null,null,null,null,null,null,null,null,null,null,null,null,null,null,null,1,1,1,null,null,null,"Nein","",0,0,0,0,0,0,0,"nein",""]
[null,"Einstreu",null,null,null,null,null,null,null,null,null,null,null,null,null,null,null,null,1,1,1,1,1,1,1,1,1,1,null,1,null,null,null,null,null,null,null,"Nein","",0,0,0,0,0,0,0,"nein",""]
[null,"Reserve 7",null,null,null,null,null,null,null,null,null,null,null,null,null,null,null,null,null,null,null,null,null,null,null,null,null,null,null,null,null,null,null,null,null,null,null,null,"",0,0,0,0,0,0,0,"nein",""]
[null,"Reserve 8",null,null,null,null,null,null,null,null,null,null,null,null,null,null,null,null,null,null,null,null,null,null,null,null,null,null,null,null,null,null,null,null,null,null,null,null,"",0,0,0,0,0,0,0,"nein",""]
[null,"Reserve 9",null,null,null,null,null,null,null,null,null,null,null,null,null,null,null,null,null,null,null,null,null,null,null,null,null,null,null,null,null,null,null,null,null,null,null,null,"",0,0,0,0,0,0,0,"nein",""]
[null,"Reserve 10",null,null,null,null,null,null,null,null,null,null,null,null,null,null,null,null,null,null,null,null,null,null,null,null,null,null,null,null,null,null,null,null,null,null,null,null,"",0,0,0,0,0,0,0,"nein",""]
[null,"Reserve 11",null,null,null,null,null,null,null,null,null,null,null,null,null,null,null,null,null,null,null,null,null,null,null,null,null,null,null,null,null,null,null,null,null,null,null,null,"",0,0,0,0,0,0,0,"nein",""]
[null,"Direktkosten",1,1,1,1,1,1,1,1,1,1,1,1,1,1,1,null,1,1,1,1,1,1,1,1,1,1,1,1,null,1,1,1,1,null,1,null,"",1,0,0,0,0,0,0,"nein","Direktkosten"]
["übrige Vorleistungskosten",null,null,null,null,null,null,null,null,null,null,null,null,null,null,null,null,null,null,null,null,null,null,null,null,null,null,null,null,null,null,null,null,null,null,null,null,null,null,null,null,null,null,null,null,null,null,""]
[null,"Betriebs- und Reparaturkosten Maschinen",1,1,1,1,1,1,1,1,1,1,1,1,1,1,1,null,1,1,1,1,1,1,1,1,1,1,1,1,null,1,1,1,1,null,1,null,{"$f":"IF(AU62=\"ja\",B62,\"\")","v":""},{"$f":"IF(AN$4=0,0,HLOOKUP(AN$4,$C$4:$AK$116,ROW()-3,FALSE))","v":1},0,0,0,0,0,0,{"$f":"IF(AND(SUM(AN62:AT62)>0,AL62<>\"\"),\"ja\",\"nein\")","v":"nein"},"Betriebs- und Reparaturkosten Maschinen","Treibstoffe"]
[null,"Treibstoffe",1,1,1,1,1,1,1,1,1,1,1,1,1,1,1,null,1,1,1,1,1,1,1,1,1,1,1,1,null,1,1,1,1,null,1,"Ja","Treibstoffe",1,0,0,0,0,0,0,"ja","Treibstoffe","Reparatur und Instandhaltung Maschinen"]
[null,"Mineralölsteuervergütung",null,null,null,null,null,null,null,null,null,null,null,null,null,null,null,null,null,null,null,null,null,null,null,null,null,null,null,null,null,null,null,null,null,null,null,null,"",0,0,0,0,0,0,0,"nein","","Lohnmaschinen, Maschinenring"]
[null,"Reparatur und Instandhaltung Maschinen",1,1,1,1,1,1,1,1,1,1,1,1,1,1,1,null,1,1,1,1,1,1,1,1,1,1,1,1,null,1,1,1,1,null,1,"Ja","Reparatur und Instandhaltung Maschinen",1,0,0,0,0,0,0,"ja","Reparatur und Instandhaltung Maschinen","Energie (Strom, Wärme)"]
[null,"Lohnmaschinen, Maschinenring",1,1,1,1,1,1,1,1,1,1,1,1,1,1,1,null,1,1,1,1,1,1,1,1,1,1,1,1,null,1,1,1,1,null,1,"Nein","Lohnmaschinen, Maschinenring",1,0,0,0,0,0,0,"ja","Lohnmaschinen, Maschinenring","Wasser"]
[null,"Energie (Strom, Wärme)",1,1,1,1,1,1,1,1,1,1,1,1,1,1,1,null,1,1,1,1,1,1,1,1,1,1,1,1,null,1,1,1,1,null,1,"Nein","Energie (Strom, Wärme)",1,0,0,0,0,0,0,"ja","Energie (Strom, Wärme)","Instandhaltung Gebäude und bauliche Anlagen "]
[null,"Wasser",1,1,1,1,1,1,1,1,1,1,1,1,1,1,1,null,1,1,1,1,1,1,1,1,1,1,1,1,null,1,1,1,1,null,1,"Nein","Wasser",1,0,0,0,0,0,0,"ja","Wasser","PKW - Betriebsanteil"]
[null,"Abschreibung Maschinen und Geräte",1,1,1,1,1,1,1,1,1,1,1,1,1,1,1,null,1,1,1,1,1,1,1,1,1,1,1,1,null,1,1,1,1,null,1,null,"",1,0,0,0,0,0,0,"nein","Abschreibung Maschinen und Geräte","Sachversicherungen ohne Versicherung PKW"]
[null,"Abschreibung Gebäude und bauliche Anlagen",1,1,1,1,1,1,1,1,1,1,1,1,1,1,1,null,1,1,1,1,1,1,1,1,1,1,1,1,null,1,1,1,1,null,1,null,"",1,0,0,0,0,0,0,"nein","Abschreibung Gebäude und bauliche Anlagen","Steuern, Betriebsabgaben "]
[null,"Abschreibungen Dauerkulturen",null,null,null,null,null,null,null,null,1,1,1,null,1,null,null,null,null,null,null,null,null,null,null,null,null,null,null,null,null,null,null,null,null,null,null,"Nein","",0,0,0,0,0,0,0,"nein","","Nur indirekt zuordenbare Mitgliedsbeiträge, Gebühren, Beratungs- und Weiterbildungskosten "]
[null,"Instandhaltung Gebäude und bauliche Anlagen ",1,1,1,1,1,1,1,1,1,1,1,1,1,1,1,null,1,1,1,1,1,1,1,1,1,1,1,1,null,1,1,1,1,null,1,"Ja","Instandhaltung Gebäude und bauliche Anlagen ",{"$f":"IF(AN$4=0,0,HLOOKUP(AN$4,$C$4:$AK$116,ROW()-3,FALSE))","v":1},0,0,0,0,0,0,"ja","Instandhaltung Gebäude und bauliche Anlagen ","Allgemeine Verwaltungskosten und sonstige Vorleistungskosten"]
[null,"PKW - Betriebsanteil",1,1,1,1,1,1,1,1,1,1,1,1,1,1,1,null,1,1,1,1,1,1,1,1,1,1,1,1,null,1,1,1,1,null,1,"Ja","PKW - Betriebsanteil",1,0,0,0,0,0,0,"ja","PKW - Betriebsanteil"]
[null,"Sachversicherungen ohne Versicherung PKW",1,1,1,1,1,1,1,1,1,1,1,1,1,1,1,null,1,1,1,1,1,1,1,1,1,1,1,1,null,1,1,1,1,null,1,"Ja","Sachversicherungen ohne Versicherung PKW",1,0,0,0,0,0,0,"ja","Sachversicherungen ohne Versicherung PKW"]
[null,"Steuern, Betriebsabgaben ",1,1,1,1,1,1,1,1,1,1,1,1,1,1,1,null,1,1,1,1,1,1,1,1,1,1,1,1,null,1,1,1,1,null,1,"Ja","Steuern, Betriebsabgaben ",1,0,0,0,0,0,0,"ja","Steuern, Betriebsabgaben "]
[null,"Nur indirekt zuordenbare Mitgliedsbeiträge, Gebühren, Beratungs- und Weiterbildungskosten ",1,1,1,1,1,1,1,1,1,1,1,1,1,1,1,null,1,1,1,1,1,1,1,1,1,1,1,1,null,1,1,1,1,null,1,"Ja","Nur indirekt zuordenbare Mitgliedsbeiträge, Gebühren, Beratungs- und Weiterbildungskosten ",1,0,0,0,0,0,0,"ja","Nur indirekt zuordenbare Mitgliedsbeiträge, Gebühren, Beratungs- und Weiterbildungskosten "]
[null,"Allgemeine Verwaltungskosten und sonstige Vorleistungskosten",1,1,1,1,1,1,1,1,1,1,1,1,1,1,1,null,1,1,1,1,1,1,1,1,1,1,1,1,null,1,1,1,1,null,1,"Ja","Allgemeine Verwaltungskosten und sonstige Vorleistungskosten",1,0,0,0,0,0,0,"ja","Allgemeine Verwaltungskosten und sonstige Vorleistungskosten"]
[null,"Reserve 12",null,null,null,null,null,null,null,null,null,null,null,null,null,null,null,null,null,null,null,null,null,null,null,null,null,null,null,null,null,null,null,null,null,null,null,null,"",0,0,0,0,0,0,0,"nein",""]
[null,"Übrige Vorleistungskosten",1,1,1,1,1,1,1,1,1,1,1,1,1,1,1,null,1,1,1,1,1,1,1,1,1,1,1,1,null,1,1,1,1,null,1,null,"",1,0,0,0,0,0,0,"nein","Übrige Vorleistungskosten"]
["Gemeinleistungen",null,null,null,null,null,null,null,null,null,null,null,null,null,null,null,null,null,null,null,null,null,null,null,null,null,null,null,null,null,null,null,null,null,null,null,null,null,null,null,null,null,null,null,null,null,null,{"$f":"IF(SUM(AN80:AT80)>0,B80,\"\")","v":""}]
[null,"Direktzahlungen",1,1,1,1,1,1,1,1,1,1,1,1,1,1,1,null,null,null,null,null,null,null,null,null,null,null,null,null,null,null,null,null,null,null,1,"Ja",{"$f":"IF(AU81=\"ja\",B81,\"\")","v":"Direktzahlungen"},{"$f":"IF(AN$4=0,0,HLOOKUP(AN$4,$C$4:$AK$116,ROW()-3,FALSE))","v":1},0,0,0,0,0,0,{"$f":"IF(AND(SUM(AN81:AT81)>0,AL81<>\"\"),\"ja\",\"nein\")","v":"ja"},"Direktzahlungen","Direktzahlungen"]
[null,"ÖPUL-Prämien",1,1,1,1,1,1,1,1,1,1,1,1,1,1,1,null,1,1,1,1,1,1,1,1,1,1,1,1,null,null,null,null,null,null,1,"Ja",{"$f":"IF(AU82=\"ja\",B82,\"\")","v":"ÖPUL-Prämien"},1,0,0,0,0,0,0,{"$f":"IF(AND(SUM(AN82:AT82)>0,AL82<>\"\"),\"ja\",\"nein\")","v":"ja"},"ÖPUL-Prämien","ÖPUL-Prämien"]
[null,"Ausgleichszulage für benachteiligte Gebiete",1,1,1,1,1,1,1,1,1,1,1,1,1,1,1,null,1,1,1,1,1,1,1,1,1,1,1,1,null,null,null,null,null,null,1,"Ja",{"$f":"IF(AU83=\"ja\",B83,\"\")","v":"Ausgleichszulage für benachteiligte Gebiete"},1,0,0,0,0,0,0,{"$f":"IF(AND(SUM(AN83:AT83)>0,AL83<>\"\"),\"ja\",\"nein\")","v":"ja"},"Ausgleichszulage für benachteiligte Gebiete","Ausgleichszulage für benachteiligte Gebiete"]
[null,"Sonstige Gemeinleistungen",1,1,1,1,1,1,1,1,1,1,1,1,1,1,1,null,1,1,1,1,1,1,1,1,1,1,1,1,null,1,1,1,1,null,1,"Ja",{"$f":"IF(AU84=\"ja\",B84,\"\")","v":"Sonstige Gemeinleistungen"},1,0,0,0,0,0,0,{"$f":"IF(AND(SUM(AN84:AT84)>0,AL84<>\"\"),\"ja\",\"nein\")","v":"ja"},"Sonstige Gemeinleistungen","Sonstige Gemeinleistungen"]
[null,"Gemeinleistungen",1,1,1,1,1,1,1,1,1,1,1,1,1,1,1,null,1,1,1,1,1,1,1,1,1,1,1,1,null,1,1,1,1,null,1,null,{"$f":"IF(AU85=\"ja\",B85,\"\")","v":""},1,0,0,0,0,0,0,{"$f":"IF(AND(SUM(AN85:AT85)>0,AL85<>\"\"),\"ja\",\"nein\")","v":"nein"},"Gemeinleistungen"]
["Faktorkosten",null,null,null,null,null,null,null,null,null,null,null,null,null,null,null,null,null,null,null,null,null,null,null,null,null,null,null,null,null,null,null,null,null,null,null,null,null,null,null,null,null,null,null,null,null,null,""]
[null,"Arbeit",1,1,1,1,1,1,1,1,1,1,1,1,1,1,1,null,1,1,1,1,1,1,1,1,1,1,1,1,null,1,1,1,1,null,1,null,{"$f":"IF(AU87=\"ja\",B87,\"\")","v":""},{"$f":"IF(AN$4=0,0,HLOOKUP(AN$4,$C$4:$AK$116,ROW()-3,FALSE))","v":1},0,0,0,0,0,0,{"$f":"IF(AND(SUM(AN87:AT87)>0,AL87<>\"\"),\"ja\",\"nein\")","v":"nein"},"Arbeit"]
[null,"Lohnansatz",1,1,1,1,1,1,1,1,1,1,1,1,1,1,1,null,1,1,1,1,1,1,1,1,1,1,1,1,null,1,1,1,1,null,1,null,"",1,0,0,0,0,0,0,"nein","Lohnansatz","Beiträge zur SVB"]
[null,"Beiträge zur SVB",1,1,1,1,1,1,1,1,1,1,1,1,1,1,1,null,1,1,1,1,1,1,1,1,1,1,1,1,null,1,1,1,1,null,1,"Ja","Beiträge zur SVB",1,0,0,0,0,0,0,"ja","Beiträge zur SVB","Löhne"]
[null,"Löhne",1,1,1,1,1,1,1,1,1,1,1,1,1,1,1,null,1,1,1,1,1,1,1,1,1,1,1,1,null,1,1,1,1,null,1,"Nein","Löhne",1,0,0,0,0,0,0,"ja","Löhne"]
[null,"Reserve 13",null,null,null,null,null,null,null,null,null,null,null,null,null,null,null,null,null,null,null,null,null,null,null,null,null,null,null,null,null,null,null,null,null,null,null,null,{"$f":"IF(AU91=\"ja\",B91,\"\")","v":""},0,0,0,0,0,0,0,{"$f":"IF(AND(SUM(AN91:AT91)>0,AL91<>\"\"),\"ja\",\"nein\")","v":"nein"},{"$f":"IF(SUM(AN91:AT91)>0,B91,\"\")","v":""}]
[null,"Reserve 14",null,null,null,null,null,null,null,null,null,null,null,null,null,null,null,null,null,null,null,null,null,null,null,null,null,null,null,null,null,null,null,null,null,null,null,null,{"$f":"IF(AU92=\"ja\",B92,\"\")","v":""},0,0,0,0,0,0,0,{"$f":"IF(AND(SUM(AN92:AT92)>0,AL92<>\"\"),\"ja\",\"nein\")","v":"nein"},{"$f":"IF(SUM(AN92:AT92)>0,B92,\"\")","v":""}]
[null,"Reserve 15",null,null,null,null,null,null,null,null,null,null,null,null,null,null,null,null,null,null,null,null,null,null,null,null,null,null,null,null,null,null,null,null,null,null,null,null,{"$f":"IF(AU93=\"ja\",B93,\"\")","v":""},0,0,0,0,0,0,0,{"$f":"IF(AND(SUM(AN93:AT93)>0,AL93<>\"\"),\"ja\",\"nein\")","v":"nein"},{"$f":"IF(SUM(AN93:AT93)>0,B93,\"\")","v":""}]
[null,"Boden",1,1,1,1,1,1,1,1,1,1,1,1,1,1,1,null,1,1,1,1,1,1,null,null,null,null,1,1,null,null,null,null,null,null,1,null,"",1,0,0,0,0,0,0,"nein","Boden"]
[null,"Pachtkosten (Pachtland)",1,1,1,1,1,1,1,1,1,1,1,1,1,1,1,null,1,1,1,1,1,1,null,null,null,null,1,1,null,null,null,null,null,null,1,"Ja","Pachtkosten (Pachtland)",1,0,0,0,0,0,0,"ja","Pachtkosten (Pachtland)","Pachtkosten (Pachtland)"]
[null,"Pachtansatz (eigenes Land)",1,1,1,1,1,1,1,1,1,1,1,1,1,1,1,null,1,1,1,1,1,1,null,null,null,null,1,1,null,null,null,null,null,null,1,null,"",1,0,0,0,0,0,0,"nein","Pachtansatz (eigenes Land)"]
[null,"Zinsansatz Alm- und Weidenutzungsrechte",null,null,null,null,null,null,null,null,null,null,null,null,null,null,null,null,1,1,1,1,1,1,null,null,null,null,null,null,null,null,null,null,null,null,null,null,"",0,0,0,0,0,0,0,"nein",""]
[null,"Reserve 16",null,null,null,null,null,null,null,null,null,null,null,null,null,null,null,null,null,null,null,null,null,null,null,null,null,null,null,null,null,null,null,null,null,null,null,null,{"$f":"IF(AU98=\"ja\",B98,\"\")","v":""},0,0,0,0,0,0,0,{"$f":"IF(AND(SUM(AN98:AT98)>0,AL98<>\"\"),\"ja\",\"nein\")","v":"nein"},{"$f":"IF(SUM(AN98:AT98)>0,B98,\"\")","v":""}]
[null,"Reserve 17",null,null,null,null,null,null,null,null,null,null,null,null,null,null,null,null,null,null,null,null,null,null,null,null,null,null,null,null,null,null,null,null,null,null,null,null,{"$f":"IF(AU99=\"ja\",B99,\"\")","v":""},0,0,0,0,0,0,0,{"$f":"IF(AND(SUM(AN99:AT99)>0,AL99<>\"\"),\"ja\",\"nein\")","v":"nein"},{"$f":"IF(SUM(AN99:AT99)>0,B99,\"\")","v":""}]
[null,"Reserve 18",null,null,null,null,null,null,null,null,null,null,null,null,null,null,null,null,null,null,null,null,null,null,null,null,null,null,null,null,null,null,null,null,null,null,null,null,{"$f":"IF(AU100=\"ja\",B100,\"\")","v":""},0,0,0,0,0,0,0,{"$f":"IF(AND(SUM(AN100:AT100)>0,AL100<>\"\"),\"ja\",\"nein\")","v":"nein"},{"$f":"IF(SUM(AN100:AT100)>0,B100,\"\")","v":""}]
[null,"Kapital",1,1,1,1,1,1,1,1,1,1,1,1,1,1,1,null,1,1,1,1,1,1,1,1,1,1,1,1,null,1,1,1,1,null,1,null,"",1,0,0,0,0,0,0,"nein","Kapital"]
[null,"Zinsansatz Maschinen und Geräte",1,1,1,1,1,1,1,1,1,1,1,1,1,1,1,null,1,1,1,1,1,1,1,1,1,1,1,1,null,1,1,1,1,null,1,null,"",1,0,0,0,0,0,0,"nein","Zinsansatz Maschinen und Geräte"]
[null,"Zinsansatz Gebäude und bauliche Anlagen",1,1,1,1,1,1,1,1,1,1,1,1,1,1,1,null,1,1,1,1,1,1,1,1,1,1,1,1,null,1,1,1,1,null,1,null,"",{"$f":"IF(AN$4=0,0,HLOOKUP(AN$4,$C$4:$AK$116,ROW()-3,FALSE))","v":1},0,0,0,0,0,0,"nein","Zinsansatz Gebäude und bauliche Anlagen"]
[null,"Zinsansatz Viehvermögen",1,1,1,1,1,1,1,1,1,1,1,1,1,1,1,null,1,1,1,1,1,1,1,1,1,1,1,1,null,1,1,1,1,null,1,null,"",1,0,0,0,0,0,0,"nein","Zinsansatz Viehvermögen"]
[null,"Zinsansatz Genossenschaftsanteile",1,1,1,1,1,1,1,1,1,1,1,1,1,1,1,null,1,1,1,1,1,1,1,1,1,1,1,1,null,1,1,1,1,null,1,null,"",1,0,0,0,0,0,0,"nein","Zinsansatz Genossenschaftsanteile"]
[null,"Zinsanspruch Pflanzenbestand Dauerkulturen",null,null,null,null,null,null,null,null,1,1,1,null,null,null,null,null,null,null,null,null,null,null,null,null,null,null,null,null,null,null,null,null,null,null,null,null,{"$f":"IF(AU106=\"ja\",B106,\"\")","v":""},0,0,0,0,0,0,0,{"$f":"IF(AND(SUM(AN106:AT106)>0,AL106<>\"\"),\"ja\",\"nein\")","v":"nein"},{"$f":"IF(SUM(AN106:AT106)>0,B106,\"\")","v":""}]
[null,"Reserve 19",null,null,null,null,null,null,null,null,null,null,null,null,null,null,null,null,null,null,null,null,null,null,null,null,null,null,null,null,null,null,null,null,null,null,null,null,{"$f":"IF(AU107=\"ja\",B107,\"\")","v":""},0,0,0,0,0,0,0,{"$f":"IF(AND(SUM(AN107:AT107)>0,AL107<>\"\"),\"ja\",\"nein\")","v":"nein"},{"$f":"IF(SUM(AN107:AT107)>0,B107,\"\")","v":""}]
[null,"Reserve 20",null,null,null,null,null,null,null,null,null,null,null,null,null,null,null,null,null,null,null,null,null,null,null,null,null,null,null,null,null,null,null,null,null,null,null,null,{"$f":"IF(AU108=\"ja\",B108,\"\")","v":""},0,0,0,0,0,0,0,{"$f":"IF(AND(SUM(AN108:AT108)>0,AL108<>\"\"),\"ja\",\"nein\")","v":"nein"},{"$f":"IF(SUM(AN108:AT108)>0,B108,\"\")","v":""}]
[null,"Lieferrechte",null,null,null,null,null,null,null,null,null,null,null,null,null,null,null,null,null,null,null,null,null,null,null,null,null,null,null,null,null,null,null,null,null,null,null,null,"",0,0,0,0,0,0,0,"nein",""]
[null,"Überschussabgabe",null,null,null,null,null,null,null,null,null,null,null,null,null,null,null,null,null,null,null,null,null,null,null,null,null,null,null,null,null,null,null,null,null,null,null,"Nein","",0,0,0,0,0,0,0,"nein",""]
[null,"Leasing Milchquote",null,null,null,null,null,null,null,null,null,null,null,null,null,null,null,null,null,null,null,null,null,null,null,null,null,null,null,null,null,null,null,null,null,null,null,"Nein","",0,0,0,0,0,0,0,"nein",""]
[null,"Zinsansatz eigene A-Quote",null,null,null,null,null,null,null,null,null,null,null,null,null,null,null,null,null,null,null,null,null,null,null,null,null,null,null,null,null,null,null,null,null,null,null,null,"",0,0,0,0,0,0,0,"nein",""]
[null,"Reserve 21",null,null,null,null,null,null,null,null,null,null,null,null,null,null,null,null,null,null,null,null,null,null,null,null,null,null,null,null,null,null,null,null,null,null,null,null,"",0,0,0,0,0,0,0,"nein",""]
[null,"Reserve 22",null,null,null,null,null,null,null,null,null,null,null,null,null,null,null,null,null,null,null,null,null,null,null,null,null,null,null,null,null,null,null,null,null,null,null,null,{"$f":"IF(AU114=\"ja\",B114,\"\")","v":""},0,0,0,0,0,0,0,{"$f":"IF(AND(SUM(AN114:AT114)>0,AL114<>\"\"),\"ja\",\"nein\")","v":"nein"},{"$f":"IF(SUM(AN114:AT114)>0,B114,\"\")","v":""}]
[null,"Reserve 23",null,null,null,null,null,null,null,null,null,null,null,null,null,null,null,null,null,null,null,null,null,null,null,null,null,null,null,null,null,null,null,null,null,null,null,null,{"$f":"IF(AU115=\"ja\",B115,\"\")","v":""},0,0,0,0,0,0,0,{"$f":"IF(AND(SUM(AN115:AT115)>0,AL115<>\"\"),\"ja\",\"nein\")","v":"nein"},{"$f":"IF(SUM(AN115:AT115)>0,B115,\"\")","v":""}]
[null,"Summe Faktorkosten",1,1,1,1,1,1,1,1,1,1,1,1,1,1,1,null,1,1,1,1,1,1,1,1,1,1,1,1,null,1,1,1,1,null,1,null,"",1,0,0,0,0,0,0,"nein","Summe Faktorkosten"]
[null,null,null,null,null,null,null,null,null,null,null,null,null,null,null,null,null,null,null,null,null,null,null,null,null,null,null,null,null,null,null,null,null,null,null,null,null,null,null,null,null,null,null,null,null,null,null,null,"Beiträge zur SVB"]
["Anzahl der Auswählbaren Betriebszweige 4 + 1 + 2",null,null,null,null,null,null,null,null,null,null,null,null,null,null,null,null,null,null,null,null,null,null,null,null,null,null,null,null,null,null,null,null,null,null,null,null,null,null,null,null,null,null,null,null,null,null,null,"Löhne"]
[null,"4 Hauptbetriebszweige",null,null,null,null,null,null,null,null,null,null,null,null,null,null,null,null,null,null,null,null,null,null,null,null,null,null,null,null,null,null,null,null,null,null,null,null,null,null,null,null,null,null,null,null,null,null,"Pachtkosten (Pachtland)"]
[null,"1 sonstiges (Standard)"]
[null,"2 Umlagekostenstellen (Grundf. o SM, SM)"]
[]
["Ausgewählte Betriebszweige - Filterbereich"]
["Betriebszweig","WF"]
[null,true]
[]
["Betriebszweig","WF","BetrZwName für Export",null,null,null,null,null,"Betriebszweigfarbe"]
["Ackerbau",false,"Ackerbau",null,null,null,null,null,1]
["Marktfruchtbau",false,"Marktfrucht",null,null,null,null,null,1]
["Getreide inkl. K-Mais",false,"Getreide-KMais",null,null,null,null,null,1]
["Ölsaaten/Eiweißpflanzen",false,"Öl-Eiweißpflanzen",null,null,null,null,null,1]
["Hackfrüchte",false,"Hackfrüchte",null,null,null,null,null,1]
["Zuckerrüben",false,"Zuckerrüben",null,null,null,null,null,1]
["Kartoffel",false,"Kartoffel",null,null,null,null,null,1]
["Gartenbau, Gemüsebau",false,"Garten-Gemüsebau",null,null,null,null,null,1]
["Dauerkultur",false,"Dauerkultur",null,null,null,null,null,1]
["Obstbau",false,"Obstbau",null,null,null,null,null,1]
["Weinbau",false,"Weinbau",null,null,null,null,null,1]
["Forstwirtschaft",false,"Forstwirtschaft",null,null,null,null,null,1]
["sonstiger BZW Pflanzenbau",false,"sonsBZW Pflanzenbau",null,null,null,null,null,1]
["Milchproduktion (Kühe inkl. Kälber, w. Aufzucht)",false,"Milch-Kühe",null,null,null,null,null,2]
["Milchproduktion (Schafe, Ziegen)",false,"Milch Schafe-Ziegen",null,null,null,null,null,2]
["Rindermast (Kalbinnen, Ochsen, Stiere)",false,"Rindermast",null,null,null,null,null,2]
["Mutterkuhhaltung",false,"Mutterkuhhaltung",null,null,null,null,null,2]
["Schafe (Fleisch)",false,"Schafe Fleisch",null,null,null,null,null,2]
["Pferde (auch Einsteller)",false,"Pferde",null,null,null,null,null,2]
["Ferkelproduktion",false,"Ferkel",null,null,null,null,null,2]
["Schweinemast",false,"Schweinemast",null,null,null,null,null,2]
["Legehennen",false,"Legehennen",null,null,null,null,null,2]
["Geflügelmast",false,"Geflügelmast",null,null,null,null,null,2]
["Imkerei",false,"Imkerei",null,null,null,null,null,2]
["sonstiger BZW Tierhaltung",false,"sonsBZW Tierhaltung",null,null,null,null,null,2]
["lw Nebentätigkeit",false,"lw Nebentätigkeit",null,null,null,null,null,3]
["UaB",false,"UaB",null,null,null,null,null,3]
["Direktvermarktung",false,"Direktvermarktung",null,null,null,null,null,3]
["Maschinenring",false,"Maschinenring",null,null,null,null,null,3]
["Sonstiges",true,"Sonstiges",null,null,null,null,null,3]
["Grundfutter ohne Silomais",false,"Grundfutter oSM",null,null,null,null,null,1]
["Silomais",false,"Silomais",null,null,null,null,null,1]
["Anzahl ausgewählter Zweige",{"$f":"COUNTIF(B128:B157,TRUE)","v":1},"Maximum Auswahl"]
["Anzahl Umlagekostenstennen",{"$f":"COUNTIF(B158:B159,TRUE)","v":0},{"$f":"IF(J161=TRUE,7,5)","v":5},null,false,null,true,null,null,false]
["Anzahl Kostenstellen Gesamt",{"$f":"AnzahlHauptBZw+AnzahlUmlageKSt","v":1}]
["Betriebszweig","WF",null,null,null,null,null,null,"Zweigfarbe","TierZweig"]
["Sonstiges",true,"Betriebszweig 1",null,null,null,null,null,{"$f":"IF(A164=0,0,VLOOKUP(A164,WurzelBZweige!$A$128:$I$159,9,FALSE))","v":3},{"$f":"IF(ISNA(VLOOKUP(A164,Tierzweige,1,FALSE))=FALSE,\"Ja\",\"Nein\")","v":"Ja"}]
[null,null,"Betriebszweig 2",null,null,null,null,null,{"$f":"IF(A165=0,0,VLOOKUP(A165,WurzelBZweige!$A$128:$I$159,9,FALSE))","v":0},"Nein"]
[null,null,"Betriebszweig 3",null,null,null,null,null,{"$f":"IF(A166=0,0,VLOOKUP(A166,WurzelBZweige!$A$128:$I$159,9,FALSE))","v":0},"Nein"]
[null,null,"Betriebszweig 4",null,null,null,null,null,{"$f":"IF(A167=0,0,VLOOKUP(A167,WurzelBZweige!$A$128:$I$159,9,FALSE))","v":0},"Nein"]
[null,null,"Betriebszweig 5",null,null,null,null,null,{"$f":"IF(A168=0,0,VLOOKUP(A168,WurzelBZweige!$A$128:$I$159,9,FALSE))","v":0},"Nein"]
[{"$f":"IF(B169=FALSE,0,A158)","v":0},{"$f":"Zw_31","v":false},"Umlagekostenstelle 1",null,null,null,null,null,{"$f":"IF(A169=0,0,VLOOKUP(A169,WurzelBZweige!$A$128:$I$159,9,FALSE))","v":0},"Nein"]
[{"$f":"IF(B170=FALSE,0,A159)","v":0},{"$f":"Zw_32","v":false},"Umlagekostenstelle 2",null,null,null,null,null,{"$f":"IF(A170=0,0,VLOOKUP(A170,WurzelBZweige!$A$128:$I$159,9,FALSE))","v":0},"Nein"]
[]
["KAListe","ILListe"]
["Direktleistungen","Direktleistungen"]
["Direktkosten","Direktkosten"]
["übrige VorLeiKo","übrige VorLeiKo"]
["Gemeinleistungen"]
["Faktorkosten"]
[]
[]
[]
[]
["Wirtschaftsweise"]
["Konventionell",true]
["Biologisch",false]
["AuswBlatt konv/bio",{"$f":"IF(B183=TRUE,\"konventionell\",\"biologisch\")","v":"konventionell"}]
["Rechnungsart"]
["Brutto",true]
["Netto",false]
["AuswBlatt brutto/netto",{"$f":"IF(B187=TRUE,\"brutto\",\"netto\")","v":"brutto"}]

{"sheet":"KoSteReWurzel","index":33,"n_rows":128,"n_cols":33,"rows_kept":128,"cut":false,"hidden":true,"merged":[[2,20,4,20],[1,1,2,8],[0,12,1,19],[2,13,4,13],[2,14,4,14],[2,15,4,15],[2,16,4,16],[2,17,4,17],[2,18,4,18],[2,19,4,19]]}
[null,null,null,null,null,null,null,null,null,null,null,null,"Pivottabellendaten nach BZw sortiert für Übernahme in KoStRe"]
[null,"Zusammenführung der Inerbetrieblichen Leistungen mit BaB Daten - Pivot Tabelle"]
[null,null,null,null,null,null,null,null,null,null,null,null,null,{"$f":"_Zw1","v":"Sonstiges"},{"$f":"_Zw2","v":0},{"$f":"_Zw3","v":0},{"$f":"_Zw4","v":0},{"$f":"_Zw5","v":0},{"$f":"_Zw6","v":0},{"$f":"_Zw7","v":0},"Schlüssel"]
[null,"Summe von Wert","Spalte"]
[null,"Zeile","Sonstiges","Schlüssel",0,"Gesamtergebnis",null,null,null,null,null,null,null,null,null,null,null,null,null,null,null,null,{"$f":"Betrieb!C61","v":"Geschäfts- bzw. Genossenschaftsanteile"},null,null,"Schlüssel",{"$f":"BZw_1","v":"Sonstiges"},{"$f":"BZw_2","v":0},{"$f":"BZw_3","v":0},{"$f":"BZw_4","v":0},{"$f":"BZw_5","v":0},{"$f":"BZw_6","v":0},{"$f":"BZw_7","v":0}]
[null,"Leistungs- bzw. Kostenart",null,null,null,null,null,null,null,null,null,{"$f":"SUM(C6:K6)/2","v":0},{"$f":"B6","v":"Leistungs- bzw. Kostenart"},{"$f":"HLOOKUP(N$3,$C$5:$J$127,ROW()-4,FALSE)","v":0},{"$f":"HLOOKUP(O$3,$C$5:$J$127,ROW()-4,FALSE)","v":0},0,0,0,0,0,0,null,{"$f":"Betrieb!C62","v":"Ge.-Anteil 1"},{"$f":"Betrieb!D62","v":0},{"$f":"Betrieb!E62","v":"€   BZW"},{"$f":"Betrieb!F62","v":0},{"$f":"IF($X6=0,0,IF($Z6=AA$5,$X6,0))","v":0},{"$f":"IF($X6=0,0,IF($Z6=AB$5,$X6,0))","v":0},0,0,0,0,0]
[null,null,null,null,null,null,null,null,null,null,null,{"$f":"SUM(C7:K7)/2","v":0},{"$f":"B7","v":0},{"$f":"HLOOKUP(N$3,$C$5:$J$127,ROW()-4,FALSE)","v":0},0,0,0,0,0,0,0,null,{"$f":"Betrieb!C63","v":"Ge.-Anteil 2"},{"$f":"Betrieb!D63","v":0},{"$f":"Betrieb!E63","v":"€   BZW"},{"$f":"Betrieb!F63","v":0},{"$f":"IF($X7=0,0,IF($Z7=AA$5,$X7,0))","v":0},0,0,0,0,0,0]
[null,null,null,null,null,null,null,null,null,null,null,0,0,0,0,0,0,0,0,0,0,null,{"$f":"Betrieb!C64","v":"Ge.-Anteil 3"},{"$f":"Betrieb!D64","v":0},{"$f":"Betrieb!E64","v":"€   BZW"},{"$f":"Betrieb!F64","v":0},{"$f":"IF($X8=0,0,IF($Z8=AA$5,$X8,0))","v":0},0,0,0,0,0,0]
[null,null,null,null,null,null,null,null,null,null,null,0,0,0,0,0,0,0,0,0,0,null,{"$f":"Betrieb!C65","v":"Ge.-Anteil 4"},{"$f":"Betrieb!D65","v":0},{"$f":"Betrieb!E65","v":"€   Schlüssel"},{"$f":"Betrieb!F65","v":"DfL Schlüssel"},{"$f":"IF($X9=0,0,VLOOKUP($Z9,Schlüsselliste,COLUMN(B7),FALSE)*$X9)","v":0},0,0,0,0,0,0]
[null,null,null,null,null,null,null,null,null,null,null,0,0,0,0,0,0,0,0,0,0,null,{"$f":"Betrieb!C66","v":"Ge.-Anteil 5"},{"$f":"Betrieb!D66","v":0},{"$f":"Betrieb!E66","v":"€   Schlüssel"},{"$f":"Betrieb!F66","v":0},0,0,0,0,0,0,0]
[null,null,null,null,null,null,null,null,null,null,null,0,0,0,0,0,0,0,0,0,0,null,{"$f":"Betrieb!C67","v":"Ge.-Anteil 6"},{"$f":"Betrieb!D67","v":0},{"$f":"Betrieb!E67","v":"€   Schlüssel"},{"$f":"Betrieb!F67","v":0},0,0,0,0,0,0,0]
[null,null,null,null,null,null,null,null,null,null,null,0,0,0,0,0,0,0,0,0,0,null,"∑ Anteile",{"$f":"SUM(X6:X11)","v":0},null,"Zuteilung BZw",{"$f":"SUM(AA6:AA11)","v":0},0,0,0,0,0,0]
[null,null,null,null,null,null,null,null,null,null,null,0,0,0,0,0,0,0,0,0,0]
[null,null,null,null,null,null,null,null,null,null,null,0,0,0,0,0,0,0,0,0,0]
[null,null,null,null,null,null,null,null,null,null,null,0,0,0,0,0,0,0,0,0,0]
[null,null,null,null,null,null,null,null,null,null,null,0,0,0,0,0,0,0,0,0,0]
[null,null,null,null,null,null,null,null,null,null,null,0,0,0,0,0,0,0,0,0,0]
[null,null,null,null,null,null,null,null,null,null,null,0,0,0,0,0,0,0,0,0,0]
[null,null,null,null,null,null,null,null,null,null,null,0,0,0,0,0,0,0,0,0,0]
[null,null,null,null,null,null,null,null,null,null,null,0,0,0,0,0,0,0,0,0,0]
[null,null,null,null,null,null,null,null,null,null,null,0,0,0,0,0,0,0,0,0,0]
[null,null,null,null,null,null,null,null,null,null,null,0,0,0,0,0,0,0,0,0,0]
[null,null,null,null,null,null,null,null,null,null,null,0,0,0,0,0,0,0,0,0,0]
[null,null,null,null,null,null,null,null,null,null,null,0,0,0,0,0,0,0,0,0,0]
[null,null,null,null,null,null,null,null,null,null,null,0,0,0,0,0,0,0,0,0,0]
[null,null,null,null,null,null,null,null,null,null,null,0,0,0,0,0,0,0,0,0,0]
[null,null,null,null,null,null,null,null,null,null,null,0,0,0,0,0,0,0,0,0,0]
[null,null,null,null,null,null,null,null,null,null,null,0,0,0,0,0,0,0,0,0,0]
[null,null,null,null,null,null,null,null,null,null,null,0,0,0,0,0,0,0,0,0,0]
[null,null,null,null,null,null,null,null,null,null,null,0,0,0,0,0,0,0,0,0,0]
[null,null,null,null,null,null,null,null,null,null,null,0,0,0,0,0,0,0,0,0,0]
[null,null,null,null,null,null,null,null,null,null,null,0,0,0,0,0,0,0,0,0,0]
[null,null,null,null,null,null,null,null,null,null,null,0,0,0,0,0,0,0,0,0,0]
[null,null,null,null,null,null,null,null,null,null,null,0,0,0,0,0,0,0,0,0,0]
[null,null,null,null,null,null,null,null,null,null,null,0,0,0,0,0,0,0,0,0,0]
[null,null,null,null,null,null,null,null,null,null,null,0,0,0,0,0,0,0,0,0,0]
[null,null,null,null,null,null,null,null,null,null,null,0,0,0,0,0,0,0,0,0,0]
[null,null,null,null,null,null,null,null,null,null,null,0,0,0,0,0,0,0,0,0,0]
[null,null,null,null,null,null,null,null,null,null,null,0,0,{"$f":"HLOOKUP(N$3,$C$5:$J$127,ROW()-4,FALSE)","v":0},0,0,0,0,0,0,0]
[null,null,null,null,null,null,null,null,null,null,null,0,0,0,0,0,0,0,0,0,0]
[null,null,null,null,null,null,null,null,null,null,null,0,0,0,0,0,0,0,0,0,0]
[null,null,null,null,null,null,null,null,null,null,null,0,0,0,0,0,0,0,0,0,0]
[null,null,null,null,null,null,null,null,null,null,null,0,0,0,0,0,0,0,0,0,0]
[null,null,null,null,null,null,null,null,null,null,null,0,0,0,0,0,0,0,0,0,0]
[null,null,null,null,null,null,null,null,null,null,null,0,0,0,0,0,0,0,0,0,0]
[null,null,null,null,null,null,null,null,null,null,null,0,0,0,0,0,0,0,0,0,0]
[null,null,null,null,null,null,null,null,null,null,null,0,0,0,0,0,0,0,0,0,0]
[null,null,null,null,null,null,null,null,null,null,null,0,0,0,0,0,0,0,0,0,0]
[null,null,null,null,null,null,null,null,null,null,null,0,0,0,0,0,0,0,0,0,0]
[null,null,null,null,null,null,null,null,null,null,null,0,0,0,0,0,0,0,0,0,0]
[null,null,null,null,null,null,null,null,null,null,null,0,0,0,0,0,0,0,0,0,0]
[null,null,null,null,null,null,null,null,null,null,null,0,0,0,0,0,0,0,0,0,0]
[null,null,null,null,null,null,null,null,null,null,null,0,0,0,0,0,0,0,0,0,0]
[null,null,null,null,null,null,null,null,null,null,null,0,0,0,0,0,0,0,0,0,0]
[null,null,null,null,null,null,null,null,null,null,null,0,0,0,0,0,0,0,0,0,0]
[null,null,null,null,null,null,null,null,null,null,null,0,0,0,0,0,0,0,0,0,0]
[null,null,null,null,null,null,null,null,null,null,null,0,0,0,0,0,0,0,0,0,0]
[null,null,null,null,null,null,null,null,null,null,null,0,0,0,0,0,0,0,0,0,0]
[null,null,null,null,null,null,null,null,null,null,null,0,0,0,0,0,0,0,0,0,0]
[null,null,null,null,null,null,null,null,null,null,null,0,0,0,0,0,0,0,0,0,0]
[null,null,null,null,null,null,null,null,null,null,null,0,0,0,0,0,0,0,0,0,0]
[null,null,null,null,null,null,null,null,null,null,null,0,0,0,0,0,0,0,0,0,0]
[null,null,null,null,null,null,null,null,null,null,null,0,0,0,0,0,0,0,0,0,0]
[null,null,null,null,null,null,null,null,null,null,null,0,0,0,0,0,0,0,0,0,0]
[null,null,null,null,null,null,null,null,null,null,null,0,0,0,0,0,0,0,0,0,0]
[null,null,null,null,null,null,null,null,null,null,null,0,0,0,0,0,0,0,0,0,0]
[null,null,null,null,null,null,null,null,null,null,null,0,0,0,0,0,0,0,0,0,0]
[null,null,null,null,null,null,null,null,null,null,null,0,0,0,0,0,0,0,0,0,0]
[null,null,null,null,null,null,null,null,null,null,null,0,0,0,0,0,0,0,0,0,0]
[null,null,null,null,null,null,null,null,null,null,null,0,0,0,0,0,0,0,0,0,{"$f":"HLOOKUP(U$3,$C$5:$J$127,ROW()-4,FALSE)","v":0}]
[null,null,null,null,null,null,null,null,null,null,null,{"$f":"SUM(C71:K71)/2","v":0},{"$f":"B71","v":0},{"$f":"HLOOKUP(N$3,$C$5:$J$127,ROW()-4,FALSE)","v":0},0,0,0,0,0,0,0]
[null,null,null,null,null,null,null,null,null,null,null,0,0,0,0,0,0,0,0,0,0]
[null,null,null,null,null,null,null,null,null,null,null,0,0,0,0,0,0,0,0,0,0]
[null,null,null,null,null,null,null,null,null,null,null,0,0,0,0,0,0,0,0,0,0]
[null,null,null,null,null,null,null,null,null,null,null,0,0,0,0,0,0,0,0,0,0]
[null,null,null,null,null,null,null,null,null,null,null,0,0,0,0,0,0,0,0,0,0]
[null,null,null,null,null,null,null,null,null,null,null,0,0,0,0,0,0,0,0,0,0]
[null,null,null,null,null,null,null,null,null,null,null,0,0,0,0,0,0,0,0,0,0]
[null,null,null,null,null,null,null,null,null,null,null,0,0,0,0,0,0,0,0,0,0]
[null,null,null,null,null,null,null,null,null,null,null,0,0,0,0,0,0,0,0,0,0]
[null,null,null,null,null,null,null,null,null,null,null,0,0,0,0,0,0,0,0,0,0]
[null,null,null,null,null,null,null,null,null,null,null,0,0,0,0,0,0,0,0,0,0]
[null,null,null,null,null,null,null,null,null,null,null,0,0,0,0,0,0,0,0,0,0]
[null,null,null,null,null,null,null,null,null,null,null,0,0,0,0,0,0,0,0,0,0]
[null,null,null,null,null,null,null,null,null,null,null,0,0,0,0,0,0,0,0,0,0]
[null,null,null,null,null,null,null,null,null,null,null,0,0,0,0,0,0,0,0,0,0]
[null,null,null,null,null,null,null,null,null,null,null,0,0,0,0,0,0,0,0,0,0]
[null,null,null,null,null,null,null,null,null,null,null,0,0,0,0,0,0,0,0,0,0]
[null,null,null,null,null,null,null,null,null,null,null,0,0,0,0,0,0,0,0,0,0]
[null,null,null,null,null,null,null,null,null,null,null,0,0,0,0,0,0,0,0,0,0]
[null,null,null,null,null,null,null,null,null,null,null,0,0,0,0,0,0,0,0,0,0]
[null,null,null,null,null,null,null,null,null,null,null,0,0,0,0,0,0,0,0,0,0]
[null,null,null,null,null,null,null,null,null,null,null,0,0,0,0,0,0,0,0,0,0]
[null,null,null,null,null,null,null,null,null,null,null,0,0,0,0,0,0,0,0,0,0]
[null,null,null,null,null,null,null,null,null,null,null,0,0,0,0,0,0,0,0,0,0]
[null,null,null,null,null,null,null,null,null,null,null,0,0,0,0,0,0,0,0,0,0]
[null,null,null,null,null,null,null,null,null,null,null,0,0,0,0,0,0,0,0,0,0]
[null,null,null,null,null,null,null,null,null,null,null,0,0,0,0,0,0,0,0,0,0]
[null,null,null,null,null,null,null,null,null,null,null,0,0,0,0,0,0,0,0,0,0]
[null,null,null,null,null,null,null,null,null,null,null,0,0,0,0,0,0,0,0,0,0]
[null,null,null,null,null,null,null,null,null,null,null,0,0,0,0,0,0,0,0,0,0]
[null,null,null,null,null,null,null,null,null,null,null,0,0,0,0,0,0,0,0,0,0]
[null,null,null,null,null,null,null,null,null,null,null,0,0,0,0,0,0,0,0,0,0]
[null,null,null,null,null,null,null,null,null,null,null,0,0,0,0,0,0,0,0,0,0]
[null,null,null,null,null,null,null,null,null,null,null,0,0,0,0,0,0,0,0,0,0]
[null,null,null,null,null,null,null,null,null,null,null,0,0,0,0,0,0,0,0,0,0]
[null,null,null,null,null,null,null,null,null,null,null,0,0,0,0,0,{"$f":"HLOOKUP(Q$3,$C$5:$J$127,ROW()-4,FALSE)","v":0},0,0,0,0]
[null,null,null,null,null,null,null,null,null,null,null,0,0,0,0,0,0,0,0,0,0]
[null,null,null,null,null,null,null,null,null,null,null,0,0,0,0,0,0,0,0,0,0]
[null,null,null,null,null,null,null,null,null,null,null,0,0,0,0,0,0,0,0,0,0]
[null,null,null,null,null,null,null,null,null,null,null,0,0,0,0,0,0,0,0,0,0]
[null,null,null,null,null,null,null,null,null,null,null,0,0,0,0,0,0,0,0,0,0]
[null,null,null,null,null,null,null,null,null,null,null,0,0,0,0,0,0,0,0,0,0]
[null,null,null,null,null,null,null,null,null,null,null,0,0,0,0,0,0,0,0,0,0]
[null,null,null,null,null,null,null,null,null,null,null,0,0,0,0,0,0,0,0,0,0]
[null,null,null,null,null,null,null,null,null,null,null,0,0,0,0,0,0,0,0,0,0]
[null,null,null,null,null,null,null,null,null,null,null,0,0,0,0,0,0,0,0,0,0]
[null,null,null,null,null,null,null,null,null,null,null,0,0,0,0,0,0,0,0,0,0]
[null,null,null,null,null,null,null,null,null,null,null,0,0,0,0,0,0,0,0,0,0]
[null,null,null,null,null,null,null,null,null,null,null,0,0,0,0,0,0,0,0,0,0]
[null,null,null,null,null,null,null,null,null,null,null,0,0,0,0,0,0,0,0,0,0]
[null,null,null,null,null,null,null,null,null,null,null,0,0,0,0,0,0,0,0,0,0]
[null,null,null,null,null,null,null,null,null,null,null,0,0,0,0,0,0,0,0,0,0]
[null,null,null,null,null,null,null,null,null,null,null,0,0,0,0,0,0,0,0,0,0]
[null,null,null,null,null,null,null,null,null,null,null,0,0,0,0,0,0,0,0,0,0]
[null,null,null,null,null,null,null,null,null,null,null,0,0,0,0,0,0,0,0,0,0]
[null,null,null,null,null,null,null,null,null,null,null,0,0,0,0,0,0,0,0,0,0]
[null,null,null,null,null,null,null,null,null,null,null,0]

{"sheet":"Tank","index":34,"n_rows":229,"n_cols":3,"rows_kept":229,"cut":false,"hidden":true,"merged":[]}
["LFBISNr"]
[]
[]
["WurzelBZweige!_FilterDatabase","=WurzelBZweige!R108C1:R137C2",{"$f":"WurzelBZweige!$A$127:$B$156","v":{"$error":"#VALUE!"}}]
["Acker","=Flächennutzung!R107C8",{"$f":"Flächennutzung!$H$107","v":0}]
["AckerPacht","=Betrieb!R27C3",{"$f":"Betrieb!$C$27","v":0}]
["AfaGebäude","=Gebäude!R7C5",{"$f":"Gebäude!$E$7","v":0}]
["AfaMaschinen","=Maschinen!R7C5",{"$f":"Maschinen!$E$7","v":0}]
["AkhAufzucht","=Arbeitszeit!R1C17",{"$f":"Arbeitszeit!$T$1","v":0}]
["AkhGF","=Arbeitszeit!R1C19",{"$f":"Arbeitszeit!$X$1","v":0}]
["AkhKuh","=Arbeitszeit!R1C16",{"$f":"Arbeitszeit!$S$1","v":0}]
["AkhSM","=Arbeitszeit!R1C20",{"$f":"Arbeitszeit!$Y$1","v":0}]
["Akhsonstige","=Arbeitszeit!R1C18",{"$f":"Arbeitszeit!$W$1","v":0}]
["AKNr","=Betrieb!R12C4",{"$f":"Betrieb!$C$12","v":1}]
["AListe","=WurzelBZweige!R79C49:R82C49",{"$f":"WurzelBZweige!$AW$87:$AW$90","v":{"$error":"#VALUE!"}}]
["ALM_FF_EBP","=Allgemein!R24C5",{"$f":"#REF!","v":{"$error":"#REF!"}}]
["AlmFF","=Betrieb!R34C4",{"$f":"Betrieb!$D$34","v":0}]
["Anfang","=KoSteRe!R6C3",{"$f":"KoSteRe!$C$6","v":""}]
["AnzahlHauptBZw","=WurzelBZweige!R141C2",{"$f":"WurzelBZweige!$B$160","v":1}]
["AnzahlUmlageKSt","=WurzelBZweige!R142C2",{"$f":"WurzelBZweige!$B$161","v":0}]
["AZ_NW_Geb_Anteil","=Schlüssel!R74C4",{"$f":"Schlüssel!$D$80","v":0}]
["AZ_NW_MA_Anteil","=Schlüssel!R68C4",{"$f":"Schlüssel!$D$74","v":0}]
["AZ_Stueck","=ImportTiere!R16C36",{"$f":"ImportTiere!$AM$16","v":0}]
["AZFF","=Flächennutzung!R107C22",{"$f":"Flächennutzung!$V$107","v":0}]
["AZsF","=Flächennutzung!R107C23",{"$f":"Flächennutzung!$W$107","v":0}]
["BedarfK","=Flächennutzung!R130C18",{"$f":"Flächennutzung!$R$130","v":0}]
["BedarfN","=Flächennutzung!R128C18",{"$f":"Flächennutzung!$R$128","v":0}]
["BedarfP","=Flächennutzung!R129C18",{"$f":"Flächennutzung!$R$129","v":0}]
["BHK","=Betrieb!R37C5",{"$f":"Betrieb!$E$37","v":0}]
["BioAcker","=Flächennutzung!R107C14",{"$f":"Flächennutzung!$N$107","v":0}]
["BioFF","=Flächennutzung!R107C13",{"$f":"Flächennutzung!$M$107","v":0}]
["BioGF","=Flächennutzung!R107C11",{"$f":"Flächennutzung!$K$107","v":0}]
["BioGFoSM","=Flächennutzung!R107C12",{"$f":"Flächennutzung!$L$107","v":0}]
["BioPAcker","=Betrieb!R78C5",{"$f":"Betrieb!$E$86","v":230}]
["BioPmT","=Betrieb!R77C5",{"$f":"Betrieb!$E$85","v":225}]
["BioPoT","=Betrieb!R79C5",{"$f":"Betrieb!$E$87","v":70}]
["Blatt","=Menü!R24C17",{"$f":"Menü!$P$26","v":"Betrieb"}]
["BListe","=WurzelBZweige!R83C49:R86C49",{"$f":"WurzelBZweige!$AW$94:$AW$97","v":{"$error":"#VALUE!"}}]
["BName","=Betrieb!R3C3",{"$f":"Betrieb!$C$3","v":0}]
["BOrt","=Betrieb!R5C3",{"$f":"Betrieb!$C$5","v":0}]
["BStraße","=Betrieb!R4C3",{"$f":"Betrieb!$C$4","v":0}]
["BTel","=Betrieb!R6C3",{"$f":"Betrieb!$C$6","v":0}]
["BZw1","=WurzelBZweige!R145C1",{"$f":"WurzelBZweige!$A$164","v":"Sonstiges"}]
["BZw2","=WurzelBZweige!R146C1",{"$f":"WurzelBZweige!$A$165","v":0}]
["BZw3","=WurzelBZweige!R147C1",{"$f":"WurzelBZweige!$A$166","v":0}]
["BZw4","=WurzelBZweige!R148C1",{"$f":"WurzelBZweige!$A$167","v":0}]
["BZw5","=WurzelBZweige!R149C1",{"$f":"WurzelBZweige!$A$168","v":0}]
["BZw6","=WurzelBZweige!R150C1",{"$f":"WurzelBZweige!$A$169","v":0}]
["BZw7","=WurzelBZweige!R151C1",{"$f":"WurzelBZweige!$A$170","v":0}]
["BZweigListe","=WurzelBZweige!R145C1:R152C1",{"$f":"WurzelBZweige!$A$164:$A$171","v":{"$error":"#VALUE!"}}]
["DieselAussen","=Flächennutzung!R107C20",{"$f":"Flächennutzung!$T$107","v":0}]
["DieselGesamt","=Dieselverbrauch!R23C4",{"$f":"Dieselverbrauch!$D$25","v":0}]
["DieselInnen","=Dieselverbrauch!R21C4",{"$f":"Dieselverbrauch!$D$24","v":0}]
["Direktschlüssel","=Schlüssel!R6C10:R25C10",{"$f":"Schlüssel!$J$6:$J$25","v":{"$error":"#VALUE!"}}]
["DkListe","=WurzelBZweige!R33C49:R51C49",{"$f":"WurzelBZweige!$AW$37:$AW$59","v":0}]
["DlListe","=WurzelBZweige!R5C49:R31C49",{"$f":"WurzelBZweige!$AW$5:$AW$35","v":{"$error":"#VALUE!"}}]
["BüB, BaB'!Print_Titles","='BüB, BaB'!R2:R4",{"$f":"'BüB, BaB'!$4:$7","v":{"$error":"#VALUE!"}}]
["Tiere!Düngerdaten","=WurzelTiere!R58C2:R87C10",{"$f":"WurzelTiere!$B$58:$J$87","v":0}]
["Düngerdaten","=WurzelTiere!R58C2:R87C10",{"$f":"WurzelTiere!$B$58:$J$87","v":0}]
["Tiere!Düngernamen","=WurzelTiere!R57C2:R87C2",{"$f":"WurzelTiere!$B$57:$B$87","v":"Milchvieh Gülle (1+1 verdünnt)"}]
["Düngernamen","=WurzelTiere!R57C2:R87C2",{"$f":"WurzelTiere!$B$57:$B$87","v":"Mastrindergülle (unverdünnt)"}]
["EBPFläche","=Flächennutzung!R107C21",{"$f":"Flächennutzung!$U$107","v":0}]
["EHWZupacht","=Betrieb!R53C5",{"$f":"Betrieb!$E$53","v":0}]
["eigeneAQuote","=Allgemein!R33C4",{"$f":"#REF!","v":{"$error":"#REF!"}}]
["eigeneDQuote","=Allgemein!R35C4",{"$f":"#REF!","v":{"$error":"#REF!"}}]
["Einheitswert_ALM","=Allgemein!R41C4",{"$f":"#REF!","v":{"$error":"#REF!"}}]
["EinheitswertEigenfläche","=Betrieb!R51C5",{"$f":"Betrieb!$E$51","v":0}]
["EinheitswertFW","=Betrieb!R49C4",{"$f":"Betrieb!$D$49","v":0}]
["EinheitswertLN","=Betrieb!R48C4",{"$f":"Betrieb!$D$48","v":0}]
["EinheitswertSumme","=Betrieb!R54C5",{"$f":"Betrieb!$E$54","v":0}]
["Einheitswertzuschlag","=Betrieb!R50C4",{"$f":"Betrieb!$D$50","v":0}]
["Faktorenschlüssel","=Schlüssel!R6C13:R25C13",{"$f":"Schlüssel!$M$6:$M$25","v":{"$error":"#VALUE!"}}]
["FaktorNP","=Betrieb!R91C5",{"$f":"Betrieb!$E$99","v":0.18}]
["Festmist","=Tiere!R53C23",{"$f":"Tiere!$Y$61","v":0}]
["FF","=Flächennutzung!R107C18",{"$f":"Flächennutzung!$R$107","v":0}]
["FKListe","=WurzelBZweige!R97C49:R102C49",{"$f":"WurzelBZweige!$AW$116:$AW$121","v":{"$error":"#VALUE!"}}]
["Flüssigmist","=Tiere!R53C21",{"$f":"Tiere!$W$61","v":0}]
["Frucht","=WurzelFrucht!R49C2:R84C2",{"$f":"WurzelFrucht!$B$61:$B$98","v":"Sommerbraugerste"}]
["Fruchtdaten","=WurzelFrucht!R50C2:R90C39",{"$f":"WurzelFrucht!$B$62:$AL$104","v":"< 6,0"}]
["Fruchtleistung","=WurzelFrucht!R1C3:R1C7",{"$f":"WurzelFrucht!$C$1:$G$1","v":0}]
["Gebäudewert","=Schlüssel!R76C10",{"$f":"Schlüssel!$J$82","v":0}]
["Gemeinleistungsschlüssel","=Schlüssel!R27C10:R39C10",{"$f":"Schlüssel!$N$6:$N$25","v":{"$error":"#VALUE!"}}]
["GF_MA_NW_Anteil","=Schlüssel!R68C6",{"$f":"Schlüssel!$F$74","v":0}]
["GF_NW_Geb_Anteil","=Schlüssel!R74C6",{"$f":"Schlüssel!$F$80","v":0}]
["GFBedarf","=Schlüssel!R16C3:R16C7",{"$f":"Schlüssel!$C$16:$G$16","v":0}]
["GFoSM","=Flächennutzung!R107C16",{"$f":"Flächennutzung!$P$107","v":0}]
["GlListe","=WurzelBZweige!R72C49:R76C49",{"$f":"WurzelBZweige!$AW$80:$AW$84","v":{"$error":"#VALUE!"}}]
["Grünland","=Flächennutzung!R107C9",{"$f":"Flächennutzung!$I$107","v":0}]
["GrünlandPacht","=Betrieb!R29C3",{"$f":"Betrieb!$C$29","v":0}]
["HaSatz","=Betrieb!R52C4",{"$f":"Betrieb!$D$52","v":0}]
["HDünger","=WurzelHD!R2C1:R32C1",{"$f":"WurzelHDWD!$A$3:$A$33","v":{"$error":"#VALUE!"}}]
["HDüngerdaten","=WurzelHD!R3C1:R32C4",{"$f":"WurzelHDWD!$A$4:$D$33","v":{"$error":"#VALUE!"}}]
["HDüngerK","=Tiere!R62C20",{"$f":"Tiere!$V$49","v":0}]
["HDüngerN","=Tiere!R62C18",{"$f":"Tiere!$T$49","v":0}]
["HDüngerP","=Tiere!R62C19",{"$f":"Tiere!$U$49","v":0}]
["Hutweiden_und_Streuwiesen","=Allgemein!R21C4",{"$f":"#REF!","v":{"$error":"#REF!"}}]
["ILListe","=WurzelBZweige!R154C2:R161C2",{"$f":"WurzelBZweige!$B$173:$B$180","v":{"$error":"#VALUE!"}}]
["ILvlk","=WurzelBZweige!R6C51:R10C51",{"$f":"WurzelBZweige!$AY$6:$AY$10","v":{"$error":"#VALUE!"}}]
["Tiere!Jungviehm1","=ImportTiere!R8C36",{"$f":"ImportTiere!$AM$8","v":{"$error":"#REF!"}}]
["Jungviehm1","=ImportTiere!R8C36",{"$f":"ImportTiere!$AM$8","v":{"$error":"#REF!"}}]
["Tiere!Jungviehm2","=ImportTiere!R9C36",{"$f":"ImportTiere!$AM$9","v":{"$error":"#REF!"}}]
["Jungviehm2","=ImportTiere!R9C36",{"$f":"ImportTiere!$AM$9","v":{"$error":"#REF!"}}]
["Tiere!Jungviehw1","=ImportTiere!R12C36",{"$f":"ImportTiere!$AM$12","v":{"$error":"#REF!"}}]
["Jungviehw1","=ImportTiere!R12C36",{"$f":"ImportTiere!$AM$12","v":{"$error":"#REF!"}}]
["Tiere!Jungviehw2","=ImportTiere!R13C36",{"$f":"ImportTiere!$AM$13","v":{"$error":"#REF!"}}]
["Jungviehw2","=ImportTiere!R13C36",{"$f":"ImportTiere!$AM$13","v":{"$error":"#REF!"}}]
["Tiere!Kalbin","=ImportTiere!R14C36",{"$f":"ImportTiere!$AM$14","v":{"$error":"#REF!"}}]
["Kalbin","=ImportTiere!R14C36",{"$f":"ImportTiere!$AM$14","v":{"$error":"#REF!"}}]
["Tiere!Kalbm","=ImportTiere!R7C36",{"$f":"ImportTiere!$AM$7","v":{"$error":"#REF!"}}]
["Kalbm","=ImportTiere!R7C36",{"$f":"ImportTiere!$AM$7","v":{"$error":"#REF!"}}]
["Tiere!Kalbw","=ImportTiere!R11C36",{"$f":"ImportTiere!$AM$11","v":{"$error":"#REF!"}}]
["Kalbw","=ImportTiere!R11C36",{"$f":"ImportTiere!$AM$11","v":{"$error":"#REF!"}}]
["KAListe","=WurzelBZweige!R154C1:R161C1",{"$f":"WurzelBZweige!$A$173:$A$180","v":{"$error":"#VALUE!"}}]
["KFaktor","=Betrieb!R90C5",{"$f":"Betrieb!$E$98","v":0.6}]
["kGF","=Flächennutzung!R107C19",{"$f":"Flächennutzung!$S$107","v":0}]
["KListe","=WurzelBZweige!R87C49:R91C49",{"$f":"WurzelBZweige!$AW$101:$AW$105","v":{"$error":"#VALUE!"}}]
["Tiere!Kuh","=ImportTiere!R6C36",{"$f":"ImportTiere!$AM$6","v":{"$error":"#REF!"}}]
["Kuh","=ImportTiere!R6C36",{"$f":"ImportTiere!$AM$6","v":{"$error":"#REF!"}}]
["KuhIST","=Tiere!R31C2",{"$f":"Tiere!$B$31","v":0}]
["LFBISNr","=Betrieb!R11C4",{"$f":"Betrieb!$C$11","v":1}]
["LListe","=WurzelBZweige!R92C49:R96C49",{"$f":"WurzelBZweige!$AW$109:$AW$113","v":{"$error":"#VALUE!"}}]
["LN","=Allgemein!R20C4",{"$f":"#REF!","v":{"$error":"#REF!"}}]
["Lohnansatz","=Betrieb!R63C4",{"$f":"Betrieb!$D$71","v":12.4}]
["Maschinenwert","=Schlüssel!R70C10",{"$f":"Schlüssel!$J$76","v":0}]
["MK_NW_Geb_Anteil","=Schlüssel!R74C3",{"$f":"Schlüssel!$C$80","v":0}]
["MK_NW_MAsch_Anteil","=Schlüssel!R68C3",{"$f":"Schlüssel!$C$74","v":0}]
["Name","=Allgemein!R3C3",{"$f":"#REF!","v":{"$error":"#REF!"}}]
["Namenliste","=Allgemein!R103C1:R303C1",{"$f":"#REF!","v":{"$error":"#REF!"}}]
["NFaktor","=Betrieb!R88C5",{"$f":"Betrieb!$E$96","v":0.27}]
["PachtAcker","=Betrieb!R66C4",{"$f":"Betrieb!$D$74","v":0}]
["PachtGrünland","=Betrieb!R67C4",{"$f":"Betrieb!$D$75","v":0}]
["PAnteilAcker","=Schlüssel!R151C2",{"$f":"Schlüssel!$B$160","v":"Einschränkung ertragssteigender Betriebsmittel Schlüssel"}]
["PAnteilGL","=Schlüssel!R150C2",{"$f":"Schlüssel!$B$159","v":0}]
["PFaktor","=Betrieb!R89C5",{"$f":"Betrieb!$E$97","v":0.46}]
["PreisK","=Betrieb!R97C4",{"$f":"Betrieb!$D$106","v":0}]
["PreisKrein","=Betrieb!R97C5",{"$f":"Betrieb!$E$106","v":0.9}]
["PreisN","=Betrieb!R95C4",{"$f":"Betrieb!$D$104","v":0}]
["PreisNrein","=Betrieb!R95C5",{"$f":"Betrieb!$E$104","v":1.36}]
["PreisP","=Betrieb!R96C4",{"$f":"Betrieb!$D$105","v":0}]
["PreisPrein","=Betrieb!R96C5",{"$f":"Betrieb!$E$105","v":1.23}]
["ImportTiere!registerZuhause010107_221008","=ImportTiere!R3C1:R1009C15",{"$f":"ImportTiere!$A$3:$O$1009","v":0}]
["Rein_K","=Allgemein!R88C5",{"$f":"#REF!","v":{"$error":"#REF!"}}]
["Rein_N","=Allgemein!R86C5",{"$f":"#REF!","v":{"$error":"#REF!"}}]
["Rein_P","=Allgemein!R87C5",{"$f":"#REF!","v":{"$error":"#REF!"}}]
["RGVE_JV","=Schlüssel!R53C4",{"$f":"Schlüssel!$D$58","v":0}]
["Schlüssel","=Schlüssel!R5C2:R39C2",{"$f":"Schlüssel!$B$5:$B$44","v":{"$error":"#VALUE!"}}]
["Schlüsselliste","=Schlüssel!R6C2:R39C9",{"$f":"Schlüssel!$B$6:$I$44","v":{"$error":"#VALUE!"}}]
["SilagePMilch","=Betrieb!R85C5",{"$f":"Betrieb!$E$93","v":150}]
["SilagePoMilch","=Betrieb!R86C5",{"$f":"Betrieb!$E$94","v":80}]
["Silomais","=Flächennutzung!R107C17",{"$f":"Flächennutzung!$Q$107","v":0}]
["SM_NW_Geb_Anteil","=Schlüssel!R74C7",{"$f":"Schlüssel!$G$80","v":0}]
["SM_NW_MA_Anteil","=Schlüssel!R68C7",{"$f":"Schlüssel!$G$74","v":0}]
["SMErtrag","=WurzelFrucht!R93C2:R94C6",{"$f":"WurzelFrucht!$B$118:$F$119","v":{"$error":"#VALUE!"}}]
["SMFrisch","=Flächennutzung!R107C25",{"$f":"Flächennutzung!$Y$107","v":0}]
["Tiere!Stier","=ImportTiere!R10C36",{"$f":"ImportTiere!$AM$10","v":{"$error":"#REF!"}}]
["Stier","=ImportTiere!R10C36",{"$f":"ImportTiere!$AM$10","v":{"$error":"#REF!"}}]
["WurzelBZweige!Criteria","=WurzelBZweige!R105C1:R106C2",{"$f":"WurzelBZweige!$A$124:$B$125","v":{"$error":"#VALUE!"}}]
["SummeAkh","=Schlüssel!R144C10",{"$f":"Schlüssel!$J$153","v":0}]
["SummeGF","=Flächennutzung!R107C15",{"$f":"Flächennutzung!$O$107","v":0}]
["SummeHauptBZw","=WurzelBZweige!R141C2",{"$f":"WurzelBZweige!$B$160","v":1}]
["SummeK","=Tiere!R67C20",{"$f":"Tiere!$V$68","v":0}]
["SummeKTier","=Tiere!R29C20",{"$f":"Tiere!$V$29","v":0}]
["SummeN","=Tiere!R67C18",{"$f":"Tiere!$T$68","v":0}]
["SummeNTier","=Tiere!R31C17",{"$f":"Tiere!$S$31","v":0}]
["SummeP","=Tiere!R67C19",{"$f":"Tiere!$U$68","v":0}]
["SummePTier","=Tiere!R29C19",{"$f":"Tiere!$U$29","v":0}]
["Tiere!SummeRinder","=ImportTiere!R15C36",{"$f":"ImportTiere!$AM$15","v":{"$error":"#REF!"}}]
["SummeRinder","=ImportTiere!R15C36",{"$f":"ImportTiere!$AM$15","v":{"$error":"#REF!"}}]
["Tiere!Tierdaten","=WurzelTiere!R6C2:R54C21",{"$f":"WurzelTiere!$B$6:$U$54","v":{"$error":"#VALUE!"}}]
["Tierdaten","=WurzelTiere!R6C2:R54C21",{"$f":"WurzelTiere!$B$6:$U$54","v":{"$error":"#VALUE!"}}]
["Tiere!Tiere","=WurzelTiere!R5C2:R54C2",{"$f":"WurzelTiere!$B$5:$B$54","v":{"$error":"#VALUE!"}}]
["Tiere","=WurzelTiere!R5C2:R54C2",{"$f":"WurzelTiere!$B$5:$B$54","v":{"$error":"#VALUE!"}}]
["Tierzweige","=WurzelBZweige!R12C51:R24C51",{"$f":"WurzelBZweige!$AY$12:$AY$24","v":{"$error":"#VALUE!"}}]
["UBAGPAcker","=Betrieb!R82C5",{"$f":"Betrieb!$E$90","v":45}]
["UBAGPmT","=Betrieb!R81C5",{"$f":"Betrieb!$E$89","v":45}]
["UBAGPoT","=Betrieb!R83C5",{"$f":"Betrieb!$E$91","v":15}]
["VerkaufteMilch","=Allgemein!R31C4",{"$f":"#REF!","v":{"$error":"#REF!"}}]
["VlkListe","=WurzelBZweige!R53C49:R70C49",{"$f":"WurzelBZweige!$AW$61:$AW$78","v":{"$error":"#VALUE!"}}]
["VorBlatt","=Menü!R25C17",{"$f":"Menü!$P$27","v":"WurzelFrucht"}]
["Vorleistungsschlüssel","=Schlüssel!R6C11:R25C11",{"$f":"Schlüssel!$K$6:$K$25","v":{"$error":"#VALUE!"}}]
["Wald","=Betrieb!R35C3",{"$f":"Betrieb!$C$35","v":0}]
["WDüngerWert","=Schlüssel!R45C13",{"$f":"Schlüssel!$M$50","v":0}]
["WertansatzAcker","=Allgemein!R57C4",{"$f":"#REF!","v":{"$error":"#REF!"}}]
["WertansatzGrünland","=Allgemein!R58C4",{"$f":"#REF!","v":{"$error":"#REF!"}}]
["WertAQuote","=Allgemein!R55C4",{"$f":"#REF!","v":{"$error":"#REF!"}}]
["WertDQuote","=Allgemein!R56C4",{"$f":"#REF!","v":{"$error":"#REF!"}}]
["WertTiere","=Tiere!R29C28",{"$f":"Tiere!$AD$29","v":0}]
["Wirtschaftsjahr","=Allgemein!R13C4",{"$f":"#REF!","v":{"$error":"#REF!"}}]
["WirtschaftsjahrAnfang","=Betrieb!R23C4",{"$f":"Betrieb!$D$23","v":44197}]
["Wirtschaftsjahre","=Allgemein!R92C2:R100C2",{"$f":"#REF!","v":{"$error":"#REF!"}}]
["WirtschaftsjahrEnde","=Betrieb!R23C6",{"$f":"Betrieb!$F$24","v":44562}]
["Wirtschaftsjahrliste","=Allgemein!R92C2:R100C4",{"$f":"#REF!","v":{"$error":"#REF!"}}]
["ZeitGesamt","=Arbeitszeit!R1C10",{"$f":"Arbeitszeit!$J$1","v":0}]
["ZeitwertGebäude","=Gebäude!R7C15",{"$f":"Gebäude!$O$7","v":0}]
["ZeitwertMaschinen","=Maschinen!R7C15",{"$f":"Maschinen!$O$7","v":0}]
["WurzelBZweige!Extract","=WurzelBZweige!R144C1:R148C2",{"$f":"WurzelBZweige!$A$163:$B$167","v":{"$error":"#VALUE!"}}]
["Zinssatz","=Betrieb!R62C4",{"$f":"Betrieb!$D$70","v":3.5000000000000003E-2}]
["Zw1","=WurzelBZweige!R109C2",{"$f":"WurzelBZweige!$B$128","v":false}]
["Zw10","=WurzelBZweige!R118C2",{"$f":"WurzelBZweige!$B$137","v":false}]
["Zw11","=WurzelBZweige!R119C2",{"$f":"WurzelBZweige!$B$138","v":false}]
["Zw12","=WurzelBZweige!R120C2",{"$f":"WurzelBZweige!$B$139","v":false}]
["Zw13","=WurzelBZweige!R121C2",{"$f":"WurzelBZweige!$B$140","v":false}]
["Zw14","=WurzelBZweige!R122C2",{"$f":"WurzelBZweige!$B$141","v":false}]
["Zw15","=WurzelBZweige!R123C2",{"$f":"WurzelBZweige!$B$142","v":false}]
["Zw16","=WurzelBZweige!R124C2",{"$f":"WurzelBZweige!$B$143","v":false}]
["Zw17","=WurzelBZweige!R125C2",{"$f":"WurzelBZweige!$B$144","v":false}]
["Zw18","=WurzelBZweige!R126C2",{"$f":"WurzelBZweige!$B$145","v":false}]
["Zw19","=WurzelBZweige!R127C2",{"$f":"WurzelBZweige!$B$146","v":false}]
["Zw2","=WurzelBZweige!R110C2",{"$f":"WurzelBZweige!$B$129","v":false}]
["Zw20","=WurzelBZweige!R128C2",{"$f":"WurzelBZweige!$B$147","v":false}]
["Zw21","=WurzelBZweige!R129C2",{"$f":"WurzelBZweige!$B$148","v":false}]
["Zw22","=WurzelBZweige!R130C2",{"$f":"WurzelBZweige!$B$149","v":false}]
["Zw23","=WurzelBZweige!R131C2",{"$f":"WurzelBZweige!$B$150","v":false}]
["Zw24","=WurzelBZweige!R132C2",{"$f":"WurzelBZweige!$B$151","v":false}]
["Zw25","=WurzelBZweige!R133C2",{"$f":"WurzelBZweige!$B$152","v":false}]
["Zw26","=WurzelBZweige!R134C2",{"$f":"WurzelBZweige!$B$153","v":false}]
["Zw27","=WurzelBZweige!R135C2",{"$f":"WurzelBZweige!$B$154","v":false}]
["Zw28","=WurzelBZweige!R136C2",{"$f":"WurzelBZweige!$B$155","v":false}]
["Zw29","=WurzelBZweige!R137C2",{"$f":"WurzelBZweige!$B$156","v":false}]
["Zw3","=WurzelBZweige!R111C2",{"$f":"WurzelBZweige!$B$130","v":false}]
["Zw30","=WurzelBZweige!R138C2",{"$f":"WurzelBZweige!$B$157","v":true}]
["Zw31","=WurzelBZweige!R139C2",{"$f":"WurzelBZweige!$B$158","v":false}]
["Zw32","=WurzelBZweige!R140C2",{"$f":"WurzelBZweige!$B$159","v":false}]
["Zw4","=WurzelBZweige!R112C2",{"$f":"WurzelBZweige!$B$131","v":false}]
["Zw5","=WurzelBZweige!R113C2",{"$f":"WurzelBZweige!$B$132","v":false}]
["Zw6","=WurzelBZweige!R114C2",{"$f":"WurzelBZweige!$B$133","v":false}]
["Zw7","=WurzelBZweige!R115C2",{"$f":"WurzelBZweige!$B$134","v":false}]
["Zw8","=WurzelBZweige!R116C2",{"$f":"WurzelBZweige!$B$135","v":false}]
["Zw9","=WurzelBZweige!R117C2",{"$f":"WurzelBZweige!$B$136","v":false}]

{"sheet":"AZ_Berechnung","index":35,"n_rows":23,"n_cols":11,"rows_kept":23,"cut":false,"hidden":true,"merged":[]}
["Zahlungen für aus naturbedingten oder anderen spezifischen Gründen benachteiligte Gebiete"]
[]
[null,"Prämie Heimgut",{"$f":"I12","v":{"$error":"#DIV/0!"}},null,null,"Berechnung Heimgut"]
[null,"Prämie Heimgut ohne Tiere",{"$f":"K12","v":0},null,null,"Fläche bis","ha","Tierhalter j/n; EP j/n","Summe","Tierhalter n; EP j/n","Summe"]
[null,"Prämie Alm",{"$f":"I23","v":0},null,null,10,{"$f":"IF($C$8>$F5,10,$C$8)","v":0},{"$f":"IF($C$12=1,IF($C$6>0,2.1*$C$6+65,25),IF($C$6>0,0.7*$C$6+40,25))","v":{"$error":"#DIV/0!"}},{"$f":"G5*H5","v":{"$error":"#DIV/0!"}},{"$f":"IF($C$6>0,0.7*$C$6+40,25)","v":25},{"$f":"G5*J5","v":0}]
[null,"Erschwernispunkte",{"$f":"EPunkte","v":0},null,null,30,{"$f":"IF($C$8>$F6,20,IF($C$8<F5,0,$C$8-F5))","v":0},{"$f":"IF($C$12=1,IF($C$6>0,0.38*$C$6+50,25),IF($C$6>0,0.3*$C$6+35,25))","v":{"$error":"#DIV/0!"}},{"$error":"#DIV/0!"},{"$f":"IF($C$6>0,0.3*$C$6+35,25)","v":25},{"$f":"G6*J6","v":0}]
[null,"Heim ha",{"$f":"Heimha","v":0},null,null,40,{"$f":"IF($C$8>$F7,10,IF($C$8<F6,0,$C$8-F6))","v":0},{"$f":"IF($C$12=1,IF($C$6>0,0.3*$C$6+35,25),IF($C$6>0,0.25*$C$6+25,25))","v":{"$error":"#DIV/0!"}},{"$error":"#DIV/0!"},{"$f":"IF($C$6>0,0.25*$C$6+25,25)","v":25},0]
[null,"AZ LN",{"$f":"AZFF+AZsF","v":0},null,null,50,{"$f":"IF($C$8>$F8,10,IF($C$8<F7,0,$C$8-F7))","v":0},{"$f":"IF($C$12=1,IF($C$6>0,0.24*$C$6+25,25),IF($C$6>0,0.2*$C$6+20,25))","v":{"$error":"#DIV/0!"}},{"$error":"#DIV/0!"},{"$f":"IF($C$6>0,0.2*$C$6+20,25)","v":25},0]
[null,"Alm Fördereinheiten lt AZ",{"$f":"AlmFF","v":0},null,null,60,{"$f":"IF($C$8>$F9,10,IF($C$8<F8,0,$C$8-F8))","v":0},{"$f":"IF($C$12=1,IF($C$6>0,0.2*$C$6+20,25),IF($C$6>0,0.16*$C$6+15,25))","v":{"$error":"#DIV/0!"}},{"$error":"#DIV/0!"},{"$f":"IF($C$6>0,0.16*$C$6+15,25)","v":25},0]
[null,"ALM RGVE",{"$f":"AlmRGVE","v":0},null,null,70,{"$f":"IF($C$8>$F10,10,IF($C$8<F9,0,$C$8-F9))","v":0},{"$f":"IF($C$12=1,IF($C$6>0,0.16*$C$6+16,25),IF($C$6>0,0.12*$C$6+10,25))","v":{"$error":"#DIV/0!"}},{"$error":"#DIV/0!"},{"$f":"IF($C$6>0,0.12*$C$6+10,25)","v":25},0]
[null,"RGVE",{"$f":"RGVE","v":0},null,null,"über 70",{"$f":"IF($C$8>$F10,$C$8-F10,0)","v":0},0,0,0,0]
[null,"Tierhalter",{"$f":"IF((C11/C7)>0.5,1,0)","v":{"$error":"#DIV/0!"}},null,null,null,null,"Heimgut gesamt",{"$f":"SUM(I5:I11)","v":{"$error":"#DIV/0!"}},"Heim o Tier",{"$f":"SUM(K5:K11)","v":0}]
[]
[null,"nach RGVE",{"$f":"C10*0.75","v":0},null,null,"Berechnung Alm"]
[null,"nach Heim ha",{"$f":"C8*2","v":0},null,null,"Fläche bis","ha","Almprämie","Summe"]
[null,"nach Alm LN",{"$f":"C9","v":0},null,null,10,{"$f":"IF(AlmFF>$F16,10,AlmFF)","v":0},{"$f":"0.65*$C$6+100","v":100},{"$f":"G16*H16","v":0}]
[null,"max. anrechenbare Alm FF",{"$f":"MIN(C14:C16)","v":0},null,null,30,{"$f":"IF(AlmFF>$F17,20,IF(AlmFF<F16,0,AlmFF-F16))","v":0},{"$f":"0.48*$C$6+84","v":84},0]
[null,null,null,null,null,40,{"$f":"IF(AlmFF>$F18,10,IF(AlmFF<F17,0,AlmFF-F17))","v":0},{"$f":"0.38*$C$6+66","v":66},0]
[null,null,null,null,null,50,{"$f":"IF(AlmFF>$F19,10,IF(AlmFF<F18,0,AlmFF-F18))","v":0},{"$f":"0.3*$C$6+52","v":52},0]
[null,null,null,null,null,60,{"$f":"IF(AlmFF>$F20,10,IF(AlmFF<F19,0,AlmFF-F19))","v":0},{"$f":"0.24*$C$6+40","v":40},0]
[null,null,null,null,null,70,{"$f":"IF(AlmFF>$F21,10,IF(AlmFF<F20,0,AlmFF-F20))","v":0},{"$f":"0.18*$C$6+30","v":30},0]
[null,null,null,null,null,"über 70",{"$f":"IF(AlmFF>$F21,AlmFF-F21,0)","v":0},0,0]
[null,null,null,null,null,null,null,"Alm gesamt",{"$f":"SUM(I16:I22)","v":0}]